{"text_format":"1","workbook":"xlsx","n_sheets":8,"sheets":["Data","Daily","64 MM","32 MM","16 MM","Notes","Holidays","Start of 4th Quarter"],"not_rendered":{"charts":3,"images":1,"macros":1,"external_links":1,"defined_names":10,"comments":0,"pivot_tables":0},"unopened":[],"bounds":{"document_bytes":16777216,"sheet_cells":100000,"rows_first":2000,"rows_last":500,"rows_between":2000,"halvings":0,"cell_chars":16384,"cell_head_chars":4096},"cells_cut":0,"cells_raw":0,"read":"whole","date_system":"1900"}

{"sheet":"Data","index":0,"n_rows":441,"n_cols":9,"rows_kept":441,"cut":false,"hidden":false,"merged":[]}
["Date","Open","High","Low","Close","Volume","AG",null,"See Notes Tab on Spreadsheet Functionality"]
[{"$f":"OFFSET(Daily!A2,$G$7,0,1,1)","v":"2020-10-27"},{"$f":"OFFSET(Daily!B2,$G$7,0,1,1)","v":10.609999656677246},{"$f":"OFFSET(Daily!C2,$G$7,0,1,1)","v":10.920000076293944},{"$f":"OFFSET(Daily!D2,$G$7,0,1,1)","v":10.5},{"$f":"OFFSET(Daily!E2,$G$7,0,1,1)","v":10.899999618530272},{"$f":"OFFSET(Daily!F2,$G$7,0,1,1)","v":2925358}]
[{"$f":"OFFSET(Daily!A3,$G$7,0,1,1)","v":"2020-10-26"},{"$f":"OFFSET(Daily!B3,$G$7,0,1,1)","v":10.810000419616699},{"$f":"OFFSET(Daily!C3,$G$7,0,1,1)","v":11.050000190734863},{"$f":"OFFSET(Daily!D3,$G$7,0,1,1)","v":10.579999923706056},{"$f":"OFFSET(Daily!E3,$G$7,0,1,1)","v":10.609999656677246},{"$f":"OFFSET(Daily!F3,$G$7,0,1,1)","v":3253644}]
[{"$f":"OFFSET(Daily!A4,$G$7,0,1,1)","v":"2020-10-23"},{"$f":"OFFSET(Daily!B4,$G$7,0,1,1)","v":10.869999885559082},{"$f":"OFFSET(Daily!C4,$G$7,0,1,1)","v":11.020000457763672},{"$f":"OFFSET(Daily!D4,$G$7,0,1,1)","v":10.770000457763672},{"$f":"OFFSET(Daily!E4,$G$7,0,1,1)","v":10.979999542236328},{"$f":"OFFSET(Daily!F4,$G$7,0,1,1)","v":3189800}]
[{"$f":"OFFSET(Daily!A5,$G$7,0,1,1)","v":"2020-10-22"},{"$f":"OFFSET(Daily!B5,$G$7,0,1,1)","v":10.899999618530272},{"$f":"OFFSET(Daily!C5,$G$7,0,1,1)","v":10.960000038146973},{"$f":"OFFSET(Daily!D5,$G$7,0,1,1)","v":10.649999618530272},{"$f":"OFFSET(Daily!E5,$G$7,0,1,1)","v":10.930000305175779},{"$f":"OFFSET(Daily!F5,$G$7,0,1,1)","v":4102600}]
[{"$f":"OFFSET(Daily!A6,$G$7,0,1,1)","v":"2020-10-21"},{"$f":"OFFSET(Daily!B6,$G$7,0,1,1)","v":11.029999732971191},{"$f":"OFFSET(Daily!C6,$G$7,0,1,1)","v":11.265000343322754},{"$f":"OFFSET(Daily!D6,$G$7,0,1,1)","v":10.885000228881836},{"$f":"OFFSET(Daily!E6,$G$7,0,1,1)","v":11.119999885559082},{"$f":"OFFSET(Daily!F6,$G$7,0,1,1)","v":4894999},"Offset"]
[{"$f":"OFFSET(Daily!A7,$G$7,0,1,1)","v":"2020-10-20"},{"$f":"OFFSET(Daily!B7,$G$7,0,1,1)","v":10.449999809265137},{"$f":"OFFSET(Daily!C7,$G$7,0,1,1)","v":10.939999580383301},{"$f":"OFFSET(Daily!D7,$G$7,0,1,1)","v":10.430000305175779},{"$f":"OFFSET(Daily!E7,$G$7,0,1,1)","v":10.829999923706056},{"$f":"OFFSET(Daily!F7,$G$7,0,1,1)","v":4799030},0]
[{"$f":"OFFSET(Daily!A8,$G$7,0,1,1)","v":"2020-10-19"},{"$f":"OFFSET(Daily!B8,$G$7,0,1,1)","v":10.670000076293944},{"$f":"OFFSET(Daily!C8,$G$7,0,1,1)","v":10.819999694824221},{"$f":"OFFSET(Daily!D8,$G$7,0,1,1)","v":10.319999694824221},{"$f":"OFFSET(Daily!E8,$G$7,0,1,1)","v":10.350000381469728},{"$f":"OFFSET(Daily!F8,$G$7,0,1,1)","v":4028800}]
[{"$f":"OFFSET(Daily!A9,$G$7,0,1,1)","v":"2020-10-16"},{"$f":"OFFSET(Daily!B9,$G$7,0,1,1)","v":10.789999961853027},{"$f":"OFFSET(Daily!C9,$G$7,0,1,1)","v":10.810000419616699},{"$f":"OFFSET(Daily!D9,$G$7,0,1,1)","v":10.470000267028809},{"$f":"OFFSET(Daily!E9,$G$7,0,1,1)","v":10.510000228881836},{"$f":"OFFSET(Daily!F9,$G$7,0,1,1)","v":3491000}]
[{"$f":"OFFSET(Daily!A10,$G$7,0,1,1)","v":"2020-10-15"},{"$f":"OFFSET(Daily!B10,$G$7,0,1,1)","v":10.470000267028809},{"$f":"OFFSET(Daily!C10,$G$7,0,1,1)","v":10.720000267028809},{"$f":"OFFSET(Daily!D10,$G$7,0,1,1)","v":10.449999809265137},{"$f":"OFFSET(Daily!E10,$G$7,0,1,1)","v":10.710000038146973},{"$f":"OFFSET(Daily!F10,$G$7,0,1,1)","v":3249000}]
[{"$f":"OFFSET(Daily!A11,$G$7,0,1,1)","v":"2020-10-14"},{"$f":"OFFSET(Daily!B11,$G$7,0,1,1)","v":10.789999961853027},{"$f":"OFFSET(Daily!C11,$G$7,0,1,1)","v":10.970000267028809},{"$f":"OFFSET(Daily!D11,$G$7,0,1,1)","v":10.619999885559082},{"$f":"OFFSET(Daily!E11,$G$7,0,1,1)","v":10.810000419616699},{"$f":"OFFSET(Daily!F11,$G$7,0,1,1)","v":4062300}]
[{"$f":"OFFSET(Daily!A12,$G$7,0,1,1)","v":"2020-10-13"},{"$f":"OFFSET(Daily!B12,$G$7,0,1,1)","v":10.350000381469728},{"$f":"OFFSET(Daily!C12,$G$7,0,1,1)","v":10.574999809265137},{"$f":"OFFSET(Daily!D12,$G$7,0,1,1)","v":10.140000343322754},{"$f":"OFFSET(Daily!E12,$G$7,0,1,1)","v":10.529999732971191},{"$f":"OFFSET(Daily!F12,$G$7,0,1,1)","v":4875250}]
[{"$f":"OFFSET(Daily!A13,$G$7,0,1,1)","v":"2020-10-12"},{"$f":"OFFSET(Daily!B13,$G$7,0,1,1)","v":10.579999923706056},{"$f":"OFFSET(Daily!C13,$G$7,0,1,1)","v":10.699999809265137},{"$f":"OFFSET(Daily!D13,$G$7,0,1,1)","v":10.310000419616699},{"$f":"OFFSET(Daily!E13,$G$7,0,1,1)","v":10.600000381469728},{"$f":"OFFSET(Daily!F13,$G$7,0,1,1)","v":3661625}]
[{"$f":"OFFSET(Daily!A14,$G$7,0,1,1)","v":"2020-10-09"},{"$f":"OFFSET(Daily!B14,$G$7,0,1,1)","v":10.130000114440918},{"$f":"OFFSET(Daily!C14,$G$7,0,1,1)","v":10.600000381469728},{"$f":"OFFSET(Daily!D14,$G$7,0,1,1)","v":10.090000152587891},{"$f":"OFFSET(Daily!E14,$G$7,0,1,1)","v":10.560000419616699},{"$f":"OFFSET(Daily!F14,$G$7,0,1,1)","v":6806900}]
[{"$f":"OFFSET(Daily!A15,$G$7,0,1,1)","v":"2020-10-08"},{"$f":"OFFSET(Daily!B15,$G$7,0,1,1)","v":9.6999998092651367},{"$f":"OFFSET(Daily!C15,$G$7,0,1,1)","v":9.869999885559082},{"$f":"OFFSET(Daily!D15,$G$7,0,1,1)","v":9.630000114440918},{"$f":"OFFSET(Daily!E15,$G$7,0,1,1)","v":9.8299999237060565},{"$f":"OFFSET(Daily!F15,$G$7,0,1,1)","v":3851000}]
[{"$f":"OFFSET(Daily!A16,$G$7,0,1,1)","v":"2020-10-07"},{"$f":"OFFSET(Daily!B16,$G$7,0,1,1)","v":9.619999885559082},{"$f":"OFFSET(Daily!C16,$G$7,0,1,1)","v":9.6700000762939435},{"$f":"OFFSET(Daily!D16,$G$7,0,1,1)","v":9.4600000381469727},{"$f":"OFFSET(Daily!E16,$G$7,0,1,1)","v":9.5900001525878906},{"$f":"OFFSET(Daily!F16,$G$7,0,1,1)","v":5355000}]
[{"$f":"OFFSET(Daily!A17,$G$7,0,1,1)","v":"2020-10-06"},{"$f":"OFFSET(Daily!B17,$G$7,0,1,1)","v":9.9700002670288086},{"$f":"OFFSET(Daily!C17,$G$7,0,1,1)","v":10.039999961853027},{"$f":"OFFSET(Daily!D17,$G$7,0,1,1)","v":9.4099998474121094},{"$f":"OFFSET(Daily!E17,$G$7,0,1,1)","v":9.4300003051757795},{"$f":"OFFSET(Daily!F17,$G$7,0,1,1)","v":5581626}]
[{"$f":"OFFSET(Daily!A18,$G$7,0,1,1)","v":"2020-10-05"},{"$f":"OFFSET(Daily!B18,$G$7,0,1,1)","v":9.7100000381469727},{"$f":"OFFSET(Daily!C18,$G$7,0,1,1)","v":10.060000419616699},{"$f":"OFFSET(Daily!D18,$G$7,0,1,1)","v":9.6899995803833008},{"$f":"OFFSET(Daily!E18,$G$7,0,1,1)","v":9.9399995803833008},{"$f":"OFFSET(Daily!F18,$G$7,0,1,1)","v":4092288}]
[{"$f":"OFFSET(Daily!A19,$G$7,0,1,1)","v":"2020-10-02"},{"$f":"OFFSET(Daily!B19,$G$7,0,1,1)","v":9.6800003051757795},{"$f":"OFFSET(Daily!C19,$G$7,0,1,1)","v":9.8599996566772461},{"$f":"OFFSET(Daily!D19,$G$7,0,1,1)","v":9.5699996948242205},{"$f":"OFFSET(Daily!E19,$G$7,0,1,1)","v":9.6499996185302717},{"$f":"OFFSET(Daily!F19,$G$7,0,1,1)","v":5049400}]
[{"$f":"OFFSET(Daily!A20,$G$7,0,1,1)","v":"2020-10-01"},{"$f":"OFFSET(Daily!B20,$G$7,0,1,1)","v":9.6000003814697283},{"$f":"OFFSET(Daily!C20,$G$7,0,1,1)","v":9.8900003433227539},{"$f":"OFFSET(Daily!D20,$G$7,0,1,1)","v":9.5399999618530273},{"$f":"OFFSET(Daily!E20,$G$7,0,1,1)","v":9.7600002288818359},{"$f":"OFFSET(Daily!F20,$G$7,0,1,1)","v":4416900}]
[{"$f":"OFFSET(Daily!A21,$G$7,0,1,1)","v":"2020-09-30"},{"$f":"OFFSET(Daily!B21,$G$7,0,1,1)","v":9.5},{"$f":"OFFSET(Daily!C21,$G$7,0,1,1)","v":9.6599998474121094},{"$f":"OFFSET(Daily!D21,$G$7,0,1,1)","v":9.3299999237060565},{"$f":"OFFSET(Daily!E21,$G$7,0,1,1)","v":9.5200004577636719},{"$f":"OFFSET(Daily!F21,$G$7,0,1,1)","v":4643400}]
[{"$f":"OFFSET(Daily!A22,$G$7,0,1,1)","v":"2020-09-29"},{"$f":"OFFSET(Daily!B22,$G$7,0,1,1)","v":9.630000114440918},{"$f":"OFFSET(Daily!C22,$G$7,0,1,1)","v":9.7899999618530273},{"$f":"OFFSET(Daily!D22,$G$7,0,1,1)","v":9.4899997711181641},{"$f":"OFFSET(Daily!E22,$G$7,0,1,1)","v":9.5500001907348633},{"$f":"OFFSET(Daily!F22,$G$7,0,1,1)","v":7375812}]
[{"$f":"OFFSET(Daily!A23,$G$7,0,1,1)","v":"2020-09-28"},{"$f":"OFFSET(Daily!B23,$G$7,0,1,1)","v":9.8500003814697283},{"$f":"OFFSET(Daily!C23,$G$7,0,1,1)","v":9.8999996185302717},{"$f":"OFFSET(Daily!D23,$G$7,0,1,1)","v":9.3299999237060565},{"$f":"OFFSET(Daily!E23,$G$7,0,1,1)","v":9.5699996948242205},{"$f":"OFFSET(Daily!F23,$G$7,0,1,1)","v":7604634}]
[{"$f":"OFFSET(Daily!A24,$G$7,0,1,1)","v":"2020-09-25"},{"$f":"OFFSET(Daily!B24,$G$7,0,1,1)","v":10.050000190734863},{"$f":"OFFSET(Daily!C24,$G$7,0,1,1)","v":10.069999694824221},{"$f":"OFFSET(Daily!D24,$G$7,0,1,1)","v":9.4600000381469727},{"$f":"OFFSET(Daily!E24,$G$7,0,1,1)","v":9.5200004577636719},{"$f":"OFFSET(Daily!F24,$G$7,0,1,1)","v":11502600}]
[{"$f":"OFFSET(Daily!A25,$G$7,0,1,1)","v":"2020-09-24"},{"$f":"OFFSET(Daily!B25,$G$7,0,1,1)","v":9.5900001525878906},{"$f":"OFFSET(Daily!C25,$G$7,0,1,1)","v":10.359999656677246},{"$f":"OFFSET(Daily!D25,$G$7,0,1,1)","v":9.5},{"$f":"OFFSET(Daily!E25,$G$7,0,1,1)","v":10.260000228881836},{"$f":"OFFSET(Daily!F25,$G$7,0,1,1)","v":7824400}]
[{"$f":"OFFSET(Daily!A26,$G$7,0,1,1)","v":"2020-09-23"},{"$f":"OFFSET(Daily!B26,$G$7,0,1,1)","v":10.479999542236328},{"$f":"OFFSET(Daily!C26,$G$7,0,1,1)","v":10.489999771118164},{"$f":"OFFSET(Daily!D26,$G$7,0,1,1)","v":9.6499996185302717},{"$f":"OFFSET(Daily!E26,$G$7,0,1,1)","v":9.7399997711181641},{"$f":"OFFSET(Daily!F26,$G$7,0,1,1)","v":10426200}]
[{"$f":"OFFSET(Daily!A27,$G$7,0,1,1)","v":"2020-09-22"},{"$f":"OFFSET(Daily!B27,$G$7,0,1,1)","v":10.770000457763672},{"$f":"OFFSET(Daily!C27,$G$7,0,1,1)","v":11.060000419616699},{"$f":"OFFSET(Daily!D27,$G$7,0,1,1)","v":10.609999656677246},{"$f":"OFFSET(Daily!E27,$G$7,0,1,1)","v":10.680000305175779},{"$f":"OFFSET(Daily!F27,$G$7,0,1,1)","v":5653000}]
[{"$f":"OFFSET(Daily!A28,$G$7,0,1,1)","v":"2020-09-21"},{"$f":"OFFSET(Daily!B28,$G$7,0,1,1)","v":11.470000267028809},{"$f":"OFFSET(Daily!C28,$G$7,0,1,1)","v":11.689999580383301},{"$f":"OFFSET(Daily!D28,$G$7,0,1,1)","v":10.680000305175779},{"$f":"OFFSET(Daily!E28,$G$7,0,1,1)","v":10.689999580383301},{"$f":"OFFSET(Daily!F28,$G$7,0,1,1)","v":10272100}]
[{"$f":"OFFSET(Daily!A29,$G$7,0,1,1)","v":"2020-09-18"},{"$f":"OFFSET(Daily!B29,$G$7,0,1,1)","v":12.220000267028809},{"$f":"OFFSET(Daily!C29,$G$7,0,1,1)","v":12.310000419616699},{"$f":"OFFSET(Daily!D29,$G$7,0,1,1)","v":11.899999618530272},{"$f":"OFFSET(Daily!E29,$G$7,0,1,1)","v":11.909999847412109},{"$f":"OFFSET(Daily!F29,$G$7,0,1,1)","v":6201900}]
[{"$f":"OFFSET(Daily!A30,$G$7,0,1,1)","v":"2020-09-17"},{"$f":"OFFSET(Daily!B30,$G$7,0,1,1)","v":11.859999656677246},{"$f":"OFFSET(Daily!C30,$G$7,0,1,1)","v":12.189999580383301},{"$f":"OFFSET(Daily!D30,$G$7,0,1,1)","v":11.670000076293944},{"$f":"OFFSET(Daily!E30,$G$7,0,1,1)","v":12.159999847412109},{"$f":"OFFSET(Daily!F30,$G$7,0,1,1)","v":4057800}]
[{"$f":"OFFSET(Daily!A31,$G$7,0,1,1)","v":"2020-09-16"},{"$f":"OFFSET(Daily!B31,$G$7,0,1,1)","v":12.479999542236328},{"$f":"OFFSET(Daily!C31,$G$7,0,1,1)","v":12.479999542236328},{"$f":"OFFSET(Daily!D31,$G$7,0,1,1)","v":12.159999847412109},{"$f":"OFFSET(Daily!E31,$G$7,0,1,1)","v":12.199999809265137},{"$f":"OFFSET(Daily!F31,$G$7,0,1,1)","v":4867000}]
[{"$f":"OFFSET(Daily!A32,$G$7,0,1,1)","v":"2020-09-15"},{"$f":"OFFSET(Daily!B32,$G$7,0,1,1)","v":12.579999923706056},{"$f":"OFFSET(Daily!C32,$G$7,0,1,1)","v":12.630000114440918},{"$f":"OFFSET(Daily!D32,$G$7,0,1,1)","v":12.020000457763672},{"$f":"OFFSET(Daily!E32,$G$7,0,1,1)","v":12.310000419616699},{"$f":"OFFSET(Daily!F32,$G$7,0,1,1)","v":6677400}]
[{"$f":"OFFSET(Daily!A33,$G$7,0,1,1)","v":"2020-09-14"},{"$f":"OFFSET(Daily!B33,$G$7,0,1,1)","v":11.899999618530272},{"$f":"OFFSET(Daily!C33,$G$7,0,1,1)","v":12.560000419616699},{"$f":"OFFSET(Daily!D33,$G$7,0,1,1)","v":11.850000381469728},{"$f":"OFFSET(Daily!E33,$G$7,0,1,1)","v":12.460000038146973},{"$f":"OFFSET(Daily!F33,$G$7,0,1,1)","v":12225100}]
[{"$f":"OFFSET(Daily!A34,$G$7,0,1,1)","v":"2020-09-11"},{"$f":"OFFSET(Daily!B34,$G$7,0,1,1)","v":11.829999923706056},{"$f":"OFFSET(Daily!C34,$G$7,0,1,1)","v":12.270000457763672},{"$f":"OFFSET(Daily!D34,$G$7,0,1,1)","v":11.550000190734863},{"$f":"OFFSET(Daily!E34,$G$7,0,1,1)","v":11.649999618530272},{"$f":"OFFSET(Daily!F34,$G$7,0,1,1)","v":6461900}]
[{"$f":"OFFSET(Daily!A35,$G$7,0,1,1)","v":"2020-09-10"},{"$f":"OFFSET(Daily!B35,$G$7,0,1,1)","v":12.050000190734863},{"$f":"OFFSET(Daily!C35,$G$7,0,1,1)","v":12.210000038146973},{"$f":"OFFSET(Daily!D35,$G$7,0,1,1)","v":11.520000457763672},{"$f":"OFFSET(Daily!E35,$G$7,0,1,1)","v":11.670000076293944},{"$f":"OFFSET(Daily!F35,$G$7,0,1,1)","v":6286200}]
[{"$f":"OFFSET(Daily!A36,$G$7,0,1,1)","v":"2020-09-09"},{"$f":"OFFSET(Daily!B36,$G$7,0,1,1)","v":11.539999961853027},{"$f":"OFFSET(Daily!C36,$G$7,0,1,1)","v":11.869999885559082},{"$f":"OFFSET(Daily!D36,$G$7,0,1,1)","v":11.489999771118164},{"$f":"OFFSET(Daily!E36,$G$7,0,1,1)","v":11.850000381469728},{"$f":"OFFSET(Daily!F36,$G$7,0,1,1)","v":3616000}]
[{"$f":"OFFSET(Daily!A37,$G$7,0,1,1)","v":"2020-09-08"},{"$f":"OFFSET(Daily!B37,$G$7,0,1,1)","v":11.100000381469728},{"$f":"OFFSET(Daily!C37,$G$7,0,1,1)","v":11.659999847412109},{"$f":"OFFSET(Daily!D37,$G$7,0,1,1)","v":10.899999618530272},{"$f":"OFFSET(Daily!E37,$G$7,0,1,1)","v":11.380000114440918},{"$f":"OFFSET(Daily!F37,$G$7,0,1,1)","v":4566600}]
[{"$f":"OFFSET(Daily!A38,$G$7,0,1,1)","v":"2020-09-04"},{"$f":"OFFSET(Daily!B38,$G$7,0,1,1)","v":11.489999771118164},{"$f":"OFFSET(Daily!C38,$G$7,0,1,1)","v":11.590000152587891},{"$f":"OFFSET(Daily!D38,$G$7,0,1,1)","v":10.909999847412109},{"$f":"OFFSET(Daily!E38,$G$7,0,1,1)","v":11.5},{"$f":"OFFSET(Daily!F38,$G$7,0,1,1)","v":5798300}]
[{"$f":"OFFSET(Daily!A39,$G$7,0,1,1)","v":"2020-09-03"},{"$f":"OFFSET(Daily!B39,$G$7,0,1,1)","v":11.420000076293944},{"$f":"OFFSET(Daily!C39,$G$7,0,1,1)","v":11.630000114440918},{"$f":"OFFSET(Daily!D39,$G$7,0,1,1)","v":11.090000152587891},{"$f":"OFFSET(Daily!E39,$G$7,0,1,1)","v":11.529999732971191},{"$f":"OFFSET(Daily!F39,$G$7,0,1,1)","v":4949900}]
[{"$f":"OFFSET(Daily!A40,$G$7,0,1,1)","v":"2020-09-02"},{"$f":"OFFSET(Daily!B40,$G$7,0,1,1)","v":11.859999656677246},{"$f":"OFFSET(Daily!C40,$G$7,0,1,1)","v":11.899999618530272},{"$f":"OFFSET(Daily!D40,$G$7,0,1,1)","v":11.069999694824221},{"$f":"OFFSET(Daily!E40,$G$7,0,1,1)","v":11.550000190734863},{"$f":"OFFSET(Daily!F40,$G$7,0,1,1)","v":10350800}]
[{"$f":"OFFSET(Daily!A41,$G$7,0,1,1)","v":"2020-09-01"},{"$f":"OFFSET(Daily!B41,$G$7,0,1,1)","v":12.800000190734863},{"$f":"OFFSET(Daily!C41,$G$7,0,1,1)","v":12.800000190734863},{"$f":"OFFSET(Daily!D41,$G$7,0,1,1)","v":11.789999961853027},{"$f":"OFFSET(Daily!E41,$G$7,0,1,1)","v":12.060000419616699},{"$f":"OFFSET(Daily!F41,$G$7,0,1,1)","v":8278200}]
[{"$f":"OFFSET(Daily!A42,$G$7,0,1,1)","v":"2020-08-31"},{"$f":"OFFSET(Daily!B42,$G$7,0,1,1)","v":12.369999885559082},{"$f":"OFFSET(Daily!C42,$G$7,0,1,1)","v":12.609999656677246},{"$f":"OFFSET(Daily!D42,$G$7,0,1,1)","v":12.199999809265137},{"$f":"OFFSET(Daily!E42,$G$7,0,1,1)","v":12.449999809265137},{"$f":"OFFSET(Daily!F42,$G$7,0,1,1)","v":4586978}]
[{"$f":"OFFSET(Daily!A43,$G$7,0,1,1)","v":"2020-08-28"},{"$f":"OFFSET(Daily!B43,$G$7,0,1,1)","v":11.75},{"$f":"OFFSET(Daily!C43,$G$7,0,1,1)","v":12.239999771118164},{"$f":"OFFSET(Daily!D43,$G$7,0,1,1)","v":11.720000267028809},{"$f":"OFFSET(Daily!E43,$G$7,0,1,1)","v":12.210000038146973},{"$f":"OFFSET(Daily!F43,$G$7,0,1,1)","v":4431000}]
[{"$f":"OFFSET(Daily!A44,$G$7,0,1,1)","v":"2020-08-27"},{"$f":"OFFSET(Daily!B44,$G$7,0,1,1)","v":12.039999961853027},{"$f":"OFFSET(Daily!C44,$G$7,0,1,1)","v":12.149999618530272},{"$f":"OFFSET(Daily!D44,$G$7,0,1,1)","v":11.329999923706056},{"$f":"OFFSET(Daily!E44,$G$7,0,1,1)","v":11.600000381469728},{"$f":"OFFSET(Daily!F44,$G$7,0,1,1)","v":5191300}]
[{"$f":"OFFSET(Daily!A45,$G$7,0,1,1)","v":"2020-08-26"},{"$f":"OFFSET(Daily!B45,$G$7,0,1,1)","v":11.270000457763672},{"$f":"OFFSET(Daily!C45,$G$7,0,1,1)","v":11.869999885559082},{"$f":"OFFSET(Daily!D45,$G$7,0,1,1)","v":11.25},{"$f":"OFFSET(Daily!E45,$G$7,0,1,1)","v":11.829999923706056},{"$f":"OFFSET(Daily!F45,$G$7,0,1,1)","v":5559366}]
[{"$f":"OFFSET(Daily!A46,$G$7,0,1,1)","v":"2020-08-25"},{"$f":"OFFSET(Daily!B46,$G$7,0,1,1)","v":11.319999694824221},{"$f":"OFFSET(Daily!C46,$G$7,0,1,1)","v":11.420000076293944},{"$f":"OFFSET(Daily!D46,$G$7,0,1,1)","v":10.909999847412109},{"$f":"OFFSET(Daily!E46,$G$7,0,1,1)","v":11.329999923706056},{"$f":"OFFSET(Daily!F46,$G$7,0,1,1)","v":4796800}]
[{"$f":"OFFSET(Daily!A47,$G$7,0,1,1)","v":"2020-08-24"},{"$f":"OFFSET(Daily!B47,$G$7,0,1,1)","v":11.659999847412109},{"$f":"OFFSET(Daily!C47,$G$7,0,1,1)","v":11.680000305175779},{"$f":"OFFSET(Daily!D47,$G$7,0,1,1)","v":11.329999923706056},{"$f":"OFFSET(Daily!E47,$G$7,0,1,1)","v":11.359999656677246},{"$f":"OFFSET(Daily!F47,$G$7,0,1,1)","v":3234378}]
[{"$f":"OFFSET(Daily!A48,$G$7,0,1,1)","v":"2020-08-21"},{"$f":"OFFSET(Daily!B48,$G$7,0,1,1)","v":11.560000419616699},{"$f":"OFFSET(Daily!C48,$G$7,0,1,1)","v":11.75},{"$f":"OFFSET(Daily!D48,$G$7,0,1,1)","v":11.449999809265137},{"$f":"OFFSET(Daily!E48,$G$7,0,1,1)","v":11.550000190734863},{"$f":"OFFSET(Daily!F48,$G$7,0,1,1)","v":3057200}]
[{"$f":"OFFSET(Daily!A49,$G$7,0,1,1)","v":"2020-08-20"},{"$f":"OFFSET(Daily!B49,$G$7,0,1,1)","v":11.409999847412109},{"$f":"OFFSET(Daily!C49,$G$7,0,1,1)","v":11.859999656677246},{"$f":"OFFSET(Daily!D49,$G$7,0,1,1)","v":11.390000343322754},{"$f":"OFFSET(Daily!E49,$G$7,0,1,1)","v":11.850000381469728},{"$f":"OFFSET(Daily!F49,$G$7,0,1,1)","v":3937387}]
[{"$f":"OFFSET(Daily!A50,$G$7,0,1,1)","v":"2020-08-19"},{"$f":"OFFSET(Daily!B50,$G$7,0,1,1)","v":11.800000190734863},{"$f":"OFFSET(Daily!C50,$G$7,0,1,1)","v":11.989999771118164},{"$f":"OFFSET(Daily!D50,$G$7,0,1,1)","v":11.460000038146973},{"$f":"OFFSET(Daily!E50,$G$7,0,1,1)","v":11.479999542236328},{"$f":"OFFSET(Daily!F50,$G$7,0,1,1)","v":5310400}]
[{"$f":"OFFSET(Daily!A51,$G$7,0,1,1)","v":"2020-08-18"},{"$f":"OFFSET(Daily!B51,$G$7,0,1,1)","v":12.510000228881836},{"$f":"OFFSET(Daily!C51,$G$7,0,1,1)","v":12.560000419616699},{"$f":"OFFSET(Daily!D51,$G$7,0,1,1)","v":11.880000114440918},{"$f":"OFFSET(Daily!E51,$G$7,0,1,1)","v":11.989999771118164},{"$f":"OFFSET(Daily!F51,$G$7,0,1,1)","v":5064424}]
[{"$f":"OFFSET(Daily!A52,$G$7,0,1,1)","v":"2020-08-17"},{"$f":"OFFSET(Daily!B52,$G$7,0,1,1)","v":12.180000305175779},{"$f":"OFFSET(Daily!C52,$G$7,0,1,1)","v":12.239999771118164},{"$f":"OFFSET(Daily!D52,$G$7,0,1,1)","v":11.880000114440918},{"$f":"OFFSET(Daily!E52,$G$7,0,1,1)","v":12.159999847412109},{"$f":"OFFSET(Daily!F52,$G$7,0,1,1)","v":6641300}]
[{"$f":"OFFSET(Daily!A53,$G$7,0,1,1)","v":"2020-08-14"},{"$f":"OFFSET(Daily!B53,$G$7,0,1,1)","v":11.739999771118164},{"$f":"OFFSET(Daily!C53,$G$7,0,1,1)","v":11.859999656677246},{"$f":"OFFSET(Daily!D53,$G$7,0,1,1)","v":11.359999656677246},{"$f":"OFFSET(Daily!E53,$G$7,0,1,1)","v":11.689999580383301},{"$f":"OFFSET(Daily!F53,$G$7,0,1,1)","v":6220400}]
[{"$f":"OFFSET(Daily!A54,$G$7,0,1,1)","v":"2020-08-13"},{"$f":"OFFSET(Daily!B54,$G$7,0,1,1)","v":11.609999656677246},{"$f":"OFFSET(Daily!C54,$G$7,0,1,1)","v":12.114999771118164},{"$f":"OFFSET(Daily!D54,$G$7,0,1,1)","v":11.510000228881836},{"$f":"OFFSET(Daily!E54,$G$7,0,1,1)","v":11.869999885559082},{"$f":"OFFSET(Daily!F54,$G$7,0,1,1)","v":10208531}]
[{"$f":"OFFSET(Daily!A55,$G$7,0,1,1)","v":"2020-08-12"},{"$f":"OFFSET(Daily!B55,$G$7,0,1,1)","v":11.760000228881836},{"$f":"OFFSET(Daily!C55,$G$7,0,1,1)","v":11.819999694824221},{"$f":"OFFSET(Daily!D55,$G$7,0,1,1)","v":11.350000381469728},{"$f":"OFFSET(Daily!E55,$G$7,0,1,1)","v":11.399999618530272},{"$f":"OFFSET(Daily!F55,$G$7,0,1,1)","v":7262100}]
[{"$f":"OFFSET(Daily!A56,$G$7,0,1,1)","v":"2020-08-11"},{"$f":"OFFSET(Daily!B56,$G$7,0,1,1)","v":12},{"$f":"OFFSET(Daily!C56,$G$7,0,1,1)","v":12.329999923706056},{"$f":"OFFSET(Daily!D56,$G$7,0,1,1)","v":11.319999694824221},{"$f":"OFFSET(Daily!E56,$G$7,0,1,1)","v":11.420000076293944},{"$f":"OFFSET(Daily!F56,$G$7,0,1,1)","v":13229500}]
[{"$f":"OFFSET(Daily!A57,$G$7,0,1,1)","v":"2020-08-10"},{"$f":"OFFSET(Daily!B57,$G$7,0,1,1)","v":13.189999580383301},{"$f":"OFFSET(Daily!C57,$G$7,0,1,1)","v":13.670000076293944},{"$f":"OFFSET(Daily!D57,$G$7,0,1,1)","v":12.930000305175779},{"$f":"OFFSET(Daily!E57,$G$7,0,1,1)","v":12.970000267028809},{"$f":"OFFSET(Daily!F57,$G$7,0,1,1)","v":6494400}]
[{"$f":"OFFSET(Daily!A58,$G$7,0,1,1)","v":"2020-08-07"},{"$f":"OFFSET(Daily!B58,$G$7,0,1,1)","v":13.039999961853027},{"$f":"OFFSET(Daily!C58,$G$7,0,1,1)","v":13.5},{"$f":"OFFSET(Daily!D58,$G$7,0,1,1)","v":12.720000267028809},{"$f":"OFFSET(Daily!E58,$G$7,0,1,1)","v":12.970000267028809},{"$f":"OFFSET(Daily!F58,$G$7,0,1,1)","v":9225800}]
[{"$f":"OFFSET(Daily!A59,$G$7,0,1,1)","v":"2020-08-06"},{"$f":"OFFSET(Daily!B59,$G$7,0,1,1)","v":14.279999732971191},{"$f":"OFFSET(Daily!C59,$G$7,0,1,1)","v":14.279999732971191},{"$f":"OFFSET(Daily!D59,$G$7,0,1,1)","v":13.390000343322754},{"$f":"OFFSET(Daily!E59,$G$7,0,1,1)","v":13.659999847412109},{"$f":"OFFSET(Daily!F59,$G$7,0,1,1)","v":8789500}]
[{"$f":"OFFSET(Daily!A60,$G$7,0,1,1)","v":"2020-08-05"},{"$f":"OFFSET(Daily!B60,$G$7,0,1,1)","v":14.520000457763672},{"$f":"OFFSET(Daily!C60,$G$7,0,1,1)","v":14.569999694824221},{"$f":"OFFSET(Daily!D60,$G$7,0,1,1)","v":13.560000419616699},{"$f":"OFFSET(Daily!E60,$G$7,0,1,1)","v":13.810000419616699},{"$f":"OFFSET(Daily!F60,$G$7,0,1,1)","v":9986700}]
[{"$f":"OFFSET(Daily!A61,$G$7,0,1,1)","v":"2020-08-04"},{"$f":"OFFSET(Daily!B61,$G$7,0,1,1)","v":13.079999923706056},{"$f":"OFFSET(Daily!C61,$G$7,0,1,1)","v":13.989999771118164},{"$f":"OFFSET(Daily!D61,$G$7,0,1,1)","v":13.060000419616699},{"$f":"OFFSET(Daily!E61,$G$7,0,1,1)","v":13.949999809265137},{"$f":"OFFSET(Daily!F61,$G$7,0,1,1)","v":7975300}]
[{"$f":"OFFSET(Daily!A62,$G$7,0,1,1)","v":"2020-08-03"},{"$f":"OFFSET(Daily!B62,$G$7,0,1,1)","v":13.380000114440918},{"$f":"OFFSET(Daily!C62,$G$7,0,1,1)","v":13.380000114440918},{"$f":"OFFSET(Daily!D62,$G$7,0,1,1)","v":12.779999732971191},{"$f":"OFFSET(Daily!E62,$G$7,0,1,1)","v":13.060000419616699},{"$f":"OFFSET(Daily!F62,$G$7,0,1,1)","v":5268300}]
[{"$f":"OFFSET(Daily!A63,$G$7,0,1,1)","v":"2020-07-31"},{"$f":"OFFSET(Daily!B63,$G$7,0,1,1)","v":13.430000305175779},{"$f":"OFFSET(Daily!C63,$G$7,0,1,1)","v":13.430000305175779},{"$f":"OFFSET(Daily!D63,$G$7,0,1,1)","v":13.079999923706056},{"$f":"OFFSET(Daily!E63,$G$7,0,1,1)","v":13.329999923706056},{"$f":"OFFSET(Daily!F63,$G$7,0,1,1)","v":7285900}]
[{"$f":"OFFSET(Daily!A64,$G$7,0,1,1)","v":"2020-07-30"},{"$f":"OFFSET(Daily!B64,$G$7,0,1,1)","v":13.090000152587891},{"$f":"OFFSET(Daily!C64,$G$7,0,1,1)","v":13.489999771118164},{"$f":"OFFSET(Daily!D64,$G$7,0,1,1)","v":12.840000152587891},{"$f":"OFFSET(Daily!E64,$G$7,0,1,1)","v":12.970000267028809},{"$f":"OFFSET(Daily!F64,$G$7,0,1,1)","v":7169300}]
[{"$f":"OFFSET(Daily!A65,$G$7,0,1,1)","v":"2020-07-29"},{"$f":"OFFSET(Daily!B65,$G$7,0,1,1)","v":13.810000419616699},{"$f":"OFFSET(Daily!C65,$G$7,0,1,1)","v":13.979999542236328},{"$f":"OFFSET(Daily!D65,$G$7,0,1,1)","v":13.399999618530272},{"$f":"OFFSET(Daily!E65,$G$7,0,1,1)","v":13.760000228881836},{"$f":"OFFSET(Daily!F65,$G$7,0,1,1)","v":8280000}]
[{"$f":"OFFSET(Daily!A66,$G$7,0,1,1)","v":"2020-07-28"},{"$f":"OFFSET(Daily!B66,$G$7,0,1,1)","v":13.630000114440918},{"$f":"OFFSET(Daily!C66,$G$7,0,1,1)","v":14.279999732971191},{"$f":"OFFSET(Daily!D66,$G$7,0,1,1)","v":13.619999885559082},{"$f":"OFFSET(Daily!E66,$G$7,0,1,1)","v":13.859999656677246},{"$f":"OFFSET(Daily!F66,$G$7,0,1,1)","v":9611300}]
[{"$f":"OFFSET(Daily!A67,$G$7,0,1,1)","v":"2020-07-27"},{"$f":"OFFSET(Daily!B67,$G$7,0,1,1)","v":14.199999809265137},{"$f":"OFFSET(Daily!C67,$G$7,0,1,1)","v":14.5},{"$f":"OFFSET(Daily!D67,$G$7,0,1,1)","v":13.869999885559082},{"$f":"OFFSET(Daily!E67,$G$7,0,1,1)","v":14.25},{"$f":"OFFSET(Daily!F67,$G$7,0,1,1)","v":13607000}]
[{"$f":"OFFSET(Daily!A68,$G$7,0,1,1)","v":"2020-07-24"},{"$f":"OFFSET(Daily!B68,$G$7,0,1,1)","v":13.449999809265137},{"$f":"OFFSET(Daily!C68,$G$7,0,1,1)","v":13.649999618530272},{"$f":"OFFSET(Daily!D68,$G$7,0,1,1)","v":13.130000114440918},{"$f":"OFFSET(Daily!E68,$G$7,0,1,1)","v":13.279999732971191},{"$f":"OFFSET(Daily!F68,$G$7,0,1,1)","v":10656000}]
[{"$f":"OFFSET(Daily!A69,$G$7,0,1,1)","v":"2020-07-23"},{"$f":"OFFSET(Daily!B69,$G$7,0,1,1)","v":13.699999809265137},{"$f":"OFFSET(Daily!C69,$G$7,0,1,1)","v":14.039999961853027},{"$f":"OFFSET(Daily!D69,$G$7,0,1,1)","v":13.050000190734863},{"$f":"OFFSET(Daily!E69,$G$7,0,1,1)","v":13.329999923706056},{"$f":"OFFSET(Daily!F69,$G$7,0,1,1)","v":23008600}]
[{"$f":"OFFSET(Daily!A70,$G$7,0,1,1)","v":"2020-07-22"},{"$f":"OFFSET(Daily!B70,$G$7,0,1,1)","v":12.909999847412109},{"$f":"OFFSET(Daily!C70,$G$7,0,1,1)","v":14.079999923706056},{"$f":"OFFSET(Daily!D70,$G$7,0,1,1)","v":12.710000038146973},{"$f":"OFFSET(Daily!E70,$G$7,0,1,1)","v":14.050000190734863},{"$f":"OFFSET(Daily!F70,$G$7,0,1,1)","v":21919500}]
[{"$f":"OFFSET(Daily!A71,$G$7,0,1,1)","v":"2020-07-21"},{"$f":"OFFSET(Daily!B71,$G$7,0,1,1)","v":12.319999694824221},{"$f":"OFFSET(Daily!C71,$G$7,0,1,1)","v":12.859999656677246},{"$f":"OFFSET(Daily!D71,$G$7,0,1,1)","v":12.140000343322754},{"$f":"OFFSET(Daily!E71,$G$7,0,1,1)","v":12.350000381469728},{"$f":"OFFSET(Daily!F71,$G$7,0,1,1)","v":16360400}]
[{"$f":"OFFSET(Daily!A72,$G$7,0,1,1)","v":"2020-07-20"},{"$f":"OFFSET(Daily!B72,$G$7,0,1,1)","v":10.939999580383301},{"$f":"OFFSET(Daily!C72,$G$7,0,1,1)","v":11.760000228881836},{"$f":"OFFSET(Daily!D72,$G$7,0,1,1)","v":10.880000114440918},{"$f":"OFFSET(Daily!E72,$G$7,0,1,1)","v":11.630000114440918},{"$f":"OFFSET(Daily!F72,$G$7,0,1,1)","v":11781500}]
[{"$f":"OFFSET(Daily!A73,$G$7,0,1,1)","v":"2020-07-17"},{"$f":"OFFSET(Daily!B73,$G$7,0,1,1)","v":10.460000038146973},{"$f":"OFFSET(Daily!C73,$G$7,0,1,1)","v":10.770000457763672},{"$f":"OFFSET(Daily!D73,$G$7,0,1,1)","v":10.420000076293944},{"$f":"OFFSET(Daily!E73,$G$7,0,1,1)","v":10.600000381469728},{"$f":"OFFSET(Daily!F73,$G$7,0,1,1)","v":6194700}]
[{"$f":"OFFSET(Daily!A74,$G$7,0,1,1)","v":"2020-07-16"},{"$f":"OFFSET(Daily!B74,$G$7,0,1,1)","v":10.439999580383301},{"$f":"OFFSET(Daily!C74,$G$7,0,1,1)","v":10.659999847412109},{"$f":"OFFSET(Daily!D74,$G$7,0,1,1)","v":10.25},{"$f":"OFFSET(Daily!E74,$G$7,0,1,1)","v":10.350000381469728},{"$f":"OFFSET(Daily!F74,$G$7,0,1,1)","v":4040900}]
[{"$f":"OFFSET(Daily!A75,$G$7,0,1,1)","v":"2020-07-15"},{"$f":"OFFSET(Daily!B75,$G$7,0,1,1)","v":10.470000267028809},{"$f":"OFFSET(Daily!C75,$G$7,0,1,1)","v":10.560000419616699},{"$f":"OFFSET(Daily!D75,$G$7,0,1,1)","v":10.180000305175779},{"$f":"OFFSET(Daily!E75,$G$7,0,1,1)","v":10.529999732971191},{"$f":"OFFSET(Daily!F75,$G$7,0,1,1)","v":3847000}]
[{"$f":"OFFSET(Daily!A76,$G$7,0,1,1)","v":"2020-07-14"},{"$f":"OFFSET(Daily!B76,$G$7,0,1,1)","v":10.149999618530272},{"$f":"OFFSET(Daily!C76,$G$7,0,1,1)","v":10.5},{"$f":"OFFSET(Daily!D76,$G$7,0,1,1)","v":9.9899997711181641},{"$f":"OFFSET(Daily!E76,$G$7,0,1,1)","v":10.449999809265137},{"$f":"OFFSET(Daily!F76,$G$7,0,1,1)","v":4699600}]
[{"$f":"OFFSET(Daily!A77,$G$7,0,1,1)","v":"2020-07-13"},{"$f":"OFFSET(Daily!B77,$G$7,0,1,1)","v":10.810000419616699},{"$f":"OFFSET(Daily!C77,$G$7,0,1,1)","v":11.069999694824221},{"$f":"OFFSET(Daily!D77,$G$7,0,1,1)","v":10.159999847412109},{"$f":"OFFSET(Daily!E77,$G$7,0,1,1)","v":10.170000076293944},{"$f":"OFFSET(Daily!F77,$G$7,0,1,1)","v":7243800}]
[{"$f":"OFFSET(Daily!A78,$G$7,0,1,1)","v":"2020-07-10"},{"$f":"OFFSET(Daily!B78,$G$7,0,1,1)","v":10.619999885559082},{"$f":"OFFSET(Daily!C78,$G$7,0,1,1)","v":10.680000305175779},{"$f":"OFFSET(Daily!D78,$G$7,0,1,1)","v":10.300000190734863},{"$f":"OFFSET(Daily!E78,$G$7,0,1,1)","v":10.409999847412109},{"$f":"OFFSET(Daily!F78,$G$7,0,1,1)","v":4563100}]
[{"$f":"OFFSET(Daily!A79,$G$7,0,1,1)","v":"2020-07-09"},{"$f":"OFFSET(Daily!B79,$G$7,0,1,1)","v":10.600000381469728},{"$f":"OFFSET(Daily!C79,$G$7,0,1,1)","v":10.949999809265137},{"$f":"OFFSET(Daily!D79,$G$7,0,1,1)","v":10.239999771118164},{"$f":"OFFSET(Daily!E79,$G$7,0,1,1)","v":10.579999923706056},{"$f":"OFFSET(Daily!F79,$G$7,0,1,1)","v":8661500}]
[{"$f":"OFFSET(Daily!A80,$G$7,0,1,1)","v":"2020-07-08"},{"$f":"OFFSET(Daily!B80,$G$7,0,1,1)","v":10.060000419616699},{"$f":"OFFSET(Daily!C80,$G$7,0,1,1)","v":10.529999732971191},{"$f":"OFFSET(Daily!D80,$G$7,0,1,1)","v":9.9899997711181641},{"$f":"OFFSET(Daily!E80,$G$7,0,1,1)","v":10.420000076293944},{"$f":"OFFSET(Daily!F80,$G$7,0,1,1)","v":7994700}]
[{"$f":"OFFSET(Daily!A81,$G$7,0,1,1)","v":"2020-07-07"},{"$f":"OFFSET(Daily!B81,$G$7,0,1,1)","v":9.3999996185302717},{"$f":"OFFSET(Daily!C81,$G$7,0,1,1)","v":9.8000001907348633},{"$f":"OFFSET(Daily!D81,$G$7,0,1,1)","v":9.380000114440918},{"$f":"OFFSET(Daily!E81,$G$7,0,1,1)","v":9.6800003051757795},{"$f":"OFFSET(Daily!F81,$G$7,0,1,1)","v":4092300}]
[{"$f":"OFFSET(Daily!A82,$G$7,0,1,1)","v":"2020-07-06"},{"$f":"OFFSET(Daily!B82,$G$7,0,1,1)","v":9.6899995803833008},{"$f":"OFFSET(Daily!C82,$G$7,0,1,1)","v":9.8900003433227539},{"$f":"OFFSET(Daily!D82,$G$7,0,1,1)","v":9.380000114440918},{"$f":"OFFSET(Daily!E82,$G$7,0,1,1)","v":9.5},{"$f":"OFFSET(Daily!F82,$G$7,0,1,1)","v":4739100}]
[{"$f":"OFFSET(Daily!A83,$G$7,0,1,1)","v":"2020-07-02"},{"$f":"OFFSET(Daily!B83,$G$7,0,1,1)","v":9.6400003433227539},{"$f":"OFFSET(Daily!C83,$G$7,0,1,1)","v":9.9200000762939435},{"$f":"OFFSET(Daily!D83,$G$7,0,1,1)","v":9.5},{"$f":"OFFSET(Daily!E83,$G$7,0,1,1)","v":9.5},{"$f":"OFFSET(Daily!F83,$G$7,0,1,1)","v":3767500}]
[{"$f":"OFFSET(Daily!A84,$G$7,0,1,1)","v":"2020-07-01"},{"$f":"OFFSET(Daily!B84,$G$7,0,1,1)","v":9.9499998092651367},{"$f":"OFFSET(Daily!C84,$G$7,0,1,1)","v":10.029999732971191},{"$f":"OFFSET(Daily!D84,$G$7,0,1,1)","v":9.4899997711181641},{"$f":"OFFSET(Daily!E84,$G$7,0,1,1)","v":9.7799997329711914},{"$f":"OFFSET(Daily!F84,$G$7,0,1,1)","v":4469000}]
[{"$f":"OFFSET(Daily!A85,$G$7,0,1,1)","v":"2020-06-30"},{"$f":"OFFSET(Daily!B85,$G$7,0,1,1)","v":9.4099998474121094},{"$f":"OFFSET(Daily!C85,$G$7,0,1,1)","v":9.9700002670288086},{"$f":"OFFSET(Daily!D85,$G$7,0,1,1)","v":9.2700004577636719},{"$f":"OFFSET(Daily!E85,$G$7,0,1,1)","v":9.9499998092651367},{"$f":"OFFSET(Daily!F85,$G$7,0,1,1)","v":6344000}]
[{"$f":"OFFSET(Daily!A86,$G$7,0,1,1)","v":"2020-06-29"},{"$f":"OFFSET(Daily!B86,$G$7,0,1,1)","v":9.3999996185302717},{"$f":"OFFSET(Daily!C86,$G$7,0,1,1)","v":9.4399995803833008},{"$f":"OFFSET(Daily!D86,$G$7,0,1,1)","v":9.1899995803833008},{"$f":"OFFSET(Daily!E86,$G$7,0,1,1)","v":9.4200000762939435},{"$f":"OFFSET(Daily!F86,$G$7,0,1,1)","v":3635100}]
[{"$f":"OFFSET(Daily!A87,$G$7,0,1,1)","v":"2020-06-26"},{"$f":"OFFSET(Daily!B87,$G$7,0,1,1)","v":9.0500001907348633},{"$f":"OFFSET(Daily!C87,$G$7,0,1,1)","v":9.4099998474121094},{"$f":"OFFSET(Daily!D87,$G$7,0,1,1)","v":8.7799997329711914},{"$f":"OFFSET(Daily!E87,$G$7,0,1,1)","v":9.3900003433227539},{"$f":"OFFSET(Daily!F87,$G$7,0,1,1)","v":4873000}]
[{"$f":"OFFSET(Daily!A88,$G$7,0,1,1)","v":"2020-06-25"},{"$f":"OFFSET(Daily!B88,$G$7,0,1,1)","v":9.0100002288818359},{"$f":"OFFSET(Daily!C88,$G$7,0,1,1)","v":9.1400003433227539},{"$f":"OFFSET(Daily!D88,$G$7,0,1,1)","v":8.8900003433227539},{"$f":"OFFSET(Daily!E88,$G$7,0,1,1)","v":9.130000114440918},{"$f":"OFFSET(Daily!F88,$G$7,0,1,1)","v":2374200}]
[{"$f":"OFFSET(Daily!A89,$G$7,0,1,1)","v":"2020-06-24"},{"$f":"OFFSET(Daily!B89,$G$7,0,1,1)","v":9.1400003433227539},{"$f":"OFFSET(Daily!C89,$G$7,0,1,1)","v":9.3000001907348633},{"$f":"OFFSET(Daily!D89,$G$7,0,1,1)","v":8.869999885559082},{"$f":"OFFSET(Daily!E89,$G$7,0,1,1)","v":8.9700002670288086},{"$f":"OFFSET(Daily!F89,$G$7,0,1,1)","v":4564200}]
[{"$f":"OFFSET(Daily!A90,$G$7,0,1,1)","v":"2020-06-23"},{"$f":"OFFSET(Daily!B90,$G$7,0,1,1)","v":9.3500003814697283},{"$f":"OFFSET(Daily!C90,$G$7,0,1,1)","v":9.4499998092651367},{"$f":"OFFSET(Daily!D90,$G$7,0,1,1)","v":9.1899995803833008},{"$f":"OFFSET(Daily!E90,$G$7,0,1,1)","v":9.2899999618530273},{"$f":"OFFSET(Daily!F90,$G$7,0,1,1)","v":3908100}]
[{"$f":"OFFSET(Daily!A91,$G$7,0,1,1)","v":"2020-06-22"},{"$f":"OFFSET(Daily!B91,$G$7,0,1,1)","v":8.9700002670288086},{"$f":"OFFSET(Daily!C91,$G$7,0,1,1)","v":9.369999885559082},{"$f":"OFFSET(Daily!D91,$G$7,0,1,1)","v":8.8900003433227539},{"$f":"OFFSET(Daily!E91,$G$7,0,1,1)","v":9.119999885559082},{"$f":"OFFSET(Daily!F91,$G$7,0,1,1)","v":6845800}]
[{"$f":"OFFSET(Daily!A92,$G$7,0,1,1)","v":"2020-06-19"},{"$f":"OFFSET(Daily!B92,$G$7,0,1,1)","v":8.6899995803833008},{"$f":"OFFSET(Daily!C92,$G$7,0,1,1)","v":8.9799995422363281},{"$f":"OFFSET(Daily!D92,$G$7,0,1,1)","v":8.5600004196166992},{"$f":"OFFSET(Daily!E92,$G$7,0,1,1)","v":8.630000114440918},{"$f":"OFFSET(Daily!F92,$G$7,0,1,1)","v":6263000}]
[{"$f":"OFFSET(Daily!A93,$G$7,0,1,1)","v":"2020-06-18"},{"$f":"OFFSET(Daily!B93,$G$7,0,1,1)","v":8.6000003814697266},{"$f":"OFFSET(Daily!C93,$G$7,0,1,1)","v":8.6800003051757813},{"$f":"OFFSET(Daily!D93,$G$7,0,1,1)","v":8.369999885559082},{"$f":"OFFSET(Daily!E93,$G$7,0,1,1)","v":8.4099998474121094},{"$f":"OFFSET(Daily!F93,$G$7,0,1,1)","v":3443400}]
[{"$f":"OFFSET(Daily!A94,$G$7,0,1,1)","v":"2020-06-17"},{"$f":"OFFSET(Daily!B94,$G$7,0,1,1)","v":8.8299999237060547},{"$f":"OFFSET(Daily!C94,$G$7,0,1,1)","v":8.9200000762939453},{"$f":"OFFSET(Daily!D94,$G$7,0,1,1)","v":8.630000114440918},{"$f":"OFFSET(Daily!E94,$G$7,0,1,1)","v":8.6700000762939453},{"$f":"OFFSET(Daily!F94,$G$7,0,1,1)","v":3440400}]
[{"$f":"OFFSET(Daily!A95,$G$7,0,1,1)","v":"2020-06-16"},{"$f":"OFFSET(Daily!B95,$G$7,0,1,1)","v":9.1800003051757795},{"$f":"OFFSET(Daily!C95,$G$7,0,1,1)","v":9.2700004577636719},{"$f":"OFFSET(Daily!D95,$G$7,0,1,1)","v":8.7200002670288086},{"$f":"OFFSET(Daily!E95,$G$7,0,1,1)","v":8.7600002288818359},{"$f":"OFFSET(Daily!F95,$G$7,0,1,1)","v":5260500}]
[{"$f":"OFFSET(Daily!A96,$G$7,0,1,1)","v":"2020-06-15"},{"$f":"OFFSET(Daily!B96,$G$7,0,1,1)","v":8.7399997711181641},{"$f":"OFFSET(Daily!C96,$G$7,0,1,1)","v":9.2299995422363281},{"$f":"OFFSET(Daily!D96,$G$7,0,1,1)","v":8.4600000381469727},{"$f":"OFFSET(Daily!E96,$G$7,0,1,1)","v":9.1400003433227539},{"$f":"OFFSET(Daily!F96,$G$7,0,1,1)","v":6401000}]
[{"$f":"OFFSET(Daily!A97,$G$7,0,1,1)","v":"2020-06-12"},{"$f":"OFFSET(Daily!B97,$G$7,0,1,1)","v":9.6000003814697283},{"$f":"OFFSET(Daily!C97,$G$7,0,1,1)","v":9.6999998092651367},{"$f":"OFFSET(Daily!D97,$G$7,0,1,1)","v":9.1499996185302717},{"$f":"OFFSET(Daily!E97,$G$7,0,1,1)","v":9.2600002288818359},{"$f":"OFFSET(Daily!F97,$G$7,0,1,1)","v":5021700}]
[{"$f":"OFFSET(Daily!A98,$G$7,0,1,1)","v":"2020-06-11"},{"$f":"OFFSET(Daily!B98,$G$7,0,1,1)","v":10.149999618530272},{"$f":"OFFSET(Daily!C98,$G$7,0,1,1)","v":10.319999694824221},{"$f":"OFFSET(Daily!D98,$G$7,0,1,1)","v":9.2200002670288086},{"$f":"OFFSET(Daily!E98,$G$7,0,1,1)","v":9.3100004196166992},{"$f":"OFFSET(Daily!F98,$G$7,0,1,1)","v":7904300}]
[{"$f":"OFFSET(Daily!A99,$G$7,0,1,1)","v":"2020-06-10"},{"$f":"OFFSET(Daily!B99,$G$7,0,1,1)","v":9.9399995803833008},{"$f":"OFFSET(Daily!C99,$G$7,0,1,1)","v":10.369999885559082},{"$f":"OFFSET(Daily!D99,$G$7,0,1,1)","v":9.5100002288818359},{"$f":"OFFSET(Daily!E99,$G$7,0,1,1)","v":10.369999885559082},{"$f":"OFFSET(Daily!F99,$G$7,0,1,1)","v":6996200}]
[{"$f":"OFFSET(Daily!A100,$G$7,0,1,1)","v":"2020-06-09"},{"$f":"OFFSET(Daily!B100,$G$7,0,1,1)","v":9.9300003051757795},{"$f":"OFFSET(Daily!C100,$G$7,0,1,1)","v":10.210000038146973},{"$f":"OFFSET(Daily!D100,$G$7,0,1,1)","v":9.7200002670288086},{"$f":"OFFSET(Daily!E100,$G$7,0,1,1)","v":9.7700004577636719},{"$f":"OFFSET(Daily!F100,$G$7,0,1,1)","v":3776200}]
[{"$f":"OFFSET(Daily!A101,$G$7,0,1,1)","v":"2020-06-08"},{"$f":"OFFSET(Daily!B101,$G$7,0,1,1)","v":9.8900003433227539},{"$f":"OFFSET(Daily!C101,$G$7,0,1,1)","v":9.9300003051757795},{"$f":"OFFSET(Daily!D101,$G$7,0,1,1)","v":9.5799999237060565},{"$f":"OFFSET(Daily!E101,$G$7,0,1,1)","v":9.9200000762939435},{"$f":"OFFSET(Daily!F101,$G$7,0,1,1)","v":3893900}]
[{"$f":"OFFSET(Daily!A102,$G$7,0,1,1)","v":"2020-06-05"},{"$f":"OFFSET(Daily!B102,$G$7,0,1,1)","v":9.4300003051757795},{"$f":"OFFSET(Daily!C102,$G$7,0,1,1)","v":9.7700004577636719},{"$f":"OFFSET(Daily!D102,$G$7,0,1,1)","v":9.2100000381469727},{"$f":"OFFSET(Daily!E102,$G$7,0,1,1)","v":9.7200002670288086},{"$f":"OFFSET(Daily!F102,$G$7,0,1,1)","v":7635800}]
[{"$f":"OFFSET(Daily!A103,$G$7,0,1,1)","v":"2020-06-04"},{"$f":"OFFSET(Daily!B103,$G$7,0,1,1)","v":9.8999996185302717},{"$f":"OFFSET(Daily!C103,$G$7,0,1,1)","v":10.149999618530272},{"$f":"OFFSET(Daily!D103,$G$7,0,1,1)","v":9.7799997329711914},{"$f":"OFFSET(Daily!E103,$G$7,0,1,1)","v":9.9799995422363281},{"$f":"OFFSET(Daily!F103,$G$7,0,1,1)","v":4131600}]
[{"$f":"OFFSET(Daily!A104,$G$7,0,1,1)","v":"2020-06-03"},{"$f":"OFFSET(Daily!B104,$G$7,0,1,1)","v":9.6499996185302717},{"$f":"OFFSET(Daily!C104,$G$7,0,1,1)","v":9.9099998474121094},{"$f":"OFFSET(Daily!D104,$G$7,0,1,1)","v":9.4099998474121094},{"$f":"OFFSET(Daily!E104,$G$7,0,1,1)","v":9.7299995422363281},{"$f":"OFFSET(Daily!F104,$G$7,0,1,1)","v":6312500}]
[{"$f":"OFFSET(Daily!A105,$G$7,0,1,1)","v":"2020-06-02"},{"$f":"OFFSET(Daily!B105,$G$7,0,1,1)","v":10.800000190734863},{"$f":"OFFSET(Daily!C105,$G$7,0,1,1)","v":10.800000190734863},{"$f":"OFFSET(Daily!D105,$G$7,0,1,1)","v":10.079999923706056},{"$f":"OFFSET(Daily!E105,$G$7,0,1,1)","v":10.090000152587891},{"$f":"OFFSET(Daily!F105,$G$7,0,1,1)","v":7322100}]
[{"$f":"OFFSET(Daily!A106,$G$7,0,1,1)","v":"2020-06-01"},{"$f":"OFFSET(Daily!B106,$G$7,0,1,1)","v":10.25},{"$f":"OFFSET(Daily!C106,$G$7,0,1,1)","v":10.859999656677246},{"$f":"OFFSET(Daily!D106,$G$7,0,1,1)","v":10.239999771118164},{"$f":"OFFSET(Daily!E106,$G$7,0,1,1)","v":10.729999542236328},{"$f":"OFFSET(Daily!F106,$G$7,0,1,1)","v":9666000}]
[{"$f":"OFFSET(Daily!A107,$G$7,0,1,1)","v":"2020-05-29"},{"$f":"OFFSET(Daily!B107,$G$7,0,1,1)","v":9.6999998092651367},{"$f":"OFFSET(Daily!C107,$G$7,0,1,1)","v":10.079999923706056},{"$f":"OFFSET(Daily!D107,$G$7,0,1,1)","v":9.630000114440918},{"$f":"OFFSET(Daily!E107,$G$7,0,1,1)","v":10.010000228881836},{"$f":"OFFSET(Daily!F107,$G$7,0,1,1)","v":8162100}]
[{"$f":"OFFSET(Daily!A108,$G$7,0,1,1)","v":"2020-05-28"},{"$f":"OFFSET(Daily!B108,$G$7,0,1,1)","v":9.7700004577636719},{"$f":"OFFSET(Daily!C108,$G$7,0,1,1)","v":9.869999885559082},{"$f":"OFFSET(Daily!D108,$G$7,0,1,1)","v":9.2299995422363281},{"$f":"OFFSET(Daily!E108,$G$7,0,1,1)","v":9.3100004196166992},{"$f":"OFFSET(Daily!F108,$G$7,0,1,1)","v":5080700}]
[{"$f":"OFFSET(Daily!A109,$G$7,0,1,1)","v":"2020-05-27"},{"$f":"OFFSET(Daily!B109,$G$7,0,1,1)","v":8.880000114440918},{"$f":"OFFSET(Daily!C109,$G$7,0,1,1)","v":9.4899997711181641},{"$f":"OFFSET(Daily!D109,$G$7,0,1,1)","v":8.8100004196166992},{"$f":"OFFSET(Daily!E109,$G$7,0,1,1)","v":9.4700002670288086},{"$f":"OFFSET(Daily!F109,$G$7,0,1,1)","v":4895500}]
[{"$f":"OFFSET(Daily!A110,$G$7,0,1,1)","v":"2020-05-26"},{"$f":"OFFSET(Daily!B110,$G$7,0,1,1)","v":9.5200004577636719},{"$f":"OFFSET(Daily!C110,$G$7,0,1,1)","v":9.5600004196166992},{"$f":"OFFSET(Daily!D110,$G$7,0,1,1)","v":9.130000114440918},{"$f":"OFFSET(Daily!E110,$G$7,0,1,1)","v":9.1700000762939435},{"$f":"OFFSET(Daily!F110,$G$7,0,1,1)","v":4892800}]
[{"$f":"OFFSET(Daily!A111,$G$7,0,1,1)","v":"2020-05-22"},{"$f":"OFFSET(Daily!B111,$G$7,0,1,1)","v":9.4600000381469727},{"$f":"OFFSET(Daily!C111,$G$7,0,1,1)","v":9.75},{"$f":"OFFSET(Daily!D111,$G$7,0,1,1)","v":9.3599996566772461},{"$f":"OFFSET(Daily!E111,$G$7,0,1,1)","v":9.380000114440918},{"$f":"OFFSET(Daily!F111,$G$7,0,1,1)","v":3919600}]
[{"$f":"OFFSET(Daily!A112,$G$7,0,1,1)","v":"2020-05-21"},{"$f":"OFFSET(Daily!B112,$G$7,0,1,1)","v":9.4499998092651367},{"$f":"OFFSET(Daily!C112,$G$7,0,1,1)","v":9.5399999618530273},{"$f":"OFFSET(Daily!D112,$G$7,0,1,1)","v":9.0600004196166992},{"$f":"OFFSET(Daily!E112,$G$7,0,1,1)","v":9.380000114440918},{"$f":"OFFSET(Daily!F112,$G$7,0,1,1)","v":4955500}]
[{"$f":"OFFSET(Daily!A113,$G$7,0,1,1)","v":"2020-05-20"},{"$f":"OFFSET(Daily!B113,$G$7,0,1,1)","v":9.6000003814697283},{"$f":"OFFSET(Daily!C113,$G$7,0,1,1)","v":9.8199996948242205},{"$f":"OFFSET(Daily!D113,$G$7,0,1,1)","v":9.4799995422363281},{"$f":"OFFSET(Daily!E113,$G$7,0,1,1)","v":9.7100000381469727},{"$f":"OFFSET(Daily!F113,$G$7,0,1,1)","v":6677900}]
[{"$f":"OFFSET(Daily!A114,$G$7,0,1,1)","v":"2020-05-19"},{"$f":"OFFSET(Daily!B114,$G$7,0,1,1)","v":9.3900003433227539},{"$f":"OFFSET(Daily!C114,$G$7,0,1,1)","v":9.9600000381469727},{"$f":"OFFSET(Daily!D114,$G$7,0,1,1)","v":9.3100004196166992},{"$f":"OFFSET(Daily!E114,$G$7,0,1,1)","v":9.4200000762939435},{"$f":"OFFSET(Daily!F114,$G$7,0,1,1)","v":11263100}]
[{"$f":"OFFSET(Daily!A115,$G$7,0,1,1)","v":"2020-05-18"},{"$f":"OFFSET(Daily!B115,$G$7,0,1,1)","v":9.5699996948242205},{"$f":"OFFSET(Daily!C115,$G$7,0,1,1)","v":9.6899995803833008},{"$f":"OFFSET(Daily!D115,$G$7,0,1,1)","v":9.1000003814697283},{"$f":"OFFSET(Daily!E115,$G$7,0,1,1)","v":9.2600002288818359},{"$f":"OFFSET(Daily!F115,$G$7,0,1,1)","v":9239500}]
[{"$f":"OFFSET(Daily!A116,$G$7,0,1,1)","v":"2020-05-15"},{"$f":"OFFSET(Daily!B116,$G$7,0,1,1)","v":8.3999996185302734},{"$f":"OFFSET(Daily!C116,$G$7,0,1,1)","v":8.8599996566772461},{"$f":"OFFSET(Daily!D116,$G$7,0,1,1)","v":8.1599998474121094},{"$f":"OFFSET(Daily!E116,$G$7,0,1,1)","v":8.8400001525878906},{"$f":"OFFSET(Daily!F116,$G$7,0,1,1)","v":13394900}]
[{"$f":"OFFSET(Daily!A117,$G$7,0,1,1)","v":"2020-05-14"},{"$f":"OFFSET(Daily!B117,$G$7,0,1,1)","v":7.5300002098083496},{"$f":"OFFSET(Daily!C117,$G$7,0,1,1)","v":8.0399999618530273},{"$f":"OFFSET(Daily!D117,$G$7,0,1,1)","v":7.1999998092651367},{"$f":"OFFSET(Daily!E117,$G$7,0,1,1)","v":7.9000000953674316},{"$f":"OFFSET(Daily!F117,$G$7,0,1,1)","v":9131200}]
[{"$f":"OFFSET(Daily!A118,$G$7,0,1,1)","v":"2020-05-13"},{"$f":"OFFSET(Daily!B118,$G$7,0,1,1)","v":8.0699996948242188},{"$f":"OFFSET(Daily!C118,$G$7,0,1,1)","v":8.0699996948242188},{"$f":"OFFSET(Daily!D118,$G$7,0,1,1)","v":7.4600000381469727},{"$f":"OFFSET(Daily!E118,$G$7,0,1,1)","v":7.6500000953674316},{"$f":"OFFSET(Daily!F118,$G$7,0,1,1)","v":5516100}]
[{"$f":"OFFSET(Daily!A119,$G$7,0,1,1)","v":"2020-05-12"},{"$f":"OFFSET(Daily!B119,$G$7,0,1,1)","v":7.9499998092651367},{"$f":"OFFSET(Daily!C119,$G$7,0,1,1)","v":8.2399997711181641},{"$f":"OFFSET(Daily!D119,$G$7,0,1,1)","v":7.8600001335144043},{"$f":"OFFSET(Daily!E119,$G$7,0,1,1)","v":7.9099998474121094},{"$f":"OFFSET(Daily!F119,$G$7,0,1,1)","v":4184500}]
[{"$f":"OFFSET(Daily!A120,$G$7,0,1,1)","v":"2020-05-11"},{"$f":"OFFSET(Daily!B120,$G$7,0,1,1)","v":8.3199996948242188},{"$f":"OFFSET(Daily!C120,$G$7,0,1,1)","v":8.3299999237060547},{"$f":"OFFSET(Daily!D120,$G$7,0,1,1)","v":7.8000001907348633},{"$f":"OFFSET(Daily!E120,$G$7,0,1,1)","v":7.8000001907348633},{"$f":"OFFSET(Daily!F120,$G$7,0,1,1)","v":5947900}]
[{"$f":"OFFSET(Daily!A121,$G$7,0,1,1)","v":"2020-05-08"},{"$f":"OFFSET(Daily!B121,$G$7,0,1,1)","v":8.4099998474121094},{"$f":"OFFSET(Daily!C121,$G$7,0,1,1)","v":8.6899995803833008},{"$f":"OFFSET(Daily!D121,$G$7,0,1,1)","v":8.2200002670288086},{"$f":"OFFSET(Daily!E121,$G$7,0,1,1)","v":8.2799997329711914},{"$f":"OFFSET(Daily!F121,$G$7,0,1,1)","v":4164100}]
[{"$f":"OFFSET(Daily!A122,$G$7,0,1,1)","v":"2020-05-07"},{"$f":"OFFSET(Daily!B122,$G$7,0,1,1)","v":8.1099996566772461},{"$f":"OFFSET(Daily!C122,$G$7,0,1,1)","v":8.4799995422363281},{"$f":"OFFSET(Daily!D122,$G$7,0,1,1)","v":7.9699997901916504},{"$f":"OFFSET(Daily!E122,$G$7,0,1,1)","v":8.369999885559082},{"$f":"OFFSET(Daily!F122,$G$7,0,1,1)","v":4981400}]
[{"$f":"OFFSET(Daily!A123,$G$7,0,1,1)","v":"2020-05-06"},{"$f":"OFFSET(Daily!B123,$G$7,0,1,1)","v":8.0200004577636719},{"$f":"OFFSET(Daily!C123,$G$7,0,1,1)","v":8.130000114440918},{"$f":"OFFSET(Daily!D123,$G$7,0,1,1)","v":7.809999942779541},{"$f":"OFFSET(Daily!E123,$G$7,0,1,1)","v":7.940000057220459},{"$f":"OFFSET(Daily!F123,$G$7,0,1,1)","v":3098900}]
[{"$f":"OFFSET(Daily!A124,$G$7,0,1,1)","v":"2020-05-05"},{"$f":"OFFSET(Daily!B124,$G$7,0,1,1)","v":8.3000001907348633},{"$f":"OFFSET(Daily!C124,$G$7,0,1,1)","v":8.3599996566772461},{"$f":"OFFSET(Daily!D124,$G$7,0,1,1)","v":7.8899998664855957},{"$f":"OFFSET(Daily!E124,$G$7,0,1,1)","v":8.1700000762939453},{"$f":"OFFSET(Daily!F124,$G$7,0,1,1)","v":4308200}]
[{"$f":"OFFSET(Daily!A125,$G$7,0,1,1)","v":"2020-05-04"},{"$f":"OFFSET(Daily!B125,$G$7,0,1,1)","v":8.3999996185302734},{"$f":"OFFSET(Daily!C125,$G$7,0,1,1)","v":8.4799995422363281},{"$f":"OFFSET(Daily!D125,$G$7,0,1,1)","v":8.1800003051757813},{"$f":"OFFSET(Daily!E125,$G$7,0,1,1)","v":8.2100000381469727},{"$f":"OFFSET(Daily!F125,$G$7,0,1,1)","v":4368300}]
[{"$f":"OFFSET(Daily!A126,$G$7,0,1,1)","v":"2020-05-01"},{"$f":"OFFSET(Daily!B126,$G$7,0,1,1)","v":7.880000114440918},{"$f":"OFFSET(Daily!C126,$G$7,0,1,1)","v":8.3500003814697266},{"$f":"OFFSET(Daily!D126,$G$7,0,1,1)","v":7.7600002288818359},{"$f":"OFFSET(Daily!E126,$G$7,0,1,1)","v":8.3199996948242188},{"$f":"OFFSET(Daily!F126,$G$7,0,1,1)","v":4268300}]
[{"$f":"OFFSET(Daily!A127,$G$7,0,1,1)","v":"2020-04-30"},{"$f":"OFFSET(Daily!B127,$G$7,0,1,1)","v":8.6599998474121094},{"$f":"OFFSET(Daily!C127,$G$7,0,1,1)","v":8.6999998092651367},{"$f":"OFFSET(Daily!D127,$G$7,0,1,1)","v":7.9499998092651367},{"$f":"OFFSET(Daily!E127,$G$7,0,1,1)","v":8.0699996948242188},{"$f":"OFFSET(Daily!F127,$G$7,0,1,1)","v":5597400}]
[{"$f":"OFFSET(Daily!A128,$G$7,0,1,1)","v":"2020-04-29"},{"$f":"OFFSET(Daily!B128,$G$7,0,1,1)","v":8.1499996185302734},{"$f":"OFFSET(Daily!C128,$G$7,0,1,1)","v":8.6499996185302734},{"$f":"OFFSET(Daily!D128,$G$7,0,1,1)","v":8.0600004196166992},{"$f":"OFFSET(Daily!E128,$G$7,0,1,1)","v":8.630000114440918},{"$f":"OFFSET(Daily!F128,$G$7,0,1,1)","v":6351100}]
[{"$f":"OFFSET(Daily!A129,$G$7,0,1,1)","v":"2020-04-28"},{"$f":"OFFSET(Daily!B129,$G$7,0,1,1)","v":7.7600002288818359},{"$f":"OFFSET(Daily!C129,$G$7,0,1,1)","v":8.1899995803833008},{"$f":"OFFSET(Daily!D129,$G$7,0,1,1)","v":7.6599998474121094},{"$f":"OFFSET(Daily!E129,$G$7,0,1,1)","v":8.1099996566772461},{"$f":"OFFSET(Daily!F129,$G$7,0,1,1)","v":4674600}]
[{"$f":"OFFSET(Daily!A130,$G$7,0,1,1)","v":"2020-04-27"},{"$f":"OFFSET(Daily!B130,$G$7,0,1,1)","v":7.7300000190734863},{"$f":"OFFSET(Daily!C130,$G$7,0,1,1)","v":7.8000001907348633},{"$f":"OFFSET(Daily!D130,$G$7,0,1,1)","v":7.3899998664855957},{"$f":"OFFSET(Daily!E130,$G$7,0,1,1)","v":7.7699999809265137},{"$f":"OFFSET(Daily!F130,$G$7,0,1,1)","v":4219600}]
[{"$f":"OFFSET(Daily!A131,$G$7,0,1,1)","v":"2020-04-24"},{"$f":"OFFSET(Daily!B131,$G$7,0,1,1)","v":7.8000001907348633},{"$f":"OFFSET(Daily!C131,$G$7,0,1,1)","v":7.8600001335144043},{"$f":"OFFSET(Daily!D131,$G$7,0,1,1)","v":7.309999942779541},{"$f":"OFFSET(Daily!E131,$G$7,0,1,1)","v":7.6999998092651367},{"$f":"OFFSET(Daily!F131,$G$7,0,1,1)","v":4994800}]
[{"$f":"OFFSET(Daily!A132,$G$7,0,1,1)","v":"2020-04-23"},{"$f":"OFFSET(Daily!B132,$G$7,0,1,1)","v":7.6500000953674316},{"$f":"OFFSET(Daily!C132,$G$7,0,1,1)","v":8.0299997329711914},{"$f":"OFFSET(Daily!D132,$G$7,0,1,1)","v":7.4499998092651367},{"$f":"OFFSET(Daily!E132,$G$7,0,1,1)","v":7.630000114440918},{"$f":"OFFSET(Daily!F132,$G$7,0,1,1)","v":6919700}]
[{"$f":"OFFSET(Daily!A133,$G$7,0,1,1)","v":"2020-04-22"},{"$f":"OFFSET(Daily!B133,$G$7,0,1,1)","v":7.3499999046325684},{"$f":"OFFSET(Daily!C133,$G$7,0,1,1)","v":7.570000171661377},{"$f":"OFFSET(Daily!D133,$G$7,0,1,1)","v":7.3400001525878906},{"$f":"OFFSET(Daily!E133,$G$7,0,1,1)","v":7.4000000953674316},{"$f":"OFFSET(Daily!F133,$G$7,0,1,1)","v":3863100}]
[{"$f":"OFFSET(Daily!A134,$G$7,0,1,1)","v":"2020-04-21"},{"$f":"OFFSET(Daily!B134,$G$7,0,1,1)","v":6.809999942779541},{"$f":"OFFSET(Daily!C134,$G$7,0,1,1)","v":7.2199997901916504},{"$f":"OFFSET(Daily!D134,$G$7,0,1,1)","v":6.7600002288818359},{"$f":"OFFSET(Daily!E134,$G$7,0,1,1)","v":7.1399998664855957},{"$f":"OFFSET(Daily!F134,$G$7,0,1,1)","v":4590100}]
[{"$f":"OFFSET(Daily!A135,$G$7,0,1,1)","v":"2020-04-20"},{"$f":"OFFSET(Daily!B135,$G$7,0,1,1)","v":7.0199999809265137},{"$f":"OFFSET(Daily!C135,$G$7,0,1,1)","v":7.4899997711181641},{"$f":"OFFSET(Daily!D135,$G$7,0,1,1)","v":6.9800000190734863},{"$f":"OFFSET(Daily!E135,$G$7,0,1,1)","v":7.179999828338623},{"$f":"OFFSET(Daily!F135,$G$7,0,1,1)","v":4859800}]
[{"$f":"OFFSET(Daily!A136,$G$7,0,1,1)","v":"2020-04-17"},{"$f":"OFFSET(Daily!B136,$G$7,0,1,1)","v":7.1599998474121094},{"$f":"OFFSET(Daily!C136,$G$7,0,1,1)","v":7.3299999237060547},{"$f":"OFFSET(Daily!D136,$G$7,0,1,1)","v":6.940000057220459},{"$f":"OFFSET(Daily!E136,$G$7,0,1,1)","v":6.9699997901916504},{"$f":"OFFSET(Daily!F136,$G$7,0,1,1)","v":5821800}]
[{"$f":"OFFSET(Daily!A137,$G$7,0,1,1)","v":"2020-04-16"},{"$f":"OFFSET(Daily!B137,$G$7,0,1,1)","v":7.4699997901916504},{"$f":"OFFSET(Daily!C137,$G$7,0,1,1)","v":7.570000171661377},{"$f":"OFFSET(Daily!D137,$G$7,0,1,1)","v":7.130000114440918},{"$f":"OFFSET(Daily!E137,$G$7,0,1,1)","v":7.3499999046325684},{"$f":"OFFSET(Daily!F137,$G$7,0,1,1)","v":4492800}]
[{"$f":"OFFSET(Daily!A138,$G$7,0,1,1)","v":"2020-04-15"},{"$f":"OFFSET(Daily!B138,$G$7,0,1,1)","v":7.3600001335144043},{"$f":"OFFSET(Daily!C138,$G$7,0,1,1)","v":7.6500000953674316},{"$f":"OFFSET(Daily!D138,$G$7,0,1,1)","v":7.1399998664855957},{"$f":"OFFSET(Daily!E138,$G$7,0,1,1)","v":7.3899998664855957},{"$f":"OFFSET(Daily!F138,$G$7,0,1,1)","v":4681100}]
[{"$f":"OFFSET(Daily!A139,$G$7,0,1,1)","v":"2020-04-14"},{"$f":"OFFSET(Daily!B139,$G$7,0,1,1)","v":8.0299997329711914},{"$f":"OFFSET(Daily!C139,$G$7,0,1,1)","v":8.5},{"$f":"OFFSET(Daily!D139,$G$7,0,1,1)","v":7.4099998474121094},{"$f":"OFFSET(Daily!E139,$G$7,0,1,1)","v":7.630000114440918},{"$f":"OFFSET(Daily!F139,$G$7,0,1,1)","v":7147300}]
[{"$f":"OFFSET(Daily!A140,$G$7,0,1,1)","v":"2020-04-13"},{"$f":"OFFSET(Daily!B140,$G$7,0,1,1)","v":7.0999999046325684},{"$f":"OFFSET(Daily!C140,$G$7,0,1,1)","v":7.7699999809265137},{"$f":"OFFSET(Daily!D140,$G$7,0,1,1)","v":6.6599998474121094},{"$f":"OFFSET(Daily!E140,$G$7,0,1,1)","v":7.6700000762939453},{"$f":"OFFSET(Daily!F140,$G$7,0,1,1)","v":5834400}]
[{"$f":"OFFSET(Daily!A141,$G$7,0,1,1)","v":"2020-04-09"},{"$f":"OFFSET(Daily!B141,$G$7,0,1,1)","v":6.75},{"$f":"OFFSET(Daily!C141,$G$7,0,1,1)","v":7.190000057220459},{"$f":"OFFSET(Daily!D141,$G$7,0,1,1)","v":6.6399998664855957},{"$f":"OFFSET(Daily!E141,$G$7,0,1,1)","v":7.070000171661377},{"$f":"OFFSET(Daily!F141,$G$7,0,1,1)","v":5755700}]
[{"$f":"OFFSET(Daily!A142,$G$7,0,1,1)","v":"2020-04-08"},{"$f":"OFFSET(Daily!B142,$G$7,0,1,1)","v":6.5199999809265137},{"$f":"OFFSET(Daily!C142,$G$7,0,1,1)","v":6.690000057220459},{"$f":"OFFSET(Daily!D142,$G$7,0,1,1)","v":6.3499999046325684},{"$f":"OFFSET(Daily!E142,$G$7,0,1,1)","v":6.4000000953674316},{"$f":"OFFSET(Daily!F142,$G$7,0,1,1)","v":3542700}]
[{"$f":"OFFSET(Daily!A143,$G$7,0,1,1)","v":"2020-04-07"},{"$f":"OFFSET(Daily!B143,$G$7,0,1,1)","v":6.75},{"$f":"OFFSET(Daily!C143,$G$7,0,1,1)","v":6.9899997711181641},{"$f":"OFFSET(Daily!D143,$G$7,0,1,1)","v":6.4200000762939453},{"$f":"OFFSET(Daily!E143,$G$7,0,1,1)","v":6.4899997711181641},{"$f":"OFFSET(Daily!F143,$G$7,0,1,1)","v":4322100}]
[{"$f":"OFFSET(Daily!A144,$G$7,0,1,1)","v":"2020-04-06"},{"$f":"OFFSET(Daily!B144,$G$7,0,1,1)","v":6.3000001907348633},{"$f":"OFFSET(Daily!C144,$G$7,0,1,1)","v":6.6500000953674316},{"$f":"OFFSET(Daily!D144,$G$7,0,1,1)","v":6.190000057220459},{"$f":"OFFSET(Daily!E144,$G$7,0,1,1)","v":6.5399999618530273},{"$f":"OFFSET(Daily!F144,$G$7,0,1,1)","v":5820100}]
[{"$f":"OFFSET(Daily!A145,$G$7,0,1,1)","v":"2020-04-03"},{"$f":"OFFSET(Daily!B145,$G$7,0,1,1)","v":6.3000001907348633},{"$f":"OFFSET(Daily!C145,$G$7,0,1,1)","v":6.5399999618530273},{"$f":"OFFSET(Daily!D145,$G$7,0,1,1)","v":6},{"$f":"OFFSET(Daily!E145,$G$7,0,1,1)","v":6.0500001907348633},{"$f":"OFFSET(Daily!F145,$G$7,0,1,1)","v":3867100}]
[{"$f":"OFFSET(Daily!A146,$G$7,0,1,1)","v":"2020-04-02"},{"$f":"OFFSET(Daily!B146,$G$7,0,1,1)","v":6.3499999046325684},{"$f":"OFFSET(Daily!C146,$G$7,0,1,1)","v":6.6599998474121094},{"$f":"OFFSET(Daily!D146,$G$7,0,1,1)","v":6.2100000381469727},{"$f":"OFFSET(Daily!E146,$G$7,0,1,1)","v":6.3000001907348633},{"$f":"OFFSET(Daily!F146,$G$7,0,1,1)","v":4608000}]
[{"$f":"OFFSET(Daily!A147,$G$7,0,1,1)","v":"2020-04-01"},{"$f":"OFFSET(Daily!B147,$G$7,0,1,1)","v":6.059999942779541},{"$f":"OFFSET(Daily!C147,$G$7,0,1,1)","v":6.3499999046325684},{"$f":"OFFSET(Daily!D147,$G$7,0,1,1)","v":5.869999885559082},{"$f":"OFFSET(Daily!E147,$G$7,0,1,1)","v":6.1100001335144043},{"$f":"OFFSET(Daily!F147,$G$7,0,1,1)","v":5420300}]
[{"$f":"OFFSET(Daily!A148,$G$7,0,1,1)","v":"2020-03-31"},{"$f":"OFFSET(Daily!B148,$G$7,0,1,1)","v":6.4499998092651367},{"$f":"OFFSET(Daily!C148,$G$7,0,1,1)","v":6.5999999046325684},{"$f":"OFFSET(Daily!D148,$G$7,0,1,1)","v":6.179999828338623},{"$f":"OFFSET(Daily!E148,$G$7,0,1,1)","v":6.190000057220459},{"$f":"OFFSET(Daily!F148,$G$7,0,1,1)","v":3517600}]
[{"$f":"OFFSET(Daily!A149,$G$7,0,1,1)","v":"2020-03-30"},{"$f":"OFFSET(Daily!B149,$G$7,0,1,1)","v":6.7199997901916504},{"$f":"OFFSET(Daily!C149,$G$7,0,1,1)","v":6.9800000190734863},{"$f":"OFFSET(Daily!D149,$G$7,0,1,1)","v":6.0999999046325684},{"$f":"OFFSET(Daily!E149,$G$7,0,1,1)","v":6.3899998664855957},{"$f":"OFFSET(Daily!F149,$G$7,0,1,1)","v":5117200}]
[{"$f":"OFFSET(Daily!A150,$G$7,0,1,1)","v":"2020-03-27"},{"$f":"OFFSET(Daily!B150,$G$7,0,1,1)","v":7},{"$f":"OFFSET(Daily!C150,$G$7,0,1,1)","v":7.1700000762939453},{"$f":"OFFSET(Daily!D150,$G$7,0,1,1)","v":6.5399999618530273},{"$f":"OFFSET(Daily!E150,$G$7,0,1,1)","v":6.820000171661377},{"$f":"OFFSET(Daily!F150,$G$7,0,1,1)","v":5203800}]
[{"$f":"OFFSET(Daily!A151,$G$7,0,1,1)","v":"2020-03-26"},{"$f":"OFFSET(Daily!B151,$G$7,0,1,1)","v":7.4200000762939453},{"$f":"OFFSET(Daily!C151,$G$7,0,1,1)","v":7.9000000953674316},{"$f":"OFFSET(Daily!D151,$G$7,0,1,1)","v":7.0500001907348633},{"$f":"OFFSET(Daily!E151,$G$7,0,1,1)","v":7.2399997711181641},{"$f":"OFFSET(Daily!F151,$G$7,0,1,1)","v":6015500}]
[{"$f":"OFFSET(Daily!A152,$G$7,0,1,1)","v":"2020-03-25"},{"$f":"OFFSET(Daily!B152,$G$7,0,1,1)","v":7.0500001907348633},{"$f":"OFFSET(Daily!C152,$G$7,0,1,1)","v":7.9000000953674316},{"$f":"OFFSET(Daily!D152,$G$7,0,1,1)","v":6.8499999046325684},{"$f":"OFFSET(Daily!E152,$G$7,0,1,1)","v":7.4099998474121094},{"$f":"OFFSET(Daily!F152,$G$7,0,1,1)","v":8457700}]
[{"$f":"OFFSET(Daily!A153,$G$7,0,1,1)","v":"2020-03-24"},{"$f":"OFFSET(Daily!B153,$G$7,0,1,1)","v":7.1500000953674316},{"$f":"OFFSET(Daily!C153,$G$7,0,1,1)","v":7.380000114440918},{"$f":"OFFSET(Daily!D153,$G$7,0,1,1)","v":6.5999999046325684},{"$f":"OFFSET(Daily!E153,$G$7,0,1,1)","v":7.2300000190734863},{"$f":"OFFSET(Daily!F153,$G$7,0,1,1)","v":9844000}]
[{"$f":"OFFSET(Daily!A154,$G$7,0,1,1)","v":"2020-03-23"},{"$f":"OFFSET(Daily!B154,$G$7,0,1,1)","v":5.929999828338623},{"$f":"OFFSET(Daily!C154,$G$7,0,1,1)","v":6.380000114440918},{"$f":"OFFSET(Daily!D154,$G$7,0,1,1)","v":5.440000057220459},{"$f":"OFFSET(Daily!E154,$G$7,0,1,1)","v":6},{"$f":"OFFSET(Daily!F154,$G$7,0,1,1)","v":6855100}]
[{"$f":"OFFSET(Daily!A155,$G$7,0,1,1)","v":"2020-03-20"},{"$f":"OFFSET(Daily!B155,$G$7,0,1,1)","v":6.130000114440918},{"$f":"OFFSET(Daily!C155,$G$7,0,1,1)","v":6.2100000381469727},{"$f":"OFFSET(Daily!D155,$G$7,0,1,1)","v":5.5},{"$f":"OFFSET(Daily!E155,$G$7,0,1,1)","v":5.5100002288818359},{"$f":"OFFSET(Daily!F155,$G$7,0,1,1)","v":6340700}]
[{"$f":"OFFSET(Daily!A156,$G$7,0,1,1)","v":"2020-03-19"},{"$f":"OFFSET(Daily!B156,$G$7,0,1,1)","v":5.5},{"$f":"OFFSET(Daily!C156,$G$7,0,1,1)","v":6.4600000381469727},{"$f":"OFFSET(Daily!D156,$G$7,0,1,1)","v":4.8000001907348633},{"$f":"OFFSET(Daily!E156,$G$7,0,1,1)","v":5.619999885559082},{"$f":"OFFSET(Daily!F156,$G$7,0,1,1)","v":6005100}]
[{"$f":"OFFSET(Daily!A157,$G$7,0,1,1)","v":"2020-03-18"},{"$f":"OFFSET(Daily!B157,$G$7,0,1,1)","v":5.8400001525878906},{"$f":"OFFSET(Daily!C157,$G$7,0,1,1)","v":6.5999999046325684},{"$f":"OFFSET(Daily!D157,$G$7,0,1,1)","v":5.3499999046325684},{"$f":"OFFSET(Daily!E157,$G$7,0,1,1)","v":5.4000000953674316},{"$f":"OFFSET(Daily!F157,$G$7,0,1,1)","v":6896400}]
[{"$f":"OFFSET(Daily!A158,$G$7,0,1,1)","v":"2020-03-17"},{"$f":"OFFSET(Daily!B158,$G$7,0,1,1)","v":5.3499999046325684},{"$f":"OFFSET(Daily!C158,$G$7,0,1,1)","v":6.7100000381469727},{"$f":"OFFSET(Daily!D158,$G$7,0,1,1)","v":5.3000001907348633},{"$f":"OFFSET(Daily!E158,$G$7,0,1,1)","v":6.2899999618530273},{"$f":"OFFSET(Daily!F158,$G$7,0,1,1)","v":8819900}]
[{"$f":"OFFSET(Daily!A159,$G$7,0,1,1)","v":"2020-03-16"},{"$f":"OFFSET(Daily!B159,$G$7,0,1,1)","v":4.2800002098083496},{"$f":"OFFSET(Daily!C159,$G$7,0,1,1)","v":5.8400001525878906},{"$f":"OFFSET(Daily!D159,$G$7,0,1,1)","v":4.1700000762939453},{"$f":"OFFSET(Daily!E159,$G$7,0,1,1)","v":5.4899997711181641},{"$f":"OFFSET(Daily!F159,$G$7,0,1,1)","v":9076400}]
[{"$f":"OFFSET(Daily!A160,$G$7,0,1,1)","v":"2020-03-13"},{"$f":"OFFSET(Daily!B160,$G$7,0,1,1)","v":5.940000057220459},{"$f":"OFFSET(Daily!C160,$G$7,0,1,1)","v":5.9499998092651367},{"$f":"OFFSET(Daily!D160,$G$7,0,1,1)","v":4.9499998092651367},{"$f":"OFFSET(Daily!E160,$G$7,0,1,1)","v":5},{"$f":"OFFSET(Daily!F160,$G$7,0,1,1)","v":8888200}]
[{"$f":"OFFSET(Daily!A161,$G$7,0,1,1)","v":"2020-03-12"},{"$f":"OFFSET(Daily!B161,$G$7,0,1,1)","v":5.559999942779541},{"$f":"OFFSET(Daily!C161,$G$7,0,1,1)","v":6.690000057220459},{"$f":"OFFSET(Daily!D161,$G$7,0,1,1)","v":5.4000000953674316},{"$f":"OFFSET(Daily!E161,$G$7,0,1,1)","v":5.6399998664855957},{"$f":"OFFSET(Daily!F161,$G$7,0,1,1)","v":7826500}]
[{"$f":"OFFSET(Daily!A162,$G$7,0,1,1)","v":"2020-03-11"},{"$f":"OFFSET(Daily!B162,$G$7,0,1,1)","v":7.3000001907348633},{"$f":"OFFSET(Daily!C162,$G$7,0,1,1)","v":7.3400001525878906},{"$f":"OFFSET(Daily!D162,$G$7,0,1,1)","v":6.4200000762939453},{"$f":"OFFSET(Daily!E162,$G$7,0,1,1)","v":6.570000171661377},{"$f":"OFFSET(Daily!F162,$G$7,0,1,1)","v":6245500}]
[{"$f":"OFFSET(Daily!A163,$G$7,0,1,1)","v":"2020-03-10"},{"$f":"OFFSET(Daily!B163,$G$7,0,1,1)","v":7.3899998664855957},{"$f":"OFFSET(Daily!C163,$G$7,0,1,1)","v":7.5399999618530273},{"$f":"OFFSET(Daily!D163,$G$7,0,1,1)","v":6.9600000381469727},{"$f":"OFFSET(Daily!E163,$G$7,0,1,1)","v":7.380000114440918},{"$f":"OFFSET(Daily!F163,$G$7,0,1,1)","v":3926500}]
[{"$f":"OFFSET(Daily!A164,$G$7,0,1,1)","v":"2020-03-09"},{"$f":"OFFSET(Daily!B164,$G$7,0,1,1)","v":7.3400001525878906},{"$f":"OFFSET(Daily!C164,$G$7,0,1,1)","v":7.679999828338623},{"$f":"OFFSET(Daily!D164,$G$7,0,1,1)","v":6.9000000953674316},{"$f":"OFFSET(Daily!E164,$G$7,0,1,1)","v":7.1100001335144043},{"$f":"OFFSET(Daily!F164,$G$7,0,1,1)","v":3745600}]
[{"$f":"OFFSET(Daily!A165,$G$7,0,1,1)","v":"2020-03-06"},{"$f":"OFFSET(Daily!B165,$G$7,0,1,1)","v":8.1700000762939453},{"$f":"OFFSET(Daily!C165,$G$7,0,1,1)","v":8.1800003051757813},{"$f":"OFFSET(Daily!D165,$G$7,0,1,1)","v":7.5799999237060547},{"$f":"OFFSET(Daily!E165,$G$7,0,1,1)","v":7.9200000762939453},{"$f":"OFFSET(Daily!F165,$G$7,0,1,1)","v":5549700}]
[{"$f":"OFFSET(Daily!A166,$G$7,0,1,1)","v":"2020-03-05"},{"$f":"OFFSET(Daily!B166,$G$7,0,1,1)","v":8.1499996185302734},{"$f":"OFFSET(Daily!C166,$G$7,0,1,1)","v":8.3000001907348633},{"$f":"OFFSET(Daily!D166,$G$7,0,1,1)","v":7.9000000953674316},{"$f":"OFFSET(Daily!E166,$G$7,0,1,1)","v":8.1599998474121094},{"$f":"OFFSET(Daily!F166,$G$7,0,1,1)","v":5156900}]
[{"$f":"OFFSET(Daily!A167,$G$7,0,1,1)","v":"2020-03-04"},{"$f":"OFFSET(Daily!B167,$G$7,0,1,1)","v":8.0799999237060547},{"$f":"OFFSET(Daily!C167,$G$7,0,1,1)","v":8.1899995803833008},{"$f":"OFFSET(Daily!D167,$G$7,0,1,1)","v":7.7800002098083496},{"$f":"OFFSET(Daily!E167,$G$7,0,1,1)","v":8.0799999237060547},{"$f":"OFFSET(Daily!F167,$G$7,0,1,1)","v":3835200}]
[{"$f":"OFFSET(Daily!A168,$G$7,0,1,1)","v":"2020-03-03"},{"$f":"OFFSET(Daily!B168,$G$7,0,1,1)","v":8.130000114440918},{"$f":"OFFSET(Daily!C168,$G$7,0,1,1)","v":8.4899997711181641},{"$f":"OFFSET(Daily!D168,$G$7,0,1,1)","v":7.7800002098083496},{"$f":"OFFSET(Daily!E168,$G$7,0,1,1)","v":8.0799999237060547},{"$f":"OFFSET(Daily!F168,$G$7,0,1,1)","v":9637500}]
[{"$f":"OFFSET(Daily!A169,$G$7,0,1,1)","v":"2020-03-02"},{"$f":"OFFSET(Daily!B169,$G$7,0,1,1)","v":7.9000000953674316},{"$f":"OFFSET(Daily!C169,$G$7,0,1,1)","v":8.1000003814697266},{"$f":"OFFSET(Daily!D169,$G$7,0,1,1)","v":7.6399998664855957},{"$f":"OFFSET(Daily!E169,$G$7,0,1,1)","v":7.9099998474121094},{"$f":"OFFSET(Daily!F169,$G$7,0,1,1)","v":4999000}]
[{"$f":"OFFSET(Daily!A170,$G$7,0,1,1)","v":"2020-02-28"},{"$f":"OFFSET(Daily!B170,$G$7,0,1,1)","v":7.190000057220459},{"$f":"OFFSET(Daily!C170,$G$7,0,1,1)","v":7.820000171661377},{"$f":"OFFSET(Daily!D170,$G$7,0,1,1)","v":6.8600001335144043},{"$f":"OFFSET(Daily!E170,$G$7,0,1,1)","v":7.5399999618530273},{"$f":"OFFSET(Daily!F170,$G$7,0,1,1)","v":13324400}]
[{"$f":"OFFSET(Daily!A171,$G$7,0,1,1)","v":"2020-02-27"},{"$f":"OFFSET(Daily!B171,$G$7,0,1,1)","v":9.3500003814697283},{"$f":"OFFSET(Daily!C171,$G$7,0,1,1)","v":9.4300003051757795},{"$f":"OFFSET(Daily!D171,$G$7,0,1,1)","v":8.25},{"$f":"OFFSET(Daily!E171,$G$7,0,1,1)","v":8.3000001907348633},{"$f":"OFFSET(Daily!F171,$G$7,0,1,1)","v":8669200}]
[{"$f":"OFFSET(Daily!A172,$G$7,0,1,1)","v":"2020-02-26"},{"$f":"OFFSET(Daily!B172,$G$7,0,1,1)","v":9.2899999618530273},{"$f":"OFFSET(Daily!C172,$G$7,0,1,1)","v":9.5299997329711914},{"$f":"OFFSET(Daily!D172,$G$7,0,1,1)","v":9.0799999237060565},{"$f":"OFFSET(Daily!E172,$G$7,0,1,1)","v":9.2399997711181641},{"$f":"OFFSET(Daily!F172,$G$7,0,1,1)","v":4600400}]
[{"$f":"OFFSET(Daily!A173,$G$7,0,1,1)","v":"2020-02-25"},{"$f":"OFFSET(Daily!B173,$G$7,0,1,1)","v":9.6000003814697283},{"$f":"OFFSET(Daily!C173,$G$7,0,1,1)","v":9.8500003814697283},{"$f":"OFFSET(Daily!D173,$G$7,0,1,1)","v":9.3400001525878906},{"$f":"OFFSET(Daily!E173,$G$7,0,1,1)","v":9.3400001525878906},{"$f":"OFFSET(Daily!F173,$G$7,0,1,1)","v":5235500}]
[{"$f":"OFFSET(Daily!A174,$G$7,0,1,1)","v":"2020-02-24"},{"$f":"OFFSET(Daily!B174,$G$7,0,1,1)","v":10.270000457763672},{"$f":"OFFSET(Daily!C174,$G$7,0,1,1)","v":10.279999732971191},{"$f":"OFFSET(Daily!D174,$G$7,0,1,1)","v":9.6899995803833008},{"$f":"OFFSET(Daily!E174,$G$7,0,1,1)","v":9.8100004196166992},{"$f":"OFFSET(Daily!F174,$G$7,0,1,1)","v":7428100}]
[{"$f":"OFFSET(Daily!A175,$G$7,0,1,1)","v":"2020-02-21"},{"$f":"OFFSET(Daily!B175,$G$7,0,1,1)","v":9.9600000381469727},{"$f":"OFFSET(Daily!C175,$G$7,0,1,1)","v":10.029999732971191},{"$f":"OFFSET(Daily!D175,$G$7,0,1,1)","v":9.8100004196166992},{"$f":"OFFSET(Daily!E175,$G$7,0,1,1)","v":9.9600000381469727},{"$f":"OFFSET(Daily!F175,$G$7,0,1,1)","v":6532900}]
[{"$f":"OFFSET(Daily!A176,$G$7,0,1,1)","v":"2020-02-20"},{"$f":"OFFSET(Daily!B176,$G$7,0,1,1)","v":9.3900003433227539},{"$f":"OFFSET(Daily!C176,$G$7,0,1,1)","v":10.119999885559082},{"$f":"OFFSET(Daily!D176,$G$7,0,1,1)","v":9.3299999237060565},{"$f":"OFFSET(Daily!E176,$G$7,0,1,1)","v":9.7200002670288086},{"$f":"OFFSET(Daily!F176,$G$7,0,1,1)","v":8905100}]
[{"$f":"OFFSET(Daily!A177,$G$7,0,1,1)","v":"2020-02-19"},{"$f":"OFFSET(Daily!B177,$G$7,0,1,1)","v":10.180000305175779},{"$f":"OFFSET(Daily!C177,$G$7,0,1,1)","v":10.210000038146973},{"$f":"OFFSET(Daily!D177,$G$7,0,1,1)","v":9.2600002288818359},{"$f":"OFFSET(Daily!E177,$G$7,0,1,1)","v":9.3199996948242205},{"$f":"OFFSET(Daily!F177,$G$7,0,1,1)","v":14475400}]
[{"$f":"OFFSET(Daily!A178,$G$7,0,1,1)","v":"2020-02-18"},{"$f":"OFFSET(Daily!B178,$G$7,0,1,1)","v":9.75},{"$f":"OFFSET(Daily!C178,$G$7,0,1,1)","v":10.289999961853027},{"$f":"OFFSET(Daily!D178,$G$7,0,1,1)","v":9.7399997711181641},{"$f":"OFFSET(Daily!E178,$G$7,0,1,1)","v":10.130000114440918},{"$f":"OFFSET(Daily!F178,$G$7,0,1,1)","v":7138100}]
[{"$f":"OFFSET(Daily!A179,$G$7,0,1,1)","v":"2020-02-14"},{"$f":"OFFSET(Daily!B179,$G$7,0,1,1)","v":9.6400003433227539},{"$f":"OFFSET(Daily!C179,$G$7,0,1,1)","v":9.869999885559082},{"$f":"OFFSET(Daily!D179,$G$7,0,1,1)","v":9.5600004196166992},{"$f":"OFFSET(Daily!E179,$G$7,0,1,1)","v":9.6000003814697283},{"$f":"OFFSET(Daily!F179,$G$7,0,1,1)","v":3845400}]
[{"$f":"OFFSET(Daily!A180,$G$7,0,1,1)","v":"2020-02-13"},{"$f":"OFFSET(Daily!B180,$G$7,0,1,1)","v":9.75},{"$f":"OFFSET(Daily!C180,$G$7,0,1,1)","v":9.8500003814697283},{"$f":"OFFSET(Daily!D180,$G$7,0,1,1)","v":9.5799999237060565},{"$f":"OFFSET(Daily!E180,$G$7,0,1,1)","v":9.630000114440918},{"$f":"OFFSET(Daily!F180,$G$7,0,1,1)","v":3253300}]
[{"$f":"OFFSET(Daily!A181,$G$7,0,1,1)","v":"2020-02-12"},{"$f":"OFFSET(Daily!B181,$G$7,0,1,1)","v":9.6999998092651367},{"$f":"OFFSET(Daily!C181,$G$7,0,1,1)","v":9.7299995422363281},{"$f":"OFFSET(Daily!D181,$G$7,0,1,1)","v":9.5799999237060565},{"$f":"OFFSET(Daily!E181,$G$7,0,1,1)","v":9.6000003814697283},{"$f":"OFFSET(Daily!F181,$G$7,0,1,1)","v":2255100}]
[{"$f":"OFFSET(Daily!A182,$G$7,0,1,1)","v":"2020-02-11"},{"$f":"OFFSET(Daily!B182,$G$7,0,1,1)","v":9.8000001907348633},{"$f":"OFFSET(Daily!C182,$G$7,0,1,1)","v":9.8599996566772461},{"$f":"OFFSET(Daily!D182,$G$7,0,1,1)","v":9.5200004577636719},{"$f":"OFFSET(Daily!E182,$G$7,0,1,1)","v":9.75},{"$f":"OFFSET(Daily!F182,$G$7,0,1,1)","v":2579500}]
[{"$f":"OFFSET(Daily!A183,$G$7,0,1,1)","v":"2020-02-10"},{"$f":"OFFSET(Daily!B183,$G$7,0,1,1)","v":9.630000114440918},{"$f":"OFFSET(Daily!C183,$G$7,0,1,1)","v":9.8999996185302717},{"$f":"OFFSET(Daily!D183,$G$7,0,1,1)","v":9.5200004577636719},{"$f":"OFFSET(Daily!E183,$G$7,0,1,1)","v":9.8199996948242205},{"$f":"OFFSET(Daily!F183,$G$7,0,1,1)","v":2939400}]
[{"$f":"OFFSET(Daily!A184,$G$7,0,1,1)","v":"2020-02-07"},{"$f":"OFFSET(Daily!B184,$G$7,0,1,1)","v":9.8900003433227539},{"$f":"OFFSET(Daily!C184,$G$7,0,1,1)","v":10.029999732971191},{"$f":"OFFSET(Daily!D184,$G$7,0,1,1)","v":9.5699996948242205},{"$f":"OFFSET(Daily!E184,$G$7,0,1,1)","v":9.5699996948242205},{"$f":"OFFSET(Daily!F184,$G$7,0,1,1)","v":3261400}]
[{"$f":"OFFSET(Daily!A185,$G$7,0,1,1)","v":"2020-02-06"},{"$f":"OFFSET(Daily!B185,$G$7,0,1,1)","v":9.8500003814697283},{"$f":"OFFSET(Daily!C185,$G$7,0,1,1)","v":10},{"$f":"OFFSET(Daily!D185,$G$7,0,1,1)","v":9.6800003051757795},{"$f":"OFFSET(Daily!E185,$G$7,0,1,1)","v":9.8999996185302717},{"$f":"OFFSET(Daily!F185,$G$7,0,1,1)","v":3208400}]
[{"$f":"OFFSET(Daily!A186,$G$7,0,1,1)","v":"2020-02-05"},{"$f":"OFFSET(Daily!B186,$G$7,0,1,1)","v":9.5500001907348633},{"$f":"OFFSET(Daily!C186,$G$7,0,1,1)","v":9.8599996566772461},{"$f":"OFFSET(Daily!D186,$G$7,0,1,1)","v":9.5},{"$f":"OFFSET(Daily!E186,$G$7,0,1,1)","v":9.7399997711181641},{"$f":"OFFSET(Daily!F186,$G$7,0,1,1)","v":2847500}]
[{"$f":"OFFSET(Daily!A187,$G$7,0,1,1)","v":"2020-02-04"},{"$f":"OFFSET(Daily!B187,$G$7,0,1,1)","v":9.6700000762939435},{"$f":"OFFSET(Daily!C187,$G$7,0,1,1)","v":9.7399997711181641},{"$f":"OFFSET(Daily!D187,$G$7,0,1,1)","v":9.3599996566772461},{"$f":"OFFSET(Daily!E187,$G$7,0,1,1)","v":9.5200004577636719},{"$f":"OFFSET(Daily!F187,$G$7,0,1,1)","v":3360100}]
[{"$f":"OFFSET(Daily!A188,$G$7,0,1,1)","v":"2020-02-03"},{"$f":"OFFSET(Daily!B188,$G$7,0,1,1)","v":9.9799995422363281},{"$f":"OFFSET(Daily!C188,$G$7,0,1,1)","v":10.020000457763672},{"$f":"OFFSET(Daily!D188,$G$7,0,1,1)","v":9.630000114440918},{"$f":"OFFSET(Daily!E188,$G$7,0,1,1)","v":9.7899999618530273},{"$f":"OFFSET(Daily!F188,$G$7,0,1,1)","v":3149900}]
[{"$f":"OFFSET(Daily!A189,$G$7,0,1,1)","v":"2020-01-31"},{"$f":"OFFSET(Daily!B189,$G$7,0,1,1)","v":10},{"$f":"OFFSET(Daily!C189,$G$7,0,1,1)","v":10.180000305175779},{"$f":"OFFSET(Daily!D189,$G$7,0,1,1)","v":9.9700002670288086},{"$f":"OFFSET(Daily!E189,$G$7,0,1,1)","v":10.069999694824221},{"$f":"OFFSET(Daily!F189,$G$7,0,1,1)","v":3058800}]
[{"$f":"OFFSET(Daily!A190,$G$7,0,1,1)","v":"2020-01-30"},{"$f":"OFFSET(Daily!B190,$G$7,0,1,1)","v":10.210000038146973},{"$f":"OFFSET(Daily!C190,$G$7,0,1,1)","v":10.279999732971191},{"$f":"OFFSET(Daily!D190,$G$7,0,1,1)","v":9.9300003051757795},{"$f":"OFFSET(Daily!E190,$G$7,0,1,1)","v":10},{"$f":"OFFSET(Daily!F190,$G$7,0,1,1)","v":3418400}]
[{"$f":"OFFSET(Daily!A191,$G$7,0,1,1)","v":"2020-01-29"},{"$f":"OFFSET(Daily!B191,$G$7,0,1,1)","v":9.9600000381469727},{"$f":"OFFSET(Daily!C191,$G$7,0,1,1)","v":10.140000343322754},{"$f":"OFFSET(Daily!D191,$G$7,0,1,1)","v":9.7700004577636719},{"$f":"OFFSET(Daily!E191,$G$7,0,1,1)","v":10.079999923706056},{"$f":"OFFSET(Daily!F191,$G$7,0,1,1)","v":3537800}]
[{"$f":"OFFSET(Daily!A192,$G$7,0,1,1)","v":"2020-01-28"},{"$f":"OFFSET(Daily!B192,$G$7,0,1,1)","v":10.039999961853027},{"$f":"OFFSET(Daily!C192,$G$7,0,1,1)","v":10.159999847412109},{"$f":"OFFSET(Daily!D192,$G$7,0,1,1)","v":9.8100004196166992},{"$f":"OFFSET(Daily!E192,$G$7,0,1,1)","v":9.9200000762939435},{"$f":"OFFSET(Daily!F192,$G$7,0,1,1)","v":4741600}]
[{"$f":"OFFSET(Daily!A193,$G$7,0,1,1)","v":"2020-01-27"},{"$f":"OFFSET(Daily!B193,$G$7,0,1,1)","v":10.789999961853027},{"$f":"OFFSET(Daily!C193,$G$7,0,1,1)","v":10.880000114440918},{"$f":"OFFSET(Daily!D193,$G$7,0,1,1)","v":10.100000381469728},{"$f":"OFFSET(Daily!E193,$G$7,0,1,1)","v":10.149999618530272},{"$f":"OFFSET(Daily!F193,$G$7,0,1,1)","v":5145300}]
[{"$f":"OFFSET(Daily!A194,$G$7,0,1,1)","v":"2020-01-24"},{"$f":"OFFSET(Daily!B194,$G$7,0,1,1)","v":10.239999771118164},{"$f":"OFFSET(Daily!C194,$G$7,0,1,1)","v":10.630000114440918},{"$f":"OFFSET(Daily!D194,$G$7,0,1,1)","v":10.199999809265137},{"$f":"OFFSET(Daily!E194,$G$7,0,1,1)","v":10.579999923706056},{"$f":"OFFSET(Daily!F194,$G$7,0,1,1)","v":3924100}]
[{"$f":"OFFSET(Daily!A195,$G$7,0,1,1)","v":"2020-01-23"},{"$f":"OFFSET(Daily!B195,$G$7,0,1,1)","v":10.199999809265137},{"$f":"OFFSET(Daily!C195,$G$7,0,1,1)","v":10.590000152587891},{"$f":"OFFSET(Daily!D195,$G$7,0,1,1)","v":10.149999618530272},{"$f":"OFFSET(Daily!E195,$G$7,0,1,1)","v":10.189999580383301},{"$f":"OFFSET(Daily!F195,$G$7,0,1,1)","v":3153800}]
[{"$f":"OFFSET(Daily!A196,$G$7,0,1,1)","v":"2020-01-22"},{"$f":"OFFSET(Daily!B196,$G$7,0,1,1)","v":10.380000114440918},{"$f":"OFFSET(Daily!C196,$G$7,0,1,1)","v":10.630000114440918},{"$f":"OFFSET(Daily!D196,$G$7,0,1,1)","v":10.289999961853027},{"$f":"OFFSET(Daily!E196,$G$7,0,1,1)","v":10.329999923706056},{"$f":"OFFSET(Daily!F196,$G$7,0,1,1)","v":3208000}]
[{"$f":"OFFSET(Daily!A197,$G$7,0,1,1)","v":"2020-01-21"},{"$f":"OFFSET(Daily!B197,$G$7,0,1,1)","v":10.369999885559082},{"$f":"OFFSET(Daily!C197,$G$7,0,1,1)","v":10.520000457763672},{"$f":"OFFSET(Daily!D197,$G$7,0,1,1)","v":9.8100004196166992},{"$f":"OFFSET(Daily!E197,$G$7,0,1,1)","v":10.460000038146973},{"$f":"OFFSET(Daily!F197,$G$7,0,1,1)","v":6482000}]
[{"$f":"OFFSET(Daily!A198,$G$7,0,1,1)","v":"2020-01-17"},{"$f":"OFFSET(Daily!B198,$G$7,0,1,1)","v":11.119999885559082},{"$f":"OFFSET(Daily!C198,$G$7,0,1,1)","v":11.119999885559082},{"$f":"OFFSET(Daily!D198,$G$7,0,1,1)","v":10.409999847412109},{"$f":"OFFSET(Daily!E198,$G$7,0,1,1)","v":10.529999732971191},{"$f":"OFFSET(Daily!F198,$G$7,0,1,1)","v":6290100}]
[{"$f":"OFFSET(Daily!A199,$G$7,0,1,1)","v":"2020-01-16"},{"$f":"OFFSET(Daily!B199,$G$7,0,1,1)","v":11.010000228881836},{"$f":"OFFSET(Daily!C199,$G$7,0,1,1)","v":11.170000076293944},{"$f":"OFFSET(Daily!D199,$G$7,0,1,1)","v":10.859999656677246},{"$f":"OFFSET(Daily!E199,$G$7,0,1,1)","v":11.050000190734863},{"$f":"OFFSET(Daily!F199,$G$7,0,1,1)","v":2876200}]
[{"$f":"OFFSET(Daily!A200,$G$7,0,1,1)","v":"2020-01-15"},{"$f":"OFFSET(Daily!B200,$G$7,0,1,1)","v":11.039999961853027},{"$f":"OFFSET(Daily!C200,$G$7,0,1,1)","v":11.159999847412109},{"$f":"OFFSET(Daily!D200,$G$7,0,1,1)","v":10.699999809265137},{"$f":"OFFSET(Daily!E200,$G$7,0,1,1)","v":11.060000419616699},{"$f":"OFFSET(Daily!F200,$G$7,0,1,1)","v":4337000}]
[{"$f":"OFFSET(Daily!A201,$G$7,0,1,1)","v":"2020-01-14"},{"$f":"OFFSET(Daily!B201,$G$7,0,1,1)","v":10.529999732971191},{"$f":"OFFSET(Daily!C201,$G$7,0,1,1)","v":10.869999885559082},{"$f":"OFFSET(Daily!D201,$G$7,0,1,1)","v":10.510000228881836},{"$f":"OFFSET(Daily!E201,$G$7,0,1,1)","v":10.829999923706056},{"$f":"OFFSET(Daily!F201,$G$7,0,1,1)","v":4057500}]
[{"$f":"OFFSET(Daily!A202,$G$7,0,1,1)","v":"2020-01-13"},{"$f":"OFFSET(Daily!B202,$G$7,0,1,1)","v":10.920000076293944},{"$f":"OFFSET(Daily!C202,$G$7,0,1,1)","v":10.949999809265137},{"$f":"OFFSET(Daily!D202,$G$7,0,1,1)","v":10.529999732971191},{"$f":"OFFSET(Daily!E202,$G$7,0,1,1)","v":10.630000114440918},{"$f":"OFFSET(Daily!F202,$G$7,0,1,1)","v":4292100}]
[{"$f":"OFFSET(Daily!A203,$G$7,0,1,1)","v":"2020-01-10"},{"$f":"OFFSET(Daily!B203,$G$7,0,1,1)","v":11.010000228881836},{"$f":"OFFSET(Daily!C203,$G$7,0,1,1)","v":11.220000267028809},{"$f":"OFFSET(Daily!D203,$G$7,0,1,1)","v":10.970000267028809},{"$f":"OFFSET(Daily!E203,$G$7,0,1,1)","v":11.010000228881836},{"$f":"OFFSET(Daily!F203,$G$7,0,1,1)","v":4739500}]
[{"$f":"OFFSET(Daily!A204,$G$7,0,1,1)","v":"2020-01-09"},{"$f":"OFFSET(Daily!B204,$G$7,0,1,1)","v":10.960000038146973},{"$f":"OFFSET(Daily!C204,$G$7,0,1,1)","v":11.180000305175779},{"$f":"OFFSET(Daily!D204,$G$7,0,1,1)","v":10.840000152587891},{"$f":"OFFSET(Daily!E204,$G$7,0,1,1)","v":10.850000381469728},{"$f":"OFFSET(Daily!F204,$G$7,0,1,1)","v":4694600}]
[{"$f":"OFFSET(Daily!A205,$G$7,0,1,1)","v":"2020-01-08"},{"$f":"OFFSET(Daily!B205,$G$7,0,1,1)","v":11.770000457763672},{"$f":"OFFSET(Daily!C205,$G$7,0,1,1)","v":11.770000457763672},{"$f":"OFFSET(Daily!D205,$G$7,0,1,1)","v":11.079999923706056},{"$f":"OFFSET(Daily!E205,$G$7,0,1,1)","v":11.180000305175779},{"$f":"OFFSET(Daily!F205,$G$7,0,1,1)","v":6945300}]
[{"$f":"OFFSET(Daily!A206,$G$7,0,1,1)","v":"2020-01-07"},{"$f":"OFFSET(Daily!B206,$G$7,0,1,1)","v":11.649999618530272},{"$f":"OFFSET(Daily!C206,$G$7,0,1,1)","v":12},{"$f":"OFFSET(Daily!D206,$G$7,0,1,1)","v":11.579999923706056},{"$f":"OFFSET(Daily!E206,$G$7,0,1,1)","v":11.949999809265137},{"$f":"OFFSET(Daily!F206,$G$7,0,1,1)","v":3730000}]
[{"$f":"OFFSET(Daily!A207,$G$7,0,1,1)","v":"2020-01-06"},{"$f":"OFFSET(Daily!B207,$G$7,0,1,1)","v":12.260000228881836},{"$f":"OFFSET(Daily!C207,$G$7,0,1,1)","v":12.260000228881836},{"$f":"OFFSET(Daily!D207,$G$7,0,1,1)","v":11.539999961853027},{"$f":"OFFSET(Daily!E207,$G$7,0,1,1)","v":11.649999618530272},{"$f":"OFFSET(Daily!F207,$G$7,0,1,1)","v":6245000}]
[{"$f":"OFFSET(Daily!A208,$G$7,0,1,1)","v":"2020-01-03"},{"$f":"OFFSET(Daily!B208,$G$7,0,1,1)","v":12.449999809265137},{"$f":"OFFSET(Daily!C208,$G$7,0,1,1)","v":12.479999542236328},{"$f":"OFFSET(Daily!D208,$G$7,0,1,1)","v":11.909999847412109},{"$f":"OFFSET(Daily!E208,$G$7,0,1,1)","v":11.970000267028809},{"$f":"OFFSET(Daily!F208,$G$7,0,1,1)","v":4012400}]
[{"$f":"OFFSET(Daily!A209,$G$7,0,1,1)","v":"2020-01-02"},{"$f":"OFFSET(Daily!B209,$G$7,0,1,1)","v":12.420000076293944},{"$f":"OFFSET(Daily!C209,$G$7,0,1,1)","v":12.550000190734863},{"$f":"OFFSET(Daily!D209,$G$7,0,1,1)","v":12.140000343322754},{"$f":"OFFSET(Daily!E209,$G$7,0,1,1)","v":12.220000267028809},{"$f":"OFFSET(Daily!F209,$G$7,0,1,1)","v":3648800}]
[{"$f":"OFFSET(Daily!A210,$G$7,0,1,1)","v":"2019-12-31"},{"$f":"OFFSET(Daily!B210,$G$7,0,1,1)","v":12.539999961853027},{"$f":"OFFSET(Daily!C210,$G$7,0,1,1)","v":12.689999580383301},{"$f":"OFFSET(Daily!D210,$G$7,0,1,1)","v":12.25},{"$f":"OFFSET(Daily!E210,$G$7,0,1,1)","v":12.260000228881836},{"$f":"OFFSET(Daily!F210,$G$7,0,1,1)","v":4659300}]
[{"$f":"OFFSET(Daily!A211,$G$7,0,1,1)","v":"2019-12-30"},{"$f":"OFFSET(Daily!B211,$G$7,0,1,1)","v":11.979999542236328},{"$f":"OFFSET(Daily!C211,$G$7,0,1,1)","v":12.600000381469728},{"$f":"OFFSET(Daily!D211,$G$7,0,1,1)","v":11.979999542236328},{"$f":"OFFSET(Daily!E211,$G$7,0,1,1)","v":12.409999847412109},{"$f":"OFFSET(Daily!F211,$G$7,0,1,1)","v":5642200}]
[{"$f":"OFFSET(Daily!A212,$G$7,0,1,1)","v":"2019-12-27"},{"$f":"OFFSET(Daily!B212,$G$7,0,1,1)","v":12.039999961853027},{"$f":"OFFSET(Daily!C212,$G$7,0,1,1)","v":12.189999580383301},{"$f":"OFFSET(Daily!D212,$G$7,0,1,1)","v":11.859999656677246},{"$f":"OFFSET(Daily!E212,$G$7,0,1,1)","v":11.890000343322754},{"$f":"OFFSET(Daily!F212,$G$7,0,1,1)","v":5445200}]
[{"$f":"OFFSET(Daily!A213,$G$7,0,1,1)","v":"2019-12-26"},{"$f":"OFFSET(Daily!B213,$G$7,0,1,1)","v":12.159999847412109},{"$f":"OFFSET(Daily!C213,$G$7,0,1,1)","v":12.539999961853027},{"$f":"OFFSET(Daily!D213,$G$7,0,1,1)","v":11.899999618530272},{"$f":"OFFSET(Daily!E213,$G$7,0,1,1)","v":12.159999847412109},{"$f":"OFFSET(Daily!F213,$G$7,0,1,1)","v":5946400}]
[{"$f":"OFFSET(Daily!A214,$G$7,0,1,1)","v":"2019-12-24"},{"$f":"OFFSET(Daily!B214,$G$7,0,1,1)","v":11.319999694824221},{"$f":"OFFSET(Daily!C214,$G$7,0,1,1)","v":11.979999542236328},{"$f":"OFFSET(Daily!D214,$G$7,0,1,1)","v":11.300000190734863},{"$f":"OFFSET(Daily!E214,$G$7,0,1,1)","v":11.960000038146973},{"$f":"OFFSET(Daily!F214,$G$7,0,1,1)","v":4323200}]
[{"$f":"OFFSET(Daily!A215,$G$7,0,1,1)","v":"2019-12-23"},{"$f":"OFFSET(Daily!B215,$G$7,0,1,1)","v":10.539999961853027},{"$f":"OFFSET(Daily!C215,$G$7,0,1,1)","v":11.229999542236328},{"$f":"OFFSET(Daily!D215,$G$7,0,1,1)","v":10.489999771118164},{"$f":"OFFSET(Daily!E215,$G$7,0,1,1)","v":11.229999542236328},{"$f":"OFFSET(Daily!F215,$G$7,0,1,1)","v":6785700}]
[{"$f":"OFFSET(Daily!A216,$G$7,0,1,1)","v":"2019-12-20"},{"$f":"OFFSET(Daily!B216,$G$7,0,1,1)","v":10.850000381469728},{"$f":"OFFSET(Daily!C216,$G$7,0,1,1)","v":10.850000381469728},{"$f":"OFFSET(Daily!D216,$G$7,0,1,1)","v":10.350000381469728},{"$f":"OFFSET(Daily!E216,$G$7,0,1,1)","v":10.359999656677246},{"$f":"OFFSET(Daily!F216,$G$7,0,1,1)","v":5684900}]
[{"$f":"OFFSET(Daily!A217,$G$7,0,1,1)","v":"2019-12-19"},{"$f":"OFFSET(Daily!B217,$G$7,0,1,1)","v":10.739999771118164},{"$f":"OFFSET(Daily!C217,$G$7,0,1,1)","v":10.960000038146973},{"$f":"OFFSET(Daily!D217,$G$7,0,1,1)","v":10.680000305175779},{"$f":"OFFSET(Daily!E217,$G$7,0,1,1)","v":10.800000190734863},{"$f":"OFFSET(Daily!F217,$G$7,0,1,1)","v":3855400}]
[{"$f":"OFFSET(Daily!A218,$G$7,0,1,1)","v":"2019-12-18"},{"$f":"OFFSET(Daily!B218,$G$7,0,1,1)","v":10.949999809265137},{"$f":"OFFSET(Daily!C218,$G$7,0,1,1)","v":11.020000457763672},{"$f":"OFFSET(Daily!D218,$G$7,0,1,1)","v":10.529999732971191},{"$f":"OFFSET(Daily!E218,$G$7,0,1,1)","v":10.880000114440918},{"$f":"OFFSET(Daily!F218,$G$7,0,1,1)","v":7191700}]
[{"$f":"OFFSET(Daily!A219,$G$7,0,1,1)","v":"2019-12-17"},{"$f":"OFFSET(Daily!B219,$G$7,0,1,1)","v":11.149999618530272},{"$f":"OFFSET(Daily!C219,$G$7,0,1,1)","v":11.380000114440918},{"$f":"OFFSET(Daily!D219,$G$7,0,1,1)","v":11.119999885559082},{"$f":"OFFSET(Daily!E219,$G$7,0,1,1)","v":11.140000343322754},{"$f":"OFFSET(Daily!F219,$G$7,0,1,1)","v":2819200}]
[{"$f":"OFFSET(Daily!A220,$G$7,0,1,1)","v":"2019-12-16"},{"$f":"OFFSET(Daily!B220,$G$7,0,1,1)","v":11.289999961853027},{"$f":"OFFSET(Daily!C220,$G$7,0,1,1)","v":11.489999771118164},{"$f":"OFFSET(Daily!D220,$G$7,0,1,1)","v":11.100000381469728},{"$f":"OFFSET(Daily!E220,$G$7,0,1,1)","v":11.140000343322754},{"$f":"OFFSET(Daily!F220,$G$7,0,1,1)","v":4937600}]
[{"$f":"OFFSET(Daily!A221,$G$7,0,1,1)","v":"2019-12-13"},{"$f":"OFFSET(Daily!B221,$G$7,0,1,1)","v":10.649999618530272},{"$f":"OFFSET(Daily!C221,$G$7,0,1,1)","v":11.229999542236328},{"$f":"OFFSET(Daily!D221,$G$7,0,1,1)","v":10.649999618530272},{"$f":"OFFSET(Daily!E221,$G$7,0,1,1)","v":11.229999542236328},{"$f":"OFFSET(Daily!F221,$G$7,0,1,1)","v":6247000}]
[{"$f":"OFFSET(Daily!A222,$G$7,0,1,1)","v":"2019-12-12"},{"$f":"OFFSET(Daily!B222,$G$7,0,1,1)","v":10.939999580383301},{"$f":"OFFSET(Daily!C222,$G$7,0,1,1)","v":11.060000419616699},{"$f":"OFFSET(Daily!D222,$G$7,0,1,1)","v":10.550000190734863},{"$f":"OFFSET(Daily!E222,$G$7,0,1,1)","v":10.689999580383301},{"$f":"OFFSET(Daily!F222,$G$7,0,1,1)","v":5806400}]
[{"$f":"OFFSET(Daily!A223,$G$7,0,1,1)","v":"2019-12-11"},{"$f":"OFFSET(Daily!B223,$G$7,0,1,1)","v":10.579999923706056},{"$f":"OFFSET(Daily!C223,$G$7,0,1,1)","v":10.819999694824221},{"$f":"OFFSET(Daily!D223,$G$7,0,1,1)","v":10.460000038146973},{"$f":"OFFSET(Daily!E223,$G$7,0,1,1)","v":10.710000038146973},{"$f":"OFFSET(Daily!F223,$G$7,0,1,1)","v":5357300}]
[{"$f":"OFFSET(Daily!A224,$G$7,0,1,1)","v":"2019-12-10"},{"$f":"OFFSET(Daily!B224,$G$7,0,1,1)","v":10.560000419616699},{"$f":"OFFSET(Daily!C224,$G$7,0,1,1)","v":10.600000381469728},{"$f":"OFFSET(Daily!D224,$G$7,0,1,1)","v":10.449999809265137},{"$f":"OFFSET(Daily!E224,$G$7,0,1,1)","v":10.590000152587891},{"$f":"OFFSET(Daily!F224,$G$7,0,1,1)","v":2304900}]
[{"$f":"OFFSET(Daily!A225,$G$7,0,1,1)","v":"2019-12-09"},{"$f":"OFFSET(Daily!B225,$G$7,0,1,1)","v":10.640000343322754},{"$f":"OFFSET(Daily!C225,$G$7,0,1,1)","v":10.659999847412109},{"$f":"OFFSET(Daily!D225,$G$7,0,1,1)","v":10.369999885559082},{"$f":"OFFSET(Daily!E225,$G$7,0,1,1)","v":10.409999847412109},{"$f":"OFFSET(Daily!F225,$G$7,0,1,1)","v":3094500}]
[{"$f":"OFFSET(Daily!A226,$G$7,0,1,1)","v":"2019-12-06"},{"$f":"OFFSET(Daily!B226,$G$7,0,1,1)","v":10.890000343322754},{"$f":"OFFSET(Daily!C226,$G$7,0,1,1)","v":10.899999618530272},{"$f":"OFFSET(Daily!D226,$G$7,0,1,1)","v":10.470000267028809},{"$f":"OFFSET(Daily!E226,$G$7,0,1,1)","v":10.470000267028809},{"$f":"OFFSET(Daily!F226,$G$7,0,1,1)","v":6573800}]
[{"$f":"OFFSET(Daily!A227,$G$7,0,1,1)","v":"2019-12-05"},{"$f":"OFFSET(Daily!B227,$G$7,0,1,1)","v":11.050000190734863},{"$f":"OFFSET(Daily!C227,$G$7,0,1,1)","v":11.460000038146973},{"$f":"OFFSET(Daily!D227,$G$7,0,1,1)","v":10.979999542236328},{"$f":"OFFSET(Daily!E227,$G$7,0,1,1)","v":11.229999542236328},{"$f":"OFFSET(Daily!F227,$G$7,0,1,1)","v":3475400}]
[{"$f":"OFFSET(Daily!A228,$G$7,0,1,1)","v":"2019-12-04"},{"$f":"OFFSET(Daily!B228,$G$7,0,1,1)","v":11.189999580383301},{"$f":"OFFSET(Daily!C228,$G$7,0,1,1)","v":11.239999771118164},{"$f":"OFFSET(Daily!D228,$G$7,0,1,1)","v":10.899999618530272},{"$f":"OFFSET(Daily!E228,$G$7,0,1,1)","v":11.029999732971191},{"$f":"OFFSET(Daily!F228,$G$7,0,1,1)","v":3815500}]
[{"$f":"OFFSET(Daily!A229,$G$7,0,1,1)","v":"2019-12-03"},{"$f":"OFFSET(Daily!B229,$G$7,0,1,1)","v":11.159999847412109},{"$f":"OFFSET(Daily!C229,$G$7,0,1,1)","v":11.380000114440918},{"$f":"OFFSET(Daily!D229,$G$7,0,1,1)","v":11.079999923706056},{"$f":"OFFSET(Daily!E229,$G$7,0,1,1)","v":11.260000228881836},{"$f":"OFFSET(Daily!F229,$G$7,0,1,1)","v":5368200}]
[{"$f":"OFFSET(Daily!A230,$G$7,0,1,1)","v":"2019-12-02"},{"$f":"OFFSET(Daily!B230,$G$7,0,1,1)","v":10.609999656677246},{"$f":"OFFSET(Daily!C230,$G$7,0,1,1)","v":10.930000305175779},{"$f":"OFFSET(Daily!D230,$G$7,0,1,1)","v":10.560000419616699},{"$f":"OFFSET(Daily!E230,$G$7,0,1,1)","v":10.909999847412109},{"$f":"OFFSET(Daily!F230,$G$7,0,1,1)","v":3100500}]
[{"$f":"OFFSET(Daily!A231,$G$7,0,1,1)","v":"2019-11-29"},{"$f":"OFFSET(Daily!B231,$G$7,0,1,1)","v":10.560000419616699},{"$f":"OFFSET(Daily!C231,$G$7,0,1,1)","v":10.800000190734863},{"$f":"OFFSET(Daily!D231,$G$7,0,1,1)","v":10.5},{"$f":"OFFSET(Daily!E231,$G$7,0,1,1)","v":10.760000228881836},{"$f":"OFFSET(Daily!F231,$G$7,0,1,1)","v":2135600}]
[{"$f":"OFFSET(Daily!A232,$G$7,0,1,1)","v":"2019-11-27"},{"$f":"OFFSET(Daily!B232,$G$7,0,1,1)","v":10.75},{"$f":"OFFSET(Daily!C232,$G$7,0,1,1)","v":10.75},{"$f":"OFFSET(Daily!D232,$G$7,0,1,1)","v":10.369999885559082},{"$f":"OFFSET(Daily!E232,$G$7,0,1,1)","v":10.560000419616699},{"$f":"OFFSET(Daily!F232,$G$7,0,1,1)","v":2964600}]
[{"$f":"OFFSET(Daily!A233,$G$7,0,1,1)","v":"2019-11-26"},{"$f":"OFFSET(Daily!B233,$G$7,0,1,1)","v":10.479999542236328},{"$f":"OFFSET(Daily!C233,$G$7,0,1,1)","v":10.869999885559082},{"$f":"OFFSET(Daily!D233,$G$7,0,1,1)","v":10.430000305175779},{"$f":"OFFSET(Daily!E233,$G$7,0,1,1)","v":10.819999694824221},{"$f":"OFFSET(Daily!F233,$G$7,0,1,1)","v":3047200}]
[{"$f":"OFFSET(Daily!A234,$G$7,0,1,1)","v":"2019-11-25"},{"$f":"OFFSET(Daily!B234,$G$7,0,1,1)","v":10.369999885559082},{"$f":"OFFSET(Daily!C234,$G$7,0,1,1)","v":10.670000076293944},{"$f":"OFFSET(Daily!D234,$G$7,0,1,1)","v":10.340000152587891},{"$f":"OFFSET(Daily!E234,$G$7,0,1,1)","v":10.409999847412109},{"$f":"OFFSET(Daily!F234,$G$7,0,1,1)","v":1835000}]
[{"$f":"OFFSET(Daily!A235,$G$7,0,1,1)","v":"2019-11-22"},{"$f":"OFFSET(Daily!B235,$G$7,0,1,1)","v":10.550000190734863},{"$f":"OFFSET(Daily!C235,$G$7,0,1,1)","v":10.640000343322754},{"$f":"OFFSET(Daily!D235,$G$7,0,1,1)","v":10.329999923706056},{"$f":"OFFSET(Daily!E235,$G$7,0,1,1)","v":10.510000228881836},{"$f":"OFFSET(Daily!F235,$G$7,0,1,1)","v":2368600}]
[{"$f":"OFFSET(Daily!A236,$G$7,0,1,1)","v":"2019-11-21"},{"$f":"OFFSET(Daily!B236,$G$7,0,1,1)","v":10.890000343322754},{"$f":"OFFSET(Daily!C236,$G$7,0,1,1)","v":10.960000038146973},{"$f":"OFFSET(Daily!D236,$G$7,0,1,1)","v":10.5},{"$f":"OFFSET(Daily!E236,$G$7,0,1,1)","v":10.510000228881836},{"$f":"OFFSET(Daily!F236,$G$7,0,1,1)","v":3144300}]
[{"$f":"OFFSET(Daily!A237,$G$7,0,1,1)","v":"2019-11-20"},{"$f":"OFFSET(Daily!B237,$G$7,0,1,1)","v":10.850000381469728},{"$f":"OFFSET(Daily!C237,$G$7,0,1,1)","v":10.989999771118164},{"$f":"OFFSET(Daily!D237,$G$7,0,1,1)","v":10.729999542236328},{"$f":"OFFSET(Daily!E237,$G$7,0,1,1)","v":10.960000038146973},{"$f":"OFFSET(Daily!F237,$G$7,0,1,1)","v":2651200}]
[{"$f":"OFFSET(Daily!A238,$G$7,0,1,1)","v":"2019-11-19"},{"$f":"OFFSET(Daily!B238,$G$7,0,1,1)","v":10.770000457763672},{"$f":"OFFSET(Daily!C238,$G$7,0,1,1)","v":11.060000419616699},{"$f":"OFFSET(Daily!D238,$G$7,0,1,1)","v":10.739999771118164},{"$f":"OFFSET(Daily!E238,$G$7,0,1,1)","v":10.829999923706056},{"$f":"OFFSET(Daily!F238,$G$7,0,1,1)","v":3735900}]
[{"$f":"OFFSET(Daily!A239,$G$7,0,1,1)","v":"2019-11-18"},{"$f":"OFFSET(Daily!B239,$G$7,0,1,1)","v":10.529999732971191},{"$f":"OFFSET(Daily!C239,$G$7,0,1,1)","v":10.869999885559082},{"$f":"OFFSET(Daily!D239,$G$7,0,1,1)","v":10.529999732971191},{"$f":"OFFSET(Daily!E239,$G$7,0,1,1)","v":10.840000152587891},{"$f":"OFFSET(Daily!F239,$G$7,0,1,1)","v":2820700}]
[{"$f":"OFFSET(Daily!A240,$G$7,0,1,1)","v":"2019-11-15"},{"$f":"OFFSET(Daily!B240,$G$7,0,1,1)","v":10.590000152587891},{"$f":"OFFSET(Daily!C240,$G$7,0,1,1)","v":10.720000267028809},{"$f":"OFFSET(Daily!D240,$G$7,0,1,1)","v":10.550000190734863},{"$f":"OFFSET(Daily!E240,$G$7,0,1,1)","v":10.600000381469728},{"$f":"OFFSET(Daily!F240,$G$7,0,1,1)","v":2262200}]
[{"$f":"OFFSET(Daily!A241,$G$7,0,1,1)","v":"2019-11-14"},{"$f":"OFFSET(Daily!B241,$G$7,0,1,1)","v":10.600000381469728},{"$f":"OFFSET(Daily!C241,$G$7,0,1,1)","v":10.770000457763672},{"$f":"OFFSET(Daily!D241,$G$7,0,1,1)","v":10.5},{"$f":"OFFSET(Daily!E241,$G$7,0,1,1)","v":10.760000228881836},{"$f":"OFFSET(Daily!F241,$G$7,0,1,1)","v":2943200}]
[{"$f":"OFFSET(Daily!A242,$G$7,0,1,1)","v":"2019-11-13"},{"$f":"OFFSET(Daily!B242,$G$7,0,1,1)","v":10.75},{"$f":"OFFSET(Daily!C242,$G$7,0,1,1)","v":10.779999732971191},{"$f":"OFFSET(Daily!D242,$G$7,0,1,1)","v":10.470000267028809},{"$f":"OFFSET(Daily!E242,$G$7,0,1,1)","v":10.5},{"$f":"OFFSET(Daily!F242,$G$7,0,1,1)","v":3542900}]
[{"$f":"OFFSET(Daily!A243,$G$7,0,1,1)","v":"2019-11-12"},{"$f":"OFFSET(Daily!B243,$G$7,0,1,1)","v":10.149999618530272},{"$f":"OFFSET(Daily!C243,$G$7,0,1,1)","v":10.609999656677246},{"$f":"OFFSET(Daily!D243,$G$7,0,1,1)","v":10.069999694824221},{"$f":"OFFSET(Daily!E243,$G$7,0,1,1)","v":10.590000152587891},{"$f":"OFFSET(Daily!F243,$G$7,0,1,1)","v":4798200}]
[{"$f":"OFFSET(Daily!A244,$G$7,0,1,1)","v":"2019-11-11"},{"$f":"OFFSET(Daily!B244,$G$7,0,1,1)","v":9.8400001525878906},{"$f":"OFFSET(Daily!C244,$G$7,0,1,1)","v":10.25},{"$f":"OFFSET(Daily!D244,$G$7,0,1,1)","v":9.7700004577636719},{"$f":"OFFSET(Daily!E244,$G$7,0,1,1)","v":10.229999542236328},{"$f":"OFFSET(Daily!F244,$G$7,0,1,1)","v":5030500}]
[{"$f":"OFFSET(Daily!A245,$G$7,0,1,1)","v":"2019-11-08"},{"$f":"OFFSET(Daily!B245,$G$7,0,1,1)","v":9.4700002670288086},{"$f":"OFFSET(Daily!C245,$G$7,0,1,1)","v":9.9700002670288086},{"$f":"OFFSET(Daily!D245,$G$7,0,1,1)","v":9.4099998474121094},{"$f":"OFFSET(Daily!E245,$G$7,0,1,1)","v":9.8000001907348633},{"$f":"OFFSET(Daily!F245,$G$7,0,1,1)","v":3845000}]
[{"$f":"OFFSET(Daily!A246,$G$7,0,1,1)","v":"2019-11-07"},{"$f":"OFFSET(Daily!B246,$G$7,0,1,1)","v":10.039999961853027},{"$f":"OFFSET(Daily!C246,$G$7,0,1,1)","v":10.430000305175779},{"$f":"OFFSET(Daily!D246,$G$7,0,1,1)","v":9.5699996948242205},{"$f":"OFFSET(Daily!E246,$G$7,0,1,1)","v":9.6899995803833008},{"$f":"OFFSET(Daily!F246,$G$7,0,1,1)","v":7852100}]
[{"$f":"OFFSET(Daily!A247,$G$7,0,1,1)","v":"2019-11-06"},{"$f":"OFFSET(Daily!B247,$G$7,0,1,1)","v":10.199999809265137},{"$f":"OFFSET(Daily!C247,$G$7,0,1,1)","v":10.25},{"$f":"OFFSET(Daily!D247,$G$7,0,1,1)","v":9.8900003433227539},{"$f":"OFFSET(Daily!E247,$G$7,0,1,1)","v":10.180000305175779},{"$f":"OFFSET(Daily!F247,$G$7,0,1,1)","v":5372400}]
[{"$f":"OFFSET(Daily!A248,$G$7,0,1,1)","v":"2019-11-05"},{"$f":"OFFSET(Daily!B248,$G$7,0,1,1)","v":10.310000419616699},{"$f":"OFFSET(Daily!C248,$G$7,0,1,1)","v":10.350000381469728},{"$f":"OFFSET(Daily!D248,$G$7,0,1,1)","v":9.9600000381469727},{"$f":"OFFSET(Daily!E248,$G$7,0,1,1)","v":10.140000343322754},{"$f":"OFFSET(Daily!F248,$G$7,0,1,1)","v":8752600}]
[{"$f":"OFFSET(Daily!A249,$G$7,0,1,1)","v":"2019-11-04"},{"$f":"OFFSET(Daily!B249,$G$7,0,1,1)","v":10.970000267028809},{"$f":"OFFSET(Daily!C249,$G$7,0,1,1)","v":10.970000267028809},{"$f":"OFFSET(Daily!D249,$G$7,0,1,1)","v":10.630000114440918},{"$f":"OFFSET(Daily!E249,$G$7,0,1,1)","v":10.649999618530272},{"$f":"OFFSET(Daily!F249,$G$7,0,1,1)","v":4527500}]
[{"$f":"OFFSET(Daily!A250,$G$7,0,1,1)","v":"2019-11-01"},{"$f":"OFFSET(Daily!B250,$G$7,0,1,1)","v":10.510000228881836},{"$f":"OFFSET(Daily!C250,$G$7,0,1,1)","v":11},{"$f":"OFFSET(Daily!D250,$G$7,0,1,1)","v":10.460000038146973},{"$f":"OFFSET(Daily!E250,$G$7,0,1,1)","v":10.989999771118164},{"$f":"OFFSET(Daily!F250,$G$7,0,1,1)","v":4199800}]
[{"$f":"OFFSET(Daily!A251,$G$7,0,1,1)","v":"2019-10-31"},{"$f":"OFFSET(Daily!B251,$G$7,0,1,1)","v":10.590000152587891},{"$f":"OFFSET(Daily!C251,$G$7,0,1,1)","v":10.710000038146973},{"$f":"OFFSET(Daily!D251,$G$7,0,1,1)","v":10.350000381469728},{"$f":"OFFSET(Daily!E251,$G$7,0,1,1)","v":10.670000076293944},{"$f":"OFFSET(Daily!F251,$G$7,0,1,1)","v":4332200}]
[{"$f":"OFFSET(Daily!A252,$G$7,0,1,1)","v":"2019-10-30"},{"$f":"OFFSET(Daily!B252,$G$7,0,1,1)","v":10.380000114440918},{"$f":"OFFSET(Daily!C252,$G$7,0,1,1)","v":10.420000076293944},{"$f":"OFFSET(Daily!D252,$G$7,0,1,1)","v":9.9399995803833008},{"$f":"OFFSET(Daily!E252,$G$7,0,1,1)","v":10.369999885559082},{"$f":"OFFSET(Daily!F252,$G$7,0,1,1)","v":4097900}]
[{"$f":"OFFSET(Daily!A253,$G$7,0,1,1)","v":"2019-10-29"},{"$f":"OFFSET(Daily!B253,$G$7,0,1,1)","v":10.170000076293944},{"$f":"OFFSET(Daily!C253,$G$7,0,1,1)","v":10.439999580383301},{"$f":"OFFSET(Daily!D253,$G$7,0,1,1)","v":10.119999885559082},{"$f":"OFFSET(Daily!E253,$G$7,0,1,1)","v":10.310000419616699},{"$f":"OFFSET(Daily!F253,$G$7,0,1,1)","v":2918100}]
[{"$f":"OFFSET(Daily!A254,$G$7,0,1,1)","v":"2019-10-28"},{"$f":"OFFSET(Daily!B254,$G$7,0,1,1)","v":10.550000190734863},{"$f":"OFFSET(Daily!C254,$G$7,0,1,1)","v":10.600000381469728},{"$f":"OFFSET(Daily!D254,$G$7,0,1,1)","v":10.270000457763672},{"$f":"OFFSET(Daily!E254,$G$7,0,1,1)","v":10.310000419616699},{"$f":"OFFSET(Daily!F254,$G$7,0,1,1)","v":3637000}]
[{"$f":"OFFSET(Daily!A255,$G$7,0,1,1)","v":"2019-10-25"},{"$f":"OFFSET(Daily!B255,$G$7,0,1,1)","v":10.840000152587891},{"$f":"OFFSET(Daily!C255,$G$7,0,1,1)","v":10.979999542236328},{"$f":"OFFSET(Daily!D255,$G$7,0,1,1)","v":10.430000305175779},{"$f":"OFFSET(Daily!E255,$G$7,0,1,1)","v":10.75},{"$f":"OFFSET(Daily!F255,$G$7,0,1,1)","v":5665300}]
[{"$f":"OFFSET(Daily!A256,$G$7,0,1,1)","v":"2019-10-24"},{"$f":"OFFSET(Daily!B256,$G$7,0,1,1)","v":10.079999923706056},{"$f":"OFFSET(Daily!C256,$G$7,0,1,1)","v":10.449999809265137},{"$f":"OFFSET(Daily!D256,$G$7,0,1,1)","v":10.079999923706056},{"$f":"OFFSET(Daily!E256,$G$7,0,1,1)","v":10.449999809265137},{"$f":"OFFSET(Daily!F256,$G$7,0,1,1)","v":2722100}]
[{"$f":"OFFSET(Daily!A257,$G$7,0,1,1)","v":"2019-10-23"},{"$f":"OFFSET(Daily!B257,$G$7,0,1,1)","v":9.9600000381469727},{"$f":"OFFSET(Daily!C257,$G$7,0,1,1)","v":10.270000457763672},{"$f":"OFFSET(Daily!D257,$G$7,0,1,1)","v":9.9499998092651367},{"$f":"OFFSET(Daily!E257,$G$7,0,1,1)","v":10.039999961853027},{"$f":"OFFSET(Daily!F257,$G$7,0,1,1)","v":3116300}]
[{"$f":"OFFSET(Daily!A258,$G$7,0,1,1)","v":"2019-10-22"},{"$f":"OFFSET(Daily!B258,$G$7,0,1,1)","v":9.9799995422363281},{"$f":"OFFSET(Daily!C258,$G$7,0,1,1)","v":10.100000381469728},{"$f":"OFFSET(Daily!D258,$G$7,0,1,1)","v":9.7600002288818359},{"$f":"OFFSET(Daily!E258,$G$7,0,1,1)","v":9.8900003433227539},{"$f":"OFFSET(Daily!F258,$G$7,0,1,1)","v":2894200}]
[{"$f":"OFFSET(Daily!A259,$G$7,0,1,1)","v":"2019-10-21"},{"$f":"OFFSET(Daily!B259,$G$7,0,1,1)","v":10.369999885559082},{"$f":"OFFSET(Daily!C259,$G$7,0,1,1)","v":10.449999809265137},{"$f":"OFFSET(Daily!D259,$G$7,0,1,1)","v":9.9300003051757795},{"$f":"OFFSET(Daily!E259,$G$7,0,1,1)","v":9.9600000381469727},{"$f":"OFFSET(Daily!F259,$G$7,0,1,1)","v":3051800}]
[{"$f":"OFFSET(Daily!A260,$G$7,0,1,1)","v":"2019-10-18"},{"$f":"OFFSET(Daily!B260,$G$7,0,1,1)","v":10.310000419616699},{"$f":"OFFSET(Daily!C260,$G$7,0,1,1)","v":10.5},{"$f":"OFFSET(Daily!D260,$G$7,0,1,1)","v":10.029999732971191},{"$f":"OFFSET(Daily!E260,$G$7,0,1,1)","v":10.239999771118164},{"$f":"OFFSET(Daily!F260,$G$7,0,1,1)","v":3535600}]
[{"$f":"OFFSET(Daily!A261,$G$7,0,1,1)","v":"2019-10-17"},{"$f":"OFFSET(Daily!B261,$G$7,0,1,1)","v":9.9099998474121094},{"$f":"OFFSET(Daily!C261,$G$7,0,1,1)","v":10.399999618530272},{"$f":"OFFSET(Daily!D261,$G$7,0,1,1)","v":9.880000114440918},{"$f":"OFFSET(Daily!E261,$G$7,0,1,1)","v":10.369999885559082},{"$f":"OFFSET(Daily!F261,$G$7,0,1,1)","v":5069200}]
[{"$f":"OFFSET(Daily!A262,$G$7,0,1,1)","v":"2019-10-16"},{"$f":"OFFSET(Daily!B262,$G$7,0,1,1)","v":9.3199996948242205},{"$f":"OFFSET(Daily!C262,$G$7,0,1,1)","v":9.9600000381469727},{"$f":"OFFSET(Daily!D262,$G$7,0,1,1)","v":9.2700004577636719},{"$f":"OFFSET(Daily!E262,$G$7,0,1,1)","v":9.9499998092651367},{"$f":"OFFSET(Daily!F262,$G$7,0,1,1)","v":4972000}]
[{"$f":"OFFSET(Daily!A263,$G$7,0,1,1)","v":"2019-10-15"},{"$f":"OFFSET(Daily!B263,$G$7,0,1,1)","v":9.3299999237060565},{"$f":"OFFSET(Daily!C263,$G$7,0,1,1)","v":9.3900003433227539},{"$f":"OFFSET(Daily!D263,$G$7,0,1,1)","v":9.1599998474121094},{"$f":"OFFSET(Daily!E263,$G$7,0,1,1)","v":9.1899995803833008},{"$f":"OFFSET(Daily!F263,$G$7,0,1,1)","v":4023600}]
[{"$f":"OFFSET(Daily!A264,$G$7,0,1,1)","v":"2019-10-14"},{"$f":"OFFSET(Daily!B264,$G$7,0,1,1)","v":9.3100004196166992},{"$f":"OFFSET(Daily!C264,$G$7,0,1,1)","v":9.5200004577636719},{"$f":"OFFSET(Daily!D264,$G$7,0,1,1)","v":9.2399997711181641},{"$f":"OFFSET(Daily!E264,$G$7,0,1,1)","v":9.4399995803833008},{"$f":"OFFSET(Daily!F264,$G$7,0,1,1)","v":1743300}]
[{"$f":"OFFSET(Daily!A265,$G$7,0,1,1)","v":"2019-10-11"},{"$f":"OFFSET(Daily!B265,$G$7,0,1,1)","v":9.619999885559082},{"$f":"OFFSET(Daily!C265,$G$7,0,1,1)","v":9.6400003433227539},{"$f":"OFFSET(Daily!D265,$G$7,0,1,1)","v":9.1800003051757795},{"$f":"OFFSET(Daily!E265,$G$7,0,1,1)","v":9.2200002670288086},{"$f":"OFFSET(Daily!F265,$G$7,0,1,1)","v":4321900}]
[{"$f":"OFFSET(Daily!A266,$G$7,0,1,1)","v":"2019-10-10"},{"$f":"OFFSET(Daily!B266,$G$7,0,1,1)","v":9.630000114440918},{"$f":"OFFSET(Daily!C266,$G$7,0,1,1)","v":9.7799997329711914},{"$f":"OFFSET(Daily!D266,$G$7,0,1,1)","v":9.4200000762939435},{"$f":"OFFSET(Daily!E266,$G$7,0,1,1)","v":9.75},{"$f":"OFFSET(Daily!F266,$G$7,0,1,1)","v":3333300}]
[{"$f":"OFFSET(Daily!A267,$G$7,0,1,1)","v":"2019-10-09"},{"$f":"OFFSET(Daily!B267,$G$7,0,1,1)","v":9.8500003814697283},{"$f":"OFFSET(Daily!C267,$G$7,0,1,1)","v":9.9600000381469727},{"$f":"OFFSET(Daily!D267,$G$7,0,1,1)","v":9.6400003433227539},{"$f":"OFFSET(Daily!E267,$G$7,0,1,1)","v":9.6700000762939435},{"$f":"OFFSET(Daily!F267,$G$7,0,1,1)","v":3044900}]
[{"$f":"OFFSET(Daily!A268,$G$7,0,1,1)","v":"2019-10-08"},{"$f":"OFFSET(Daily!B268,$G$7,0,1,1)","v":9.7200002670288086},{"$f":"OFFSET(Daily!C268,$G$7,0,1,1)","v":9.880000114440918},{"$f":"OFFSET(Daily!D268,$G$7,0,1,1)","v":9.5699996948242205},{"$f":"OFFSET(Daily!E268,$G$7,0,1,1)","v":9.8599996566772461},{"$f":"OFFSET(Daily!F268,$G$7,0,1,1)","v":3139900}]
[{"$f":"OFFSET(Daily!A269,$G$7,0,1,1)","v":"2019-10-07"},{"$f":"OFFSET(Daily!B269,$G$7,0,1,1)","v":9.6000003814697283},{"$f":"OFFSET(Daily!C269,$G$7,0,1,1)","v":9.7100000381469727},{"$f":"OFFSET(Daily!D269,$G$7,0,1,1)","v":9.4300003051757795},{"$f":"OFFSET(Daily!E269,$G$7,0,1,1)","v":9.5200004577636719},{"$f":"OFFSET(Daily!F269,$G$7,0,1,1)","v":2191600}]
[{"$f":"OFFSET(Daily!A270,$G$7,0,1,1)","v":"2019-10-04"},{"$f":"OFFSET(Daily!B270,$G$7,0,1,1)","v":9.4200000762939435},{"$f":"OFFSET(Daily!C270,$G$7,0,1,1)","v":9.6999998092651367},{"$f":"OFFSET(Daily!D270,$G$7,0,1,1)","v":9.3100004196166992},{"$f":"OFFSET(Daily!E270,$G$7,0,1,1)","v":9.6599998474121094},{"$f":"OFFSET(Daily!F270,$G$7,0,1,1)","v":2431200}]
[{"$f":"OFFSET(Daily!A271,$G$7,0,1,1)","v":"2019-10-03"},{"$f":"OFFSET(Daily!B271,$G$7,0,1,1)","v":9.5},{"$f":"OFFSET(Daily!C271,$G$7,0,1,1)","v":9.8400001525878906},{"$f":"OFFSET(Daily!D271,$G$7,0,1,1)","v":9.4399995803833008},{"$f":"OFFSET(Daily!E271,$G$7,0,1,1)","v":9.4700002670288086},{"$f":"OFFSET(Daily!F271,$G$7,0,1,1)","v":3745500}]
[{"$f":"OFFSET(Daily!A272,$G$7,0,1,1)","v":"2019-10-02"},{"$f":"OFFSET(Daily!B272,$G$7,0,1,1)","v":9.5},{"$f":"OFFSET(Daily!C272,$G$7,0,1,1)","v":9.5299997329711914},{"$f":"OFFSET(Daily!D272,$G$7,0,1,1)","v":9.1999998092651367},{"$f":"OFFSET(Daily!E272,$G$7,0,1,1)","v":9.4799995422363281},{"$f":"OFFSET(Daily!F272,$G$7,0,1,1)","v":3467300}]
[{"$f":"OFFSET(Daily!A273,$G$7,0,1,1)","v":"2019-10-01"},{"$f":"OFFSET(Daily!B273,$G$7,0,1,1)","v":9.119999885559082},{"$f":"OFFSET(Daily!C273,$G$7,0,1,1)","v":9.4899997711181641},{"$f":"OFFSET(Daily!D273,$G$7,0,1,1)","v":8.9799995422363281},{"$f":"OFFSET(Daily!E273,$G$7,0,1,1)","v":9.2100000381469727},{"$f":"OFFSET(Daily!F273,$G$7,0,1,1)","v":5526100}]
[{"$f":"OFFSET(Daily!A274,$G$7,0,1,1)","v":"2019-09-30"},{"$f":"OFFSET(Daily!B274,$G$7,0,1,1)","v":9.3199996948242205},{"$f":"OFFSET(Daily!C274,$G$7,0,1,1)","v":9.4799995422363281},{"$f":"OFFSET(Daily!D274,$G$7,0,1,1)","v":8.9099998474121094},{"$f":"OFFSET(Daily!E274,$G$7,0,1,1)","v":9.0900001525878906},{"$f":"OFFSET(Daily!F274,$G$7,0,1,1)","v":7209200}]
[{"$f":"OFFSET(Daily!A275,$G$7,0,1,1)","v":"2019-09-27"},{"$f":"OFFSET(Daily!B275,$G$7,0,1,1)","v":9.5600004196166992},{"$f":"OFFSET(Daily!C275,$G$7,0,1,1)","v":9.7899999618530273},{"$f":"OFFSET(Daily!D275,$G$7,0,1,1)","v":9.4399995803833008},{"$f":"OFFSET(Daily!E275,$G$7,0,1,1)","v":9.630000114440918},{"$f":"OFFSET(Daily!F275,$G$7,0,1,1)","v":5362900}]
[{"$f":"OFFSET(Daily!A276,$G$7,0,1,1)","v":"2019-09-26"},{"$f":"OFFSET(Daily!B276,$G$7,0,1,1)","v":9.9399995803833008},{"$f":"OFFSET(Daily!C276,$G$7,0,1,1)","v":10.090000152587891},{"$f":"OFFSET(Daily!D276,$G$7,0,1,1)","v":9.880000114440918},{"$f":"OFFSET(Daily!E276,$G$7,0,1,1)","v":9.8999996185302717},{"$f":"OFFSET(Daily!F276,$G$7,0,1,1)","v":4266600}]
[{"$f":"OFFSET(Daily!A277,$G$7,0,1,1)","v":"2019-09-25"},{"$f":"OFFSET(Daily!B277,$G$7,0,1,1)","v":10.380000114440918},{"$f":"OFFSET(Daily!C277,$G$7,0,1,1)","v":10.470000267028809},{"$f":"OFFSET(Daily!D277,$G$7,0,1,1)","v":9.7799997329711914},{"$f":"OFFSET(Daily!E277,$G$7,0,1,1)","v":10},{"$f":"OFFSET(Daily!F277,$G$7,0,1,1)","v":6011700}]
[{"$f":"OFFSET(Daily!A278,$G$7,0,1,1)","v":"2019-09-24"},{"$f":"OFFSET(Daily!B278,$G$7,0,1,1)","v":10.319999694824221},{"$f":"OFFSET(Daily!C278,$G$7,0,1,1)","v":10.640000343322754},{"$f":"OFFSET(Daily!D278,$G$7,0,1,1)","v":10.100000381469728},{"$f":"OFFSET(Daily!E278,$G$7,0,1,1)","v":10.529999732971191},{"$f":"OFFSET(Daily!F278,$G$7,0,1,1)","v":5350300}]
[{"$f":"OFFSET(Daily!A279,$G$7,0,1,1)","v":"2019-09-23"},{"$f":"OFFSET(Daily!B279,$G$7,0,1,1)","v":10.390000343322754},{"$f":"OFFSET(Daily!C279,$G$7,0,1,1)","v":10.659999847412109},{"$f":"OFFSET(Daily!D279,$G$7,0,1,1)","v":10.279999732971191},{"$f":"OFFSET(Daily!E279,$G$7,0,1,1)","v":10.5},{"$f":"OFFSET(Daily!F279,$G$7,0,1,1)","v":7987800}]
[{"$f":"OFFSET(Daily!A280,$G$7,0,1,1)","v":"2019-09-20"},{"$f":"OFFSET(Daily!B280,$G$7,0,1,1)","v":9.9499998092651367},{"$f":"OFFSET(Daily!C280,$G$7,0,1,1)","v":10.140000343322754},{"$f":"OFFSET(Daily!D280,$G$7,0,1,1)","v":9.7700004577636719},{"$f":"OFFSET(Daily!E280,$G$7,0,1,1)","v":10.090000152587891},{"$f":"OFFSET(Daily!F280,$G$7,0,1,1)","v":4904900}]
[{"$f":"OFFSET(Daily!A281,$G$7,0,1,1)","v":"2019-09-19"},{"$f":"OFFSET(Daily!B281,$G$7,0,1,1)","v":9.6499996185302717},{"$f":"OFFSET(Daily!C281,$G$7,0,1,1)","v":10.050000190734863},{"$f":"OFFSET(Daily!D281,$G$7,0,1,1)","v":9.630000114440918},{"$f":"OFFSET(Daily!E281,$G$7,0,1,1)","v":9.9700002670288086},{"$f":"OFFSET(Daily!F281,$G$7,0,1,1)","v":3104400}]
[{"$f":"OFFSET(Daily!A282,$G$7,0,1,1)","v":"2019-09-18"},{"$f":"OFFSET(Daily!B282,$G$7,0,1,1)","v":9.7799997329711914},{"$f":"OFFSET(Daily!C282,$G$7,0,1,1)","v":9.8999996185302717},{"$f":"OFFSET(Daily!D282,$G$7,0,1,1)","v":9.3100004196166992},{"$f":"OFFSET(Daily!E282,$G$7,0,1,1)","v":9.630000114440918},{"$f":"OFFSET(Daily!F282,$G$7,0,1,1)","v":4838400}]
[{"$f":"OFFSET(Daily!A283,$G$7,0,1,1)","v":"2019-09-17"},{"$f":"OFFSET(Daily!B283,$G$7,0,1,1)","v":9.7799997329711914},{"$f":"OFFSET(Daily!C283,$G$7,0,1,1)","v":9.8599996566772461},{"$f":"OFFSET(Daily!D283,$G$7,0,1,1)","v":9.5699996948242205},{"$f":"OFFSET(Daily!E283,$G$7,0,1,1)","v":9.8000001907348633},{"$f":"OFFSET(Daily!F283,$G$7,0,1,1)","v":3230100}]
[{"$f":"OFFSET(Daily!A284,$G$7,0,1,1)","v":"2019-09-16"},{"$f":"OFFSET(Daily!B284,$G$7,0,1,1)","v":9.6700000762939435},{"$f":"OFFSET(Daily!C284,$G$7,0,1,1)","v":9.8000001907348633},{"$f":"OFFSET(Daily!D284,$G$7,0,1,1)","v":9.3000001907348633},{"$f":"OFFSET(Daily!E284,$G$7,0,1,1)","v":9.6700000762939435},{"$f":"OFFSET(Daily!F284,$G$7,0,1,1)","v":4147000}]
[{"$f":"OFFSET(Daily!A285,$G$7,0,1,1)","v":"2019-09-13"},{"$f":"OFFSET(Daily!B285,$G$7,0,1,1)","v":9.8299999237060565},{"$f":"OFFSET(Daily!C285,$G$7,0,1,1)","v":9.9499998092651367},{"$f":"OFFSET(Daily!D285,$G$7,0,1,1)","v":9.3000001907348633},{"$f":"OFFSET(Daily!E285,$G$7,0,1,1)","v":9.3100004196166992},{"$f":"OFFSET(Daily!F285,$G$7,0,1,1)","v":5981100}]
[{"$f":"OFFSET(Daily!A286,$G$7,0,1,1)","v":"2019-09-12"},{"$f":"OFFSET(Daily!B286,$G$7,0,1,1)","v":10.350000381469728},{"$f":"OFFSET(Daily!C286,$G$7,0,1,1)","v":10.5},{"$f":"OFFSET(Daily!D286,$G$7,0,1,1)","v":9.7600002288818359},{"$f":"OFFSET(Daily!E286,$G$7,0,1,1)","v":9.7799997329711914},{"$f":"OFFSET(Daily!F286,$G$7,0,1,1)","v":5455800}]
[{"$f":"OFFSET(Daily!A287,$G$7,0,1,1)","v":"2019-09-11"},{"$f":"OFFSET(Daily!B287,$G$7,0,1,1)","v":9.8599996566772461},{"$f":"OFFSET(Daily!C287,$G$7,0,1,1)","v":10.220000267028809},{"$f":"OFFSET(Daily!D287,$G$7,0,1,1)","v":9.7700004577636719},{"$f":"OFFSET(Daily!E287,$G$7,0,1,1)","v":9.9600000381469727},{"$f":"OFFSET(Daily!F287,$G$7,0,1,1)","v":4278200}]
[{"$f":"OFFSET(Daily!A288,$G$7,0,1,1)","v":"2019-09-10"},{"$f":"OFFSET(Daily!B288,$G$7,0,1,1)","v":9.630000114440918},{"$f":"OFFSET(Daily!C288,$G$7,0,1,1)","v":10.020000457763672},{"$f":"OFFSET(Daily!D288,$G$7,0,1,1)","v":9.5299997329711914},{"$f":"OFFSET(Daily!E288,$G$7,0,1,1)","v":9.7700004577636719},{"$f":"OFFSET(Daily!F288,$G$7,0,1,1)","v":4779000}]
[{"$f":"OFFSET(Daily!A289,$G$7,0,1,1)","v":"2019-09-09"},{"$f":"OFFSET(Daily!B289,$G$7,0,1,1)","v":9.8500003814697283},{"$f":"OFFSET(Daily!C289,$G$7,0,1,1)","v":9.9300003051757795},{"$f":"OFFSET(Daily!D289,$G$7,0,1,1)","v":9.4200000762939435},{"$f":"OFFSET(Daily!E289,$G$7,0,1,1)","v":9.7299995422363281},{"$f":"OFFSET(Daily!F289,$G$7,0,1,1)","v":6643400}]
[{"$f":"OFFSET(Daily!A290,$G$7,0,1,1)","v":"2019-09-06"},{"$f":"OFFSET(Daily!B290,$G$7,0,1,1)","v":10.279999732971191},{"$f":"OFFSET(Daily!C290,$G$7,0,1,1)","v":10.430000305175779},{"$f":"OFFSET(Daily!D290,$G$7,0,1,1)","v":9.8500003814697283},{"$f":"OFFSET(Daily!E290,$G$7,0,1,1)","v":9.869999885559082},{"$f":"OFFSET(Daily!F290,$G$7,0,1,1)","v":6150200}]
[{"$f":"OFFSET(Daily!A291,$G$7,0,1,1)","v":"2019-09-05"},{"$f":"OFFSET(Daily!B291,$G$7,0,1,1)","v":10.890000343322754},{"$f":"OFFSET(Daily!C291,$G$7,0,1,1)","v":10.970000267028809},{"$f":"OFFSET(Daily!D291,$G$7,0,1,1)","v":10.100000381469728},{"$f":"OFFSET(Daily!E291,$G$7,0,1,1)","v":10.279999732971191},{"$f":"OFFSET(Daily!F291,$G$7,0,1,1)","v":8793300}]
[{"$f":"OFFSET(Daily!A292,$G$7,0,1,1)","v":"2019-09-04"},{"$f":"OFFSET(Daily!B292,$G$7,0,1,1)","v":11.270000457763672},{"$f":"OFFSET(Daily!C292,$G$7,0,1,1)","v":11.449999809265137},{"$f":"OFFSET(Daily!D292,$G$7,0,1,1)","v":11.109999656677246},{"$f":"OFFSET(Daily!E292,$G$7,0,1,1)","v":11.319999694824221},{"$f":"OFFSET(Daily!F292,$G$7,0,1,1)","v":4934800}]
[{"$f":"OFFSET(Daily!A293,$G$7,0,1,1)","v":"2019-09-03"},{"$f":"OFFSET(Daily!B293,$G$7,0,1,1)","v":11.130000114440918},{"$f":"OFFSET(Daily!C293,$G$7,0,1,1)","v":11.619999885559082},{"$f":"OFFSET(Daily!D293,$G$7,0,1,1)","v":11.079999923706056},{"$f":"OFFSET(Daily!E293,$G$7,0,1,1)","v":11.279999732971191},{"$f":"OFFSET(Daily!F293,$G$7,0,1,1)","v":6525700}]
[{"$f":"OFFSET(Daily!A294,$G$7,0,1,1)","v":"2019-08-30"},{"$f":"OFFSET(Daily!B294,$G$7,0,1,1)","v":10.789999961853027},{"$f":"OFFSET(Daily!C294,$G$7,0,1,1)","v":11.069999694824221},{"$f":"OFFSET(Daily!D294,$G$7,0,1,1)","v":10.699999809265137},{"$f":"OFFSET(Daily!E294,$G$7,0,1,1)","v":10.880000114440918},{"$f":"OFFSET(Daily!F294,$G$7,0,1,1)","v":3943900}]
[{"$f":"OFFSET(Daily!A295,$G$7,0,1,1)","v":"2019-08-29"},{"$f":"OFFSET(Daily!B295,$G$7,0,1,1)","v":11.279999732971191},{"$f":"OFFSET(Daily!C295,$G$7,0,1,1)","v":11.289999961853027},{"$f":"OFFSET(Daily!D295,$G$7,0,1,1)","v":10.550000190734863},{"$f":"OFFSET(Daily!E295,$G$7,0,1,1)","v":10.739999771118164},{"$f":"OFFSET(Daily!F295,$G$7,0,1,1)","v":6388800}]
[{"$f":"OFFSET(Daily!A296,$G$7,0,1,1)","v":"2019-08-28"},{"$f":"OFFSET(Daily!B296,$G$7,0,1,1)","v":11.350000381469728},{"$f":"OFFSET(Daily!C296,$G$7,0,1,1)","v":11.569999694824221},{"$f":"OFFSET(Daily!D296,$G$7,0,1,1)","v":11.020000457763672},{"$f":"OFFSET(Daily!E296,$G$7,0,1,1)","v":11.210000038146973},{"$f":"OFFSET(Daily!F296,$G$7,0,1,1)","v":4927800}]
[{"$f":"OFFSET(Daily!A297,$G$7,0,1,1)","v":"2019-08-27"},{"$f":"OFFSET(Daily!B297,$G$7,0,1,1)","v":11.229999542236328},{"$f":"OFFSET(Daily!C297,$G$7,0,1,1)","v":11.460000038146973},{"$f":"OFFSET(Daily!D297,$G$7,0,1,1)","v":11.119999885559082},{"$f":"OFFSET(Daily!E297,$G$7,0,1,1)","v":11.25},{"$f":"OFFSET(Daily!F297,$G$7,0,1,1)","v":6574500}]
[{"$f":"OFFSET(Daily!A298,$G$7,0,1,1)","v":"2019-08-26"},{"$f":"OFFSET(Daily!B298,$G$7,0,1,1)","v":11.100000381469728},{"$f":"OFFSET(Daily!C298,$G$7,0,1,1)","v":11.220000267028809},{"$f":"OFFSET(Daily!D298,$G$7,0,1,1)","v":10.829999923706056},{"$f":"OFFSET(Daily!E298,$G$7,0,1,1)","v":10.949999809265137},{"$f":"OFFSET(Daily!F298,$G$7,0,1,1)","v":4734000}]
[{"$f":"OFFSET(Daily!A299,$G$7,0,1,1)","v":"2019-08-23"},{"$f":"OFFSET(Daily!B299,$G$7,0,1,1)","v":10.409999847412109},{"$f":"OFFSET(Daily!C299,$G$7,0,1,1)","v":11.060000419616699},{"$f":"OFFSET(Daily!D299,$G$7,0,1,1)","v":10.380000114440918},{"$f":"OFFSET(Daily!E299,$G$7,0,1,1)","v":11.010000228881836},{"$f":"OFFSET(Daily!F299,$G$7,0,1,1)","v":5221500}]
[{"$f":"OFFSET(Daily!A300,$G$7,0,1,1)","v":"2019-08-22"},{"$f":"OFFSET(Daily!B300,$G$7,0,1,1)","v":10.350000381469728},{"$f":"OFFSET(Daily!C300,$G$7,0,1,1)","v":10.529999732971191},{"$f":"OFFSET(Daily!D300,$G$7,0,1,1)","v":10.270000457763672},{"$f":"OFFSET(Daily!E300,$G$7,0,1,1)","v":10.310000419616699},{"$f":"OFFSET(Daily!F300,$G$7,0,1,1)","v":2202000}]
[{"$f":"OFFSET(Daily!A301,$G$7,0,1,1)","v":"2019-08-21"},{"$f":"OFFSET(Daily!B301,$G$7,0,1,1)","v":10.390000343322754},{"$f":"OFFSET(Daily!C301,$G$7,0,1,1)","v":10.649999618530272},{"$f":"OFFSET(Daily!D301,$G$7,0,1,1)","v":10.369999885559082},{"$f":"OFFSET(Daily!E301,$G$7,0,1,1)","v":10.439999580383301},{"$f":"OFFSET(Daily!F301,$G$7,0,1,1)","v":2779200}]
[{"$f":"OFFSET(Daily!A302,$G$7,0,1,1)","v":"2019-08-20"},{"$f":"OFFSET(Daily!B302,$G$7,0,1,1)","v":10.149999618530272},{"$f":"OFFSET(Daily!C302,$G$7,0,1,1)","v":10.630000114440918},{"$f":"OFFSET(Daily!D302,$G$7,0,1,1)","v":10.109999656677246},{"$f":"OFFSET(Daily!E302,$G$7,0,1,1)","v":10.5},{"$f":"OFFSET(Daily!F302,$G$7,0,1,1)","v":3707000}]
[{"$f":"OFFSET(Daily!A303,$G$7,0,1,1)","v":"2019-08-19"},{"$f":"OFFSET(Daily!B303,$G$7,0,1,1)","v":9.6000003814697283},{"$f":"OFFSET(Daily!C303,$G$7,0,1,1)","v":10.350000381469728},{"$f":"OFFSET(Daily!D303,$G$7,0,1,1)","v":9.4700002670288086},{"$f":"OFFSET(Daily!E303,$G$7,0,1,1)","v":9.9899997711181641},{"$f":"OFFSET(Daily!F303,$G$7,0,1,1)","v":5158100}]
[{"$f":"OFFSET(Daily!A304,$G$7,0,1,1)","v":"2019-08-16"},{"$f":"OFFSET(Daily!B304,$G$7,0,1,1)","v":10.050000190734863},{"$f":"OFFSET(Daily!C304,$G$7,0,1,1)","v":10.260000228881836},{"$f":"OFFSET(Daily!D304,$G$7,0,1,1)","v":9.8199996948242205},{"$f":"OFFSET(Daily!E304,$G$7,0,1,1)","v":9.8999996185302717},{"$f":"OFFSET(Daily!F304,$G$7,0,1,1)","v":4983200}]
[{"$f":"OFFSET(Daily!A305,$G$7,0,1,1)","v":"2019-08-15"},{"$f":"OFFSET(Daily!B305,$G$7,0,1,1)","v":10.060000419616699},{"$f":"OFFSET(Daily!C305,$G$7,0,1,1)","v":10.350000381469728},{"$f":"OFFSET(Daily!D305,$G$7,0,1,1)","v":9.9300003051757795},{"$f":"OFFSET(Daily!E305,$G$7,0,1,1)","v":10.260000228881836},{"$f":"OFFSET(Daily!F305,$G$7,0,1,1)","v":3832600}]
[{"$f":"OFFSET(Daily!A306,$G$7,0,1,1)","v":"2019-08-14"},{"$f":"OFFSET(Daily!B306,$G$7,0,1,1)","v":10.529999732971191},{"$f":"OFFSET(Daily!C306,$G$7,0,1,1)","v":10.739999771118164},{"$f":"OFFSET(Daily!D306,$G$7,0,1,1)","v":10.159999847412109},{"$f":"OFFSET(Daily!E306,$G$7,0,1,1)","v":10.180000305175779},{"$f":"OFFSET(Daily!F306,$G$7,0,1,1)","v":6713500}]
[{"$f":"OFFSET(Daily!A307,$G$7,0,1,1)","v":"2019-08-13"},{"$f":"OFFSET(Daily!B307,$G$7,0,1,1)","v":10.960000038146973},{"$f":"OFFSET(Daily!C307,$G$7,0,1,1)","v":11},{"$f":"OFFSET(Daily!D307,$G$7,0,1,1)","v":9.8299999237060565},{"$f":"OFFSET(Daily!E307,$G$7,0,1,1)","v":10.270000457763672},{"$f":"OFFSET(Daily!F307,$G$7,0,1,1)","v":11310100}]
[{"$f":"OFFSET(Daily!A308,$G$7,0,1,1)","v":"2019-08-12"},{"$f":"OFFSET(Daily!B308,$G$7,0,1,1)","v":10.75},{"$f":"OFFSET(Daily!C308,$G$7,0,1,1)","v":11.109999656677246},{"$f":"OFFSET(Daily!D308,$G$7,0,1,1)","v":10.630000114440918},{"$f":"OFFSET(Daily!E308,$G$7,0,1,1)","v":10.659999847412109},{"$f":"OFFSET(Daily!F308,$G$7,0,1,1)","v":6437500}]
[{"$f":"OFFSET(Daily!A309,$G$7,0,1,1)","v":"2019-08-09"},{"$f":"OFFSET(Daily!B309,$G$7,0,1,1)","v":10.819999694824221},{"$f":"OFFSET(Daily!C309,$G$7,0,1,1)","v":10.880000114440918},{"$f":"OFFSET(Daily!D309,$G$7,0,1,1)","v":10.649999618530272},{"$f":"OFFSET(Daily!E309,$G$7,0,1,1)","v":10.710000038146973},{"$f":"OFFSET(Daily!F309,$G$7,0,1,1)","v":6199800}]
[{"$f":"OFFSET(Daily!A310,$G$7,0,1,1)","v":"2019-08-08"},{"$f":"OFFSET(Daily!B310,$G$7,0,1,1)","v":10.239999771118164},{"$f":"OFFSET(Daily!C310,$G$7,0,1,1)","v":10.859999656677246},{"$f":"OFFSET(Daily!D310,$G$7,0,1,1)","v":10.159999847412109},{"$f":"OFFSET(Daily!E310,$G$7,0,1,1)","v":10.810000419616699},{"$f":"OFFSET(Daily!F310,$G$7,0,1,1)","v":4664100}]
[{"$f":"OFFSET(Daily!A311,$G$7,0,1,1)","v":"2019-08-07"},{"$f":"OFFSET(Daily!B311,$G$7,0,1,1)","v":10.380000114440918},{"$f":"OFFSET(Daily!C311,$G$7,0,1,1)","v":10.970000267028809},{"$f":"OFFSET(Daily!D311,$G$7,0,1,1)","v":10.380000114440918},{"$f":"OFFSET(Daily!E311,$G$7,0,1,1)","v":10.479999542236328},{"$f":"OFFSET(Daily!F311,$G$7,0,1,1)","v":9700700}]
[{"$f":"OFFSET(Daily!A312,$G$7,0,1,1)","v":"2019-08-06"},{"$f":"OFFSET(Daily!B312,$G$7,0,1,1)","v":9.9899997711181641},{"$f":"OFFSET(Daily!C312,$G$7,0,1,1)","v":10.149999618530272},{"$f":"OFFSET(Daily!D312,$G$7,0,1,1)","v":9.7799997329711914},{"$f":"OFFSET(Daily!E312,$G$7,0,1,1)","v":9.8900003433227539},{"$f":"OFFSET(Daily!F312,$G$7,0,1,1)","v":4505700}]
[{"$f":"OFFSET(Daily!A313,$G$7,0,1,1)","v":"2019-08-05"},{"$f":"OFFSET(Daily!B313,$G$7,0,1,1)","v":9.9600000381469727},{"$f":"OFFSET(Daily!C313,$G$7,0,1,1)","v":10.399999618530272},{"$f":"OFFSET(Daily!D313,$G$7,0,1,1)","v":9.9300003051757795},{"$f":"OFFSET(Daily!E313,$G$7,0,1,1)","v":10.020000457763672},{"$f":"OFFSET(Daily!F313,$G$7,0,1,1)","v":6506600}]
[{"$f":"OFFSET(Daily!A314,$G$7,0,1,1)","v":"2019-08-02"},{"$f":"OFFSET(Daily!B314,$G$7,0,1,1)","v":9.7100000381469727},{"$f":"OFFSET(Daily!C314,$G$7,0,1,1)","v":9.8299999237060565},{"$f":"OFFSET(Daily!D314,$G$7,0,1,1)","v":9.4899997711181641},{"$f":"OFFSET(Daily!E314,$G$7,0,1,1)","v":9.5500001907348633},{"$f":"OFFSET(Daily!F314,$G$7,0,1,1)","v":6031000}]
[{"$f":"OFFSET(Daily!A315,$G$7,0,1,1)","v":"2019-08-01"},{"$f":"OFFSET(Daily!B315,$G$7,0,1,1)","v":9.0200004577636719},{"$f":"OFFSET(Daily!C315,$G$7,0,1,1)","v":9.9399995803833008},{"$f":"OFFSET(Daily!D315,$G$7,0,1,1)","v":8.9600000381469727},{"$f":"OFFSET(Daily!E315,$G$7,0,1,1)","v":9.8400001525878906},{"$f":"OFFSET(Daily!F315,$G$7,0,1,1)","v":9153600}]
[{"$f":"OFFSET(Daily!A316,$G$7,0,1,1)","v":"2019-07-31"},{"$f":"OFFSET(Daily!B316,$G$7,0,1,1)","v":9.9799995422363281},{"$f":"OFFSET(Daily!C316,$G$7,0,1,1)","v":10.020000457763672},{"$f":"OFFSET(Daily!D316,$G$7,0,1,1)","v":9.1400003433227539},{"$f":"OFFSET(Daily!E316,$G$7,0,1,1)","v":9.4200000762939435},{"$f":"OFFSET(Daily!F316,$G$7,0,1,1)","v":11229100}]
[{"$f":"OFFSET(Daily!A317,$G$7,0,1,1)","v":"2019-07-30"},{"$f":"OFFSET(Daily!B317,$G$7,0,1,1)","v":10.029999732971191},{"$f":"OFFSET(Daily!C317,$G$7,0,1,1)","v":10.159999847412109},{"$f":"OFFSET(Daily!D317,$G$7,0,1,1)","v":9.9499998092651367},{"$f":"OFFSET(Daily!E317,$G$7,0,1,1)","v":10.060000419616699},{"$f":"OFFSET(Daily!F317,$G$7,0,1,1)","v":3393000}]
[{"$f":"OFFSET(Daily!A318,$G$7,0,1,1)","v":"2019-07-29"},{"$f":"OFFSET(Daily!B318,$G$7,0,1,1)","v":9.869999885559082},{"$f":"OFFSET(Daily!C318,$G$7,0,1,1)","v":10.010000228881836},{"$f":"OFFSET(Daily!D318,$G$7,0,1,1)","v":9.6400003433227539},{"$f":"OFFSET(Daily!E318,$G$7,0,1,1)","v":9.9799995422363281},{"$f":"OFFSET(Daily!F318,$G$7,0,1,1)","v":3172900}]
[{"$f":"OFFSET(Daily!A319,$G$7,0,1,1)","v":"2019-07-26"},{"$f":"OFFSET(Daily!B319,$G$7,0,1,1)","v":9.7600002288818359},{"$f":"OFFSET(Daily!C319,$G$7,0,1,1)","v":9.9099998474121094},{"$f":"OFFSET(Daily!D319,$G$7,0,1,1)","v":9.6899995803833008},{"$f":"OFFSET(Daily!E319,$G$7,0,1,1)","v":9.8199996948242205},{"$f":"OFFSET(Daily!F319,$G$7,0,1,1)","v":3661800}]
[{"$f":"OFFSET(Daily!A320,$G$7,0,1,1)","v":"2019-07-25"},{"$f":"OFFSET(Daily!B320,$G$7,0,1,1)","v":10.180000305175779},{"$f":"OFFSET(Daily!C320,$G$7,0,1,1)","v":10.210000038146973},{"$f":"OFFSET(Daily!D320,$G$7,0,1,1)","v":9.5399999618530273},{"$f":"OFFSET(Daily!E320,$G$7,0,1,1)","v":9.6700000762939435},{"$f":"OFFSET(Daily!F320,$G$7,0,1,1)","v":8060100}]
[{"$f":"OFFSET(Daily!A321,$G$7,0,1,1)","v":"2019-07-24"},{"$f":"OFFSET(Daily!B321,$G$7,0,1,1)","v":10.25},{"$f":"OFFSET(Daily!C321,$G$7,0,1,1)","v":10.390000343322754},{"$f":"OFFSET(Daily!D321,$G$7,0,1,1)","v":10.140000343322754},{"$f":"OFFSET(Daily!E321,$G$7,0,1,1)","v":10.260000228881836},{"$f":"OFFSET(Daily!F321,$G$7,0,1,1)","v":5564300}]
[{"$f":"OFFSET(Daily!A322,$G$7,0,1,1)","v":"2019-07-23"},{"$f":"OFFSET(Daily!B322,$G$7,0,1,1)","v":10.119999885559082},{"$f":"OFFSET(Daily!C322,$G$7,0,1,1)","v":10.359999656677246},{"$f":"OFFSET(Daily!D322,$G$7,0,1,1)","v":9.7399997711181641},{"$f":"OFFSET(Daily!E322,$G$7,0,1,1)","v":10.020000457763672},{"$f":"OFFSET(Daily!F322,$G$7,0,1,1)","v":7037000}]
[{"$f":"OFFSET(Daily!A323,$G$7,0,1,1)","v":"2019-07-22"},{"$f":"OFFSET(Daily!B323,$G$7,0,1,1)","v":10.029999732971191},{"$f":"OFFSET(Daily!C323,$G$7,0,1,1)","v":10.359999656677246},{"$f":"OFFSET(Daily!D323,$G$7,0,1,1)","v":10},{"$f":"OFFSET(Daily!E323,$G$7,0,1,1)","v":10.100000381469728},{"$f":"OFFSET(Daily!F323,$G$7,0,1,1)","v":8325600}]
[{"$f":"OFFSET(Daily!A324,$G$7,0,1,1)","v":"2019-07-19"},{"$f":"OFFSET(Daily!B324,$G$7,0,1,1)","v":9.8900003433227539},{"$f":"OFFSET(Daily!C324,$G$7,0,1,1)","v":10.239999771118164},{"$f":"OFFSET(Daily!D324,$G$7,0,1,1)","v":9.6400003433227539},{"$f":"OFFSET(Daily!E324,$G$7,0,1,1)","v":9.8999996185302717},{"$f":"OFFSET(Daily!F324,$G$7,0,1,1)","v":9735400}]
[{"$f":"OFFSET(Daily!A325,$G$7,0,1,1)","v":"2019-07-18"},{"$f":"OFFSET(Daily!B325,$G$7,0,1,1)","v":9.3199996948242205},{"$f":"OFFSET(Daily!C325,$G$7,0,1,1)","v":9.9799995422363281},{"$f":"OFFSET(Daily!D325,$G$7,0,1,1)","v":9.1999998092651367},{"$f":"OFFSET(Daily!E325,$G$7,0,1,1)","v":9.9200000762939435},{"$f":"OFFSET(Daily!F325,$G$7,0,1,1)","v":11510400}]
[{"$f":"OFFSET(Daily!A326,$G$7,0,1,1)","v":"2019-07-17"},{"$f":"OFFSET(Daily!B326,$G$7,0,1,1)","v":8.75},{"$f":"OFFSET(Daily!C326,$G$7,0,1,1)","v":9.369999885559082},{"$f":"OFFSET(Daily!D326,$G$7,0,1,1)","v":8.7100000381469727},{"$f":"OFFSET(Daily!E326,$G$7,0,1,1)","v":9.3100004196166992},{"$f":"OFFSET(Daily!F326,$G$7,0,1,1)","v":8908100}]
[{"$f":"OFFSET(Daily!A327,$G$7,0,1,1)","v":"2019-07-16"},{"$f":"OFFSET(Daily!B327,$G$7,0,1,1)","v":7.929999828338623},{"$f":"OFFSET(Daily!C327,$G$7,0,1,1)","v":8.6899995803833008},{"$f":"OFFSET(Daily!D327,$G$7,0,1,1)","v":7.9000000953674316},{"$f":"OFFSET(Daily!E327,$G$7,0,1,1)","v":8.5699996948242188},{"$f":"OFFSET(Daily!F327,$G$7,0,1,1)","v":7700900}]
[{"$f":"OFFSET(Daily!A328,$G$7,0,1,1)","v":"2019-07-15"},{"$f":"OFFSET(Daily!B328,$G$7,0,1,1)","v":7.809999942779541},{"$f":"OFFSET(Daily!C328,$G$7,0,1,1)","v":7.9200000762939453},{"$f":"OFFSET(Daily!D328,$G$7,0,1,1)","v":7.7300000190734863},{"$f":"OFFSET(Daily!E328,$G$7,0,1,1)","v":7.9099998474121094},{"$f":"OFFSET(Daily!F328,$G$7,0,1,1)","v":3794600}]
[{"$f":"OFFSET(Daily!A329,$G$7,0,1,1)","v":"2019-07-12"},{"$f":"OFFSET(Daily!B329,$G$7,0,1,1)","v":7.940000057220459},{"$f":"OFFSET(Daily!C329,$G$7,0,1,1)","v":7.9499998092651367},{"$f":"OFFSET(Daily!D329,$G$7,0,1,1)","v":7.7800002098083496},{"$f":"OFFSET(Daily!E329,$G$7,0,1,1)","v":7.8000001907348633},{"$f":"OFFSET(Daily!F329,$G$7,0,1,1)","v":3693800}]
[{"$f":"OFFSET(Daily!A330,$G$7,0,1,1)","v":"2019-07-11"},{"$f":"OFFSET(Daily!B330,$G$7,0,1,1)","v":8.1400003433227539},{"$f":"OFFSET(Daily!C330,$G$7,0,1,1)","v":8.1599998474121094},{"$f":"OFFSET(Daily!D330,$G$7,0,1,1)","v":7.820000171661377},{"$f":"OFFSET(Daily!E330,$G$7,0,1,1)","v":7.929999828338623},{"$f":"OFFSET(Daily!F330,$G$7,0,1,1)","v":3436800}]
[{"$f":"OFFSET(Daily!A331,$G$7,0,1,1)","v":"2019-07-10"},{"$f":"OFFSET(Daily!B331,$G$7,0,1,1)","v":8.1099996566772461},{"$f":"OFFSET(Daily!C331,$G$7,0,1,1)","v":8.25},{"$f":"OFFSET(Daily!D331,$G$7,0,1,1)","v":7.9699997901916504},{"$f":"OFFSET(Daily!E331,$G$7,0,1,1)","v":8.1400003433227539},{"$f":"OFFSET(Daily!F331,$G$7,0,1,1)","v":3683600}]
[{"$f":"OFFSET(Daily!A332,$G$7,0,1,1)","v":"2019-07-09"},{"$f":"OFFSET(Daily!B332,$G$7,0,1,1)","v":7.7800002098083496},{"$f":"OFFSET(Daily!C332,$G$7,0,1,1)","v":7.9200000762939453},{"$f":"OFFSET(Daily!D332,$G$7,0,1,1)","v":7.690000057220459},{"$f":"OFFSET(Daily!E332,$G$7,0,1,1)","v":7.9099998474121094},{"$f":"OFFSET(Daily!F332,$G$7,0,1,1)","v":2842700}]
[{"$f":"OFFSET(Daily!A333,$G$7,0,1,1)","v":"2019-07-08"},{"$f":"OFFSET(Daily!B333,$G$7,0,1,1)","v":7.820000171661377},{"$f":"OFFSET(Daily!C333,$G$7,0,1,1)","v":7.869999885559082},{"$f":"OFFSET(Daily!D333,$G$7,0,1,1)","v":7.690000057220459},{"$f":"OFFSET(Daily!E333,$G$7,0,1,1)","v":7.7800002098083496},{"$f":"OFFSET(Daily!F333,$G$7,0,1,1)","v":2682500}]
[{"$f":"OFFSET(Daily!A334,$G$7,0,1,1)","v":"2019-07-05"},{"$f":"OFFSET(Daily!B334,$G$7,0,1,1)","v":7.6100001335144043},{"$f":"OFFSET(Daily!C334,$G$7,0,1,1)","v":7.8400001525878906},{"$f":"OFFSET(Daily!D334,$G$7,0,1,1)","v":7.5100002288818359},{"$f":"OFFSET(Daily!E334,$G$7,0,1,1)","v":7.7800002098083496},{"$f":"OFFSET(Daily!F334,$G$7,0,1,1)","v":3507800}]
[{"$f":"OFFSET(Daily!A335,$G$7,0,1,1)","v":"2019-07-03"},{"$f":"OFFSET(Daily!B335,$G$7,0,1,1)","v":8},{"$f":"OFFSET(Daily!C335,$G$7,0,1,1)","v":8},{"$f":"OFFSET(Daily!D335,$G$7,0,1,1)","v":7.7800002098083496},{"$f":"OFFSET(Daily!E335,$G$7,0,1,1)","v":7.880000114440918},{"$f":"OFFSET(Daily!F335,$G$7,0,1,1)","v":1713400}]
[{"$f":"OFFSET(Daily!A336,$G$7,0,1,1)","v":"2019-07-02"},{"$f":"OFFSET(Daily!B336,$G$7,0,1,1)","v":7.5},{"$f":"OFFSET(Daily!C336,$G$7,0,1,1)","v":7.9600000381469727},{"$f":"OFFSET(Daily!D336,$G$7,0,1,1)","v":7.3600001335144043},{"$f":"OFFSET(Daily!E336,$G$7,0,1,1)","v":7.929999828338623},{"$f":"OFFSET(Daily!F336,$G$7,0,1,1)","v":4265300}]
[{"$f":"OFFSET(Daily!A337,$G$7,0,1,1)","v":"2019-07-01"},{"$f":"OFFSET(Daily!B337,$G$7,0,1,1)","v":7.6100001335144043},{"$f":"OFFSET(Daily!C337,$G$7,0,1,1)","v":7.7199997901916504},{"$f":"OFFSET(Daily!D337,$G$7,0,1,1)","v":7.429999828338623},{"$f":"OFFSET(Daily!E337,$G$7,0,1,1)","v":7.4499998092651367},{"$f":"OFFSET(Daily!F337,$G$7,0,1,1)","v":4093000}]
[{"$f":"OFFSET(Daily!A338,$G$7,0,1,1)","v":"2019-06-28"},{"$f":"OFFSET(Daily!B338,$G$7,0,1,1)","v":7.809999942779541},{"$f":"OFFSET(Daily!C338,$G$7,0,1,1)","v":7.9200000762939453},{"$f":"OFFSET(Daily!D338,$G$7,0,1,1)","v":7.7199997901916504},{"$f":"OFFSET(Daily!E338,$G$7,0,1,1)","v":7.9099998474121094},{"$f":"OFFSET(Daily!F338,$G$7,0,1,1)","v":3723500}]
[{"$f":"OFFSET(Daily!A339,$G$7,0,1,1)","v":"2019-06-27"},{"$f":"OFFSET(Daily!B339,$G$7,0,1,1)","v":7.6999998092651367},{"$f":"OFFSET(Daily!C339,$G$7,0,1,1)","v":7.8000001907348633},{"$f":"OFFSET(Daily!D339,$G$7,0,1,1)","v":7.6100001335144043},{"$f":"OFFSET(Daily!E339,$G$7,0,1,1)","v":7.7699999809265137},{"$f":"OFFSET(Daily!F339,$G$7,0,1,1)","v":3484300}]
[{"$f":"OFFSET(Daily!A340,$G$7,0,1,1)","v":"2019-06-26"},{"$f":"OFFSET(Daily!B340,$G$7,0,1,1)","v":7.6599998474121094},{"$f":"OFFSET(Daily!C340,$G$7,0,1,1)","v":8.0200004577636719},{"$f":"OFFSET(Daily!D340,$G$7,0,1,1)","v":7.630000114440918},{"$f":"OFFSET(Daily!E340,$G$7,0,1,1)","v":7.8299999237060547},{"$f":"OFFSET(Daily!F340,$G$7,0,1,1)","v":4529500}]
[{"$f":"OFFSET(Daily!A341,$G$7,0,1,1)","v":"2019-06-25"},{"$f":"OFFSET(Daily!B341,$G$7,0,1,1)","v":8},{"$f":"OFFSET(Daily!C341,$G$7,0,1,1)","v":8.130000114440918},{"$f":"OFFSET(Daily!D341,$G$7,0,1,1)","v":7.679999828338623},{"$f":"OFFSET(Daily!E341,$G$7,0,1,1)","v":7.9000000953674316},{"$f":"OFFSET(Daily!F341,$G$7,0,1,1)","v":7085300}]
[{"$f":"OFFSET(Daily!A342,$G$7,0,1,1)","v":"2019-06-24"},{"$f":"OFFSET(Daily!B342,$G$7,0,1,1)","v":7.5500001907348633},{"$f":"OFFSET(Daily!C342,$G$7,0,1,1)","v":8.0299997329711914},{"$f":"OFFSET(Daily!D342,$G$7,0,1,1)","v":7.5100002288818359},{"$f":"OFFSET(Daily!E342,$G$7,0,1,1)","v":8.0100002288818359},{"$f":"OFFSET(Daily!F342,$G$7,0,1,1)","v":6986300}]
[{"$f":"OFFSET(Daily!A343,$G$7,0,1,1)","v":"2019-06-21"},{"$f":"OFFSET(Daily!B343,$G$7,0,1,1)","v":7.3499999046325684},{"$f":"OFFSET(Daily!C343,$G$7,0,1,1)","v":7.5},{"$f":"OFFSET(Daily!D343,$G$7,0,1,1)","v":7.1700000762939453},{"$f":"OFFSET(Daily!E343,$G$7,0,1,1)","v":7.4600000381469727},{"$f":"OFFSET(Daily!F343,$G$7,0,1,1)","v":5466900}]
[{"$f":"OFFSET(Daily!A344,$G$7,0,1,1)","v":"2019-06-20"},{"$f":"OFFSET(Daily!B344,$G$7,0,1,1)","v":7.2300000190734863},{"$f":"OFFSET(Daily!C344,$G$7,0,1,1)","v":7.5500001907348633},{"$f":"OFFSET(Daily!D344,$G$7,0,1,1)","v":7.1500000953674316},{"$f":"OFFSET(Daily!E344,$G$7,0,1,1)","v":7.380000114440918},{"$f":"OFFSET(Daily!F344,$G$7,0,1,1)","v":6927500}]
[{"$f":"OFFSET(Daily!A345,$G$7,0,1,1)","v":"2019-06-19"},{"$f":"OFFSET(Daily!B345,$G$7,0,1,1)","v":6.690000057220459},{"$f":"OFFSET(Daily!C345,$G$7,0,1,1)","v":6.929999828338623},{"$f":"OFFSET(Daily!D345,$G$7,0,1,1)","v":6.6599998474121094},{"$f":"OFFSET(Daily!E345,$G$7,0,1,1)","v":6.9000000953674316},{"$f":"OFFSET(Daily!F345,$G$7,0,1,1)","v":2864600}]
[{"$f":"OFFSET(Daily!A346,$G$7,0,1,1)","v":"2019-06-18"},{"$f":"OFFSET(Daily!B346,$G$7,0,1,1)","v":6.820000171661377},{"$f":"OFFSET(Daily!C346,$G$7,0,1,1)","v":6.8600001335144043},{"$f":"OFFSET(Daily!D346,$G$7,0,1,1)","v":6.6599998474121094},{"$f":"OFFSET(Daily!E346,$G$7,0,1,1)","v":6.7300000190734863},{"$f":"OFFSET(Daily!F346,$G$7,0,1,1)","v":2457700}]
[{"$f":"OFFSET(Daily!A347,$G$7,0,1,1)","v":"2019-06-17"},{"$f":"OFFSET(Daily!B347,$G$7,0,1,1)","v":6.5399999618530273},{"$f":"OFFSET(Daily!C347,$G$7,0,1,1)","v":6.7399997711181641},{"$f":"OFFSET(Daily!D347,$G$7,0,1,1)","v":6.5399999618530273},{"$f":"OFFSET(Daily!E347,$G$7,0,1,1)","v":6.7199997901916504},{"$f":"OFFSET(Daily!F347,$G$7,0,1,1)","v":2369000}]
[{"$f":"OFFSET(Daily!A348,$G$7,0,1,1)","v":"2019-06-14"},{"$f":"OFFSET(Daily!B348,$G$7,0,1,1)","v":6.690000057220459},{"$f":"OFFSET(Daily!C348,$G$7,0,1,1)","v":6.820000171661377},{"$f":"OFFSET(Daily!D348,$G$7,0,1,1)","v":6.4099998474121094},{"$f":"OFFSET(Daily!E348,$G$7,0,1,1)","v":6.5500001907348633},{"$f":"OFFSET(Daily!F348,$G$7,0,1,1)","v":2741500}]
[{"$f":"OFFSET(Daily!A349,$G$7,0,1,1)","v":"2019-06-13"},{"$f":"OFFSET(Daily!B349,$G$7,0,1,1)","v":6.559999942779541},{"$f":"OFFSET(Daily!C349,$G$7,0,1,1)","v":6.690000057220459},{"$f":"OFFSET(Daily!D349,$G$7,0,1,1)","v":6.5},{"$f":"OFFSET(Daily!E349,$G$7,0,1,1)","v":6.630000114440918},{"$f":"OFFSET(Daily!F349,$G$7,0,1,1)","v":1689900}]
[{"$f":"OFFSET(Daily!A350,$G$7,0,1,1)","v":"2019-06-12"},{"$f":"OFFSET(Daily!B350,$G$7,0,1,1)","v":6.5500001907348633},{"$f":"OFFSET(Daily!C350,$G$7,0,1,1)","v":6.6500000953674316},{"$f":"OFFSET(Daily!D350,$G$7,0,1,1)","v":6.4699997901916504},{"$f":"OFFSET(Daily!E350,$G$7,0,1,1)","v":6.559999942779541},{"$f":"OFFSET(Daily!F350,$G$7,0,1,1)","v":1879600}]
[{"$f":"OFFSET(Daily!A351,$G$7,0,1,1)","v":"2019-06-11"},{"$f":"OFFSET(Daily!B351,$G$7,0,1,1)","v":6.2600002288818359},{"$f":"OFFSET(Daily!C351,$G$7,0,1,1)","v":6.4699997901916504},{"$f":"OFFSET(Daily!D351,$G$7,0,1,1)","v":6.2199997901916504},{"$f":"OFFSET(Daily!E351,$G$7,0,1,1)","v":6.4699997901916504},{"$f":"OFFSET(Daily!F351,$G$7,0,1,1)","v":1882900}]
[{"$f":"OFFSET(Daily!A352,$G$7,0,1,1)","v":"2019-06-10"},{"$f":"OFFSET(Daily!B352,$G$7,0,1,1)","v":6.2800002098083496},{"$f":"OFFSET(Daily!C352,$G$7,0,1,1)","v":6.320000171661377},{"$f":"OFFSET(Daily!D352,$G$7,0,1,1)","v":6.179999828338623},{"$f":"OFFSET(Daily!E352,$G$7,0,1,1)","v":6.3000001907348633},{"$f":"OFFSET(Daily!F352,$G$7,0,1,1)","v":2220200}]
[{"$f":"OFFSET(Daily!A353,$G$7,0,1,1)","v":"2019-06-07"},{"$f":"OFFSET(Daily!B353,$G$7,0,1,1)","v":6.5799999237060547},{"$f":"OFFSET(Daily!C353,$G$7,0,1,1)","v":6.6100001335144043},{"$f":"OFFSET(Daily!D353,$G$7,0,1,1)","v":6.4099998474121094},{"$f":"OFFSET(Daily!E353,$G$7,0,1,1)","v":6.440000057220459},{"$f":"OFFSET(Daily!F353,$G$7,0,1,1)","v":2113900}]
[{"$f":"OFFSET(Daily!A354,$G$7,0,1,1)","v":"2019-06-06"},{"$f":"OFFSET(Daily!B354,$G$7,0,1,1)","v":6.4200000762939453},{"$f":"OFFSET(Daily!C354,$G$7,0,1,1)","v":6.5199999809265137},{"$f":"OFFSET(Daily!D354,$G$7,0,1,1)","v":6.3400001525878906},{"$f":"OFFSET(Daily!E354,$G$7,0,1,1)","v":6.4899997711181641},{"$f":"OFFSET(Daily!F354,$G$7,0,1,1)","v":2177100}]
[{"$f":"OFFSET(Daily!A355,$G$7,0,1,1)","v":"2019-06-05"},{"$f":"OFFSET(Daily!B355,$G$7,0,1,1)","v":6.5399999618530273},{"$f":"OFFSET(Daily!C355,$G$7,0,1,1)","v":6.7199997901916504},{"$f":"OFFSET(Daily!D355,$G$7,0,1,1)","v":6.309999942779541},{"$f":"OFFSET(Daily!E355,$G$7,0,1,1)","v":6.3600001335144043},{"$f":"OFFSET(Daily!F355,$G$7,0,1,1)","v":4113500}]
[{"$f":"OFFSET(Daily!A356,$G$7,0,1,1)","v":"2019-06-04"},{"$f":"OFFSET(Daily!B356,$G$7,0,1,1)","v":6.3400001525878906},{"$f":"OFFSET(Daily!C356,$G$7,0,1,1)","v":6.5500001907348633},{"$f":"OFFSET(Daily!D356,$G$7,0,1,1)","v":6.2600002288818359},{"$f":"OFFSET(Daily!E356,$G$7,0,1,1)","v":6.3899998664855957},{"$f":"OFFSET(Daily!F356,$G$7,0,1,1)","v":3813900}]
[{"$f":"OFFSET(Daily!A357,$G$7,0,1,1)","v":"2019-06-03"},{"$f":"OFFSET(Daily!B357,$G$7,0,1,1)","v":6.1999998092651367},{"$f":"OFFSET(Daily!C357,$G$7,0,1,1)","v":6.4600000381469727},{"$f":"OFFSET(Daily!D357,$G$7,0,1,1)","v":6.119999885559082},{"$f":"OFFSET(Daily!E357,$G$7,0,1,1)","v":6.4499998092651367},{"$f":"OFFSET(Daily!F357,$G$7,0,1,1)","v":4190500}]
[{"$f":"OFFSET(Daily!A358,$G$7,0,1,1)","v":"2019-05-31"},{"$f":"OFFSET(Daily!B358,$G$7,0,1,1)","v":5.869999885559082},{"$f":"OFFSET(Daily!C358,$G$7,0,1,1)","v":6.130000114440918},{"$f":"OFFSET(Daily!D358,$G$7,0,1,1)","v":5.8499999046325684},{"$f":"OFFSET(Daily!E358,$G$7,0,1,1)","v":6.0799999237060547},{"$f":"OFFSET(Daily!F358,$G$7,0,1,1)","v":3651700}]
[{"$f":"OFFSET(Daily!A359,$G$7,0,1,1)","v":"2019-05-30"},{"$f":"OFFSET(Daily!B359,$G$7,0,1,1)","v":5.5300002098083496},{"$f":"OFFSET(Daily!C359,$G$7,0,1,1)","v":5.7699999809265137},{"$f":"OFFSET(Daily!D359,$G$7,0,1,1)","v":5.4899997711181641},{"$f":"OFFSET(Daily!E359,$G$7,0,1,1)","v":5.7399997711181641},{"$f":"OFFSET(Daily!F359,$G$7,0,1,1)","v":2475900}]
[{"$f":"OFFSET(Daily!A360,$G$7,0,1,1)","v":"2019-05-29"},{"$f":"OFFSET(Daily!B360,$G$7,0,1,1)","v":5.619999885559082},{"$f":"OFFSET(Daily!C360,$G$7,0,1,1)","v":5.6399998664855957},{"$f":"OFFSET(Daily!D360,$G$7,0,1,1)","v":5.5100002288818359},{"$f":"OFFSET(Daily!E360,$G$7,0,1,1)","v":5.5399999618530273},{"$f":"OFFSET(Daily!F360,$G$7,0,1,1)","v":2153300}]
[{"$f":"OFFSET(Daily!A361,$G$7,0,1,1)","v":"2019-05-28"},{"$f":"OFFSET(Daily!B361,$G$7,0,1,1)","v":5.5999999046325684},{"$f":"OFFSET(Daily!C361,$G$7,0,1,1)","v":5.6599998474121094},{"$f":"OFFSET(Daily!D361,$G$7,0,1,1)","v":5.4800000190734863},{"$f":"OFFSET(Daily!E361,$G$7,0,1,1)","v":5.5500001907348633},{"$f":"OFFSET(Daily!F361,$G$7,0,1,1)","v":3591400}]
[{"$f":"OFFSET(Daily!A362,$G$7,0,1,1)","v":"2019-05-24"},{"$f":"OFFSET(Daily!B362,$G$7,0,1,1)","v":5.570000171661377},{"$f":"OFFSET(Daily!C362,$G$7,0,1,1)","v":5.6999998092651367},{"$f":"OFFSET(Daily!D362,$G$7,0,1,1)","v":5.4800000190734863},{"$f":"OFFSET(Daily!E362,$G$7,0,1,1)","v":5.6700000762939453},{"$f":"OFFSET(Daily!F362,$G$7,0,1,1)","v":2156400}]
[{"$f":"OFFSET(Daily!A363,$G$7,0,1,1)","v":"2019-05-23"},{"$f":"OFFSET(Daily!B363,$G$7,0,1,1)","v":5.6100001335144043},{"$f":"OFFSET(Daily!C363,$G$7,0,1,1)","v":5.7699999809265137},{"$f":"OFFSET(Daily!D363,$G$7,0,1,1)","v":5.5399999618530273},{"$f":"OFFSET(Daily!E363,$G$7,0,1,1)","v":5.5999999046325684},{"$f":"OFFSET(Daily!F363,$G$7,0,1,1)","v":2816600}]
[{"$f":"OFFSET(Daily!A364,$G$7,0,1,1)","v":"2019-05-22"},{"$f":"OFFSET(Daily!B364,$G$7,0,1,1)","v":5.809999942779541},{"$f":"OFFSET(Daily!C364,$G$7,0,1,1)","v":5.8299999237060547},{"$f":"OFFSET(Daily!D364,$G$7,0,1,1)","v":5.5300002098083496},{"$f":"OFFSET(Daily!E364,$G$7,0,1,1)","v":5.5300002098083496},{"$f":"OFFSET(Daily!F364,$G$7,0,1,1)","v":2681500}]
[{"$f":"OFFSET(Daily!A365,$G$7,0,1,1)","v":"2019-05-21"},{"$f":"OFFSET(Daily!B365,$G$7,0,1,1)","v":5.75},{"$f":"OFFSET(Daily!C365,$G$7,0,1,1)","v":5.809999942779541},{"$f":"OFFSET(Daily!D365,$G$7,0,1,1)","v":5.6500000953674316},{"$f":"OFFSET(Daily!E365,$G$7,0,1,1)","v":5.7699999809265137},{"$f":"OFFSET(Daily!F365,$G$7,0,1,1)","v":2395600}]
[{"$f":"OFFSET(Daily!A366,$G$7,0,1,1)","v":"2019-05-20"},{"$f":"OFFSET(Daily!B366,$G$7,0,1,1)","v":5.8299999237060547},{"$f":"OFFSET(Daily!C366,$G$7,0,1,1)","v":5.869999885559082},{"$f":"OFFSET(Daily!D366,$G$7,0,1,1)","v":5.7899999618530273},{"$f":"OFFSET(Daily!E366,$G$7,0,1,1)","v":5.809999942779541},{"$f":"OFFSET(Daily!F366,$G$7,0,1,1)","v":1093700}]
[{"$f":"OFFSET(Daily!A367,$G$7,0,1,1)","v":"2019-05-17"},{"$f":"OFFSET(Daily!B367,$G$7,0,1,1)","v":5.75},{"$f":"OFFSET(Daily!C367,$G$7,0,1,1)","v":5.8899998664855957},{"$f":"OFFSET(Daily!D367,$G$7,0,1,1)","v":5.6999998092651367},{"$f":"OFFSET(Daily!E367,$G$7,0,1,1)","v":5.8600001335144043},{"$f":"OFFSET(Daily!F367,$G$7,0,1,1)","v":2521000}]
[{"$f":"OFFSET(Daily!A368,$G$7,0,1,1)","v":"2019-05-16"},{"$f":"OFFSET(Daily!B368,$G$7,0,1,1)","v":5.9000000953674316},{"$f":"OFFSET(Daily!C368,$G$7,0,1,1)","v":5.9099998474121094},{"$f":"OFFSET(Daily!D368,$G$7,0,1,1)","v":5.7399997711181641},{"$f":"OFFSET(Daily!E368,$G$7,0,1,1)","v":5.8000001907348633},{"$f":"OFFSET(Daily!F368,$G$7,0,1,1)","v":2261900}]
[{"$f":"OFFSET(Daily!A369,$G$7,0,1,1)","v":"2019-05-15"},{"$f":"OFFSET(Daily!B369,$G$7,0,1,1)","v":5.9899997711181641},{"$f":"OFFSET(Daily!C369,$G$7,0,1,1)","v":6.0500001907348633},{"$f":"OFFSET(Daily!D369,$G$7,0,1,1)","v":5.9099998474121094},{"$f":"OFFSET(Daily!E369,$G$7,0,1,1)","v":5.929999828338623},{"$f":"OFFSET(Daily!F369,$G$7,0,1,1)","v":1774500}]
[{"$f":"OFFSET(Daily!A370,$G$7,0,1,1)","v":"2019-05-14"},{"$f":"OFFSET(Daily!B370,$G$7,0,1,1)","v":6.0500001907348633},{"$f":"OFFSET(Daily!C370,$G$7,0,1,1)","v":6.0500001907348633},{"$f":"OFFSET(Daily!D370,$G$7,0,1,1)","v":5.820000171661377},{"$f":"OFFSET(Daily!E370,$G$7,0,1,1)","v":5.929999828338623},{"$f":"OFFSET(Daily!F370,$G$7,0,1,1)","v":1932000}]
[{"$f":"OFFSET(Daily!A371,$G$7,0,1,1)","v":"2019-05-13"},{"$f":"OFFSET(Daily!B371,$G$7,0,1,1)","v":5.9899997711181641},{"$f":"OFFSET(Daily!C371,$G$7,0,1,1)","v":6.070000171661377},{"$f":"OFFSET(Daily!D371,$G$7,0,1,1)","v":5.8899998664855957},{"$f":"OFFSET(Daily!E371,$G$7,0,1,1)","v":6.070000171661377},{"$f":"OFFSET(Daily!F371,$G$7,0,1,1)","v":3357100}]
[{"$f":"OFFSET(Daily!A372,$G$7,0,1,1)","v":"2019-05-10"},{"$f":"OFFSET(Daily!B372,$G$7,0,1,1)","v":5.9600000381469727},{"$f":"OFFSET(Daily!C372,$G$7,0,1,1)","v":5.9699997901916504},{"$f":"OFFSET(Daily!D372,$G$7,0,1,1)","v":5.8499999046325684},{"$f":"OFFSET(Daily!E372,$G$7,0,1,1)","v":5.880000114440918},{"$f":"OFFSET(Daily!F372,$G$7,0,1,1)","v":2861800}]
[{"$f":"OFFSET(Daily!A373,$G$7,0,1,1)","v":"2019-05-09"},{"$f":"OFFSET(Daily!B373,$G$7,0,1,1)","v":5.9200000762939453},{"$f":"OFFSET(Daily!C373,$G$7,0,1,1)","v":6.059999942779541},{"$f":"OFFSET(Daily!D373,$G$7,0,1,1)","v":5.8299999237060547},{"$f":"OFFSET(Daily!E373,$G$7,0,1,1)","v":6},{"$f":"OFFSET(Daily!F373,$G$7,0,1,1)","v":3527000}]
[{"$f":"OFFSET(Daily!A374,$G$7,0,1,1)","v":"2019-05-08"},{"$f":"OFFSET(Daily!B374,$G$7,0,1,1)","v":6.0399999618530273},{"$f":"OFFSET(Daily!C374,$G$7,0,1,1)","v":6.119999885559082},{"$f":"OFFSET(Daily!D374,$G$7,0,1,1)","v":5.820000171661377},{"$f":"OFFSET(Daily!E374,$G$7,0,1,1)","v":5.8400001525878906},{"$f":"OFFSET(Daily!F374,$G$7,0,1,1)","v":2413600}]
[{"$f":"OFFSET(Daily!A375,$G$7,0,1,1)","v":"2019-05-07"},{"$f":"OFFSET(Daily!B375,$G$7,0,1,1)","v":5.880000114440918},{"$f":"OFFSET(Daily!C375,$G$7,0,1,1)","v":6.0500001907348633},{"$f":"OFFSET(Daily!D375,$G$7,0,1,1)","v":5.7399997711181641},{"$f":"OFFSET(Daily!E375,$G$7,0,1,1)","v":6.0300002098083496},{"$f":"OFFSET(Daily!F375,$G$7,0,1,1)","v":2765400}]
[{"$f":"OFFSET(Daily!A376,$G$7,0,1,1)","v":"2019-05-06"},{"$f":"OFFSET(Daily!B376,$G$7,0,1,1)","v":5.7699999809265137},{"$f":"OFFSET(Daily!C376,$G$7,0,1,1)","v":5.880000114440918},{"$f":"OFFSET(Daily!D376,$G$7,0,1,1)","v":5.7300000190734863},{"$f":"OFFSET(Daily!E376,$G$7,0,1,1)","v":5.8299999237060547},{"$f":"OFFSET(Daily!F376,$G$7,0,1,1)","v":1328500}]
[{"$f":"OFFSET(Daily!A377,$G$7,0,1,1)","v":"2019-05-03"},{"$f":"OFFSET(Daily!B377,$G$7,0,1,1)","v":5.8499999046325684},{"$f":"OFFSET(Daily!C377,$G$7,0,1,1)","v":5.940000057220459},{"$f":"OFFSET(Daily!D377,$G$7,0,1,1)","v":5.7899999618530273},{"$f":"OFFSET(Daily!E377,$G$7,0,1,1)","v":5.8299999237060547},{"$f":"OFFSET(Daily!F377,$G$7,0,1,1)","v":2379300}]
[{"$f":"OFFSET(Daily!A378,$G$7,0,1,1)","v":"2019-05-02"},{"$f":"OFFSET(Daily!B378,$G$7,0,1,1)","v":5.9000000953674316},{"$f":"OFFSET(Daily!C378,$G$7,0,1,1)","v":5.9200000762939453},{"$f":"OFFSET(Daily!D378,$G$7,0,1,1)","v":5.6500000953674316},{"$f":"OFFSET(Daily!E378,$G$7,0,1,1)","v":5.7399997711181641},{"$f":"OFFSET(Daily!F378,$G$7,0,1,1)","v":3876300}]
[{"$f":"OFFSET(Daily!A379,$G$7,0,1,1)","v":"2019-05-01"},{"$f":"OFFSET(Daily!B379,$G$7,0,1,1)","v":6.0999999046325684},{"$f":"OFFSET(Daily!C379,$G$7,0,1,1)","v":6.2399997711181641},{"$f":"OFFSET(Daily!D379,$G$7,0,1,1)","v":5.9000000953674316},{"$f":"OFFSET(Daily!E379,$G$7,0,1,1)","v":5.9699997901916504},{"$f":"OFFSET(Daily!F379,$G$7,0,1,1)","v":3306800}]
[{"$f":"OFFSET(Daily!A380,$G$7,0,1,1)","v":"2019-04-30"},{"$f":"OFFSET(Daily!B380,$G$7,0,1,1)","v":6.0999999046325684},{"$f":"OFFSET(Daily!C380,$G$7,0,1,1)","v":6.179999828338623},{"$f":"OFFSET(Daily!D380,$G$7,0,1,1)","v":6.070000171661377},{"$f":"OFFSET(Daily!E380,$G$7,0,1,1)","v":6.1399998664855957},{"$f":"OFFSET(Daily!F380,$G$7,0,1,1)","v":1815900}]
[{"$f":"OFFSET(Daily!A381,$G$7,0,1,1)","v":"2019-04-29"},{"$f":"OFFSET(Daily!B381,$G$7,0,1,1)","v":6.2600002288818359},{"$f":"OFFSET(Daily!C381,$G$7,0,1,1)","v":6.2600002288818359},{"$f":"OFFSET(Daily!D381,$G$7,0,1,1)","v":6.0300002098083496},{"$f":"OFFSET(Daily!E381,$G$7,0,1,1)","v":6.0799999237060547},{"$f":"OFFSET(Daily!F381,$G$7,0,1,1)","v":2357300}]
[{"$f":"OFFSET(Daily!A382,$G$7,0,1,1)","v":"2019-04-26"},{"$f":"OFFSET(Daily!B382,$G$7,0,1,1)","v":6.0500001907348633},{"$f":"OFFSET(Daily!C382,$G$7,0,1,1)","v":6.3499999046325684},{"$f":"OFFSET(Daily!D382,$G$7,0,1,1)","v":6.0500001907348633},{"$f":"OFFSET(Daily!E382,$G$7,0,1,1)","v":6.320000171661377},{"$f":"OFFSET(Daily!F382,$G$7,0,1,1)","v":4134700}]
[{"$f":"OFFSET(Daily!A383,$G$7,0,1,1)","v":"2019-04-25"},{"$f":"OFFSET(Daily!B383,$G$7,0,1,1)","v":6.0300002098083496},{"$f":"OFFSET(Daily!C383,$G$7,0,1,1)","v":6.119999885559082},{"$f":"OFFSET(Daily!D383,$G$7,0,1,1)","v":5.940000057220459},{"$f":"OFFSET(Daily!E383,$G$7,0,1,1)","v":6.0100002288818359},{"$f":"OFFSET(Daily!F383,$G$7,0,1,1)","v":2994700}]
[{"$f":"OFFSET(Daily!A384,$G$7,0,1,1)","v":"2019-04-24"},{"$f":"OFFSET(Daily!B384,$G$7,0,1,1)","v":5.9600000381469727},{"$f":"OFFSET(Daily!C384,$G$7,0,1,1)","v":6.0799999237060547},{"$f":"OFFSET(Daily!D384,$G$7,0,1,1)","v":5.880000114440918},{"$f":"OFFSET(Daily!E384,$G$7,0,1,1)","v":5.9899997711181641},{"$f":"OFFSET(Daily!F384,$G$7,0,1,1)","v":2935200}]
[{"$f":"OFFSET(Daily!A385,$G$7,0,1,1)","v":"2019-04-23"},{"$f":"OFFSET(Daily!B385,$G$7,0,1,1)","v":5.809999942779541},{"$f":"OFFSET(Daily!C385,$G$7,0,1,1)","v":6.0199999809265137},{"$f":"OFFSET(Daily!D385,$G$7,0,1,1)","v":5.7800002098083496},{"$f":"OFFSET(Daily!E385,$G$7,0,1,1)","v":5.9499998092651367},{"$f":"OFFSET(Daily!F385,$G$7,0,1,1)","v":2662100}]
[{"$f":"OFFSET(Daily!A386,$G$7,0,1,1)","v":"2019-04-22"},{"$f":"OFFSET(Daily!B386,$G$7,0,1,1)","v":6.0399999618530273},{"$f":"OFFSET(Daily!C386,$G$7,0,1,1)","v":6.130000114440918},{"$f":"OFFSET(Daily!D386,$G$7,0,1,1)","v":5.880000114440918},{"$f":"OFFSET(Daily!E386,$G$7,0,1,1)","v":5.9000000953674316},{"$f":"OFFSET(Daily!F386,$G$7,0,1,1)","v":2470800}]
[{"$f":"OFFSET(Daily!A387,$G$7,0,1,1)","v":"2019-04-18"},{"$f":"OFFSET(Daily!B387,$G$7,0,1,1)","v":6.0799999237060547},{"$f":"OFFSET(Daily!C387,$G$7,0,1,1)","v":6.179999828338623},{"$f":"OFFSET(Daily!D387,$G$7,0,1,1)","v":6.0100002288818359},{"$f":"OFFSET(Daily!E387,$G$7,0,1,1)","v":6.070000171661377},{"$f":"OFFSET(Daily!F387,$G$7,0,1,1)","v":2111300}]
[{"$f":"OFFSET(Daily!A388,$G$7,0,1,1)","v":"2019-04-17"},{"$f":"OFFSET(Daily!B388,$G$7,0,1,1)","v":6.119999885559082},{"$f":"OFFSET(Daily!C388,$G$7,0,1,1)","v":6.2100000381469727},{"$f":"OFFSET(Daily!D388,$G$7,0,1,1)","v":6},{"$f":"OFFSET(Daily!E388,$G$7,0,1,1)","v":6.0399999618530273},{"$f":"OFFSET(Daily!F388,$G$7,0,1,1)","v":2679200}]
[{"$f":"OFFSET(Daily!A389,$G$7,0,1,1)","v":"2019-04-16"},{"$f":"OFFSET(Daily!B389,$G$7,0,1,1)","v":6.2300000190734863},{"$f":"OFFSET(Daily!C389,$G$7,0,1,1)","v":6.2300000190734863},{"$f":"OFFSET(Daily!D389,$G$7,0,1,1)","v":6.0399999618530273},{"$f":"OFFSET(Daily!E389,$G$7,0,1,1)","v":6.070000171661377},{"$f":"OFFSET(Daily!F389,$G$7,0,1,1)","v":2873700}]
[{"$f":"OFFSET(Daily!A390,$G$7,0,1,1)","v":"2019-04-15"},{"$f":"OFFSET(Daily!B390,$G$7,0,1,1)","v":6.190000057220459},{"$f":"OFFSET(Daily!C390,$G$7,0,1,1)","v":6.3299999237060547},{"$f":"OFFSET(Daily!D390,$G$7,0,1,1)","v":6.119999885559082},{"$f":"OFFSET(Daily!E390,$G$7,0,1,1)","v":6.2800002098083496},{"$f":"OFFSET(Daily!F390,$G$7,0,1,1)","v":2160400}]
[{"$f":"OFFSET(Daily!A391,$G$7,0,1,1)","v":"2019-04-12"},{"$f":"OFFSET(Daily!B391,$G$7,0,1,1)","v":6.3499999046325684},{"$f":"OFFSET(Daily!C391,$G$7,0,1,1)","v":6.4000000953674316},{"$f":"OFFSET(Daily!D391,$G$7,0,1,1)","v":6.25},{"$f":"OFFSET(Daily!E391,$G$7,0,1,1)","v":6.2699999809265137},{"$f":"OFFSET(Daily!F391,$G$7,0,1,1)","v":1639400}]
[{"$f":"OFFSET(Daily!A392,$G$7,0,1,1)","v":"2019-04-11"},{"$f":"OFFSET(Daily!B392,$G$7,0,1,1)","v":6.3499999046325684},{"$f":"OFFSET(Daily!C392,$G$7,0,1,1)","v":6.440000057220459},{"$f":"OFFSET(Daily!D392,$G$7,0,1,1)","v":6.2399997711181641},{"$f":"OFFSET(Daily!E392,$G$7,0,1,1)","v":6.3000001907348633},{"$f":"OFFSET(Daily!F392,$G$7,0,1,1)","v":2597300}]
[{"$f":"OFFSET(Daily!A393,$G$7,0,1,1)","v":"2019-04-10"},{"$f":"OFFSET(Daily!B393,$G$7,0,1,1)","v":6.5799999237060547},{"$f":"OFFSET(Daily!C393,$G$7,0,1,1)","v":6.6399998664855957},{"$f":"OFFSET(Daily!D393,$G$7,0,1,1)","v":6.4800000190734863},{"$f":"OFFSET(Daily!E393,$G$7,0,1,1)","v":6.4800000190734863},{"$f":"OFFSET(Daily!F393,$G$7,0,1,1)","v":1729900}]
[{"$f":"OFFSET(Daily!A394,$G$7,0,1,1)","v":"2019-04-09"},{"$f":"OFFSET(Daily!B394,$G$7,0,1,1)","v":6.570000171661377},{"$f":"OFFSET(Daily!C394,$G$7,0,1,1)","v":6.6399998664855957},{"$f":"OFFSET(Daily!D394,$G$7,0,1,1)","v":6.5399999618530273},{"$f":"OFFSET(Daily!E394,$G$7,0,1,1)","v":6.5999999046325684},{"$f":"OFFSET(Daily!F394,$G$7,0,1,1)","v":1383700}]
[{"$f":"OFFSET(Daily!A395,$G$7,0,1,1)","v":"2019-04-08"},{"$f":"OFFSET(Daily!B395,$G$7,0,1,1)","v":6.5900001525878906},{"$f":"OFFSET(Daily!C395,$G$7,0,1,1)","v":6.6599998474121094},{"$f":"OFFSET(Daily!D395,$G$7,0,1,1)","v":6.5},{"$f":"OFFSET(Daily!E395,$G$7,0,1,1)","v":6.5399999618530273},{"$f":"OFFSET(Daily!F395,$G$7,0,1,1)","v":2087300}]
[{"$f":"OFFSET(Daily!A396,$G$7,0,1,1)","v":"2019-04-05"},{"$f":"OFFSET(Daily!B396,$G$7,0,1,1)","v":6.4699997901916504},{"$f":"OFFSET(Daily!C396,$G$7,0,1,1)","v":6.5300002098083496},{"$f":"OFFSET(Daily!D396,$G$7,0,1,1)","v":6.4099998474121094},{"$f":"OFFSET(Daily!E396,$G$7,0,1,1)","v":6.4499998092651367},{"$f":"OFFSET(Daily!F396,$G$7,0,1,1)","v":1349400}]
[{"$f":"OFFSET(Daily!A397,$G$7,0,1,1)","v":"2019-04-04"},{"$f":"OFFSET(Daily!B397,$G$7,0,1,1)","v":6.2300000190734863},{"$f":"OFFSET(Daily!C397,$G$7,0,1,1)","v":6.5500001907348633},{"$f":"OFFSET(Daily!D397,$G$7,0,1,1)","v":6.1599998474121094},{"$f":"OFFSET(Daily!E397,$G$7,0,1,1)","v":6.5500001907348633},{"$f":"OFFSET(Daily!F397,$G$7,0,1,1)","v":2597600}]
[{"$f":"OFFSET(Daily!A398,$G$7,0,1,1)","v":"2019-04-03"},{"$f":"OFFSET(Daily!B398,$G$7,0,1,1)","v":6.3499999046325684},{"$f":"OFFSET(Daily!C398,$G$7,0,1,1)","v":6.4200000762939453},{"$f":"OFFSET(Daily!D398,$G$7,0,1,1)","v":6.2600002288818359},{"$f":"OFFSET(Daily!E398,$G$7,0,1,1)","v":6.3400001525878906},{"$f":"OFFSET(Daily!F398,$G$7,0,1,1)","v":2542000}]
[{"$f":"OFFSET(Daily!A399,$G$7,0,1,1)","v":"2019-04-02"},{"$f":"OFFSET(Daily!B399,$G$7,0,1,1)","v":6.2300000190734863},{"$f":"OFFSET(Daily!C399,$G$7,0,1,1)","v":6.380000114440918},{"$f":"OFFSET(Daily!D399,$G$7,0,1,1)","v":6.2199997901916504},{"$f":"OFFSET(Daily!E399,$G$7,0,1,1)","v":6.3000001907348633},{"$f":"OFFSET(Daily!F399,$G$7,0,1,1)","v":1999200}]
[{"$f":"OFFSET(Daily!A400,$G$7,0,1,1)","v":"2019-04-01"},{"$f":"OFFSET(Daily!B400,$G$7,0,1,1)","v":6.5999999046325684},{"$f":"OFFSET(Daily!C400,$G$7,0,1,1)","v":6.6100001335144043},{"$f":"OFFSET(Daily!D400,$G$7,0,1,1)","v":6.2399997711181641},{"$f":"OFFSET(Daily!E400,$G$7,0,1,1)","v":6.320000171661377},{"$f":"OFFSET(Daily!F400,$G$7,0,1,1)","v":3910600}]
[{"$f":"OFFSET(Daily!A401,$G$7,0,1,1)","v":"2019-03-29"},{"$f":"OFFSET(Daily!B401,$G$7,0,1,1)","v":6.7300000190734863},{"$f":"OFFSET(Daily!C401,$G$7,0,1,1)","v":6.7699999809265137},{"$f":"OFFSET(Daily!D401,$G$7,0,1,1)","v":6.559999942779541},{"$f":"OFFSET(Daily!E401,$G$7,0,1,1)","v":6.5799999237060547},{"$f":"OFFSET(Daily!F401,$G$7,0,1,1)","v":3103100}]
[{"$f":"OFFSET(Daily!A402,$G$7,0,1,1)","v":"2019-03-28"},{"$f":"OFFSET(Daily!B402,$G$7,0,1,1)","v":6.679999828338623},{"$f":"OFFSET(Daily!C402,$G$7,0,1,1)","v":6.679999828338623},{"$f":"OFFSET(Daily!D402,$G$7,0,1,1)","v":6.4699997901916504},{"$f":"OFFSET(Daily!E402,$G$7,0,1,1)","v":6.619999885559082},{"$f":"OFFSET(Daily!F402,$G$7,0,1,1)","v":4406900}]
[{"$f":"OFFSET(Daily!A403,$G$7,0,1,1)","v":"2019-03-27"},{"$f":"OFFSET(Daily!B403,$G$7,0,1,1)","v":7.130000114440918},{"$f":"OFFSET(Daily!C403,$G$7,0,1,1)","v":7.1500000953674316},{"$f":"OFFSET(Daily!D403,$G$7,0,1,1)","v":6.8499999046325684},{"$f":"OFFSET(Daily!E403,$G$7,0,1,1)","v":6.9000000953674316},{"$f":"OFFSET(Daily!F403,$G$7,0,1,1)","v":3280700}]
[{"$f":"OFFSET(Daily!A404,$G$7,0,1,1)","v":"2019-03-26"},{"$f":"OFFSET(Daily!B404,$G$7,0,1,1)","v":7.0900001525878906},{"$f":"OFFSET(Daily!C404,$G$7,0,1,1)","v":7.1500000953674316},{"$f":"OFFSET(Daily!D404,$G$7,0,1,1)","v":7},{"$f":"OFFSET(Daily!E404,$G$7,0,1,1)","v":7.119999885559082},{"$f":"OFFSET(Daily!F404,$G$7,0,1,1)","v":2378600}]
[{"$f":"OFFSET(Daily!A405,$G$7,0,1,1)","v":"2019-03-25"},{"$f":"OFFSET(Daily!B405,$G$7,0,1,1)","v":6.9499998092651367},{"$f":"OFFSET(Daily!C405,$G$7,0,1,1)","v":7.190000057220459},{"$f":"OFFSET(Daily!D405,$G$7,0,1,1)","v":6.8899998664855957},{"$f":"OFFSET(Daily!E405,$G$7,0,1,1)","v":7.1500000953674316},{"$f":"OFFSET(Daily!F405,$G$7,0,1,1)","v":3815600}]
[{"$f":"OFFSET(Daily!A406,$G$7,0,1,1)","v":"2019-03-22"},{"$f":"OFFSET(Daily!B406,$G$7,0,1,1)","v":6.9000000953674316},{"$f":"OFFSET(Daily!C406,$G$7,0,1,1)","v":7.0100002288818359},{"$f":"OFFSET(Daily!D406,$G$7,0,1,1)","v":6.8499999046325684},{"$f":"OFFSET(Daily!E406,$G$7,0,1,1)","v":6.8899998664855957},{"$f":"OFFSET(Daily!F406,$G$7,0,1,1)","v":2871600}]
[{"$f":"OFFSET(Daily!A407,$G$7,0,1,1)","v":"2019-03-21"},{"$f":"OFFSET(Daily!B407,$G$7,0,1,1)","v":6.9000000953674316},{"$f":"OFFSET(Daily!C407,$G$7,0,1,1)","v":7.070000171661377},{"$f":"OFFSET(Daily!D407,$G$7,0,1,1)","v":6.75},{"$f":"OFFSET(Daily!E407,$G$7,0,1,1)","v":6.940000057220459},{"$f":"OFFSET(Daily!F407,$G$7,0,1,1)","v":3848200}]
[{"$f":"OFFSET(Daily!A408,$G$7,0,1,1)","v":"2019-03-20"},{"$f":"OFFSET(Daily!B408,$G$7,0,1,1)","v":6.75},{"$f":"OFFSET(Daily!C408,$G$7,0,1,1)","v":6.9600000381469727},{"$f":"OFFSET(Daily!D408,$G$7,0,1,1)","v":6.570000171661377},{"$f":"OFFSET(Daily!E408,$G$7,0,1,1)","v":6.9000000953674316},{"$f":"OFFSET(Daily!F408,$G$7,0,1,1)","v":3970100}]
[{"$f":"OFFSET(Daily!A409,$G$7,0,1,1)","v":"2019-03-19"},{"$f":"OFFSET(Daily!B409,$G$7,0,1,1)","v":6.7899999618530273},{"$f":"OFFSET(Daily!C409,$G$7,0,1,1)","v":6.8000001907348633},{"$f":"OFFSET(Daily!D409,$G$7,0,1,1)","v":6.6399998664855957},{"$f":"OFFSET(Daily!E409,$G$7,0,1,1)","v":6.7699999809265137},{"$f":"OFFSET(Daily!F409,$G$7,0,1,1)","v":2576300}]
[{"$f":"OFFSET(Daily!A410,$G$7,0,1,1)","v":"2019-03-18"},{"$f":"OFFSET(Daily!B410,$G$7,0,1,1)","v":6.7100000381469727},{"$f":"OFFSET(Daily!C410,$G$7,0,1,1)","v":6.7899999618530273},{"$f":"OFFSET(Daily!D410,$G$7,0,1,1)","v":6.5399999618530273},{"$f":"OFFSET(Daily!E410,$G$7,0,1,1)","v":6.6500000953674316},{"$f":"OFFSET(Daily!F410,$G$7,0,1,1)","v":3479600}]
[{"$f":"OFFSET(Daily!A411,$G$7,0,1,1)","v":"2019-03-15"},{"$f":"OFFSET(Daily!B411,$G$7,0,1,1)","v":6.679999828338623},{"$f":"OFFSET(Daily!C411,$G$7,0,1,1)","v":6.8400001525878906},{"$f":"OFFSET(Daily!D411,$G$7,0,1,1)","v":6.5799999237060547},{"$f":"OFFSET(Daily!E411,$G$7,0,1,1)","v":6.7199997901916504},{"$f":"OFFSET(Daily!F411,$G$7,0,1,1)","v":5493100}]
[{"$f":"OFFSET(Daily!A412,$G$7,0,1,1)","v":"2019-03-14"},{"$f":"OFFSET(Daily!B412,$G$7,0,1,1)","v":6.6599998474121094},{"$f":"OFFSET(Daily!C412,$G$7,0,1,1)","v":6.820000171661377},{"$f":"OFFSET(Daily!D412,$G$7,0,1,1)","v":6.5999999046325684},{"$f":"OFFSET(Daily!E412,$G$7,0,1,1)","v":6.619999885559082},{"$f":"OFFSET(Daily!F412,$G$7,0,1,1)","v":3441500}]
[{"$f":"OFFSET(Daily!A413,$G$7,0,1,1)","v":"2019-03-13"},{"$f":"OFFSET(Daily!B413,$G$7,0,1,1)","v":6.880000114440918},{"$f":"OFFSET(Daily!C413,$G$7,0,1,1)","v":7.0199999809265137},{"$f":"OFFSET(Daily!D413,$G$7,0,1,1)","v":6.8499999046325684},{"$f":"OFFSET(Daily!E413,$G$7,0,1,1)","v":6.9600000381469727},{"$f":"OFFSET(Daily!F413,$G$7,0,1,1)","v":3529900}]
[{"$f":"OFFSET(Daily!A414,$G$7,0,1,1)","v":"2019-03-12"},{"$f":"OFFSET(Daily!B414,$G$7,0,1,1)","v":6.6999998092651367},{"$f":"OFFSET(Daily!C414,$G$7,0,1,1)","v":6.8899998664855957},{"$f":"OFFSET(Daily!D414,$G$7,0,1,1)","v":6.690000057220459},{"$f":"OFFSET(Daily!E414,$G$7,0,1,1)","v":6.869999885559082},{"$f":"OFFSET(Daily!F414,$G$7,0,1,1)","v":2820300}]
[{"$f":"OFFSET(Daily!A415,$G$7,0,1,1)","v":"2019-03-11"},{"$f":"OFFSET(Daily!B415,$G$7,0,1,1)","v":6.75},{"$f":"OFFSET(Daily!C415,$G$7,0,1,1)","v":6.8299999237060547},{"$f":"OFFSET(Daily!D415,$G$7,0,1,1)","v":6.5300002098083496},{"$f":"OFFSET(Daily!E415,$G$7,0,1,1)","v":6.630000114440918},{"$f":"OFFSET(Daily!F415,$G$7,0,1,1)","v":3311000}]
[{"$f":"OFFSET(Daily!A416,$G$7,0,1,1)","v":"2019-03-08"},{"$f":"OFFSET(Daily!B416,$G$7,0,1,1)","v":6.7100000381469727},{"$f":"OFFSET(Daily!C416,$G$7,0,1,1)","v":6.7899999618530273},{"$f":"OFFSET(Daily!D416,$G$7,0,1,1)","v":6.570000171661377},{"$f":"OFFSET(Daily!E416,$G$7,0,1,1)","v":6.7800002098083496},{"$f":"OFFSET(Daily!F416,$G$7,0,1,1)","v":3672600}]
[{"$f":"OFFSET(Daily!A417,$G$7,0,1,1)","v":"2019-03-07"},{"$f":"OFFSET(Daily!B417,$G$7,0,1,1)","v":6.2800002098083496},{"$f":"OFFSET(Daily!C417,$G$7,0,1,1)","v":6.5},{"$f":"OFFSET(Daily!D417,$G$7,0,1,1)","v":6.2399997711181641},{"$f":"OFFSET(Daily!E417,$G$7,0,1,1)","v":6.4899997711181641},{"$f":"OFFSET(Daily!F417,$G$7,0,1,1)","v":2468800}]
[{"$f":"OFFSET(Daily!A418,$G$7,0,1,1)","v":"2019-03-06"},{"$f":"OFFSET(Daily!B418,$G$7,0,1,1)","v":6.4499998092651367},{"$f":"OFFSET(Daily!C418,$G$7,0,1,1)","v":6.5300002098083496},{"$f":"OFFSET(Daily!D418,$G$7,0,1,1)","v":6.2699999809265137},{"$f":"OFFSET(Daily!E418,$G$7,0,1,1)","v":6.309999942779541},{"$f":"OFFSET(Daily!F418,$G$7,0,1,1)","v":3789600}]
[{"$f":"OFFSET(Daily!A419,$G$7,0,1,1)","v":"2019-03-05"},{"$f":"OFFSET(Daily!B419,$G$7,0,1,1)","v":6.4000000953674316},{"$f":"OFFSET(Daily!C419,$G$7,0,1,1)","v":6.4699997901916504},{"$f":"OFFSET(Daily!D419,$G$7,0,1,1)","v":6.2699999809265137},{"$f":"OFFSET(Daily!E419,$G$7,0,1,1)","v":6.4600000381469727},{"$f":"OFFSET(Daily!F419,$G$7,0,1,1)","v":2891800}]
[{"$f":"OFFSET(Daily!A420,$G$7,0,1,1)","v":"2019-03-04"},{"$f":"OFFSET(Daily!B420,$G$7,0,1,1)","v":6.320000171661377},{"$f":"OFFSET(Daily!C420,$G$7,0,1,1)","v":6.4000000953674316},{"$f":"OFFSET(Daily!D420,$G$7,0,1,1)","v":6.119999885559082},{"$f":"OFFSET(Daily!E420,$G$7,0,1,1)","v":6.4000000953674316},{"$f":"OFFSET(Daily!F420,$G$7,0,1,1)","v":3664700}]
[{"$f":"OFFSET(Daily!A421,$G$7,0,1,1)","v":"2019-03-01"},{"$f":"OFFSET(Daily!B421,$G$7,0,1,1)","v":6.5999999046325684},{"$f":"OFFSET(Daily!C421,$G$7,0,1,1)","v":6.7300000190734863},{"$f":"OFFSET(Daily!D421,$G$7,0,1,1)","v":6.3400001525878906},{"$f":"OFFSET(Daily!E421,$G$7,0,1,1)","v":6.3499999046325684},{"$f":"OFFSET(Daily!F421,$G$7,0,1,1)","v":3815000}]
[{"$f":"OFFSET(Daily!A422,$G$7,0,1,1)","v":"2019-02-28"},{"$f":"OFFSET(Daily!B422,$G$7,0,1,1)","v":6.7899999618530273},{"$f":"OFFSET(Daily!C422,$G$7,0,1,1)","v":6.820000171661377},{"$f":"OFFSET(Daily!D422,$G$7,0,1,1)","v":6.6599998474121094},{"$f":"OFFSET(Daily!E422,$G$7,0,1,1)","v":6.7399997711181641},{"$f":"OFFSET(Daily!F422,$G$7,0,1,1)","v":2474800}]
[{"$f":"OFFSET(Daily!A423,$G$7,0,1,1)","v":"2019-02-27"},{"$f":"OFFSET(Daily!B423,$G$7,0,1,1)","v":7.0100002288818359},{"$f":"OFFSET(Daily!C423,$G$7,0,1,1)","v":7.0300002098083496},{"$f":"OFFSET(Daily!D423,$G$7,0,1,1)","v":6.7199997901916504},{"$f":"OFFSET(Daily!E423,$G$7,0,1,1)","v":6.7800002098083496},{"$f":"OFFSET(Daily!F423,$G$7,0,1,1)","v":3605000}]
[{"$f":"OFFSET(Daily!A424,$G$7,0,1,1)","v":"2019-02-26"},{"$f":"OFFSET(Daily!B424,$G$7,0,1,1)","v":6.7800002098083496},{"$f":"OFFSET(Daily!C424,$G$7,0,1,1)","v":7.0799999237060547},{"$f":"OFFSET(Daily!D424,$G$7,0,1,1)","v":6.6999998092651367},{"$f":"OFFSET(Daily!E424,$G$7,0,1,1)","v":7.0300002098083496},{"$f":"OFFSET(Daily!F424,$G$7,0,1,1)","v":3854600}]
[{"$f":"OFFSET(Daily!A425,$G$7,0,1,1)","v":"2019-02-25"},{"$f":"OFFSET(Daily!B425,$G$7,0,1,1)","v":6.5},{"$f":"OFFSET(Daily!C425,$G$7,0,1,1)","v":6.9899997711181641},{"$f":"OFFSET(Daily!D425,$G$7,0,1,1)","v":6.5},{"$f":"OFFSET(Daily!E425,$G$7,0,1,1)","v":6.9200000762939453},{"$f":"OFFSET(Daily!F425,$G$7,0,1,1)","v":4270500}]
[{"$f":"OFFSET(Daily!A426,$G$7,0,1,1)","v":"2019-02-22"},{"$f":"OFFSET(Daily!B426,$G$7,0,1,1)","v":6.6100001335144043},{"$f":"OFFSET(Daily!C426,$G$7,0,1,1)","v":6.7600002288818359},{"$f":"OFFSET(Daily!D426,$G$7,0,1,1)","v":6.5500001907348633},{"$f":"OFFSET(Daily!E426,$G$7,0,1,1)","v":6.5799999237060547},{"$f":"OFFSET(Daily!F426,$G$7,0,1,1)","v":3459800}]
[{"$f":"OFFSET(Daily!A427,$G$7,0,1,1)","v":"2019-02-21"},{"$f":"OFFSET(Daily!B427,$G$7,0,1,1)","v":6.5799999237060547},{"$f":"OFFSET(Daily!C427,$G$7,0,1,1)","v":6.6599998474121094},{"$f":"OFFSET(Daily!D427,$G$7,0,1,1)","v":6.429999828338623},{"$f":"OFFSET(Daily!E427,$G$7,0,1,1)","v":6.5500001907348633},{"$f":"OFFSET(Daily!F427,$G$7,0,1,1)","v":3781800}]
[{"$f":"OFFSET(Daily!A428,$G$7,0,1,1)","v":"2019-02-20"},{"$f":"OFFSET(Daily!B428,$G$7,0,1,1)","v":6.6999998092651367},{"$f":"OFFSET(Daily!C428,$G$7,0,1,1)","v":6.820000171661377},{"$f":"OFFSET(Daily!D428,$G$7,0,1,1)","v":6.559999942779541},{"$f":"OFFSET(Daily!E428,$G$7,0,1,1)","v":6.6599998474121094},{"$f":"OFFSET(Daily!F428,$G$7,0,1,1)","v":5712900}]
[{"$f":"OFFSET(Daily!A429,$G$7,0,1,1)","v":"2019-02-19"},{"$f":"OFFSET(Daily!B429,$G$7,0,1,1)","v":6.25},{"$f":"OFFSET(Daily!C429,$G$7,0,1,1)","v":6.6399998664855957},{"$f":"OFFSET(Daily!D429,$G$7,0,1,1)","v":6.25},{"$f":"OFFSET(Daily!E429,$G$7,0,1,1)","v":6.6100001335144043},{"$f":"OFFSET(Daily!F429,$G$7,0,1,1)","v":6203500}]
[{"$f":"OFFSET(Daily!A430,$G$7,0,1,1)","v":"2019-02-15"},{"$f":"OFFSET(Daily!B430,$G$7,0,1,1)","v":6.1100001335144043},{"$f":"OFFSET(Daily!C430,$G$7,0,1,1)","v":6.1999998092651367},{"$f":"OFFSET(Daily!D430,$G$7,0,1,1)","v":6.0100002288818359},{"$f":"OFFSET(Daily!E430,$G$7,0,1,1)","v":6.190000057220459},{"$f":"OFFSET(Daily!F430,$G$7,0,1,1)","v":3487300}]
[{"$f":"OFFSET(Daily!A431,$G$7,0,1,1)","v":"2019-02-14"},{"$f":"OFFSET(Daily!B431,$G$7,0,1,1)","v":5.929999828338623},{"$f":"OFFSET(Daily!C431,$G$7,0,1,1)","v":6.059999942779541},{"$f":"OFFSET(Daily!D431,$G$7,0,1,1)","v":5.8600001335144043},{"$f":"OFFSET(Daily!E431,$G$7,0,1,1)","v":6.0500001907348633},{"$f":"OFFSET(Daily!F431,$G$7,0,1,1)","v":2247000}]
[{"$f":"OFFSET(Daily!A432,$G$7,0,1,1)","v":"2019-02-13"},{"$f":"OFFSET(Daily!B432,$G$7,0,1,1)","v":5.869999885559082},{"$f":"OFFSET(Daily!C432,$G$7,0,1,1)","v":6.059999942779541},{"$f":"OFFSET(Daily!D432,$G$7,0,1,1)","v":5.8499999046325684},{"$f":"OFFSET(Daily!E432,$G$7,0,1,1)","v":5.9200000762939453},{"$f":"OFFSET(Daily!F432,$G$7,0,1,1)","v":2085200}]
[{"$f":"OFFSET(Daily!A433,$G$7,0,1,1)","v":"2019-02-12"},{"$f":"OFFSET(Daily!B433,$G$7,0,1,1)","v":6},{"$f":"OFFSET(Daily!C433,$G$7,0,1,1)","v":6.0500001907348633},{"$f":"OFFSET(Daily!D433,$G$7,0,1,1)","v":5.869999885559082},{"$f":"OFFSET(Daily!E433,$G$7,0,1,1)","v":5.929999828338623},{"$f":"OFFSET(Daily!F433,$G$7,0,1,1)","v":2140800}]
[{"$f":"OFFSET(Daily!A434,$G$7,0,1,1)","v":"2019-02-11"},{"$f":"OFFSET(Daily!B434,$G$7,0,1,1)","v":5.9499998092651367},{"$f":"OFFSET(Daily!C434,$G$7,0,1,1)","v":6.070000171661377},{"$f":"OFFSET(Daily!D434,$G$7,0,1,1)","v":5.9200000762939453},{"$f":"OFFSET(Daily!E434,$G$7,0,1,1)","v":5.9899997711181641},{"$f":"OFFSET(Daily!F434,$G$7,0,1,1)","v":1348600}]
[{"$f":"OFFSET(Daily!A435,$G$7,0,1,1)","v":"2019-02-08"},{"$f":"OFFSET(Daily!B435,$G$7,0,1,1)","v":5.9099998474121094},{"$f":"OFFSET(Daily!C435,$G$7,0,1,1)","v":6.070000171661377},{"$f":"OFFSET(Daily!D435,$G$7,0,1,1)","v":5.8899998664855957},{"$f":"OFFSET(Daily!E435,$G$7,0,1,1)","v":6.0300002098083496},{"$f":"OFFSET(Daily!F435,$G$7,0,1,1)","v":2148400}]
[{"$f":"OFFSET(Daily!A436,$G$7,0,1,1)","v":"2019-02-07"},{"$f":"OFFSET(Daily!B436,$G$7,0,1,1)","v":6.0399999618530273},{"$f":"OFFSET(Daily!C436,$G$7,0,1,1)","v":6.0799999237060547},{"$f":"OFFSET(Daily!D436,$G$7,0,1,1)","v":5.8299999237060547},{"$f":"OFFSET(Daily!E436,$G$7,0,1,1)","v":5.8600001335144043},{"$f":"OFFSET(Daily!F436,$G$7,0,1,1)","v":3353100}]
[{"$f":"OFFSET(Daily!A437,$G$7,0,1,1)","v":"2019-02-06"},{"$f":"OFFSET(Daily!B437,$G$7,0,1,1)","v":6.0100002288818359},{"$f":"OFFSET(Daily!C437,$G$7,0,1,1)","v":6.2199997901916504},{"$f":"OFFSET(Daily!D437,$G$7,0,1,1)","v":6.0100002288818359},{"$f":"OFFSET(Daily!E437,$G$7,0,1,1)","v":6.0399999618530273},{"$f":"OFFSET(Daily!F437,$G$7,0,1,1)","v":2826300}]
[{"$f":"OFFSET(Daily!A438,$G$7,0,1,1)","v":"2019-02-05"},{"$f":"OFFSET(Daily!B438,$G$7,0,1,1)","v":6.0100002288818359},{"$f":"OFFSET(Daily!C438,$G$7,0,1,1)","v":6.119999885559082},{"$f":"OFFSET(Daily!D438,$G$7,0,1,1)","v":5.9800000190734863},{"$f":"OFFSET(Daily!E438,$G$7,0,1,1)","v":6.1100001335144043},{"$f":"OFFSET(Daily!F438,$G$7,0,1,1)","v":2238200}]
[{"$f":"OFFSET(Daily!A439,$G$7,0,1,1)","v":"2019-02-04"},{"$f":"OFFSET(Daily!B439,$G$7,0,1,1)","v":5.8400001525878906},{"$f":"OFFSET(Daily!C439,$G$7,0,1,1)","v":6.0500001907348633},{"$f":"OFFSET(Daily!D439,$G$7,0,1,1)","v":5.809999942779541},{"$f":"OFFSET(Daily!E439,$G$7,0,1,1)","v":6.0500001907348633},{"$f":"OFFSET(Daily!F439,$G$7,0,1,1)","v":1891400}]
[{"$f":"OFFSET(Daily!A440,$G$7,0,1,1)","v":"2019-02-01"},{"$f":"OFFSET(Daily!B440,$G$7,0,1,1)","v":6.0799999237060547},{"$f":"OFFSET(Daily!C440,$G$7,0,1,1)","v":6.0799999237060547},{"$f":"OFFSET(Daily!D440,$G$7,0,1,1)","v":5.869999885559082},{"$f":"OFFSET(Daily!E440,$G$7,0,1,1)","v":6},{"$f":"OFFSET(Daily!F440,$G$7,0,1,1)","v":3359300}]
[{"$f":"OFFSET(Daily!A441,$G$7,0,1,1)","v":"2019-01-31"},{"$f":"OFFSET(Daily!B441,$G$7,0,1,1)","v":6.070000171661377},{"$f":"OFFSET(Daily!C441,$G$7,0,1,1)","v":6.1700000762939453},{"$f":"OFFSET(Daily!D441,$G$7,0,1,1)","v":6.0199999809265137},{"$f":"OFFSET(Daily!E441,$G$7,0,1,1)","v":6.119999885559082},{"$f":"OFFSET(Daily!F441,$G$7,0,1,1)","v":3272800}]

{"sheet":"Daily","index":1,"n_rows":3504,"n_cols":14,"rows_kept":3504,"cut":false,"hidden":false,"merged":[]}
["Date","Open","High","Low","Close","Volume",null,null,"Date","Open","High","Low","Close","Volume"]
["2020-10-27",10.609999656677246,10.920000076293944,10.5,10.899999618530272,2925358]
["2020-10-26",10.810000419616699,11.050000190734863,10.579999923706056,10.609999656677246,3253644]
["2020-10-23",10.869999885559082,11.020000457763672,10.770000457763672,10.979999542236328,3189800]
["2020-10-22",10.899999618530272,10.960000038146973,10.649999618530272,10.930000305175779,4102600]
["2020-10-21",11.029999732971191,11.265000343322754,10.885000228881836,11.119999885559082,4894999]
["2020-10-20",10.449999809265137,10.939999580383301,10.430000305175779,10.829999923706056,4799030]
["2020-10-19",10.670000076293944,10.819999694824221,10.319999694824221,10.350000381469728,4028800]
["2020-10-16",10.789999961853027,10.810000419616699,10.470000267028809,10.510000228881836,3491000]
["2020-10-15",10.470000267028809,10.720000267028809,10.449999809265137,10.710000038146973,3249000]
["2020-10-14",10.789999961853027,10.970000267028809,10.619999885559082,10.810000419616699,4062300]
["2020-10-13",10.350000381469728,10.574999809265137,10.140000343322754,10.529999732971191,4875250]
["2020-10-12",10.579999923706056,10.699999809265137,10.310000419616699,10.600000381469728,3661625]
["2020-10-09",10.130000114440918,10.600000381469728,10.090000152587891,10.560000419616699,6806900]
["2020-10-08",9.6999998092651367,9.869999885559082,9.630000114440918,9.8299999237060565,3851000]
["2020-10-07",9.619999885559082,9.6700000762939435,9.4600000381469727,9.5900001525878906,5355000]
["2020-10-06",9.9700002670288086,10.039999961853027,9.4099998474121094,9.4300003051757795,5581626]
["2020-10-05",9.7100000381469727,10.060000419616699,9.6899995803833008,9.9399995803833008,4092288]
["2020-10-02",9.6800003051757795,9.8599996566772461,9.5699996948242205,9.6499996185302717,5049400]
["2020-10-01",9.6000003814697283,9.8900003433227539,9.5399999618530273,9.7600002288818359,4416900]
["2020-09-30",9.5,9.6599998474121094,9.3299999237060565,9.5200004577636719,4643400]
["2020-09-29",9.630000114440918,9.7899999618530273,9.4899997711181641,9.5500001907348633,7375812]
["2020-09-28",9.8500003814697283,9.8999996185302717,9.3299999237060565,9.5699996948242205,7604634]
["2020-09-25",10.050000190734863,10.069999694824221,9.4600000381469727,9.5200004577636719,11502600]
["2020-09-24",9.5900001525878906,10.359999656677246,9.5,10.260000228881836,7824400]
["2020-09-23",10.479999542236328,10.489999771118164,9.6499996185302717,9.7399997711181641,10426200]
["2020-09-22",10.770000457763672,11.060000419616699,10.609999656677246,10.680000305175779,5653000]
["2020-09-21",11.470000267028809,11.689999580383301,10.680000305175779,10.689999580383301,10272100]
["2020-09-18",12.220000267028809,12.310000419616699,11.899999618530272,11.909999847412109,6201900]
["2020-09-17",11.859999656677246,12.189999580383301,11.670000076293944,12.159999847412109,4057800]
["2020-09-16",12.479999542236328,12.479999542236328,12.159999847412109,12.199999809265137,4867000]
["2020-09-15",12.579999923706056,12.630000114440918,12.020000457763672,12.310000419616699,6677400]
["2020-09-14",11.899999618530272,12.560000419616699,11.850000381469728,12.460000038146973,12225100]
["2020-09-11",11.829999923706056,12.270000457763672,11.550000190734863,11.649999618530272,6461900]
["2020-09-10",12.050000190734863,12.210000038146973,11.520000457763672,11.670000076293944,6286200]
["2020-09-09",11.539999961853027,11.869999885559082,11.489999771118164,11.850000381469728,3616000]
["2020-09-08",11.100000381469728,11.659999847412109,10.899999618530272,11.380000114440918,4566600]
["2020-09-04",11.489999771118164,11.590000152587891,10.909999847412109,11.5,5798300]
["2020-09-03",11.420000076293944,11.630000114440918,11.090000152587891,11.529999732971191,4949900]
["2020-09-02",11.859999656677246,11.899999618530272,11.069999694824221,11.550000190734863,10350800]
["2020-09-01",12.800000190734863,12.800000190734863,11.789999961853027,12.060000419616699,8278200]
["2020-08-31",12.369999885559082,12.609999656677246,12.199999809265137,12.449999809265137,4586978]
["2020-08-28",11.75,12.239999771118164,11.720000267028809,12.210000038146973,4431000]
["2020-08-27",12.039999961853027,12.149999618530272,11.329999923706056,11.600000381469728,5191300]
["2020-08-26",11.270000457763672,11.869999885559082,11.25,11.829999923706056,5559366]
["2020-08-25",11.319999694824221,11.420000076293944,10.909999847412109,11.329999923706056,4796800]
["2020-08-24",11.659999847412109,11.680000305175779,11.329999923706056,11.359999656677246,3234378]
["2020-08-21",11.560000419616699,11.75,11.449999809265137,11.550000190734863,3057200]
["2020-08-20",11.409999847412109,11.859999656677246,11.390000343322754,11.850000381469728,3937387]
["2020-08-19",11.800000190734863,11.989999771118164,11.460000038146973,11.479999542236328,5310400]
["2020-08-18",12.510000228881836,12.560000419616699,11.880000114440918,11.989999771118164,5064424]
["2020-08-17",12.180000305175779,12.239999771118164,11.880000114440918,12.159999847412109,6641300]
["2020-08-14",11.739999771118164,11.859999656677246,11.359999656677246,11.689999580383301,6220400]
["2020-08-13",11.609999656677246,12.114999771118164,11.510000228881836,11.869999885559082,10208531]
["2020-08-12",11.760000228881836,11.819999694824221,11.350000381469728,11.399999618530272,7262100]
["2020-08-11",12,12.329999923706056,11.319999694824221,11.420000076293944,13229500]
["2020-08-10",13.189999580383301,13.670000076293944,12.930000305175779,12.970000267028809,6494400]
["2020-08-07",13.039999961853027,13.5,12.720000267028809,12.970000267028809,9225800]
["2020-08-06",14.279999732971191,14.279999732971191,13.390000343322754,13.659999847412109,8789500]
["2020-08-05",14.520000457763672,14.569999694824221,13.560000419616699,13.810000419616699,9986700]
["2020-08-04",13.079999923706056,13.989999771118164,13.060000419616699,13.949999809265137,7975300]
["2020-08-03",13.380000114440918,13.380000114440918,12.779999732971191,13.060000419616699,5268300]
["2020-07-31",13.430000305175779,13.430000305175779,13.079999923706056,13.329999923706056,7285900]
["2020-07-30",13.090000152587891,13.489999771118164,12.840000152587891,12.970000267028809,7169300]
["2020-07-29",13.810000419616699,13.979999542236328,13.399999618530272,13.760000228881836,8280000]
["2020-07-28",13.630000114440918,14.279999732971191,13.619999885559082,13.859999656677246,9611300]
["2020-07-27",14.199999809265137,14.5,13.869999885559082,14.25,13607000]
["2020-07-24",13.449999809265137,13.649999618530272,13.130000114440918,13.279999732971191,10656000]
["2020-07-23",13.699999809265137,14.039999961853027,13.050000190734863,13.329999923706056,23008600]
["2020-07-22",12.909999847412109,14.079999923706056,12.710000038146973,14.050000190734863,21919500]
["2020-07-21",12.319999694824221,12.859999656677246,12.140000343322754,12.350000381469728,16360400]
["2020-07-20",10.939999580383301,11.760000228881836,10.880000114440918,11.630000114440918,11781500]
["2020-07-17",10.460000038146973,10.770000457763672,10.420000076293944,10.600000381469728,6194700]
["2020-07-16",10.439999580383301,10.659999847412109,10.25,10.350000381469728,4040900]
["2020-07-15",10.470000267028809,10.560000419616699,10.180000305175779,10.529999732971191,3847000]
["2020-07-14",10.149999618530272,10.5,9.9899997711181641,10.449999809265137,4699600]
["2020-07-13",10.810000419616699,11.069999694824221,10.159999847412109,10.170000076293944,7243800]
["2020-07-10",10.619999885559082,10.680000305175779,10.300000190734863,10.409999847412109,4563100]
["2020-07-09",10.600000381469728,10.949999809265137,10.239999771118164,10.579999923706056,8661500]
["2020-07-08",10.060000419616699,10.529999732971191,9.9899997711181641,10.420000076293944,7994700]
["2020-07-07",9.3999996185302717,9.8000001907348633,9.380000114440918,9.6800003051757795,4092300]
["2020-07-06",9.6899995803833008,9.8900003433227539,9.380000114440918,9.5,4739100]
["2020-07-02",9.6400003433227539,9.9200000762939435,9.5,9.5,3767500]
["2020-07-01",9.9499998092651367,10.029999732971191,9.4899997711181641,9.7799997329711914,4469000]
["2020-06-30",9.4099998474121094,9.9700002670288086,9.2700004577636719,9.9499998092651367,6344000]
["2020-06-29",9.3999996185302717,9.4399995803833008,9.1899995803833008,9.4200000762939435,3635100]
["2020-06-26",9.0500001907348633,9.4099998474121094,8.7799997329711914,9.3900003433227539,4873000]
["2020-06-25",9.0100002288818359,9.1400003433227539,8.8900003433227539,9.130000114440918,2374200]
["2020-06-24",9.1400003433227539,9.3000001907348633,8.869999885559082,8.9700002670288086,4564200]
["2020-06-23",9.3500003814697283,9.4499998092651367,9.1899995803833008,9.2899999618530273,3908100]
["2020-06-22",8.9700002670288086,9.369999885559082,8.8900003433227539,9.119999885559082,6845800]
["2020-06-19",8.6899995803833008,8.9799995422363281,8.5600004196166992,8.630000114440918,6263000]
["2020-06-18",8.6000003814697266,8.6800003051757813,8.369999885559082,8.4099998474121094,3443400]
["2020-06-17",8.8299999237060547,8.9200000762939453,8.630000114440918,8.6700000762939453,3440400]
["2020-06-16",9.1800003051757795,9.2700004577636719,8.7200002670288086,8.7600002288818359,5260500]
["2020-06-15",8.7399997711181641,9.2299995422363281,8.4600000381469727,9.1400003433227539,6401000]
["2020-06-12",9.6000003814697283,9.6999998092651367,9.1499996185302717,9.2600002288818359,5021700]
["2020-06-11",10.149999618530272,10.319999694824221,9.2200002670288086,9.3100004196166992,7904300]
["2020-06-10",9.9399995803833008,10.369999885559082,9.5100002288818359,10.369999885559082,6996200]
["2020-06-09",9.9300003051757795,10.210000038146973,9.7200002670288086,9.7700004577636719,3776200]
["2020-06-08",9.8900003433227539,9.9300003051757795,9.5799999237060565,9.9200000762939435,3893900]
["2020-06-05",9.4300003051757795,9.7700004577636719,9.2100000381469727,9.7200002670288086,7635800]
["2020-06-04",9.8999996185302717,10.149999618530272,9.7799997329711914,9.9799995422363281,4131600]
["2020-06-03",9.6499996185302717,9.9099998474121094,9.4099998474121094,9.7299995422363281,6312500]
["2020-06-02",10.800000190734863,10.800000190734863,10.079999923706056,10.090000152587891,7322100]
["2020-06-01",10.25,10.859999656677246,10.239999771118164,10.729999542236328,9666000]
["2020-05-29",9.6999998092651367,10.079999923706056,9.630000114440918,10.010000228881836,8162100]
["2020-05-28",9.7700004577636719,9.869999885559082,9.2299995422363281,9.3100004196166992,5080700]
["2020-05-27",8.880000114440918,9.4899997711181641,8.8100004196166992,9.4700002670288086,4895500]
["2020-05-26",9.5200004577636719,9.5600004196166992,9.130000114440918,9.1700000762939435,4892800]
["2020-05-22",9.4600000381469727,9.75,9.3599996566772461,9.380000114440918,3919600]
["2020-05-21",9.4499998092651367,9.5399999618530273,9.0600004196166992,9.380000114440918,4955500]
["2020-05-20",9.6000003814697283,9.8199996948242205,9.4799995422363281,9.7100000381469727,6677900]
["2020-05-19",9.3900003433227539,9.9600000381469727,9.3100004196166992,9.4200000762939435,11263100]
["2020-05-18",9.5699996948242205,9.6899995803833008,9.1000003814697283,9.2600002288818359,9239500]
["2020-05-15",8.3999996185302734,8.8599996566772461,8.1599998474121094,8.8400001525878906,13394900]
["2020-05-14",7.5300002098083496,8.0399999618530273,7.1999998092651367,7.9000000953674316,9131200]
["2020-05-13",8.0699996948242188,8.0699996948242188,7.4600000381469727,7.6500000953674316,5516100]
["2020-05-12",7.9499998092651367,8.2399997711181641,7.8600001335144043,7.9099998474121094,4184500]
["2020-05-11",8.3199996948242188,8.3299999237060547,7.8000001907348633,7.8000001907348633,5947900]
["2020-05-08",8.4099998474121094,8.6899995803833008,8.2200002670288086,8.2799997329711914,4164100]
["2020-05-07",8.1099996566772461,8.4799995422363281,7.9699997901916504,8.369999885559082,4981400]
["2020-05-06",8.0200004577636719,8.130000114440918,7.809999942779541,7.940000057220459,3098900]
["2020-05-05",8.3000001907348633,8.3599996566772461,7.8899998664855957,8.1700000762939453,4308200]
["2020-05-04",8.3999996185302734,8.4799995422363281,8.1800003051757813,8.2100000381469727,4368300]
["2020-05-01",7.880000114440918,8.3500003814697266,7.7600002288818359,8.3199996948242188,4268300]
["2020-04-30",8.6599998474121094,8.6999998092651367,7.9499998092651367,8.0699996948242188,5597400]
["2020-04-29",8.1499996185302734,8.6499996185302734,8.0600004196166992,8.630000114440918,6351100]
["2020-04-28",7.7600002288818359,8.1899995803833008,7.6599998474121094,8.1099996566772461,4674600]
["2020-04-27",7.7300000190734863,7.8000001907348633,7.3899998664855957,7.7699999809265137,4219600]
["2020-04-24",7.8000001907348633,7.8600001335144043,7.309999942779541,7.6999998092651367,4994800]
["2020-04-23",7.6500000953674316,8.0299997329711914,7.4499998092651367,7.630000114440918,6919700]
["2020-04-22",7.3499999046325684,7.570000171661377,7.3400001525878906,7.4000000953674316,3863100]
["2020-04-21",6.809999942779541,7.2199997901916504,6.7600002288818359,7.1399998664855957,4590100]
["2020-04-20",7.0199999809265137,7.4899997711181641,6.9800000190734863,7.179999828338623,4859800]
["2020-04-17",7.1599998474121094,7.3299999237060547,6.940000057220459,6.9699997901916504,5821800]
["2020-04-16",7.4699997901916504,7.570000171661377,7.130000114440918,7.3499999046325684,4492800]
["2020-04-15",7.3600001335144043,7.6500000953674316,7.1399998664855957,7.3899998664855957,4681100]
["2020-04-14",8.0299997329711914,8.5,7.4099998474121094,7.630000114440918,7147300]
["2020-04-13",7.0999999046325684,7.7699999809265137,6.6599998474121094,7.6700000762939453,5834400]
["2020-04-09",6.75,7.190000057220459,6.6399998664855957,7.070000171661377,5755700]
["2020-04-08",6.5199999809265137,6.690000057220459,6.3499999046325684,6.4000000953674316,3542700]
["2020-04-07",6.75,6.9899997711181641,6.4200000762939453,6.4899997711181641,4322100]
["2020-04-06",6.3000001907348633,6.6500000953674316,6.190000057220459,6.5399999618530273,5820100]
["2020-04-03",6.3000001907348633,6.5399999618530273,6,6.0500001907348633,3867100]
["2020-04-02",6.3499999046325684,6.6599998474121094,6.2100000381469727,6.3000001907348633,4608000]
["2020-04-01",6.059999942779541,6.3499999046325684,5.869999885559082,6.1100001335144043,5420300]
["2020-03-31",6.4499998092651367,6.5999999046325684,6.179999828338623,6.190000057220459,3517600]
["2020-03-30",6.7199997901916504,6.9800000190734863,6.0999999046325684,6.3899998664855957,5117200]
["2020-03-27",7,7.1700000762939453,6.5399999618530273,6.820000171661377,5203800]
["2020-03-26",7.4200000762939453,7.9000000953674316,7.0500001907348633,7.2399997711181641,6015500]
["2020-03-25",7.0500001907348633,7.9000000953674316,6.8499999046325684,7.4099998474121094,8457700]
["2020-03-24",7.1500000953674316,7.380000114440918,6.5999999046325684,7.2300000190734863,9844000]
["2020-03-23",5.929999828338623,6.380000114440918,5.440000057220459,6,6855100]
["2020-03-20",6.130000114440918,6.2100000381469727,5.5,5.5100002288818359,6340700]
["2020-03-19",5.5,6.4600000381469727,4.8000001907348633,5.619999885559082,6005100]
["2020-03-18",5.8400001525878906,6.5999999046325684,5.3499999046325684,5.4000000953674316,6896400]
["2020-03-17",5.3499999046325684,6.7100000381469727,5.3000001907348633,6.2899999618530273,8819900]
["2020-03-16",4.2800002098083496,5.8400001525878906,4.1700000762939453,5.4899997711181641,9076400]
["2020-03-13",5.940000057220459,5.9499998092651367,4.9499998092651367,5,8888200]
["2020-03-12",5.559999942779541,6.690000057220459,5.4000000953674316,5.6399998664855957,7826500]
["2020-03-11",7.3000001907348633,7.3400001525878906,6.4200000762939453,6.570000171661377,6245500]
["2020-03-10",7.3899998664855957,7.5399999618530273,6.9600000381469727,7.380000114440918,3926500]
["2020-03-09",7.3400001525878906,7.679999828338623,6.9000000953674316,7.1100001335144043,3745600]
["2020-03-06",8.1700000762939453,8.1800003051757813,7.5799999237060547,7.9200000762939453,5549700]
["2020-03-05",8.1499996185302734,8.3000001907348633,7.9000000953674316,8.1599998474121094,5156900]
["2020-03-04",8.0799999237060547,8.1899995803833008,7.7800002098083496,8.0799999237060547,3835200]
["2020-03-03",8.130000114440918,8.4899997711181641,7.7800002098083496,8.0799999237060547,9637500]
["2020-03-02",7.9000000953674316,8.1000003814697266,7.6399998664855957,7.9099998474121094,4999000]
["2020-02-28",7.190000057220459,7.820000171661377,6.8600001335144043,7.5399999618530273,13324400]
["2020-02-27",9.3500003814697283,9.4300003051757795,8.25,8.3000001907348633,8669200]
["2020-02-26",9.2899999618530273,9.5299997329711914,9.0799999237060565,9.2399997711181641,4600400]
["2020-02-25",9.6000003814697283,9.8500003814697283,9.3400001525878906,9.3400001525878906,5235500]
["2020-02-24",10.270000457763672,10.279999732971191,9.6899995803833008,9.8100004196166992,7428100]
["2020-02-21",9.9600000381469727,10.029999732971191,9.8100004196166992,9.9600000381469727,6532900]
["2020-02-20",9.3900003433227539,10.119999885559082,9.3299999237060565,9.7200002670288086,8905100]
["2020-02-19",10.180000305175779,10.210000038146973,9.2600002288818359,9.3199996948242205,14475400]
["2020-02-18",9.75,10.289999961853027,9.7399997711181641,10.130000114440918,7138100]
["2020-02-14",9.6400003433227539,9.869999885559082,9.5600004196166992,9.6000003814697283,3845400]
["2020-02-13",9.75,9.8500003814697283,9.5799999237060565,9.630000114440918,3253300]
["2020-02-12",9.6999998092651367,9.7299995422363281,9.5799999237060565,9.6000003814697283,2255100]
["2020-02-11",9.8000001907348633,9.8599996566772461,9.5200004577636719,9.75,2579500]
["2020-02-10",9.630000114440918,9.8999996185302717,9.5200004577636719,9.8199996948242205,2939400]
["2020-02-07",9.8900003433227539,10.029999732971191,9.5699996948242205,9.5699996948242205,3261400]
["2020-02-06",9.8500003814697283,10,9.6800003051757795,9.8999996185302717,3208400]
["2020-02-05",9.5500001907348633,9.8599996566772461,9.5,9.7399997711181641,2847500]
["2020-02-04",9.6700000762939435,9.7399997711181641,9.3599996566772461,9.5200004577636719,3360100]
["2020-02-03",9.9799995422363281,10.020000457763672,9.630000114440918,9.7899999618530273,3149900]
["2020-01-31",10,10.180000305175779,9.9700002670288086,10.069999694824221,3058800]
["2020-01-30",10.210000038146973,10.279999732971191,9.9300003051757795,10,3418400]
["2020-01-29",9.9600000381469727,10.140000343322754,9.7700004577636719,10.079999923706056,3537800]
["2020-01-28",10.039999961853027,10.159999847412109,9.8100004196166992,9.9200000762939435,4741600]
["2020-01-27",10.789999961853027,10.880000114440918,10.100000381469728,10.149999618530272,5145300]
["2020-01-24",10.239999771118164,10.630000114440918,10.199999809265137,10.579999923706056,3924100]
["2020-01-23",10.199999809265137,10.590000152587891,10.149999618530272,10.189999580383301,3153800]
["2020-01-22",10.380000114440918,10.630000114440918,10.289999961853027,10.329999923706056,3208000]
["2020-01-21",10.369999885559082,10.520000457763672,9.8100004196166992,10.460000038146973,6482000]
["2020-01-17",11.119999885559082,11.119999885559082,10.409999847412109,10.529999732971191,6290100]
["2020-01-16",11.010000228881836,11.170000076293944,10.859999656677246,11.050000190734863,2876200]
["2020-01-15",11.039999961853027,11.159999847412109,10.699999809265137,11.060000419616699,4337000]
["2020-01-14",10.529999732971191,10.869999885559082,10.510000228881836,10.829999923706056,4057500]
["2020-01-13",10.920000076293944,10.949999809265137,10.529999732971191,10.630000114440918,4292100]
["2020-01-10",11.010000228881836,11.220000267028809,10.970000267028809,11.010000228881836,4739500]
["2020-01-09",10.960000038146973,11.180000305175779,10.840000152587891,10.850000381469728,4694600]
["2020-01-08",11.770000457763672,11.770000457763672,11.079999923706056,11.180000305175779,6945300]
["2020-01-07",11.649999618530272,12,11.579999923706056,11.949999809265137,3730000]
["2020-01-06",12.260000228881836,12.260000228881836,11.539999961853027,11.649999618530272,6245000]
["2020-01-03",12.449999809265137,12.479999542236328,11.909999847412109,11.970000267028809,4012400]
["2020-01-02",12.420000076293944,12.550000190734863,12.140000343322754,12.220000267028809,3648800]
["2019-12-31",12.539999961853027,12.689999580383301,12.25,12.260000228881836,4659300]
["2019-12-30",11.979999542236328,12.600000381469728,11.979999542236328,12.409999847412109,5642200]
["2019-12-27",12.039999961853027,12.189999580383301,11.859999656677246,11.890000343322754,5445200]
["2019-12-26",12.159999847412109,12.539999961853027,11.899999618530272,12.159999847412109,5946400]
["2019-12-24",11.319999694824221,11.979999542236328,11.300000190734863,11.960000038146973,4323200]
["2019-12-23",10.539999961853027,11.229999542236328,10.489999771118164,11.229999542236328,6785700]
["2019-12-20",10.850000381469728,10.850000381469728,10.350000381469728,10.359999656677246,5684900]
["2019-12-19",10.739999771118164,10.960000038146973,10.680000305175779,10.800000190734863,3855400]
["2019-12-18",10.949999809265137,11.020000457763672,10.529999732971191,10.880000114440918,7191700]
["2019-12-17",11.149999618530272,11.380000114440918,11.119999885559082,11.140000343322754,2819200]
["2019-12-16",11.289999961853027,11.489999771118164,11.100000381469728,11.140000343322754,4937600]
["2019-12-13",10.649999618530272,11.229999542236328,10.649999618530272,11.229999542236328,6247000]
["2019-12-12",10.939999580383301,11.060000419616699,10.550000190734863,10.689999580383301,5806400]
["2019-12-11",10.579999923706056,10.819999694824221,10.460000038146973,10.710000038146973,5357300]
["2019-12-10",10.560000419616699,10.600000381469728,10.449999809265137,10.590000152587891,2304900]
["2019-12-09",10.640000343322754,10.659999847412109,10.369999885559082,10.409999847412109,3094500]
["2019-12-06",10.890000343322754,10.899999618530272,10.470000267028809,10.470000267028809,6573800]
["2019-12-05",11.050000190734863,11.460000038146973,10.979999542236328,11.229999542236328,3475400]
["2019-12-04",11.189999580383301,11.239999771118164,10.899999618530272,11.029999732971191,3815500]
["2019-12-03",11.159999847412109,11.380000114440918,11.079999923706056,11.260000228881836,5368200]
["2019-12-02",10.609999656677246,10.930000305175779,10.560000419616699,10.909999847412109,3100500]
["2019-11-29",10.560000419616699,10.800000190734863,10.5,10.760000228881836,2135600]
["2019-11-27",10.75,10.75,10.369999885559082,10.560000419616699,2964600]
["2019-11-26",10.479999542236328,10.869999885559082,10.430000305175779,10.819999694824221,3047200]
["2019-11-25",10.369999885559082,10.670000076293944,10.340000152587891,10.409999847412109,1835000]
["2019-11-22",10.550000190734863,10.640000343322754,10.329999923706056,10.510000228881836,2368600]
["2019-11-21",10.890000343322754,10.960000038146973,10.5,10.510000228881836,3144300]
["2019-11-20",10.850000381469728,10.989999771118164,10.729999542236328,10.960000038146973,2651200]
["2019-11-19",10.770000457763672,11.060000419616699,10.739999771118164,10.829999923706056,3735900]
["2019-11-18",10.529999732971191,10.869999885559082,10.529999732971191,10.840000152587891,2820700]
["2019-11-15",10.590000152587891,10.720000267028809,10.550000190734863,10.600000381469728,2262200]
["2019-11-14",10.600000381469728,10.770000457763672,10.5,10.760000228881836,2943200]
["2019-11-13",10.75,10.779999732971191,10.470000267028809,10.5,3542900]
["2019-11-12",10.149999618530272,10.609999656677246,10.069999694824221,10.590000152587891,4798200]
["2019-11-11",9.8400001525878906,10.25,9.7700004577636719,10.229999542236328,5030500]
["2019-11-08",9.4700002670288086,9.9700002670288086,9.4099998474121094,9.8000001907348633,3845000]
["2019-11-07",10.039999961853027,10.430000305175779,9.5699996948242205,9.6899995803833008,7852100]
["2019-11-06",10.199999809265137,10.25,9.8900003433227539,10.180000305175779,5372400]
["2019-11-05",10.310000419616699,10.350000381469728,9.9600000381469727,10.140000343322754,8752600]
["2019-11-04",10.970000267028809,10.970000267028809,10.630000114440918,10.649999618530272,4527500]
["2019-11-01",10.510000228881836,11,10.460000038146973,10.989999771118164,4199800]
["2019-10-31",10.590000152587891,10.710000038146973,10.350000381469728,10.670000076293944,4332200]
["2019-10-30",10.380000114440918,10.420000076293944,9.9399995803833008,10.369999885559082,4097900]
["2019-10-29",10.170000076293944,10.439999580383301,10.119999885559082,10.310000419616699,2918100]
["2019-10-28",10.550000190734863,10.600000381469728,10.270000457763672,10.310000419616699,3637000]
["2019-10-25",10.840000152587891,10.979999542236328,10.430000305175779,10.75,5665300]
["2019-10-24",10.079999923706056,10.449999809265137,10.079999923706056,10.449999809265137,2722100]
["2019-10-23",9.9600000381469727,10.270000457763672,9.9499998092651367,10.039999961853027,3116300]
["2019-10-22",9.9799995422363281,10.100000381469728,9.7600002288818359,9.8900003433227539,2894200]
["2019-10-21",10.369999885559082,10.449999809265137,9.9300003051757795,9.9600000381469727,3051800]
["2019-10-18",10.310000419616699,10.5,10.029999732971191,10.239999771118164,3535600]
["2019-10-17",9.9099998474121094,10.399999618530272,9.880000114440918,10.369999885559082,5069200]
["2019-10-16",9.3199996948242205,9.9600000381469727,9.2700004577636719,9.9499998092651367,4972000]
["2019-10-15",9.3299999237060565,9.3900003433227539,9.1599998474121094,9.1899995803833008,4023600]
["2019-10-14",9.3100004196166992,9.5200004577636719,9.2399997711181641,9.4399995803833008,1743300]
["2019-10-11",9.619999885559082,9.6400003433227539,9.1800003051757795,9.2200002670288086,4321900]
["2019-10-10",9.630000114440918,9.7799997329711914,9.4200000762939435,9.75,3333300]
["2019-10-09",9.8500003814697283,9.9600000381469727,9.6400003433227539,9.6700000762939435,3044900]
["2019-10-08",9.7200002670288086,9.880000114440918,9.5699996948242205,9.8599996566772461,3139900]
["2019-10-07",9.6000003814697283,9.7100000381469727,9.4300003051757795,9.5200004577636719,2191600]
["2019-10-04",9.4200000762939435,9.6999998092651367,9.3100004196166992,9.6599998474121094,2431200]
["2019-10-03",9.5,9.8400001525878906,9.4399995803833008,9.4700002670288086,3745500]
["2019-10-02",9.5,9.5299997329711914,9.1999998092651367,9.4799995422363281,3467300]
["2019-10-01",9.119999885559082,9.4899997711181641,8.9799995422363281,9.2100000381469727,5526100]
["2019-09-30",9.3199996948242205,9.4799995422363281,8.9099998474121094,9.0900001525878906,7209200]
["2019-09-27",9.5600004196166992,9.7899999618530273,9.4399995803833008,9.630000114440918,5362900]
["2019-09-26",9.9399995803833008,10.090000152587891,9.880000114440918,9.8999996185302717,4266600]
["2019-09-25",10.380000114440918,10.470000267028809,9.7799997329711914,10,6011700]
["2019-09-24",10.319999694824221,10.640000343322754,10.100000381469728,10.529999732971191,5350300]
["2019-09-23",10.390000343322754,10.659999847412109,10.279999732971191,10.5,7987800]
["2019-09-20",9.9499998092651367,10.140000343322754,9.7700004577636719,10.090000152587891,4904900]
["2019-09-19",9.6499996185302717,10.050000190734863,9.630000114440918,9.9700002670288086,3104400]
["2019-09-18",9.7799997329711914,9.8999996185302717,9.3100004196166992,9.630000114440918,4838400]
["2019-09-17",9.7799997329711914,9.8599996566772461,9.5699996948242205,9.8000001907348633,3230100]
["2019-09-16",9.6700000762939435,9.8000001907348633,9.3000001907348633,9.6700000762939435,4147000]
["2019-09-13",9.8299999237060565,9.9499998092651367,9.3000001907348633,9.3100004196166992,5981100]
["2019-09-12",10.350000381469728,10.5,9.7600002288818359,9.7799997329711914,5455800]
["2019-09-11",9.8599996566772461,10.220000267028809,9.7700004577636719,9.9600000381469727,4278200]
["2019-09-10",9.630000114440918,10.020000457763672,9.5299997329711914,9.7700004577636719,4779000]
["2019-09-09",9.8500003814697283,9.9300003051757795,9.4200000762939435,9.7299995422363281,6643400]
["2019-09-06",10.279999732971191,10.430000305175779,9.8500003814697283,9.869999885559082,6150200]
["2019-09-05",10.890000343322754,10.970000267028809,10.100000381469728,10.279999732971191,8793300]
["2019-09-04",11.270000457763672,11.449999809265137,11.109999656677246,11.319999694824221,4934800]
["2019-09-03",11.130000114440918,11.619999885559082,11.079999923706056,11.279999732971191,6525700]
["2019-08-30",10.789999961853027,11.069999694824221,10.699999809265137,10.880000114440918,3943900]
["2019-08-29",11.279999732971191,11.289999961853027,10.550000190734863,10.739999771118164,6388800]
["2019-08-28",11.350000381469728,11.569999694824221,11.020000457763672,11.210000038146973,4927800]
["2019-08-27",11.229999542236328,11.460000038146973,11.119999885559082,11.25,6574500]
["2019-08-26",11.100000381469728,11.220000267028809,10.829999923706056,10.949999809265137,4734000]
["2019-08-23",10.409999847412109,11.060000419616699,10.380000114440918,11.010000228881836,5221500]
["2019-08-22",10.350000381469728,10.529999732971191,10.270000457763672,10.310000419616699,2202000]
["2019-08-21",10.390000343322754,10.649999618530272,10.369999885559082,10.439999580383301,2779200]
["2019-08-20",10.149999618530272,10.630000114440918,10.109999656677246,10.5,3707000]
["2019-08-19",9.6000003814697283,10.350000381469728,9.4700002670288086,9.9899997711181641,5158100]
["2019-08-16",10.050000190734863,10.260000228881836,9.8199996948242205,9.8999996185302717,4983200]
["2019-08-15",10.060000419616699,10.350000381469728,9.9300003051757795,10.260000228881836,3832600]
["2019-08-14",10.529999732971191,10.739999771118164,10.159999847412109,10.180000305175779,6713500]
["2019-08-13",10.960000038146973,11,9.8299999237060565,10.270000457763672,11310100]
["2019-08-12",10.75,11.109999656677246,10.630000114440918,10.659999847412109,6437500]
["2019-08-09",10.819999694824221,10.880000114440918,10.649999618530272,10.710000038146973,6199800]
["2019-08-08",10.239999771118164,10.859999656677246,10.159999847412109,10.810000419616699,4664100]
["2019-08-07",10.380000114440918,10.970000267028809,10.380000114440918,10.479999542236328,9700700]
["2019-08-06",9.9899997711181641,10.149999618530272,9.7799997329711914,9.8900003433227539,4505700]
["2019-08-05",9.9600000381469727,10.399999618530272,9.9300003051757795,10.020000457763672,6506600]
["2019-08-02",9.7100000381469727,9.8299999237060565,9.4899997711181641,9.5500001907348633,6031000]
["2019-08-01",9.0200004577636719,9.9399995803833008,8.9600000381469727,9.8400001525878906,9153600]
["2019-07-31",9.9799995422363281,10.020000457763672,9.1400003433227539,9.4200000762939435,11229100]
["2019-07-30",10.029999732971191,10.159999847412109,9.9499998092651367,10.060000419616699,3393000]
["2019-07-29",9.869999885559082,10.010000228881836,9.6400003433227539,9.9799995422363281,3172900]
["2019-07-26",9.7600002288818359,9.9099998474121094,9.6899995803833008,9.8199996948242205,3661800]
["2019-07-25",10.180000305175779,10.210000038146973,9.5399999618530273,9.6700000762939435,8060100]
["2019-07-24",10.25,10.390000343322754,10.140000343322754,10.260000228881836,5564300]
["2019-07-23",10.119999885559082,10.359999656677246,9.7399997711181641,10.020000457763672,7037000]
["2019-07-22",10.029999732971191,10.359999656677246,10,10.100000381469728,8325600]
["2019-07-19",9.8900003433227539,10.239999771118164,9.6400003433227539,9.8999996185302717,9735400]
["2019-07-18",9.3199996948242205,9.9799995422363281,9.1999998092651367,9.9200000762939435,11510400]
["2019-07-17",8.75,9.369999885559082,8.7100000381469727,9.3100004196166992,8908100]
["2019-07-16",7.929999828338623,8.6899995803833008,7.9000000953674316,8.5699996948242188,7700900]
["2019-07-15",7.809999942779541,7.9200000762939453,7.7300000190734863,7.9099998474121094,3794600]
["2019-07-12",7.940000057220459,7.9499998092651367,7.7800002098083496,7.8000001907348633,3693800]
["2019-07-11",8.1400003433227539,8.1599998474121094,7.820000171661377,7.929999828338623,3436800]
["2019-07-10",8.1099996566772461,8.25,7.9699997901916504,8.1400003433227539,3683600]
["2019-07-09",7.7800002098083496,7.9200000762939453,7.690000057220459,7.9099998474121094,2842700]
["2019-07-08",7.820000171661377,7.869999885559082,7.690000057220459,7.7800002098083496,2682500]
["2019-07-05",7.6100001335144043,7.8400001525878906,7.5100002288818359,7.7800002098083496,3507800]
["2019-07-03",8,8,7.7800002098083496,7.880000114440918,1713400]
["2019-07-02",7.5,7.9600000381469727,7.3600001335144043,7.929999828338623,4265300]
["2019-07-01",7.6100001335144043,7.7199997901916504,7.429999828338623,7.4499998092651367,4093000]
["2019-06-28",7.809999942779541,7.9200000762939453,7.7199997901916504,7.9099998474121094,3723500]
["2019-06-27",7.6999998092651367,7.8000001907348633,7.6100001335144043,7.7699999809265137,3484300]
["2019-06-26",7.6599998474121094,8.0200004577636719,7.630000114440918,7.8299999237060547,4529500]
["2019-06-25",8,8.130000114440918,7.679999828338623,7.9000000953674316,7085300]
["2019-06-24",7.5500001907348633,8.0299997329711914,7.5100002288818359,8.0100002288818359,6986300]
["2019-06-21",7.3499999046325684,7.5,7.1700000762939453,7.4600000381469727,5466900]
["2019-06-20",7.2300000190734863,7.5500001907348633,7.1500000953674316,7.380000114440918,6927500]
["2019-06-19",6.690000057220459,6.929999828338623,6.6599998474121094,6.9000000953674316,2864600]
["2019-06-18",6.820000171661377,6.8600001335144043,6.6599998474121094,6.7300000190734863,2457700]
["2019-06-17",6.5399999618530273,6.7399997711181641,6.5399999618530273,6.7199997901916504,2369000]
["2019-06-14",6.690000057220459,6.820000171661377,6.4099998474121094,6.5500001907348633,2741500]
["2019-06-13",6.559999942779541,6.690000057220459,6.5,6.630000114440918,1689900]
["2019-06-12",6.5500001907348633,6.6500000953674316,6.4699997901916504,6.559999942779541,1879600]
["2019-06-11",6.2600002288818359,6.4699997901916504,6.2199997901916504,6.4699997901916504,1882900]
["2019-06-10",6.2800002098083496,6.320000171661377,6.179999828338623,6.3000001907348633,2220200]
["2019-06-07",6.5799999237060547,6.6100001335144043,6.4099998474121094,6.440000057220459,2113900]
["2019-06-06",6.4200000762939453,6.5199999809265137,6.3400001525878906,6.4899997711181641,2177100]
["2019-06-05",6.5399999618530273,6.7199997901916504,6.309999942779541,6.3600001335144043,4113500]
["2019-06-04",6.3400001525878906,6.5500001907348633,6.2600002288818359,6.3899998664855957,3813900]
["2019-06-03",6.1999998092651367,6.4600000381469727,6.119999885559082,6.4499998092651367,4190500]
["2019-05-31",5.869999885559082,6.130000114440918,5.8499999046325684,6.0799999237060547,3651700]
["2019-05-30",5.5300002098083496,5.7699999809265137,5.4899997711181641,5.7399997711181641,2475900]
["2019-05-29",5.619999885559082,5.6399998664855957,5.5100002288818359,5.5399999618530273,2153300]
["2019-05-28",5.5999999046325684,5.6599998474121094,5.4800000190734863,5.5500001907348633,3591400]
["2019-05-24",5.570000171661377,5.6999998092651367,5.4800000190734863,5.6700000762939453,2156400]
["2019-05-23",5.6100001335144043,5.7699999809265137,5.5399999618530273,5.5999999046325684,2816600]
["2019-05-22",5.809999942779541,5.8299999237060547,5.5300002098083496,5.5300002098083496,2681500]
["2019-05-21",5.75,5.809999942779541,5.6500000953674316,5.7699999809265137,2395600]
["2019-05-20",5.8299999237060547,5.869999885559082,5.7899999618530273,5.809999942779541,1093700]
["2019-05-17",5.75,5.8899998664855957,5.6999998092651367,5.8600001335144043,2521000]
["2019-05-16",5.9000000953674316,5.9099998474121094,5.7399997711181641,5.8000001907348633,2261900]
["2019-05-15",5.9899997711181641,6.0500001907348633,5.9099998474121094,5.929999828338623,1774500]
["2019-05-14",6.0500001907348633,6.0500001907348633,5.820000171661377,5.929999828338623,1932000]
["2019-05-13",5.9899997711181641,6.070000171661377,5.8899998664855957,6.070000171661377,3357100]
["2019-05-10",5.9600000381469727,5.9699997901916504,5.8499999046325684,5.880000114440918,2861800]
["2019-05-09",5.9200000762939453,6.059999942779541,5.8299999237060547,6,3527000]
["2019-05-08",6.0399999618530273,6.119999885559082,5.820000171661377,5.8400001525878906,2413600]
["2019-05-07",5.880000114440918,6.0500001907348633,5.7399997711181641,6.0300002098083496,2765400]
["2019-05-06",5.7699999809265137,5.880000114440918,5.7300000190734863,5.8299999237060547,1328500]
["2019-05-03",5.8499999046325684,5.940000057220459,5.7899999618530273,5.8299999237060547,2379300]
["2019-05-02",5.9000000953674316,5.9200000762939453,5.6500000953674316,5.7399997711181641,3876300]
["2019-05-01",6.0999999046325684,6.2399997711181641,5.9000000953674316,5.9699997901916504,3306800]
["2019-04-30",6.0999999046325684,6.179999828338623,6.070000171661377,6.1399998664855957,1815900]
["2019-04-29",6.2600002288818359,6.2600002288818359,6.0300002098083496,6.0799999237060547,2357300]
["2019-04-26",6.0500001907348633,6.3499999046325684,6.0500001907348633,6.320000171661377,4134700]
["2019-04-25",6.0300002098083496,6.119999885559082,5.940000057220459,6.0100002288818359,2994700]
["2019-04-24",5.9600000381469727,6.0799999237060547,5.880000114440918,5.9899997711181641,2935200]
["2019-04-23",5.809999942779541,6.0199999809265137,5.7800002098083496,5.9499998092651367,2662100]
["2019-04-22",6.0399999618530273,6.130000114440918,5.880000114440918,5.9000000953674316,2470800]
["2019-04-18",6.0799999237060547,6.179999828338623,6.0100002288818359,6.070000171661377,2111300]
["2019-04-17",6.119999885559082,6.2100000381469727,6,6.0399999618530273,2679200]
["2019-04-16",6.2300000190734863,6.2300000190734863,6.0399999618530273,6.070000171661377,2873700]
["2019-04-15",6.190000057220459,6.3299999237060547,6.119999885559082,6.2800002098083496,2160400]
["2019-04-12",6.3499999046325684,6.4000000953674316,6.25,6.2699999809265137,1639400]
["2019-04-11",6.3499999046325684,6.440000057220459,6.2399997711181641,6.3000001907348633,2597300]
["2019-04-10",6.5799999237060547,6.6399998664855957,6.4800000190734863,6.4800000190734863,1729900]
["2019-04-09",6.570000171661377,6.6399998664855957,6.5399999618530273,6.5999999046325684,1383700]
["2019-04-08",6.5900001525878906,6.6599998474121094,6.5,6.5399999618530273,2087300]
["2019-04-05",6.4699997901916504,6.5300002098083496,6.4099998474121094,6.4499998092651367,1349400]
["2019-04-04",6.2300000190734863,6.5500001907348633,6.1599998474121094,6.5500001907348633,2597600]
["2019-04-03",6.3499999046325684,6.4200000762939453,6.2600002288818359,6.3400001525878906,2542000]
["2019-04-02",6.2300000190734863,6.380000114440918,6.2199997901916504,6.3000001907348633,1999200]
["2019-04-01",6.5999999046325684,6.6100001335144043,6.2399997711181641,6.320000171661377,3910600]
["2019-03-29",6.7300000190734863,6.7699999809265137,6.559999942779541,6.5799999237060547,3103100]
["2019-03-28",6.679999828338623,6.679999828338623,6.4699997901916504,6.619999885559082,4406900]
["2019-03-27",7.130000114440918,7.1500000953674316,6.8499999046325684,6.9000000953674316,3280700]
["2019-03-26",7.0900001525878906,7.1500000953674316,7,7.119999885559082,2378600]
["2019-03-25",6.9499998092651367,7.190000057220459,6.8899998664855957,7.1500000953674316,3815600]
["2019-03-22",6.9000000953674316,7.0100002288818359,6.8499999046325684,6.8899998664855957,2871600]
["2019-03-21",6.9000000953674316,7.070000171661377,6.75,6.940000057220459,3848200]
["2019-03-20",6.75,6.9600000381469727,6.570000171661377,6.9000000953674316,3970100]
["2019-03-19",6.7899999618530273,6.8000001907348633,6.6399998664855957,6.7699999809265137,2576300]
["2019-03-18",6.7100000381469727,6.7899999618530273,6.5399999618530273,6.6500000953674316,3479600]
["2019-03-15",6.679999828338623,6.8400001525878906,6.5799999237060547,6.7199997901916504,5493100]
["2019-03-14",6.6599998474121094,6.820000171661377,6.5999999046325684,6.619999885559082,3441500]
["2019-03-13",6.880000114440918,7.0199999809265137,6.8499999046325684,6.9600000381469727,3529900]
["2019-03-12",6.6999998092651367,6.8899998664855957,6.690000057220459,6.869999885559082,2820300]
["2019-03-11",6.75,6.8299999237060547,6.5300002098083496,6.630000114440918,3311000]
["2019-03-08",6.7100000381469727,6.7899999618530273,6.570000171661377,6.7800002098083496,3672600]
["2019-03-07",6.2800002098083496,6.5,6.2399997711181641,6.4899997711181641,2468800]
["2019-03-06",6.4499998092651367,6.5300002098083496,6.2699999809265137,6.309999942779541,3789600]
["2019-03-05",6.4000000953674316,6.4699997901916504,6.2699999809265137,6.4600000381469727,2891800]
["2019-03-04",6.320000171661377,6.4000000953674316,6.119999885559082,6.4000000953674316,3664700]
["2019-03-01",6.5999999046325684,6.7300000190734863,6.3400001525878906,6.3499999046325684,3815000]
["2019-02-28",6.7899999618530273,6.820000171661377,6.6599998474121094,6.7399997711181641,2474800]
["2019-02-27",7.0100002288818359,7.0300002098083496,6.7199997901916504,6.7800002098083496,3605000]
["2019-02-26",6.7800002098083496,7.0799999237060547,6.6999998092651367,7.0300002098083496,3854600]
["2019-02-25",6.5,6.9899997711181641,6.5,6.9200000762939453,4270500]
["2019-02-22",6.6100001335144043,6.7600002288818359,6.5500001907348633,6.5799999237060547,3459800]
["2019-02-21",6.5799999237060547,6.6599998474121094,6.429999828338623,6.5500001907348633,3781800]
["2019-02-20",6.6999998092651367,6.820000171661377,6.559999942779541,6.6599998474121094,5712900]
["2019-02-19",6.25,6.6399998664855957,6.25,6.6100001335144043,6203500]
["2019-02-15",6.1100001335144043,6.1999998092651367,6.0100002288818359,6.190000057220459,3487300]
["2019-02-14",5.929999828338623,6.059999942779541,5.8600001335144043,6.0500001907348633,2247000]
["2019-02-13",5.869999885559082,6.059999942779541,5.8499999046325684,5.9200000762939453,2085200]
["2019-02-12",6,6.0500001907348633,5.869999885559082,5.929999828338623,2140800]
["2019-02-11",5.9499998092651367,6.070000171661377,5.9200000762939453,5.9899997711181641,1348600]
["2019-02-08",5.9099998474121094,6.070000171661377,5.8899998664855957,6.0300002098083496,2148400]
["2019-02-07",6.0399999618530273,6.0799999237060547,5.8299999237060547,5.8600001335144043,3353100]
["2019-02-06",6.0100002288818359,6.2199997901916504,6.0100002288818359,6.0399999618530273,2826300]
["2019-02-05",6.0100002288818359,6.119999885559082,5.9800000190734863,6.1100001335144043,2238200]
["2019-02-04",5.8400001525878906,6.0500001907348633,5.809999942779541,6.0500001907348633,1891400]
["2019-02-01",6.0799999237060547,6.0799999237060547,5.869999885559082,6,3359300]
["2019-01-31",6.070000171661377,6.1700000762939453,6.0199999809265137,6.119999885559082,3272800]
["2019-01-30",5.7600002288818359,6.0500001907348633,5.679999828338623,5.9899997711181641,3786900]
["2019-01-29",5.7300000190734863,5.929999828338623,5.6700000762939453,5.809999942779541,4769300]
["2019-01-28",5.559999942779541,5.6500000953674316,5.4600000381469727,5.6100001335144043,2867200]
["2019-01-25",5.4000000953674316,5.630000114440918,5.369999885559082,5.5500001907348633,3857400]
["2019-01-24",5.179999828338623,5.380000114440918,5.130000114440918,5.2600002288818359,4398900]
["2019-01-23",5.119999885559082,5.2800002098083496,5.0799999237060547,5.1700000762939453,2364400]
["2019-01-22",5.119999885559082,5.2300000190734863,5.059999942779541,5.1599998474121094,2452600]
["2019-01-18",5.1599998474121094,5.2800002098083496,5.059999942779541,5.1500000953674316,3894800]
["2019-01-17",5.179999828338623,5.309999942779541,5.0100002288818359,5.25,3557000]
["2019-01-16",5.429999828338623,5.440000057220459,5.2199997901916504,5.25,4132200]
["2019-01-15",5.9000000953674316,5.9000000953674316,5.3299999237060547,5.380000114440918,7116600]
["2019-01-14",6.0199999809265137,6.059999942779541,5.9099998474121094,5.9800000190734863,1617100]
["2019-01-11",6.0999999046325684,6.119999885559082,5.929999828338623,5.9800000190734863,1963300]
["2019-01-10",6.1599998474121094,6.2399997711181641,6.0399999618530273,6.059999942779541,1707000]
["2019-01-09",6.130000114440918,6.2800002098083496,6.0900001525878906,6.2100000381469727,1737000]
["2019-01-08",5.9800000190734863,6.179999828338623,5.8299999237060547,6.130000114440918,2930700]
["2019-01-07",6.3299999237060547,6.3299999237060547,6.0100002288818359,6.059999942779541,3452800]
["2019-01-04",6.190000057220459,6.369999885559082,6.059999942779541,6.2100000381469727,4333300]
["2019-01-03",6.0999999046325684,6.3299999237060547,6.0300002098083496,6.3000001907348633,3909800]
["2019-01-02",5.880000114440918,6.0799999237060547,5.8299999237060547,6.0199999809265137,2639600]
["2018-12-31",5.75,5.9000000953674316,5.619999885559082,5.8899998664855957,2358400]
["2018-12-28",5.8499999046325684,5.9200000762939453,5.7100000381469727,5.75,3271200]
["2018-12-27",5.929999828338623,6.0500001907348633,5.7800002098083496,5.9699997901916504,3603800]
["2018-12-26",5.8299999237060547,6.0799999237060547,5.6999998092651367,5.869999885559082,3908800]
["2018-12-24",5.6399998664855957,5.8299999237060547,5.5999999046325684,5.7600002288818359,1839100]
["2018-12-21",5.5399999618530273,5.7199997901916504,5.4699997901916504,5.5500001907348633,5281600]
["2018-12-20",5.4600000381469727,5.630000114440918,5.3299999237060547,5.5799999237060547,3503700]
["2018-12-19",5.7300000190734863,5.9099998474121094,5.1999998092651367,5.1999998092651367,4951300]
["2018-12-18",5.440000057220459,5.7300000190734863,5.3000001907348633,5.7100000381469727,3787700]
["2018-12-17",5.1700000762939453,5.5,5.1500000953674316,5.4499998092651367,3635200]
["2018-12-14",5.1100001335144043,5.25,4.9899997711181641,5.1500000953674316,2051100]
["2018-12-13",5.25,5.4000000953674316,5.190000057220459,5.2800002098083496,2005400]
["2018-12-12",5.1399998664855957,5.3299999237060547,5.130000114440918,5.309999942779541,2296600]
["2018-12-11",5.2300000190734863,5.3499999046325684,5.0900001525878906,5.1100001335144043,2043200]
["2018-12-10",5.0399999618530273,5.2300000190734863,5,5.130000114440918,2430100]
["2018-12-07",4.9800000190734863,5.1700000762939453,4.929999828338623,5.1399998664855957,2301600]
["2018-12-06",4.929999828338623,4.9899997711181641,4.8499999046325684,4.9099998474121094,1608200]
["2018-12-04",4.9899997711181641,5.1399998664855957,4.929999828338623,4.940000057220459,2565200]
["2018-12-03",4.9499998092651367,5,4.8000001907348633,4.9099998474121094,2609400]
["2018-11-30",4.8000001907348633,4.8400001525878906,4.5900001525878906,4.8000001907348633,2337500]
["2018-11-29",4.9600000381469727,4.9899997711181641,4.869999885559082,4.880000114440918,1752700]
["2018-11-28",4.8000001907348633,4.9899997711181641,4.6599998474121094,4.9499998092651367,3844800]
["2018-11-27",4.929999828338623,4.940000057220459,4.7199997901916504,4.7800002098083496,3398000]
["2018-11-26",5.130000114440918,5.1599998474121094,4.8600001335144043,4.8600001335144043,3732500]
["2018-11-23",5.369999885559082,5.4499998092651367,5.0300002098083496,5.0900001525878906,3016900]
["2018-11-21",5.2899999618530273,5.5999999046325684,5.2800002098083496,5.559999942779541,2309900]
["2018-11-20",5.2600002288818359,5.320000171661377,5.0799999237060547,5.2399997711181641,2305800]
["2018-11-19",5.3400001525878906,5.4499998092651367,5.2399997711181641,5.2699999809265137,1889400]
["2018-11-16",5.4499998092651367,5.4800000190734863,5.3299999237060547,5.4099998474121094,1727900]
["2018-11-15",5.2300000190734863,5.4600000381469727,5.2300000190734863,5.3299999237060547,2478200]
["2018-11-14",4.880000114440918,5.2600002288818359,4.880000114440918,5.1999998092651367,3930600]
["2018-11-13",5.0999999046325684,5.1700000762939453,4.75,4.869999885559082,5990000]
["2018-11-12",5.320000171661377,5.3299999237060547,5.0799999237060547,5.0900001525878906,3082900]
["2018-11-09",5.429999828338623,5.5300002098083496,5.3299999237060547,5.4000000953674316,2589400]
["2018-11-08",5.4899997711181641,5.630000114440918,5.4600000381469727,5.5399999618530273,2025300]
["2018-11-07",5.75,5.7600002288818359,5.4699997901916504,5.5,3011900]
["2018-11-06",5.8400001525878906,5.9099998474121094,5.6999998092651367,5.6999998092651367,1579800]
["2018-11-05",5.929999828338623,6,5.7800002098083496,5.869999885559082,1869200]
["2018-11-02",5.7699999809265137,5.929999828338623,5.6999998092651367,5.9200000762939453,2108100]
["2018-11-01",5.7199997901916504,5.8600001335144043,5.6700000762939453,5.8000001907348633,2829600]
["2018-10-31",5.5799999237060547,5.5900001525878906,5.4200000762939453,5.5500001907348633,3175400]
["2018-10-30",5.5999999046325684,5.809999942779541,5.559999942779541,5.690000057220459,2138700]
["2018-10-29",5.679999828338623,5.7800002098083496,5.5500001907348633,5.5900001525878906,2034100]
["2018-10-26",5.7399997711181641,5.9200000762939453,5.5999999046325684,5.7100000381469727,2867400]
["2018-10-25",6.0900001525878906,6.1700000762939453,5.679999828338623,5.6999998092651367,4131700]
["2018-10-24",6.190000057220459,6.2800002098083496,6.070000171661377,6.070000171661377,2095500]
["2018-10-23",6.4099998474121094,6.5,6.130000114440918,6.1999998092651367,2413100]
["2018-10-22",6.190000057220459,6.2699999809265137,6.0300002098083496,6.2199997901916504,1772200]
["2018-10-19",6.380000114440918,6.429999828338623,6.1399998664855957,6.25,2164100]
["2018-10-18",6.1999998092651367,6.3899998664855957,6.1100001335144043,6.2699999809265137,2451400]
["2018-10-17",6.2699999809265137,6.3600001335144043,6.1500000953674316,6.2399997711181641,1925400]
["2018-10-16",6.380000114440918,6.4499998092651367,6.130000114440918,6.2699999809265137,2727200]
["2018-10-15",6.25,6.4899997711181641,6.2399997711181641,6.3000001907348633,3553500]
["2018-10-12",6.1700000762939453,6.2199997901916504,5.880000114440918,6.1599998474121094,3790800]
["2018-10-11",5.8299999237060547,6.2899999618530273,5.6999998092651367,6.2199997901916504,5198500]
["2018-10-10",5.6700000762939453,5.7600002288818359,5.5300002098083496,5.7199997901916504,1978600]
["2018-10-09",5.6700000762939453,5.809999942779541,5.6100001335144043,5.690000057220459,1931500]
["2018-10-08",5.5500001907348633,5.7899999618530273,5.440000057220459,5.7899999618530273,2067400]
["2018-10-05",5.75,5.820000171661377,5.630000114440918,5.6700000762939453,1148500]
["2018-10-04",5.7600002288818359,5.8400001525878906,5.630000114440918,5.7199997901916504,1939700]
["2018-10-03",5.8499999046325684,5.9099998474121094,5.6500000953674316,5.679999828338623,2047700]
["2018-10-02",5.7800002098083496,5.9699997901916504,5.75,5.8000001907348633,2976100]
["2018-10-01",5.5999999046325684,5.7699999809265137,5.5999999046325684,5.6500000953674316,1612600]
["2018-09-28",5.570000171661377,5.7699999809265137,5.5399999618530273,5.679999828338623,2380900]
["2018-09-27",5.5100002288818359,5.5900001525878906,5.369999885559082,5.5100002288818359,2402800]
["2018-09-26",5.6100001335144043,5.7300000190734863,5.5,5.559999942779541,2868100]
["2018-09-25",5.6500000953674316,5.7899999618530273,5.6399998664855957,5.679999828338623,2144500]
["2018-09-24",5.6999998092651367,5.880000114440918,5.5900001525878906,5.5999999046325684,2223500]
["2018-09-21",5.5799999237060547,5.75,5.4899997711181641,5.6999998092651367,4366900]
["2018-09-20",5.9600000381469727,5.9699997901916504,5.619999885559082,5.7300000190734863,3409200]
["2018-09-19",5.7800002098083496,5.9499998092651367,5.7300000190734863,5.880000114440918,3124400]
["2018-09-18",5.6999998092651367,5.7899999618530273,5.6500000953674316,5.7100000381469727,2072300]
["2018-09-17",5.5100002288818359,5.7100000381469727,5.440000057220459,5.679999828338623,2863300]
["2018-09-14",5.5500001907348633,5.5900001525878906,5.440000057220459,5.4600000381469727,1802300]
["2018-09-13",5.7300000190734863,5.7600002288818359,5.4699997901916504,5.5399999618530273,2712200]
["2018-09-12",5.3000001907348633,5.690000057220459,5.179999828338623,5.6100001335144043,3183600]
["2018-09-11",5.2399997711181641,5.3400001525878906,5.0500001907348633,5.2800002098083496,3146700]
["2018-09-10",5.4699997901916504,5.5199999809265137,5.320000171661377,5.3299999237060547,2049000]
["2018-09-07",5.1999998092651367,5.5300002098083496,5.1500000953674316,5.4499998092651367,3125900]
["2018-09-06",5.320000171661377,5.4200000762939453,5.2699999809265137,5.320000171661377,2561400]
["2018-09-05",5.3600001335144043,5.380000114440918,5.2199997901916504,5.2800002098083496,1928200]
["2018-09-04",5.4099998474121094,5.4099998474121094,5.130000114440918,5.309999942779541,3552100]
["2018-08-31",5.4699997901916504,5.6100001335144043,5.4699997901916504,5.559999942779541,2174400]
["2018-08-30",5.619999885559082,5.630000114440918,5.4000000953674316,5.4699997901916504,2842500]
["2018-08-29",5.619999885559082,5.6999998092651367,5.5399999618530273,5.679999828338623,2016200]
["2018-08-28",5.9800000190734863,6.070000171661377,5.5900001525878906,5.6399998664855957,4107400]
["2018-08-27",5.5799999237060547,5.9000000953674316,5.5100002288818359,5.8499999046325684,3302800]
["2018-08-24",5.369999885559082,5.6399998664855957,5.3000001907348633,5.5100002288818359,3167800]
["2018-08-23",5.4600000381469727,5.4699997901916504,5.190000057220459,5.2300000190734863,2935400]
["2018-08-22",5.5799999237060547,5.5900001525878906,5.4800000190734863,5.5399999618530273,1701300]
["2018-08-21",5.4600000381469727,5.559999942779541,5.429999828338623,5.5100002288818359,2297500]
["2018-08-20",5.2899999618530273,5.5,5.2699999809265137,5.429999828338623,3138800]
["2018-08-17",5.1599998474121094,5.3000001907348633,5.070000171661377,5.25,4643400]
["2018-08-16",5.2199997901916504,5.5199999809265137,5.070000171661377,5.070000171661377,4486000]
["2018-08-15",5.4000000953674316,5.4099998474121094,5.0100002288818359,5.1399998664855957,6158100]
["2018-08-14",5.5300002098083496,5.7100000381469727,5.5,5.619999885559082,3712300]
["2018-08-13",6.309999942779541,6.309999942779541,5.369999885559082,5.4899997711181641,8076500]
["2018-08-10",6.4499998092651367,6.619999885559082,6.4499998092651367,6.4800000190734863,1192800]
["2018-08-09",6.3600001335144043,6.559999942779541,6.3299999237060547,6.4899997711181641,1403400]
["2018-08-08",6.4000000953674316,6.440000057220459,6.2399997711181641,6.3499999046325684,2484300]
["2018-08-07",6.6700000762939453,6.6999998092651367,6.3899998664855957,6.3899998664855957,1921500]
["2018-08-06",6.4499998092651367,6.6700000762939453,6.4499998092651367,6.5900001525878906,1039800]
["2018-08-03",6.5399999618530273,6.7300000190734863,6.5399999618530273,6.5799999237060547,1402500]
["2018-08-02",6.5399999618530273,6.6399998664855957,6.5100002288818359,6.5500001907348633,1553100]
["2018-08-01",6.5999999046325684,6.6399998664855957,6.5,6.5300002098083496,2047500]
["2018-07-31",6.4699997901916504,6.7100000381469727,6.440000057220459,6.6399998664855957,1983200]
["2018-07-30",6.429999828338623,6.5300002098083496,6.4200000762939453,6.5,1644600]
["2018-07-27",6.5900001525878906,6.5900001525878906,6.4000000953674316,6.429999828338623,1632700]
["2018-07-26",6.6599998474121094,6.6599998474121094,6.4899997711181641,6.4899997711181641,1996500]
["2018-07-25",6.6599998474121094,6.7100000381469727,6.570000171661377,6.679999828338623,1992400]
["2018-07-24",6.4699997901916504,6.5999999046325684,6.4699997901916504,6.5300002098083496,2588000]
["2018-07-23",6.5799999237060547,6.6500000953674316,6.320000171661377,6.4000000953674316,4042200]
["2018-07-20",6.8400001525878906,6.9200000762939453,6.5799999237060547,6.619999885559082,3259300]
["2018-07-19",6.7100000381469727,6.8299999237060547,6.6399998664855957,6.690000057220459,3110900]
["2018-07-18",6.679999828338623,6.940000057220459,6.679999828338623,6.8499999046325684,4319600]
["2018-07-17",7.0999999046325684,7.2899999618530273,6.7800002098083496,6.7800002098083496,7783200]
["2018-07-16",7.679999828338623,7.690000057220459,7.4099998474121094,7.429999828338623,2089700]
["2018-07-13",7.570000171661377,7.7399997711181641,7.5399999618530273,7.6999998092651367,1296100]
["2018-07-12",7.7199997901916504,7.7899999618530273,7.570000171661377,7.619999885559082,1615200]
["2018-07-11",7.9000000953674316,7.9899997711181641,7.5500001907348633,7.6100001335144043,3753700]
["2018-07-10",8.1499996185302734,8.1800003051757813,7.869999885559082,8.0100002288818359,2569700]
["2018-07-09",8.3999996185302734,8.4799995422363281,8.1899995803833008,8.1899995803833008,2835700]
["2018-07-06",8.0799999237060547,8.3199996948242188,8.0699996948242188,8.2600002288818359,2968900]
["2018-07-05",8.0399999618530273,8.1499996185302734,7.9899997711181641,8.0399999618530273,2495200]
["2018-07-03",7.679999828338623,8.1000003814697266,7.6599998474121094,8,3127600]
["2018-07-02",7.5,7.6500000953674316,7.4499998092651367,7.5999999046325684,1775000]
["2018-06-29",7.4600000381469727,7.679999828338623,7.4200000762939453,7.630000114440918,1595300]
["2018-06-28",7.4200000762939453,7.5199999809265137,7.380000114440918,7.3899998664855957,1642200]
["2018-06-27",7.4499998092651367,7.6500000953674316,7.440000057220459,7.4600000381469727,1775300]
["2018-06-26",7.3899998664855957,7.5900001525878906,7.320000171661377,7.5500001907348633,1309800]
["2018-06-25",7.5900001525878906,7.6999998092651367,7.4200000762939453,7.4699997901916504,1993600]
["2018-06-22",7.440000057220459,7.6700000762939453,7.369999885559082,7.6500000953674316,2380400]
["2018-06-21",7.320000171661377,7.429999828338623,7.2899999618530273,7.3600001335144043,1484500]
["2018-06-20",7.3499999046325684,7.4099998474121094,7.309999942779541,7.3600001335144043,1204100]
["2018-06-19",7.2300000190734863,7.4600000381469727,7.1599998474121094,7.3400001525878906,2239800]
["2018-06-18",7.440000057220459,7.5,7.380000114440918,7.429999828338623,1958400]
["2018-06-15",7.8499999046325684,7.8600001335144043,7.380000114440918,7.4600000381469727,8457300]
["2018-06-14",7.869999885559082,7.9699997901916504,7.8400001525878906,7.9699997901916504,2776400]
["2018-06-13",7.6999998092651367,7.8400001525878906,7.5799999237060547,7.7699999809265137,3158200]
["2018-06-12",7.570000171661377,7.679999828338623,7.5300002098083496,7.6700000762939453,2016800]
["2018-06-11",7.369999885559082,7.619999885559082,7.3499999046325684,7.5799999237060547,3089400]
["2018-06-08",7.4699997901916504,7.5,7.2899999618530273,7.3000001907348633,1916900]
["2018-06-07",7.320000171661377,7.4800000190734863,7.309999942779541,7.4699997901916504,3201600]
["2018-06-06",7.2100000381469727,7.309999942779541,7.190000057220459,7.2800002098083496,1851800]
["2018-06-05",7.0500001907348633,7.179999828338623,7.0500001907348633,7.1500000953674316,1243700]
["2018-06-04",7.179999828338623,7.1999998092651367,7.0500001907348633,7.0500001907348633,1265800]
["2018-06-01",7.0799999237060547,7.190000057220459,6.9699997901916504,7.130000114440918,1690400]
["2018-05-31",7.1700000762939453,7.1999998092651367,7.0500001907348633,7.0900001525878906,1248500]
["2018-05-30",7.1399998664855957,7.1999998092651367,7.0900001525878906,7.1500000953674316,1584200]
["2018-05-29",6.940000057220459,7.1500000953674316,6.9000000953674316,7.0799999237060547,2856200]
["2018-05-25",7.3299999237060547,7.4000000953674316,7.1700000762939453,7.1999998092651367,1977700]
["2018-05-24",7.3299999237060547,7.4800000190734863,7.2899999618530273,7.3600001335144043,2961600]
["2018-05-23",7.2600002288818359,7.3299999237060547,7.1700000762939453,7.2800002098083496,2569900]
["2018-05-22",7.3400001525878906,7.3899998664855957,7.2399997711181641,7.309999942779541,3009300]
["2018-05-21",7.0999999046325684,7.320000171661377,7.070000171661377,7.2899999618530273,1810800]
["2018-05-18",7.119999885559082,7.2600002288818359,7.0900001525878906,7.0900001525878906,2355100]
["2018-05-17",7.1399998664855957,7.1999998092651367,7.0799999237060547,7.1399998664855957,1675800]
["2018-05-16",7.0300002098083496,7.320000171661377,7.0300002098083496,7.1500000953674316,2828700]
["2018-05-15",6.9699997901916504,7.0300002098083496,6.8299999237060547,7,3232000]
["2018-05-14",7.25,7.380000114440918,7.0900001525878906,7.0900001525878906,3584200]
["2018-05-11",7.2699999809265137,7.309999942779541,7.0399999618530273,7.1700000762939453,3243300]
["2018-05-10",6.7199997901916504,7.3000001907348633,6.6999998092651367,7.2300000190734863,5982000]
["2018-05-09",6.880000114440918,6.940000057220459,6.820000171661377,6.8400001525878906,2405000]
["2018-05-08",6.75,6.8899998664855957,6.630000114440918,6.8499999046325684,1908400]
["2018-05-07",6.8000001907348633,6.869999885559082,6.75,6.7899999618530273,1396500]
["2018-05-04",6.7699999809265137,6.869999885559082,6.7199997901916504,6.8499999046325684,1785100]
["2018-05-03",6.869999885559082,6.880000114440918,6.75,6.8000001907348633,2067000]
["2018-05-02",6.619999885559082,6.9099998474121094,6.5999999046325684,6.7399997711181641,3898400]
["2018-05-01",6.4499998092651367,6.559999942779541,6.3600001335144043,6.5500001907348633,1777200]
["2018-04-30",6.5799999237060547,6.619999885559082,6.4699997901916504,6.4800000190734863,2510500]
["2018-04-27",6.7399997711181641,6.8899998664855957,6.6999998092651367,6.7699999809265137,1767600]
["2018-04-26",6.690000057220459,6.7899999618530273,6.6599998474121094,6.7399997711181641,1694100]
["2018-04-25",6.5,6.7199997901916504,6.440000057220459,6.6399998664855957,2466600]
["2018-04-24",6.5399999618530273,6.570000171661377,6.429999828338623,6.559999942779541,1823800]
["2018-04-23",6.630000114440918,6.6599998474121094,6.429999828338623,6.4699997901916504,3081300]
["2018-04-20",6.7699999809265137,6.8499999046325684,6.690000057220459,6.7600002288818359,2197500]
["2018-04-19",6.9000000953674316,6.9499998092651367,6.7300000190734863,6.8600001335144043,2578700]
["2018-04-18",6.869999885559082,7,6.8299999237060547,6.8499999046325684,4107100]
["2018-04-17",6.570000171661377,6.7300000190734863,6.5199999809265137,6.7100000381469727,1578100]
["2018-04-16",6.6999998092651367,6.7399997711181641,6.5199999809265137,6.5799999237060547,2124300]
["2018-04-13",6.6599998474121094,6.75,6.5500001907348633,6.6599998474121094,2301000]
["2018-04-12",6.5300002098083496,6.5900001525878906,6.380000114440918,6.5199999809265137,2356400]
["2018-04-11",6.4800000190734863,6.8000001907348633,6.4499998092651367,6.6100001335144043,5488900]
["2018-04-10",6.309999942779541,6.3899998664855957,6.2199997901916504,6.3400001525878906,2167700]
["2018-04-09",6.0999999046325684,6.3000001907348633,6.0199999809265137,6.2300000190734863,2257000]
["2018-04-06",6.2100000381469727,6.2899999618530273,6.119999885559082,6.119999885559082,1812000]
["2018-04-05",6.059999942779541,6.1999998092651367,6.0399999618530273,6.1700000762939453,1431900]
["2018-04-04",6.1700000762939453,6.2699999809265137,6.0900001525878906,6.119999885559082,1811300]
["2018-04-03",6.2199997901916504,6.2399997711181641,6.059999942779541,6.1399998664855957,1882100]
["2018-04-02",6.1999998092651367,6.3600001335144043,6.1700000762939453,6.2300000190734863,2785000]
["2018-03-29",6.059999942779541,6.130000114440918,5.9699997901916504,6.1100001335144043,2567600]
["2018-03-28",6.1100001335144043,6.2199997901916504,6.0100002288818359,6.0199999809265137,2460500]
["2018-03-27",6.1500000953674316,6.25,6.0300002098083496,6.1700000762939453,2531200]
["2018-03-26",6.4899997711181641,6.4899997711181641,6.1999998092651367,6.2199997901916504,3371500]
["2018-03-23",6.3600001335144043,6.5100002288818359,6.3400001525878906,6.3600001335144043,4655900]
["2018-03-22",6.0799999237060547,6.2899999618530273,6.0199999809265137,6.1599998474121094,3109000]
["2018-03-21",5.8299999237060547,6.190000057220459,5.8299999237060547,6.130000114440918,3785400]
["2018-03-20",5.929999828338623,5.929999828338623,5.690000057220459,5.7600002288818359,2398400]
["2018-03-19",5.9000000953674316,5.9899997711181641,5.8299999237060547,5.9699997901916504,1897800]
["2018-03-16",5.8899998664855957,6,5.7699999809265137,5.940000057220459,3481100]
["2018-03-15",5.929999828338623,5.9600000381469727,5.8000001907348633,5.880000114440918,2017400]
["2018-03-14",6.0900001525878906,6.119999885559082,5.9600000381469727,5.9800000190734863,1844000]
["2018-03-13",5.9899997711181641,6.0799999237060547,5.9200000762939453,6.059999942779541,2375100]
["2018-03-12",5.7899999618530273,6.0100002288818359,5.7699999809265137,5.9699997901916504,2161600]
["2018-03-09",5.75,5.8899998664855957,5.690000057220459,5.8299999237060547,2663100]
["2018-03-08",5.7199997901916504,5.7800002098083496,5.5999999046325684,5.75,2104400]
["2018-03-07",5.9499998092651367,6.0199999809265137,5.6599998474121094,5.7100000381469727,3148400]
["2018-03-06",5.7600002288818359,6.0500001907348633,5.7600002288818359,5.9600000381469727,3737700]
["2018-03-05",5.5300002098083496,5.6700000762939453,5.5,5.630000114440918,2713900]
["2018-03-02",5.5399999618530273,5.6999998092651367,5.5100002288818359,5.5399999618530273,3564600]
["2018-03-01",5.1999998092651367,5.5300002098083496,5.0900001525878906,5.5100002288818359,4573900]
["2018-02-28",5.3600001335144043,5.429999828338623,5.2899999618530273,5.309999942779541,2123600]
["2018-02-27",5.5300002098083496,5.5900001525878906,5.320000171661377,5.380000114440918,2860100]
["2018-02-26",5.7199997901916504,5.7399997711181641,5.5,5.5999999046325684,2588300]
["2018-02-23",5.5199999809265137,5.630000114440918,5.4699997901916504,5.570000171661377,1684800]
["2018-02-22",5.5399999618530273,5.6700000762939453,5.5100002288818359,5.5399999618530273,2021800]
["2018-02-21",5.630000114440918,5.7199997901916504,5.4699997901916504,5.4899997711181641,3003300]
["2018-02-20",5.690000057220459,5.809999942779541,5.5199999809265137,5.5500001907348633,3004900]
["2018-02-16",5.940000057220459,6.070000171661377,5.690000057220459,5.7800002098083496,3901000]
["2018-02-15",6.0399999618530273,6.1399998664855957,5.8600001335144043,6,3077900]
["2018-02-14",5.6500000953674316,6.059999942779541,5.6500000953674316,5.9899997711181641,4885300]
["2018-02-13",5.6500000953674316,5.8299999237060547,5.5799999237060547,5.679999828338623,3185900]
["2018-02-12",5.1700000762939453,5.7199997901916504,5.1399998664855957,5.5999999046325684,6666900]
["2018-02-09",5.440000057220459,5.4499998092651367,4.929999828338623,5.1399998664855957,6907000]
["2018-02-08",5.5199999809265137,5.5799999237060547,5.4200000762939453,5.429999828338623,3769400]
["2018-02-07",5.5999999046325684,5.7300000190734863,5.4499998092651367,5.5,4629600]
["2018-02-06",5.6599998474121094,5.8000001907348633,5.630000114440918,5.6599998474121094,3989800]
["2018-02-05",5.6500000953674316,5.869999885559082,5.6100001335144043,5.7399997711181641,5039200]
["2018-02-02",5.940000057220459,5.940000057220459,5.619999885559082,5.6599998474121094,6833200]
["2018-02-01",6.0500001907348633,6.2199997901916504,5.9800000190734863,6.0399999618530273,3450900]
["2018-01-31",6.1700000762939453,6.179999828338623,5.8000001907348633,6.119999885559082,7730300]
["2018-01-30",6.369999885559082,6.440000057220459,6,6.059999942779541,7313800]
["2018-01-29",6.5399999618530273,6.5399999618530273,6.2899999618530273,6.309999942779541,5653500]
["2018-01-26",6.559999942779541,6.7199997901916504,6.4099998474121094,6.5,7206900]
["2018-01-25",7.0500001907348633,7.0999999046325684,6.5,6.5100002288818359,14428700]
["2018-01-24",7.1399998664855957,7.3000001907348633,7.0500001907348633,7.0999999046325684,8271700]
["2018-01-23",6.9200000762939453,7.1100001335144043,6.869999885559082,7.0199999809265137,4207400]
["2018-01-22",6.9000000953674316,7.0100002288818359,6.820000171661377,6.9899997711181641,2829800]
["2018-01-19",6.9899997711181641,7.0300002098083496,6.8600001335144043,6.880000114440918,2716400]
["2018-01-18",7.2600002288818359,7.3000001907348633,6.9000000953674316,6.9200000762939453,3588300]
["2018-01-17",7.2699999809265137,7.5,7.2300000190734863,7.2399997711181641,3856800]
["2018-01-16",6.9899997711181641,7.3899998664855957,6.9099998474121094,7.3499999046325684,8354200]
["2018-01-12",6.929999828338623,6.9600000381469727,6.5999999046325684,6.7899999618530273,8569400]
["2018-01-11",6.9099998474121094,7.0500001907348633,6.880000114440918,6.9699997901916504,1957500]
["2018-01-10",6.880000114440918,6.9699997901916504,6.7899999618530273,6.8899998664855957,2248300]
["2018-01-09",6.8400001525878906,6.8600001335144043,6.6500000953674316,6.7600002288818359,2343000]
["2018-01-08",6.940000057220459,7.0799999237060547,6.8600001335144043,6.9200000762939453,2332600]
["2018-01-05",7,7.0300002098083496,6.8600001335144043,6.9600000381469727,2419800]
["2018-01-04",7.0500001907348633,7.0799999237060547,6.8899998664855957,7.0500001907348633,2555200]
["2018-01-03",7.2399997711181641,7.25,6.8899998664855957,7.0399999618530273,3287800]
["2018-01-02",6.8400001525878906,7.2199997901916504,6.7699999809265137,7.2199997901916504,4063000]
["2017-12-29",6.9000000953674316,6.9000000953674316,6.619999885559082,6.7399997711181641,3245200]
["2017-12-28",7.0399999618530273,7.0500001907348633,6.75,6.869999885559082,3316900]
["2017-12-27",7.0500001907348633,7.1500000953674316,6.9200000762939453,6.9699997901916504,2598100]
["2017-12-26",6.9600000381469727,7.0300002098083496,6.9000000953674316,7.0300002098083496,1884800]
["2017-12-22",7.5100002288818359,7.5199999809265137,6.7899999618530273,6.929999828338623,8249000]
["2017-12-21",7.6399998664855957,7.809999942779541,7.570000171661377,7.6399998664855957,2587000]
["2017-12-20",7.6700000762939453,7.8400001525878906,7.5999999046325684,7.809999942779541,2210300]
["2017-12-19",7.5500001907348633,7.7600002288818359,7.5,7.6500000953674316,2568700]
["2017-12-18",7.3899998664855957,7.5999999046325684,7.3600001335144043,7.559999942779541,3189700]
["2017-12-15",7.3499999046325684,7.4000000953674316,7.1700000762939453,7.2600002288818359,3596500]
["2017-12-14",7.3000001907348633,7.3499999046325684,6.9699997901916504,7.2600002288818359,3448200]
["2017-12-13",6.619999885559082,7.380000114440918,6.5999999046325684,7.3499999046325684,5633700]
["2017-12-12",6.5999999046325684,6.679999828338623,6.5,6.619999885559082,1920400]
["2017-12-11",6.5199999809265137,6.7199997901916504,6.4699997901916504,6.6399998664855957,2008100]
["2017-12-08",6.320000171661377,6.5300002098083496,6.3000001907348633,6.4899997711181641,1982200]
["2017-12-07",6.3000001907348633,6.4000000953674316,6.25,6.2800002098083496,2273700]
["2017-12-06",6.5199999809265137,6.5399999618530273,6.369999885559082,6.429999828338623,2079700]
["2017-12-05",6.5399999618530273,6.570000171661377,6.4499998092651367,6.5399999618530273,2269600]
["2017-12-04",6.6399998664855957,6.6999998092651367,6.5500001907348633,6.6100001335144043,1886600]
["2017-12-01",6.6500000953674316,6.8499999046325684,6.6500000953674316,6.7199997901916504,2098100]
["2017-11-30",6.5100002288818359,6.7399997711181641,6.5,6.6700000762939453,2039900]
["2017-11-29",6.5900001525878906,6.6500000953674316,6.4699997901916504,6.5900001525878906,2239000]
["2017-11-28",6.6500000953674316,6.75,6.5900001525878906,6.6599998474121094,1380100]
["2017-11-27",6.7699999809265137,6.7899999618530273,6.559999942779541,6.6599998474121094,1909200]
["2017-11-24",6.880000114440918,6.9600000381469727,6.6999998092651367,6.7199997901916504,1246900]
["2017-11-22",6.7800002098083496,6.8899998664855957,6.7199997901916504,6.880000114440918,2256700]
["2017-11-21",6.690000057220459,6.7899999618530273,6.6500000953674316,6.7300000190734863,1211500]
["2017-11-20",6.75,6.8000001907348633,6.5300002098083496,6.6599998474121094,2219800]
["2017-11-17",6.619999885559082,6.8400001525878906,6.5999999046325684,6.7899999618530273,2656000]
["2017-11-16",6.5799999237060547,6.690000057220459,6.5199999809265137,6.570000171661377,1263700]
["2017-11-15",6.5300002098083496,6.6100001335144043,6.4099998474121094,6.559999942779541,2072500]
["2017-11-14",6.5,6.5999999046325684,6.440000057220459,6.4600000381469727,2236700]
["2017-11-13",6.6500000953674316,6.690000057220459,6.5,6.570000171661377,2529800]
["2017-11-10",6.8000001907348633,6.8000001907348633,6.619999885559082,6.630000114440918,3006100]
["2017-11-09",7.059999942779541,7.059999942779541,6.7800002098083496,6.809999942779541,3083500]
["2017-11-08",6.9000000953674316,7.2300000190734863,6.8899998664855957,7.0399999618530273,3874500]
["2017-11-07",6.809999942779541,6.8400001525878906,6.690000057220459,6.7800002098083496,1625100]
["2017-11-06",6.5100002288818359,6.9000000953674316,6.4499998092651367,6.8299999237060547,3361600]
["2017-11-03",6.9499998092651367,6.9699997901916504,6.4200000762939453,6.4600000381469727,4921000]
["2017-11-02",6.9000000953674316,7.0300002098083496,6.8600001335144043,6.9200000762939453,2672000]
["2017-11-01",6.8400001525878906,7.0300002098083496,6.7600002288818359,6.8600001335144043,2723300]
["2017-10-31",6.7899999618530273,6.7899999618530273,6.6599998474121094,6.75,1602700]
["2017-10-30",6.7100000381469727,6.940000057220459,6.6999998092651367,6.8600001335144043,1919600]
["2017-10-27",6.5799999237060547,6.7600002288818359,6.5,6.7100000381469727,2378100]
["2017-10-26",6.8899998664855957,6.9099998474121094,6.5900001525878906,6.5999999046325684,3037100]
["2017-10-25",6.9000000953674316,6.9899997711181641,6.8499999046325684,6.8899998664855957,1709500]
["2017-10-24",6.9499998092651367,7.0500001907348633,6.9099998474121094,6.940000057220459,1598400]
["2017-10-23",6.9200000762939453,7.0799999237060547,6.8600001335144043,7.0300002098083496,2164300]
["2017-10-20",6.9600000381469727,7.0199999809265137,6.869999885559082,7,2217200]
["2017-10-19",6.9699997901916504,7.059999942779541,6.9099998474121094,7.0100002288818359,1924400]
["2017-10-18",6.9699997901916504,7.0399999618530273,6.8000001907348633,6.9099998474121094,2473600]
["2017-10-17",7.0199999809265137,7.059999942779541,6.940000057220459,7.0100002288818359,2128700]
["2017-10-16",7.2699999809265137,7.3400001525878906,7.1100001335144043,7.1399998664855957,1704700]
["2017-10-13",7.320000171661377,7.3600001335144043,7.2300000190734863,7.2699999809265137,1649700]
["2017-10-12",7.320000171661377,7.3299999237060547,7.190000057220459,7.2399997711181641,1597900]
["2017-10-11",7.309999942779541,7.3499999046325684,7.070000171661377,7.3299999237060547,1813800]
["2017-10-10",7.5300002098083496,7.5799999237060547,7.1999998092651367,7.2600002288818359,2503900]
["2017-10-09",7.4000000953674316,7.5500001907348633,7.309999942779541,7.4200000762939453,2471700]
["2017-10-06",6.9600000381469727,7.369999885559082,6.8600001335144043,7.3499999046325684,3723000]
["2017-10-05",6.9800000190734863,7.119999885559082,6.9800000190734863,7,1900800]
["2017-10-04",6.9099998474121094,7.0900001525878906,6.880000114440918,7.0100002288818359,2623100]
["2017-10-03",6.929999828338623,7.0100002288818359,6.7399997711181641,6.8299999237060547,3491100]
["2017-10-02",6.8000001907348633,6.9899997711181641,6.7699999809265137,6.9099998474121094,2345700]
["2017-09-29",6.9899997711181641,7,6.8400001525878906,6.8400001525878906,1992000]
["2017-09-28",7.0999999046325684,7.1500000953674316,6.8499999046325684,6.9699997901916504,3312300]
["2017-09-27",7.0999999046325684,7.2100000381469727,7.070000171661377,7.0999999046325684,1719900]
["2017-09-26",7.1500000953674316,7.4200000762939453,7.0799999237060547,7.1700000762939453,2878500]
["2017-09-25",7.059999942779541,7.3400001525878906,7.0399999618530273,7.2899999618530273,3318800]
["2017-09-22",6.9099998474121094,7.1599998474121094,6.8899998664855957,7.1399998664855957,3035800]
["2017-09-21",6.7199997901916504,6.9800000190734863,6.6999998092651367,6.8499999046325684,2639700]
["2017-09-20",7.059999942779541,7.1999998092651367,6.75,6.8600001335144043,4020000]
["2017-09-19",6.9200000762939453,7.0999999046325684,6.8600001335144043,7.0399999618530273,1974300]
["2017-09-18",6.9099998474121094,6.940000057220459,6.7600002288818359,6.8499999046325684,3417900]
["2017-09-15",7.070000171661377,7.1599998474121094,7,7.0100002288818359,4216200]
["2017-09-14",7.0199999809265137,7.190000057220459,6.940000057220459,7.119999885559082,2546800]
["2017-09-13",7.190000057220459,7.25,7.0199999809265137,7.0199999809265137,2388300]
["2017-09-12",6.9600000381469727,7.3600001335144043,6.9200000762939453,7.2600002288818359,2443000]
["2017-09-11",7,7.1500000953674316,6.940000057220459,7,3054000]
["2017-09-08",7.4600000381469727,7.4800000190734863,7.130000114440918,7.190000057220459,3804800]
["2017-09-07",7.4600000381469727,7.6399998664855957,7.4099998474121094,7.5199999809265137,2934300]
["2017-09-06",7.4200000762939453,7.630000114440918,7.2100000381469727,7.3400001525878906,3608200]
["2017-09-05",7.2399997711181641,7.5100002288818359,7.2300000190734863,7.4499998092651367,5216800]
["2017-09-01",7.179999828338623,7.2199997901916504,6.880000114440918,7.1100001335144043,3202700]
["2017-08-31",6.679999828338623,7.1100001335144043,6.679999828338623,7.070000171661377,4505600]
["2017-08-30",6.7399997711181641,6.8000001907348633,6.5799999237060547,6.6399998664855957,3611800]
["2017-08-29",7.1599998474121094,7.25,6.7199997901916504,6.8499999046325684,5718200]
["2017-08-28",6.5999999046325684,7.0500001907348633,6.5199999809265137,6.9899997711181641,4918900]
["2017-08-25",6.4699997901916504,6.5900001525878906,6.3499999046325684,6.4800000190734863,2656800]
["2017-08-24",6.3000001907348633,6.4899997711181641,6.25,6.4099998474121094,1965000]
["2017-08-23",6.309999942779541,6.369999885559082,6.2100000381469727,6.3600001335144043,2251200]
["2017-08-22",6.380000114440918,6.4200000762939453,6.2100000381469727,6.2600002288818359,2562900]
["2017-08-21",6.4499998092651367,6.5,6.320000171661377,6.4099998474121094,2029300]
["2017-08-18",6.7600002288818359,6.7699999809265137,6.380000114440918,6.429999828338623,3949000]
["2017-08-17",6.570000171661377,6.6399998664855957,6.4600000381469727,6.5500001907348633,3300000]
["2017-08-16",6.2100000381469727,6.5999999046325684,6.1700000762939453,6.5199999809265137,3663500]
["2017-08-15",6.0500001907348633,6.2800002098083496,6.0199999809265137,6.2199997901916504,2728600]
["2017-08-14",6.429999828338623,6.429999828338623,6.2300000190734863,6.2800002098083496,3648900]
["2017-08-11",6.7699999809265137,6.7800002098083496,6.4000000953674316,6.5199999809265137,5693200]
["2017-08-10",6.3499999046325684,6.8000001907348633,6.3400001525878906,6.7399997711181641,7682700]
["2017-08-09",6.2399997711181641,6.2899999618530273,6.059999942779541,6.2199997901916504,5662900]
["2017-08-08",6.25,6.2899999618530273,5.9200000762939453,6.0900001525878906,6700400]
["2017-08-07",6.3499999046325684,6.380000114440918,6.059999942779541,6.0900001525878906,6759100]
["2017-08-04",7.309999942779541,7.3899998664855957,6.1999998092651367,6.2399997711181641,13933700]
["2017-08-03",7.8000001907348633,7.8400001525878906,7.6700000762939453,7.690000057220459,2909200]
["2017-08-02",8.1800003051757813,8.1999998092651367,7.809999942779541,7.8400001525878906,3498200]
["2017-08-01",8.1599998474121094,8.3999996185302734,8.119999885559082,8.1899995803833008,2386700]
["2017-07-31",8.1999998092651367,8.3999996185302734,8.1999998092651367,8.2299995422363281,2916900]
["2017-07-28",8.0500001907348633,8.3000001907348633,8.0100002288818359,8.1999998092651367,2813000]
["2017-07-27",8.3100004196166992,8.3199996948242188,7.9699997901916504,7.9800000190734863,3819500]
["2017-07-26",7.820000171661377,8.3400001525878906,7.7199997901916504,8.2200002670288086,5195500]
["2017-07-25",7.7300000190734863,7.9000000953674316,7.7100000381469727,7.880000114440918,3511000]
["2017-07-24",8.0299997329711914,8.0299997329711914,7.6399998664855957,7.679999828338623,2518000]
["2017-07-21",8.0600004196166992,8.0799999237060547,7.8499999046325684,8,2183200]
["2017-07-20",7.8299999237060547,7.9899997711181641,7.7699999809265137,7.940000057220459,1966700]
["2017-07-19",8,8.119999885559082,7.8499999046325684,7.869999885559082,2446500]
["2017-07-18",8.1000003814697266,8.119999885559082,7.9699997901916504,8,2727000]
["2017-07-17",7.9200000762939453,8.119999885559082,7.869999885559082,7.940000057220459,3254000]
["2017-07-14",7.7699999809265137,7.9499998092651367,7.7199997901916504,7.7600002288818359,3906900]
["2017-07-13",7.7399997711181641,7.7800002098083496,7.5,7.5399999618530273,3587800]
["2017-07-12",7.809999942779541,8,7.7199997901916504,7.7300000190734863,4449300]
["2017-07-11",7.6100001335144043,7.820000171661377,7.4499998092651367,7.8000001907348633,3726100]
["2017-07-10",7.119999885559082,7.6500000953674316,7.0799999237060547,7.630000114440918,4857400]
["2017-07-07",7.309999942779541,7.320000171661377,7.0999999046325684,7.190000057220459,4386400]
["2017-07-06",7.559999942779541,7.630000114440918,7.2800002098083496,7.380000114440918,4309200]
["2017-07-05",7.7199997901916504,7.7300000190734863,7.3499999046325684,7.5500001907348633,6821500]
["2017-07-03",8.0699996948242188,8.1499996185302734,7.6599998474121094,7.679999828338623,3589100]
["2017-06-30",8.0699996948242188,8.3900003433227539,8.0500001907348633,8.3100004196166992,3063500]
["2017-06-29",8.3100004196166992,8.3999996185302734,8.0500001907348633,8.1400003433227539,2982500]
["2017-06-28",8.380000114440918,8.4799995422363281,8.1499996185302734,8.4700002670288086,1990600]
["2017-06-27",8.4700002670288086,8.5200004577636719,8.2700004577636719,8.2799997329711914,2434000]
["2017-06-26",8.1800003051757813,8.4700002670288086,8.1400003433227539,8.369999885559082,2632400]
["2017-06-23",8.2700004577636719,8.4099998474121094,8.2100000381469727,8.3900003433227539,3365400]
["2017-06-22",8.0399999618530273,8.2200002670288086,8.0200004577636719,8.1599998474121094,3847100]
["2017-06-21",7.8000001907348633,8,7.75,7.8899998664855957,2328000]
["2017-06-20",7.7600002288818359,7.809999942779541,7.619999885559082,7.7600002288818359,1940800]
["2017-06-19",7.559999942779541,7.8600001335144043,7.5199999809265137,7.7199997901916504,2936300]
["2017-06-16",7.820000171661377,7.9000000953674316,7.559999942779541,7.6700000762939453,16825200]
["2017-06-15",7.869999885559082,8.0200004577636719,7.7199997901916504,7.7699999809265137,4447700]
["2017-06-14",8.6599998474121094,8.7299995422363281,7.8299999237060547,7.9499998092651367,7054300]
["2017-06-13",8.1899995803833008,8.4700002670288086,8.0900001525878906,8.4399995803833008,4270900]
["2017-06-12",8.25,8.3599996566772461,8.1999998092651367,8.1999998092651367,3825500]
["2017-06-09",8.3999996185302734,8.4899997711181641,8.2700004577636719,8.3100004196166992,3479800]
["2017-06-08",8.5900001525878906,8.7100000381469727,8.4600000381469727,8.5799999237060547,2798500]
["2017-06-07",8.7700004577636719,8.9200000762939453,8.6099996566772461,8.7200002670288086,3926300]
["2017-06-06",8.4899997711181641,8.9499998092651367,8.4099998474121094,8.9399995803833008,6856600]
["2017-06-05",8.2799997329711914,8.3199996948242188,8.0699996948242188,8.2200002670288086,2209000]
["2017-06-02",8.3400001525878906,8.3999996185302734,8.1800003051757813,8.2299995422363281,2193200]
["2017-06-01",8.2399997711181641,8.4499998092651367,8.1999998092651367,8.2399997711181641,2171900]
["2017-05-31",8.4700002670288086,8.4799995422363281,8.2200002670288086,8.369999885559082,2356900]
["2017-05-30",8.5200004577636719,8.6499996185302734,8.3999996185302734,8.4600000381469727,2324100]
["2017-05-26",8.8900003433227539,8.9399995803833008,8.6599998474121094,8.7100000381469727,3120600]
["2017-05-25",8.7899999618530273,8.8999996185302734,8.6000003814697266,8.6899995803833008,3690200]
["2017-05-24",8.6899995803833008,8.9300003051757813,8.5600004196166992,8.8900003433227539,4494500]
["2017-05-23",9.0500001907348633,9.1899995803833008,8.6899995803833008,8.7100000381469727,3752800]
["2017-05-22",9.1000003814697283,9.2399997711181641,9.0500001907348633,9.0799999237060565,2879800]
["2017-05-19",8.9799995422363281,9.0399999618530273,8.8199996948242188,8.9200000762939453,3721500]
["2017-05-18",8.9099998474121094,8.9499998092651367,8.6099996566772461,8.7700004577636719,4655400]
["2017-05-17",9.1000003814697283,9.3599996566772461,9.0699996948242205,9.2200002670288086,4703400]
["2017-05-16",8.880000114440918,8.9899997711181641,8.8500003814697266,8.9499998092651367,2756900]
["2017-05-15",8.9600000381469727,8.9600000381469727,8.6700000762939453,8.8199996948242188,3834000]
["2017-05-12",8.5399999618530273,8.75,8.5100002288818359,8.7100000381469727,4603800]
["2017-05-11",7.9800000190734863,8.3999996185302734,7.9200000762939453,8.3599996566772461,4490200]
["2017-05-10",7.5999999046325684,7.940000057220459,7.5799999237060547,7.880000114440918,4434900]
["2017-05-09",7.5,7.5399999618530273,7.3600001335144043,7.440000057220459,3467600]
["2017-05-08",7.5,7.6100001335144043,7.4200000762939453,7.5799999237060547,2856200]
["2017-05-05",7.2300000190734863,7.5300002098083496,7.2100000381469727,7.4800000190734863,2898000]
["2017-05-04",7.7199997901916504,7.75,7.059999942779541,7.1599998474121094,7081100]
["2017-05-03",7.929999828338623,8.0600004196166992,7.820000171661377,7.8400001525878906,4672400]
["2017-05-02",7.9099998474121094,8.0799999237060547,7.869999885559082,7.9600000381469727,3031700]
["2017-05-01",8.0299997329711914,8.1999998092651367,7.8499999046325684,7.9499998092651367,3235100]
["2017-04-28",8.1700000762939453,8.2200002670288086,7.9600000381469727,8.130000114440918,3849900]
["2017-04-27",8.2799997329711914,8.2799997329711914,8,8.0600004196166992,4121800]
["2017-04-26",8.0200004577636719,8.380000114440918,7.9600000381469727,8.2899999618530273,4620700]
["2017-04-25",8.3900003433227539,8.4399995803833008,7.929999828338623,8.1099996566772461,5940100]
["2017-04-24",8.5799999237060547,8.6700000762939453,8.4799995422363281,8.5100002288818359,4259900]
["2017-04-21",8.7899999618530273,8.9099998474121094,8.6899995803833008,8.7700004577636719,3019000]
["2017-04-20",8.7200002670288086,8.8199996948242188,8.5799999237060547,8.7899999618530273,3448700]
["2017-04-19",9.0600004196166992,9.0900001525878906,8.5699996948242188,8.6700000762939453,4540500]
["2017-04-18",9.1400003433227539,9.2299995422363281,8.9300003051757813,9.1999998092651367,4645900]
["2017-04-17",9.3900003433227539,9.4499998092651367,9.1400003433227539,9.2100000381469727,4242500]
["2017-04-13",9.3500003814697283,9.5900001525878906,9.3000001907348633,9.3500003814697283,7041700]
["2017-04-12",9.1599998474121094,9.2600002288818359,9,9.2299995422363281,3594400]
["2017-04-11",8.7700004577636719,9.3000001907348633,8.7299995422363281,9.1899995803833008,5626800]
["2017-04-10",8.630000114440918,8.7299995422363281,8.380000114440918,8.6700000762939453,3408600]
["2017-04-07",8.8999996185302734,9.0699996948242205,8.6400003433227539,8.75,4656500]
["2017-04-06",8.6099996566772461,8.8000001907348633,8.5900001525878906,8.7200002670288086,2769700]
["2017-04-05",8.5,8.7799997329711914,8.4200000762939453,8.6599998474121094,5062100]
["2017-04-04",8.5699996948242188,8.6400003433227539,8.4399995803833008,8.619999885559082,3422100]
["2017-04-03",8.1000003814697266,8.4300003051757813,8.0500001907348633,8.4099998474121094,3204300]
["2017-03-31",7.9200000762939453,8.2299995422363281,7.8600001335144043,8.119999885559082,3167900]
["2017-03-30",7.8899998664855957,8.0399999618530273,7.8299999237060547,7.9000000953674316,2431900]
["2017-03-29",7.9200000762939453,8.0699996948242188,7.8600001335144043,7.9899997711181641,2546700]
["2017-03-28",8.1099996566772461,8.1899995803833008,7.8299999237060547,7.9699997901916504,3126400]
["2017-03-27",8.0699996948242188,8.1400003433227539,7.8499999046325684,8.1000003814697266,3028000]
["2017-03-24",7.9600000381469727,8,7.7800002098083496,7.869999885559082,2132700]
["2017-03-23",7.940000057220459,8.0299997329711914,7.7300000190734863,7.929999828338623,3043500]
["2017-03-22",8.0299997329711914,8.119999885559082,7.8400001525878906,7.9099998474121094,3560600]
["2017-03-21",8.0299997329711914,8.2200002670288086,7.8499999046325684,8.0100002288818359,4556900]
["2017-03-20",7.9000000953674316,8,7.7899999618530273,7.9699997901916504,2522600]
["2017-03-17",7.9899997711181641,8.119999885559082,7.7600002288818359,7.869999885559082,4209800]
["2017-03-16",8.2100000381469727,8.2700004577636719,7.7800002098083496,7.9099998474121094,4404600]
["2017-03-15",7.3299999237060547,7.9699997901916504,7.25,7.929999828338623,5806100]
["2017-03-14",7.630000114440918,7.7399997711181641,7.1700000762939453,7.2300000190734863,5883200]
["2017-03-13",7.8499999046325684,7.8899998664855957,7.5,7.6700000762939453,8488800]
["2017-03-10",7.690000057220459,7.9200000762939453,7.5799999237060547,7.8400001525878906,4446400]
["2017-03-09",7.5900001525878906,7.7899999618530273,7.4899997711181641,7.5,3092400]
["2017-03-08",7.6100001335144043,7.7800002098083496,7.5399999618530273,7.5999999046325684,3409100]
["2017-03-07",7.7399997711181641,7.9699997901916504,7.5999999046325684,7.7600002288818359,3930300]
["2017-03-06",8.1599998474121094,8.1899995803833008,7.7300000190734863,7.869999885559082,4202500]
["2017-03-03",8.2700004577636719,8.3599996566772461,7.8000001907348633,8.2100000381469727,9016400]
["2017-03-02",8.8599996566772461,9.0299997329711914,8.2200002670288086,8.2399997711181641,6349100]
["2017-03-01",8.9499998092651367,9.1499996185302717,8.6899995803833008,9.1000003814697283,6175400]
["2017-02-28",9.1899995803833008,9.4099998474121094,8.9200000762939453,9.0799999237060565,6155000]
["2017-02-27",9.5200004577636719,9.9300003051757795,8.8599996566772461,8.9899997711181641,7708900]
["2017-02-24",9.869999885559082,9.9200000762939435,9.4499998092651367,9.5600004196166992,4156300]
["2017-02-23",9.7100000381469727,9.8000001907348633,9.5,9.619999885559082,4877200]
["2017-02-22",9.6400003433227539,10,9.1400003433227539,9.3299999237060565,7625600]
["2017-02-21",9.7600002288818359,10.020000457763672,9.6499996185302717,9.7899999618530273,4696800]
["2017-02-17",10.119999885559082,10.289999961853027,9.9899997711181641,10.060000419616699,3791500]
["2017-02-16",10.220000267028809,10.359999656677246,10.090000152587891,10.229999542236328,4421200]
["2017-02-15",10.130000114440918,10.25,9.9300003051757795,10.020000457763672,5535900]
["2017-02-14",10.609999656677246,10.630000114440918,10.189999580383301,10.409999847412109,3954800]
["2017-02-13",10.420000076293944,10.539999961853027,10.300000190734863,10.329999923706056,3338500]
["2017-02-10",10.109999656677246,10.659999847412109,10.039999961853027,10.600000381469728,4406500]
["2017-02-09",10.729999542236328,10.779999732971191,10.159999847412109,10.199999809265137,5649300]
["2017-02-08",10.770000457763672,10.880000114440918,10.560000419616699,10.729999542236328,4081800]
["2017-02-07",10.569999694824221,10.920000076293944,10.409999847412109,10.569999694824221,6159300]
["2017-02-06",10.149999618530272,10.720000267028809,10.010000228881836,10.689999580383301,5708300]
["2017-02-03",9.7899999618530273,10.130000114440918,9.75,9.9600000381469727,3715300]
["2017-02-02",9.9799995422363281,10.039999961853027,9.6899995803833008,9.8199996948242205,5086400]
["2017-02-01",9.4399995803833008,9.8500003814697283,9.3900003433227539,9.7200002670288086,5371000]
["2017-01-31",9.380000114440918,9.6400003433227539,9.3400001525878906,9.6000003814697283,5510200]
["2017-01-30",9.2700004577636719,9.3599996566772461,9.0299997329711914,9.0900001525878906,3140000]
["2017-01-27",8.9499998092651367,9.2799997329711914,8.9099998474121094,9.2100000381469727,3281900]
["2017-01-26",8.8199996948242188,9.0299997329711914,8.7799997329711914,8.9200000762939453,3177900]
["2017-01-25",8.9600000381469727,9.1499996185302717,8.8400001525878906,9.1099996566772461,4938300]
["2017-01-24",9.3900003433227539,9.6599998474121094,9.1099996566772461,9.1899995803833008,5234000]
["2017-01-23",9.2700004577636719,9.4600000381469727,9.130000114440918,9.4200000762939435,4005700]
["2017-01-20",9.0500001907348633,9.3000001907348633,8.9099998474121094,9.1099996566772461,4040100]
["2017-01-19",8.8999996185302734,9.2100000381469727,8.8199996948242188,9.0200004577636719,4265800]
["2017-01-18",9.4499998092651367,9.5399999618530273,8.880000114440918,9.0200004577636719,6450100]
["2017-01-17",9.5699996948242205,9.6000003814697283,9.2799997329711914,9.4899997711181641,5720300]
["2017-01-13",8.6800003051757813,9.2299995422363281,8.6099996566772461,9.1800003051757795,5126000]
["2017-01-12",9.1800003051757795,9.2299995422363281,8.6599998474121094,8.7899999618530273,5835500]
["2017-01-11",8.8900003433227539,9.119999885559082,8.6099996566772461,8.9399995803833008,5766800]
["2017-01-10",8.9799995422363281,9.380000114440918,8.8400001525878906,9.0200004577636719,5656400]
["2017-01-09",9.0399999618530273,9.2399997711181641,8.8000001907348633,8.880000114440918,5456200]
["2017-01-06",8.9899997711181641,9.2700004577636719,8.5100002288818359,8.7899999618530273,7039500]
["2017-01-05",8.6700000762939453,9.6099996566772461,8.6499996185302734,9.2200002670288086,10992700]
["2017-01-04",8.2299995422363281,8.4200000762939453,8.0699996948242188,8.369999885559082,4917200]
["2017-01-03",7.7399997711181641,8.1099996566772461,7.619999885559082,8.0799999237060547,6131200]
["2016-12-30",8.3100004196166992,8.4700002670288086,7.6100001335144043,7.630000114440918,8045700]
["2016-12-29",7.570000171661377,8.2200002670288086,7.559999942779541,8.1999998092651367,6274000]
["2016-12-28",7.4000000953674316,7.5100002288818359,7.1999998092651367,7.429999828338623,3785600]
["2016-12-27",7.0799999237060547,7.4499998092651367,7.059999942779541,7.440000057220459,4742000]
["2016-12-23",6.9000000953674316,7.0100002288818359,6.820000171661377,6.869999885559082,3335200]
["2016-12-22",6.9000000953674316,7.2399997711181641,6.8499999046325684,6.8899998664855957,4044000]
["2016-12-21",7.1500000953674316,7.1700000762939453,6.9099998474121094,7.0100002288818359,2909700]
["2016-12-20",6.880000114440918,7.1100001335144043,6.619999885559082,7.0900001525878906,6900400]
["2016-12-19",7.25,7.3400001525878906,7.0500001907348633,7.070000171661377,4534800]
["2016-12-16",7.5100002288818359,7.630000114440918,7.1999998092651367,7.2199997901916504,7798600]
["2016-12-15",7.820000171661377,7.820000171661377,7.1999998092651367,7.3499999046325684,8446500]
["2016-12-14",8.9300003051757813,9.0500001907348633,8.1599998474121094,8.1899995803833008,6288100]
["2016-12-13",8.7299995422363281,8.869999885559082,8.4600000381469727,8.7399997711181641,4121500]
["2016-12-12",8.9300003051757813,8.9799995422363281,8.5200004577636719,8.6599998474121094,6200500]
["2016-12-09",9.3500003814697283,9.4600000381469727,8.7299995422363281,8.7899999618530273,6415100]
["2016-12-08",9.8599996566772461,9.9099998474121094,9.4200000762939435,9.4700002670288086,4517700]
["2016-12-07",9.8999996185302717,10.199999809265137,9.6700000762939435,9.8500003814697283,5904500]
["2016-12-06",9.6599998474121094,9.9499998092651367,9.4499998092651367,9.5900001525878906,5385100]
["2016-12-05",9.619999885559082,9.8199996948242205,9.2299995422363281,9.6599998474121094,6773600]
["2016-12-02",9.0200004577636719,9.8599996566772461,8.9300003051757813,9.8199996948242205,7362900]
["2016-12-01",8.7700004577636719,9.1899995803833008,8.5600004196166992,8.8900003433227539,4250200]
["2016-11-30",8.7899999618530273,8.880000114440918,8.6000003814697266,8.869999885559082,3703300]
["2016-11-29",8.3900003433227539,9.0500001907348633,8.3500003814697266,8.880000114440918,3869800]
["2016-11-28",8.4700002670288086,8.7299995422363281,8.3500003814697266,8.619999885559082,4519700]
["2016-11-25",8.3000001907348633,8.369999885559082,8.1800003051757813,8.3000001907348633,2024400]
["2016-11-23",8.380000114440918,8.5500001907348633,8.0699996948242188,8.1999998092651367,6170000]
["2016-11-22",8.8299999237060547,8.9799995422363281,8.5900001525878906,8.9399995803833008,3983300]
["2016-11-21",8.6700000762939453,8.8900003433227539,8.5600004196166992,8.7399997711181641,4427800]
["2016-11-18",8.5399999618530273,8.7700004577636719,8.3299999237060547,8.5100002288818359,5292900]
["2016-11-17",8.869999885559082,9.2100000381469727,8.5399999618530273,8.6999998092651367,7480400]
["2016-11-16",8.9499998092651367,9,8.6499996185302734,8.8000001907348633,4818500]
["2016-11-15",8.4600000381469727,9.0500001907348633,8.2700004577636719,9.0100002288818359,7068500]
["2016-11-14",7.869999885559082,8.7200002670288086,7.75,8.3599996566772461,6187000]
["2016-11-11",8.6899995803833008,8.8000001907348633,7.8000001907348633,8.0200004577636719,12011600]
["2016-11-10",9.2399997711181641,9.3599996566772461,8.75,8.8199996948242188,9787500]
["2016-11-09",9.0799999237060565,9.7200002670288086,8.9600000381469727,9.380000114440918,14863500]
["2016-11-08",8.1000003814697266,8.3900003433227539,7.9000000953674316,8.1400003433227539,5855200]
["2016-11-07",8.1000003814697266,8.2200002670288086,7.8499999046325684,8.0600004196166992,6121100]
["2016-11-04",8.6999998092651367,8.8199996948242188,8.1599998474121094,8.4200000762939453,7045500]
["2016-11-03",8.6000003814697266,8.8999996185302734,8.4600000381469727,8.6999998092651367,6328500]
["2016-11-02",9.0100002288818359,9.5600004196166992,8.6499996185302734,8.7399997711181641,11125400]
["2016-11-01",8.3900003433227539,8.8999996185302734,8.369999885559082,8.619999885559082,7312100]
["2016-10-31",7.8299999237060547,8.0900001525878906,7.679999828338623,8.0500001907348633,3842400]
["2016-10-28",7.75,7.9899997711181641,7.6500000953674316,7.7800002098083496,4259600]
["2016-10-27",8.0500001907348633,8.0699996948242188,7.7199997901916504,7.75,3561900]
["2016-10-26",8.3299999237060547,8.369999885559082,7.8600001335144043,7.9899997711181641,4523000]
["2016-10-25",8.1499996185302734,8.5200004577636719,8.1400003433227539,8.3000001907348633,3837000]
["2016-10-24",8.3900003433227539,8.4399995803833008,7.8600001335144043,8.0200004577636719,4354700]
["2016-10-21",8.3199996948242188,8.3999996185302734,8.1400003433227539,8.2399997711181641,3136100]
["2016-10-20",8.6899995803833008,8.7100000381469727,8.2700004577636719,8.3599996566772461,5050900]
["2016-10-19",8.4899997711181641,8.6899995803833008,8.3100004196166992,8.5100002288818359,6532700]
["2016-10-18",8.0200004577636719,8.3000001907348633,7.8899998664855957,8.2299995422363281,6455300]
["2016-10-17",7.929999828338623,7.9899997711181641,7.7899999618530273,7.8499999046325684,3177300]
["2016-10-14",8,8.130000114440918,7.7699999809265137,7.8499999046325684,4704900]
["2016-10-13",7.929999828338623,8.3100004196166992,7.820000171661377,8.0200004577636719,5242200]
["2016-10-12",7.6999998092651367,8.1000003814697266,7.6700000762939453,7.9000000953674316,5427700]
["2016-10-11",8.2799997329711914,8.2799997329711914,7.7600002288818359,7.7600002288818359,6151200]
["2016-10-10",8.3400001525878906,8.4600000381469727,8.1899995803833008,8.1999998092651367,3996200]
["2016-10-07",8.5399999618530273,8.7100000381469727,7.9600000381469727,8.2299995422363281,9358300]
["2016-10-06",8.2700004577636719,8.5100002288818359,8.0900001525878906,8.1400003433227539,11428700]
["2016-10-05",8.9399995803833008,9.1400003433227539,8.3299999237060547,8.6499996185302734,10516400]
["2016-10-04",9.4700002670288086,9.5299997329711914,8.8599996566772461,8.9399995803833008,7627100]
["2016-10-03",10.279999732971191,10.449999809265137,9.8199996948242205,9.9700002670288086,4915000]
["2016-09-30",11.020000457763672,11.029999732971191,10.260000228881836,10.300000190734863,4012400]
["2016-09-29",10.699999809265137,10.779999732971191,10.329999923706056,10.479999542236328,4355200]
["2016-09-28",10.489999771118164,11.020000457763672,10.329999923706056,10.800000190734863,4549500]
["2016-09-27",10.760000228881836,10.770000457763672,10.260000228881836,10.479999542236328,5774600]
["2016-09-26",11.329999923706056,11.619999885559082,10.819999694824221,10.840000152587891,5059100]
["2016-09-23",11.779999732971191,11.859999656677246,11.149999618530272,11.25,5431300]
["2016-09-22",13,13.109999656677246,11.770000457763672,11.960000038146973,8291900]
["2016-09-21",11.930000305175779,12.739999771118164,11.890000343322754,12.659999847412109,7845000]
["2016-09-20",11.600000381469728,11.649999618530272,11.390000343322754,11.579999923706056,3881100]
["2016-09-19",11.710000038146973,11.930000305175779,11.5,11.590000152587891,4453300]
["2016-09-16",11.449999809265137,11.680000305175779,11.25,11.329999923706056,27131100]
["2016-09-15",11.779999732971191,11.930000305175779,11.319999694824221,11.659999847412109,5984900]
["2016-09-14",11.909999847412109,12.229999542236328,11.659999847412109,11.810000419616699,5656000]
["2016-09-13",12.170000076293944,12.350000381469728,11.539999961853027,11.810000419616699,7310400]
["2016-09-12",11.789999961853027,12.520000457763672,11.630000114440918,12.279999732971191,10780400]
["2016-09-09",13.039999961853027,13.119999885559082,12.119999885559082,12.310000419616699,7949100]
["2016-09-08",13.380000114440918,13.760000228881836,13.229999542236328,13.369999885559082,6360400]
["2016-09-07",13.300000190734863,13.399999618530272,12.949999809265137,13.350000381469728,7356000]
["2016-09-06",12.880000114440918,13.470000267028809,12.75,13.319999694824221,8798600]
["2016-09-02",12.100000381469728,12.470000267028809,11.979999542236328,12.369999885559082,9636100]
["2016-09-01",11.539999961853027,11.920000076293944,11.090000152587891,11.789999961853027,18040300]
["2016-08-31",12.159999847412109,12.390000343322754,11.930000305175779,12.020000457763672,6239600]
["2016-08-30",13.149999618530272,13.199999809265137,12.159999847412109,12.359999656677246,6741000]
["2016-08-29",13.010000228881836,13.5,12.859999656677246,13.300000190734863,4590400]
["2016-08-26",13.869999885559082,14.180000305175779,12.899999618530272,13.189999580383301,11479300]
["2016-08-25",13.060000419616699,13.649999618530272,12.880000114440918,13.489999771118164,7237400]
["2016-08-24",14.119999885559082,14.119999885559082,12.850000381469728,13.119999885559082,9011100]
["2016-08-23",14.899999618530272,14.989999771118164,14.329999923706056,14.359999656677246,5097600]
["2016-08-22",14.220000267028809,14.689999580383301,13.920000076293944,14.630000114440918,8303400]
["2016-08-19",15.720000267028809,15.739999771118164,15.050000190734863,15.119999885559082,7643700]
["2016-08-18",16.670000076293945,16.770000457763672,16.159999847412109,16.340000152587891,4940700]
["2016-08-17",16.739999771118164,16.770000457763672,15.970000267028809,16.450000762939453,8319100]
["2016-08-16",17.579999923706055,17.75,16.940000534057617,17.030000686645508,5869400]
["2016-08-15",18.129999160766602,18.180000305175781,17.379999160766602,17.489999771118164,6386900]
["2016-08-12",18.709999084472656,18.799999237060547,17.879999160766602,18.100000381469727,4842100]
["2016-08-11",18.200000762939453,18.870000839233398,18.049999237060547,18.329999923706055,6464400]
["2016-08-10",18.979999542236328,19.149999618530273,17.959999084472656,18.25,6965300]
["2016-08-09",18.379999160766602,18.790000915527344,18.229999542236328,18.420000076293945,5444700]
["2016-08-08",17.770000457763672,18.559999465942383,17.729999542236328,18.159999847412109,4864100]
["2016-08-05",17.639999389648438,18.110000610351559,17.309999465942383,17.829999923706055,5069600]
["2016-08-04",18.170000076293945,18.440000534057617,18.020000457763672,18.299999237060547,3272200]
["2016-08-03",17.969999313354492,18.270000457763672,17.440000534057617,18.200000762939453,3949900]
["2016-08-02",18.229999542236328,18.680000305175781,17.870000839233398,18.040000915527344,5427500]
["2016-08-01",17.770000457763672,17.969999313354492,17.360000610351563,17.879999160766602,4587900]
["2016-07-29",16.809999465942383,17.469999313354492,16.610000610351563,17.340000152587891,5637100]
["2016-07-28",16.719999313354492,16.930000305175781,16.120000839233398,16.540000915527344,5399800]
["2016-07-27",15.899999618530272,16.780000686645508,15.430000305175779,16.530000686645508,6163700]
["2016-07-26",15.210000038146973,15.840000152587891,15.159999847412109,15.649999618530272,5165000]
["2016-07-25",15.270000457763672,15.270000457763672,14.479999542236328,14.930000305175779,5504800]
["2016-07-22",15.600000381469728,15.819999694824221,15.310000419616699,15.590000152587891,3725000]
["2016-07-21",15.199999809265137,16.069999694824219,14.949999809265137,15.890000343322754,6426300]
["2016-07-20",15.960000038146973,16.030000686645508,15.010000228881836,15.079999923706056,6905900]
["2016-07-19",16.629999160766602,17.049999237060547,16.559999465942383,16.670000076293945,3462700]
["2016-07-18",16.559999465942383,16.850000381469727,16.420000076293945,16.829999923706055,4096900]
["2016-07-15",16.680000305175781,17.100000381469727,16.579999923706055,16.770000457763672,4251400]
["2016-07-14",16.450000762939453,17.110000610351563,16.219999313354492,16.940000534057617,7241300]
["2016-07-13",15.880000114440918,17.239999771118164,15.810000419616699,16.909999847412109,7863900]
["2016-07-12",16.399999618530273,16.540000915527344,15.350000381469728,15.409999847412109,7117500]
["2016-07-11",15.729999542236328,16.809999465942383,15.670000076293944,16.450000762939453,8368700]
["2016-07-08",14.680000305175779,16.030000686645508,14.659999847412109,15.970000267028809,7911500]
["2016-07-07",15.079999923706056,15.119999885559082,14.560000419616699,14.850000381469728,4680500]
["2016-07-06",15.109999656677246,15.390000343322754,14.949999809265137,15.319999694824221,6940600]
["2016-07-05",14.729999542236328,15.050000190734863,14.399999618530272,14.939999580383301,5571600]
["2016-07-01",14,14.949999809265137,13.979999542236328,14.800000190734863,6816100]
["2016-06-30",13.300000190734863,13.609999656677246,13.029999732971191,13.579999923706056,5209300]
["2016-06-29",13,13.399999618530272,12.760000228881836,13.119999885559082,6706900]
["2016-06-28",12.270000457763672,12.829999923706056,12.199999809265137,12.590000152587891,4359500]
["2016-06-27",13.020000457763672,13.25,12.079999923706056,12.460000038146973,7215400]
["2016-06-24",13.270000457763672,13.329999923706056,12.75,13.069999694824221,7128000]
["2016-06-23",12.350000381469728,12.560000419616699,12.149999618530272,12.399999618530272,2949600]
["2016-06-22",12.430000305175779,12.539999961853027,12.010000228881836,12.460000038146973,5206700]
["2016-06-21",12.390000343322754,12.569999694824221,12.260000228881836,12.430000305175779,3472000]
["2016-06-20",11.979999542236328,12.859999656677246,11.869999885559082,12.739999771118164,5365700]
["2016-06-17",12.739999771118164,12.789999961853027,12.010000228881836,12.25,22165100]
["2016-06-16",13.449999809265137,13.569999694824221,12.189999580383301,12.430000305175779,7704000]
["2016-06-15",12.279999732971191,13.050000190734863,12.170000076293944,12.899999618530272,5413500]
["2016-06-14",12.550000190734863,12.649999618530272,11.949999809265137,12.260000228881836,4577900]
["2016-06-13",12.710000038146973,12.850000381469728,12.300000190734863,12.590000152587891,4589400]
["2016-06-10",12.869999885559082,13.319999694824221,12.340000152587891,12.460000038146973,5785800]
["2016-06-09",12.439999580383301,12.939999580383301,12.149999618530272,12.859999656677246,5497600]
["2016-06-08",12.359999656677246,12.829999923706056,12.239999771118164,12.399999618530272,5945900]
["2016-06-07",11.609999656677246,11.829999923706056,11.430000305175779,11.590000152587891,3363400]
["2016-06-06",11.789999961853027,12,11.460000038146973,11.859999656677246,5525600]
["2016-06-03",11.189999580383301,11.789999961853027,11.130000114440918,11.760000228881836,7107800]
["2016-06-02",10.25,10.630000114440918,10.119999885559082,10.460000038146973,3686900]
["2016-06-01",10.5,10.619999885559082,10.079999923706056,10.319999694824221,3591100]
["2016-05-31",10.100000381469728,10.710000038146973,10.090000152587891,10.420000076293944,4971200]
["2016-05-27",10.779999732971191,10.899999618530272,10.260000228881836,10.350000381469728,4582600]
["2016-05-26",11.420000076293944,11.479999542236328,10.729999542236328,10.909999847412109,4572600]
["2016-05-25",10.399999618530272,11.069999694824221,10.069999694824221,11.020000457763672,6585700]
["2016-05-24",11.029999732971191,11.25,10.399999618530272,10.489999771118164,6188000]
["2016-05-23",11.180000305175779,11.680000305175779,10.909999847412109,11.409999847412109,3936000]
["2016-05-20",11.609999656677246,11.770000457763672,10.899999618530272,11.470000267028809,5400100]
["2016-05-19",10.699999809265137,11.649999618530272,10.319999694824221,11.479999542236328,8382500]
["2016-05-18",11.800000190734863,12.090000152587891,11.119999885559082,11.189999580383301,7874500]
["2016-05-17",11.579999923706056,12.229999542236328,11.260000228881836,12.079999923706056,9966900]
["2016-05-16",10.890000343322754,11.439999580383301,10.880000114440918,11.229999542236328,6022500]
["2016-05-13",10.689999580383301,10.840000152587891,10.460000038146973,10.699999809265137,4811700]
["2016-05-12",10.460000038146973,10.890000343322754,10.369999885559082,10.779999732971191,6330700]
["2016-05-11",10.329999923706056,10.859999656677246,10.100000381469728,10.470000267028809,7467100]
["2016-05-10",9.4200000762939435,9.9300003051757795,9.369999885559082,9.880000114440918,3602100]
["2016-05-09",9.8100004196166992,9.8400001525878906,9.2899999618530273,9.3999996185302717,4957100]
["2016-05-06",10,10.510000228881836,9.9200000762939435,10.359999656677246,6711800]
["2016-05-05",9.619999885559082,9.880000114440918,9.5600004196166992,9.8100004196166992,3715100]
["2016-05-04",9.6800003051757795,10.069999694824221,9.3900003433227539,9.4200000762939435,5124100]
["2016-05-03",10.060000419616699,10.220000267028809,9.6999998092651367,9.8999996185302717,5089300]
["2016-05-02",10.729999542236328,10.819999694824221,9.9600000381469727,10.100000381469728,5883700]
["2016-04-29",10.279999732971191,10.720000267028809,10.260000228881836,10.640000343322754,7289300]
["2016-04-28",10.060000419616699,10.289999961853027,9.8000001907348633,10.020000457763672,6150400]
["2016-04-27",9.8500003814697283,10.159999847412109,9.6499996185302717,9.9600000381469727,5679900]
["2016-04-26",9.0600004196166992,9.6599998474121094,8.9700002670288086,9.6400003433227539,4841200]
["2016-04-25",8.8199996948242188,9.3100004196166992,8.8100004196166992,8.9700002670288086,4962900]
["2016-04-22",9.4700002670288086,9.630000114440918,8.7299995422363281,8.8999996185302734,7982800]
["2016-04-21",10.010000228881836,10.010000228881836,9.3000001907348633,9.619999885559082,7235100]
["2016-04-20",9.8500003814697283,10.329999923706056,9.3900003433227539,9.5100002288818359,10531900]
["2016-04-19",9.2799997329711914,9.9300003051757795,9.1899995803833008,9.869999885559082,8237900]
["2016-04-18",8.3199996948242188,8.5699996948242188,8.1999998092651367,8.5200004577636719,4676800]
["2016-04-15",7.7100000381469727,8.25,7.5500001907348633,8.2200002670288086,4302600]
["2016-04-14",7.7600002288818359,7.929999828338623,7.3400001525878906,7.559999942779541,4394300]
["2016-04-13",7.6500000953674316,8.0399999618530273,7.630000114440918,7.7399997711181641,3391000]
["2016-04-12",7.6599998474121094,7.8600001335144043,7.5100002288818359,7.7199997901916504,4017300]
["2016-04-11",7.0300002098083496,7.619999885559082,7.0100002288818359,7.5500001907348633,4367600]
["2016-04-08",6.559999942779541,6.9200000762939453,6.5500001907348633,6.869999885559082,2805400]
["2016-04-07",6.4899997711181641,6.679999828338623,6.4699997901916504,6.559999942779541,2322700]
["2016-04-06",6.3899998664855957,6.440000057220459,6.2399997711181641,6.4000000953674316,1984200]
["2016-04-05",6.4000000953674316,6.4600000381469727,6.190000057220459,6.429999828338623,2264700]
["2016-04-04",6.4699997901916504,6.4800000190734863,6.1999998092651367,6.2800002098083496,2030500]
["2016-04-01",6.2300000190734863,6.5300002098083496,6.0399999618530273,6.5100002288818359,4233500]
["2016-03-31",6.8299999237060547,6.9000000953674316,6.4000000953674316,6.4800000190734863,3516100]
["2016-03-30",6.8400001525878906,6.9600000381469727,6.5500001907348633,6.75,3252600]
["2016-03-29",6.4200000762939453,6.9499998092651367,6.4000000953674316,6.8899998664855957,4155300]
["2016-03-28",6.6500000953674316,6.7199997901916504,6.3000001907348633,6.570000171661377,2688500]
["2016-03-24",6.4000000953674316,6.7399997711181641,6.320000171661377,6.6500000953674316,3447900]
["2016-03-23",6.429999828338623,6.570000171661377,6.2199997901916504,6.3600001335144043,4461500]
["2016-03-22",6.9899997711181641,7.0500001907348633,6.6700000762939453,6.7899999618530273,3981200]
["2016-03-21",6.6999998092651367,6.9899997711181641,6.619999885559082,6.880000114440918,4701100]
["2016-03-18",6.4899997711181641,6.8400001525878906,6.4499998092651367,6.7300000190734863,19460800]
["2016-03-17",6.4699997901916504,6.9699997901916504,6.309999942779541,6.4200000762939453,7837000]
["2016-03-16",5.690000057220459,6.2899999618530273,5.559999942779541,6.25,4705900]
["2016-03-15",5.5999999046325684,5.8000001907348633,5.4899997711181641,5.7699999809265137,3890500]
["2016-03-14",5.75,6,5.4600000381469727,5.6399998664855957,7211400]
["2016-03-11",5.8000001907348633,5.8899998664855957,5.5399999618530273,5.7399997711181641,3105900]
["2016-03-10",5.4200000762939453,5.8000001907348633,5.4200000762939453,5.7399997711181641,3661600]
["2016-03-09",5.119999885559082,5.429999828338623,5.0100002288818359,5.320000171661377,3193200]
["2016-03-08",5.440000057220459,5.4699997901916504,5.1399998664855957,5.2899999618530273,4295200]
["2016-03-07",5.0999999046325684,5.4499998092651367,5.0999999046325684,5.3600001335144043,4822900]
["2016-03-04",4.8000001907348633,5.3499999046325684,4.7399997711181641,4.880000114440918,5977300]
["2016-03-03",4.440000057220459,4.7899999618530273,4.440000057220459,4.75,2558300]
["2016-03-02",4.309999942779541,4.4699997901916504,4.3000001907348633,4.4499998092651367,2225900]
["2016-03-01",4.6599998474121094,4.6999998092651367,4.2899999618530273,4.3299999237060547,2542700]
["2016-02-29",4.630000114440918,4.7100000381469727,4.5100002288818359,4.6399998664855957,2282300]
["2016-02-26",4.4899997711181641,4.8000001907348633,4.4800000190734863,4.619999885559082,2713100]
["2016-02-25",4.3000001907348633,4.6500000953674316,4.2800002098083496,4.6399998664855957,2195200]
["2016-02-24",4.5199999809265137,4.5999999046325684,4.2699999809265137,4.4000000953674316,3074800]
["2016-02-23",4.4099998474121094,4.5100002288818359,4.2699999809265137,4.3600001335144043,2261800]
["2016-02-22",4.2899999618530273,4.4800000190734863,4.25,4.3499999046325684,2383700]
["2016-02-19",4.4800000190734863,4.6700000762939453,4.3600001335144043,4.3899998664855957,2282800]
["2016-02-18",4.2300000190734863,4.6599998474121094,4.190000057220459,4.559999942779541,2513100]
["2016-02-17",4.2199997901916504,4.3499999046325684,4.119999885559082,4.2600002288818359,1918600]
["2016-02-16",4.1700000762939453,4.2800002098083496,4.0300002098083496,4.1399998664855957,2371200]
["2016-02-12",3.940000057220459,4.369999885559082,3.869999885559082,4.3299999237060547,2766100]
["2016-02-11",4.119999885559082,4.1599998474121094,3.9200000762939458,4.0399999618530273,4396400]
["2016-02-10",3.559999942779541,3.6800000667572021,3.4100000858306885,3.6800000667572021,2335500]
["2016-02-09",3.8900001049041748,3.9200000762939458,3.619999885559082,3.6500000953674321,3570100]
["2016-02-08",3.75,3.9800000190734863,3.7400000095367432,3.8199999332427979,3576900]
["2016-02-05",3.3199999332427979,3.5899999141693115,3.2699999809265137,3.5899999141693115,2092200]
["2016-02-04",3.3199999332427979,3.4900000095367432,3.2999999523162842,3.380000114440918,2152500]
["2016-02-03",3.0899999141693115,3.2300000190734863,3.0699999332427979,3.2100000381469727,1683600]
["2016-02-02",3.0799999237060547,3.0999999046325684,2.9500000476837158,3,782400]
["2016-02-01",3.0799999237060547,3.1400001049041748,3.0199999809265137,3.0999999046325684,1683600]
["2016-01-29",2.8499999046325684,3,2.8399999141693115,2.9900000095367432,1589000]
["2016-01-28",2.8900001049041748,2.9500000476837158,2.7999999523162842,2.8399999141693115,1640000]
["2016-01-27",2.9700000286102295,2.9700000286102295,2.8399999141693115,2.9200000762939453,1797800]
["2016-01-26",2.8199999332427979,2.9100000858306885,2.7799999713897705,2.869999885559082,1780100]
["2016-01-25",2.7899999618530273,2.869999885559082,2.690000057220459,2.690000057220459,1852900]
["2016-01-22",2.630000114440918,2.7799999713897705,2.6099998950958252,2.690000057220459,1619600]
["2016-01-21",2.5899999141693115,2.6500000953674316,2.5,2.619999885559082,1356600]
["2016-01-20",2.5799999237060547,2.619999885559082,2.4000000953674316,2.619999885559082,1398000]
["2016-01-19",2.7699999809265137,2.7799999713897705,2.4500000476837158,2.5099999904632568,2566200]
["2016-01-15",2.809999942779541,2.8399999141693115,2.6700000762939453,2.7300000190734863,1265800]
["2016-01-14",2.7799999713897705,2.809999942779541,2.6800000667572021,2.75,1716200]
["2016-01-13",2.809999942779541,2.880000114440918,2.7599999904632568,2.809999942779541,2228000]
["2016-01-12",2.9100000858306885,2.9300000667572021,2.7100000381469727,2.7999999523162842,2914000]
["2016-01-11",3.1700000762939453,3.2200000286102295,2.9300000667572021,2.9300000667572021,2409600]
["2016-01-08",3.2300000190734863,3.2799999713897705,3.130000114440918,3.1800000667572021,1543200]
["2016-01-07",3.4000000953674316,3.4200000762939453,3.2599999904632568,3.2999999523162842,2176900]
["2016-01-06",3.4000000953674316,3.4200000762939453,3.3299999237060547,3.369999885559082,1078400]
["2016-01-05",3.4600000381469727,3.4700000286102295,3.2799999713897705,3.3599998950958252,951300]
["2016-01-04",3.380000114440918,3.4600000381469727,3.309999942779541,3.4200000762939453,1342900]
["2015-12-31",3.2400000095367432,3.309999942779541,3.2100000381469727,3.2699999809265137,848700]
["2015-12-30",3.309999942779541,3.3399999141693115,3.2400000095367432,3.2400000095367432,713100]
["2015-12-29",3.4200000762939453,3.4600000381469727,3.3399999141693115,3.3900001049041748,866700]
["2015-12-28",3.5499999523162842,3.559999942779541,3.3199999332427979,3.3499999046325684,1239400]
["2015-12-24",3.4300000667572021,3.6500000953674321,3.4300000667572021,3.630000114440918,907300]
["2015-12-23",3.309999942779541,3.440000057220459,3.2899999618530273,3.4200000762939453,975400]
["2015-12-22",3.2999999523162842,3.4000000953674316,3.25,3.2999999523162842,1109900]
["2015-12-21",3.2000000476837158,3.369999885559082,3.130000114440918,3.2599999904632568,1272500]
["2015-12-18",3.119999885559082,3.2200000286102295,3.059999942779541,3.1500000953674316,2801100]
["2015-12-17",3.2799999713897705,3.309999942779541,3.0499999523162842,3.0499999523162842,2915200]
["2015-12-16",3.25,3.4500000476837158,3.25,3.4200000762939453,1958100]
["2015-12-15",3.3199999332427979,3.3299999237060547,3.1700000762939453,3.190000057220459,983300]
["2015-12-14",3.3399999141693115,3.4100000858306885,3.2100000381469727,3.2699999809265137,1666200]
["2015-12-11",3.3399999141693115,3.440000057220459,3.2999999523162842,3.3599998950958252,1241600]
["2015-12-10",3.380000114440918,3.4900000095367432,3.3599998950958252,3.440000057220459,1144700]
["2015-12-09",3.380000114440918,3.4800000190734863,3.3199999332427979,3.4200000762939453,1105400]
["2015-12-08",3.369999885559082,3.4000000953674316,3.25,3.309999942779541,1054300]
["2015-12-07",3.5699999332427979,3.5899999141693115,3.3299999237060547,3.4000000953674316,1288800]
["2015-12-04",3.4600000381469727,3.6400001049041748,3.4600000381469727,3.619999885559082,1743200]
["2015-12-03",3.4100000858306885,3.4600000381469727,3.3399999141693115,3.4300000667572021,945200]
["2015-12-02",3.4000000953674316,3.4700000286102295,3.2999999523162842,3.3499999046325684,855900]
["2015-12-01",3.3599998950958252,3.5099999904632568,3.2899999618530273,3.4900000095367432,1501200]
["2015-11-30",3.2400000095367432,3.380000114440918,3.2200000286102295,3.3399999141693115,1257200]
["2015-11-27",3.1700000762939453,3.2599999904632568,3.1099998950958252,3.2200000286102295,674800]
["2015-11-25",3.2200000286102295,3.2799999713897705,3.1500000953674316,3.2599999904632568,889100]
["2015-11-24",3.119999885559082,3.2799999713897705,3.1099998950958252,3.2599999904632568,1864300]
["2015-11-23",3.0899999141693115,3.1600000858306885,3.0199999809265137,3.0199999809265137,1025500]
["2015-11-20",3.2200000286102295,3.25,3.0399999618530273,3.1099998950958252,1921400]
["2015-11-19",3.0199999809265137,3.25,2.9600000381469727,3.2300000190734863,2305800]
["2015-11-18",2.869999885559082,2.9800000190734863,2.7799999713897705,2.9800000190734863,1882700]
["2015-11-17",2.9800000190734863,2.9900000095367432,2.7799999713897705,2.8499999046325684,2430100]
["2015-11-16",2.9700000286102295,3.0699999332427979,2.880000114440918,3,1762800]
["2015-11-13",2.8199999332427979,2.9700000286102295,2.75,2.9600000381469727,2922200]
["2015-11-12",2.8299999237060547,2.9000000953674316,2.7699999809265137,2.8199999332427979,1733000]
["2015-11-11",2.9000000953674316,2.940000057220459,2.8299999237060547,2.880000114440918,1031500]
["2015-11-10",2.9900000095367432,3,2.869999885559082,2.9000000953674316,1266000]
["2015-11-09",2.9800000190734863,3.059999942779541,2.8900001049041748,3.0399999618530273,1261400]
["2015-11-06",3.0099999904632568,3.0399999618530273,2.9000000953674316,2.9700000286102295,1734600]
["2015-11-05",3.2100000381469727,3.2200000286102295,3.0899999141693115,3.119999885559082,1459100]
["2015-11-04",3.4600000381469727,3.4600000381469727,3.1800000667572021,3.2100000381469727,1948800]
["2015-11-03",3.309999942779541,3.4500000476837158,3.25,3.4300000667572021,1540500]
["2015-11-02",3.2699999809265137,3.380000114440918,3.1600000858306885,3.3599998950958252,1482200]
["2015-10-30",3.3900001049041748,3.4200000762939453,3.2699999809265137,3.309999942779541,1486500]
["2015-10-29",3.630000114440918,3.6800000667572021,3.3499999046325684,3.3900001049041748,1706200]
["2015-10-28",3.7200000286102295,3.8900001049041748,3.559999942779541,3.6800000667572021,2157000]
["2015-10-27",3.6700000762939458,3.75,3.559999942779541,3.619999885559082,1650900]
["2015-10-26",3.6800000667572021,3.7699999809265137,3.5999999046325684,3.7200000286102295,1558600]
["2015-10-23",3.7899999618530273,3.7999999523162842,3.5999999046325684,3.690000057220459,1667800]
["2015-10-22",3.6600000858306889,3.7999999523162842,3.6500000953674321,3.690000057220459,849500]
["2015-10-21",3.8399999141693111,3.8599998950958252,3.6500000953674321,3.6600000858306889,1427200]
["2015-10-20",3.7799999713897705,3.9600000381469727,3.75,3.9000000953674321,1689800]
["2015-10-19",4.0300002098083496,4.0500001907348633,3.6700000762939458,3.7400000095367432,2218000]
["2015-10-16",4.2100000381469727,4.2399997711181641,4.0399999618530273,4.059999942779541,2040500]
["2015-10-15",4.0500001907348633,4.2899999618530273,3.9500000476837158,4.2199997901916504,2629600]
["2015-10-14",3.869999885559082,4.119999885559082,3.8599998950958252,4.0399999618530273,2926000]
["2015-10-13",3.7300000190734863,3.8900001049041748,3.6600000858306889,3.8900001049041748,2001900]
["2015-10-12",3.9500000476837158,3.9900000095367432,3.6800000667572021,3.7100000381469727,1395900]
["2015-10-09",3.809999942779541,3.869999885559082,3.7100000381469727,3.8599998950958252,1601600]
["2015-10-08",3.7100000381469727,3.8199999332427979,3.6500000953674321,3.6700000762939458,2102100]
["2015-10-07",3.7599999904632568,3.869999885559082,3.6400001049041748,3.8299999237060542,3910100]
["2015-10-06",3.7200000286102295,3.9100000858306889,3.6600000858306889,3.8499999046325679,4336100]
["2015-10-05",3.630000114440918,3.809999942779541,3.5299999713897705,3.5999999046325684,2961200]
["2015-10-02",3.2400000095367432,3.6099998950958252,3.2000000476837158,3.5799999237060547,1934200]
["2015-10-01",3.2300000190734863,3.3499999046325684,3.059999942779541,3.119999885559082,1173000]
["2015-09-30",2.9600000381469727,3.2100000381469727,2.940000057220459,3.2000000476837158,1652200]
["2015-09-29",3.0199999809265137,3.1099998950958252,2.9600000381469727,2.9700000286102295,877800]
["2015-09-28",3.1099998950958252,3.119999885559082,2.9900000095367432,2.9900000095367432,1324300]
["2015-09-25",3.2300000190734863,3.3599998950958252,3.1700000762939453,3.2300000190734863,1278100]
["2015-09-24",3.0399999618530273,3.2999999523162842,2.9900000095367432,3.2899999618530273,2195600]
["2015-09-23",3.1600000858306885,3.1600000858306885,2.940000057220459,2.9700000286102295,1492600]
["2015-09-22",3.1600000858306885,3.1800000667572021,3.0799999237060547,3.0899999141693115,975400]
["2015-09-21",3.2400000095367432,3.3299999237060547,3.1800000667572021,3.2400000095367432,1733600]
["2015-09-18",3.2599999904632568,3.369999885559082,3.1500000953674316,3.2400000095367432,18162200]
["2015-09-17",3.0999999046325684,3.25,3.0399999618530273,3.190000057220459,2905900]
["2015-09-16",3.059999942779541,3.130000114440918,3,3.130000114440918,2691600]
["2015-09-15",2.869999885559082,3.059999942779541,2.8499999046325684,2.9800000190734863,3083600]
["2015-09-14",2.8299999237060547,2.9000000953674316,2.7599999904632568,2.880000114440918,3872400]
["2015-09-11",2.7799999713897705,2.869999885559082,2.6600000858306885,2.8599998950958252,2276100]
["2015-09-10",2.9700000286102295,2.9800000190734863,2.75,2.809999942779541,2893300]
["2015-09-09",3,3.130000114440918,2.8599998950958252,2.8900001049041748,1424700]
["2015-09-08",3.059999942779541,3.0899999141693115,2.9600000381469727,3.0199999809265137,1594500]
["2015-09-04",3.0399999618530273,3.119999885559082,2.8900001049041748,3,3110100]
["2015-09-03",3.0999999046325684,3.3299999237060547,3.0299999713897705,3.0399999618530273,2427700]
["2015-09-02",3.309999942779541,3.3900001049041748,3.0499999523162842,3.1400001049041748,2077900]
["2015-09-01",3.4600000381469727,3.5699999332427979,3.2400000095367432,3.2599999904632568,1595700]
["2015-08-31",3.4600000381469727,3.5899999141693115,3.2999999523162842,3.4600000381469727,1206000]
["2015-08-28",3.3900001049041748,3.630000114440918,3.369999885559082,3.5199999809265137,1681900]
["2015-08-27",3.1500000953674316,3.4200000762939453,3.1400001049041748,3.3900001049041748,1759100]
["2015-08-26",3.25,3.2599999904632568,3.0499999523162842,3.1099998950958252,1651900]
["2015-08-25",3.630000114440918,3.630000114440918,3.2599999904632568,3.2799999713897705,1532600]
["2015-08-24",3.5399999618530273,3.6800000667572021,3.3299999237060547,3.440000057220459,2652400]
["2015-08-21",4.0199999809265137,4.0300002098083496,3.7100000381469727,3.7200000286102295,2189100]
["2015-08-20",4.0799999237060547,4.119999885559082,3.9800000190734863,4,2241600]
["2015-08-19",3.8900001049041748,3.9900000095367432,3.8599998950958252,3.9500000476837158,1224500]
["2015-08-18",3.880000114440918,3.9000000953674321,3.7400000095367432,3.8199999332427979,1263600]
["2015-08-17",3.8299999237060542,4.0199999809265137,3.7899999618530273,4.0100002288818359,1763000]
["2015-08-14",3.7799999713897705,3.9300000667572021,3.7000000476837158,3.7599999904632568,1223900]
["2015-08-13",3.8399999141693111,3.9300000667572021,3.6700000762939458,3.7400000095367432,2164900]
["2015-08-12",3.75,4.0100002288818359,3.6600000858306889,4,3162000]
["2015-08-11",3.5199999809265137,3.5999999046325684,3.3599998950958252,3.5799999237060547,2194800]
["2015-08-10",3.0799999237060547,3.380000114440918,3.0299999713897705,3.3599998950958252,2097100]
["2015-08-07",3.0299999713897705,3.2799999713897705,3.0199999809265137,3.0299999713897705,2354300]
["2015-08-06",2.880000114440918,3.0399999618530273,2.8499999046325684,3.0199999809265137,1534800]
["2015-08-05",3,3.0699999332427979,2.8499999046325684,2.8599998950958252,1286500]
["2015-08-04",3.0499999523162842,3.119999885559082,2.9100000858306885,2.9500000476837158,1872600]
["2015-08-03",3.0499999523162842,3.1500000953674316,3.0099999904632568,3.0199999809265137,895900]
["2015-07-31",3.0699999332427979,3.1500000953674316,3.0399999618530273,3.0699999332427979,1584900]
["2015-07-30",3.119999885559082,3.1400001049041748,3.0099999904632568,3.0199999809265137,1455800]
["2015-07-29",3.2000000476837158,3.2400000095367432,3.1099998950958252,3.1500000953674316,1804600]
["2015-07-28",3.2000000476837158,3.2599999904632568,3.1099998950958252,3.190000057220459,1506800]
["2015-07-27",3.4600000381469727,3.4600000381469727,3.059999942779541,3.0799999237060547,4207100]
["2015-07-24",3.4300000667572021,3.5999999046325684,3.1600000858306885,3.5899999141693115,2740900]
["2015-07-23",3.7899999618530273,3.7999999523162842,3.4500000476837158,3.5099999904632568,1802200]
["2015-07-22",3.75,3.869999885559082,3.6099998950958252,3.7699999809265137,1257900]
["2015-07-21",3.9000000953674321,4.0100002288818359,3.7699999809265137,3.8399999141693111,1487600]
["2015-07-20",4.0900001525878906,4.1700000762939453,3.6400001049041748,3.6800000667572021,2406800]
["2015-07-17",4.4600000381469727,4.5,4.1700000762939453,4.2199997901916504,2003300]
["2015-07-16",4.369999885559082,4.6599998474121094,4.3499999046325684,4.5900001525878906,1208700]
["2015-07-15",4.4899997711181641,4.5199999809265137,4.3899998664855957,4.4000000953674316,609400]
["2015-07-14",4.5900001525878906,4.690000057220459,4.5100002288818359,4.5399999618530273,693800]
["2015-07-13",4.3899998664855957,4.619999885559082,4.3299999237060547,4.6100001335144043,899700]
["2015-07-10",4.5799999237060547,4.6599998474121094,4.4200000762939453,4.429999828338623,1138500]
["2015-07-09",4.7199997901916504,4.7399997711181641,4.5,4.570000171661377,1441400]
["2015-07-08",4.7199997901916504,4.809999942779541,4.5799999237060547,4.6399998664855957,997900]
["2015-07-07",4.7100000381469727,4.7899999618530273,4.5399999618530273,4.690000057220459,1567900]
["2015-07-06",4.6999998092651367,4.940000057220459,4.6999998092651367,4.869999885559082,1146800]
["2015-07-02",4.6999998092651367,4.7899999618530273,4.6599998474121094,4.7199997901916504,886700]
["2015-07-01",4.809999942779541,4.8600001335144043,4.5999999046325684,4.6399998664855957,1352100]
["2015-06-30",4.8299999237060547,4.9899997711181641,4.7800002098083496,4.8299999237060547,1120100]
["2015-06-29",4.9899997711181641,5.0199999809265137,4.8499999046325684,4.8600001335144043,986200]
["2015-06-26",5.0799999237060547,5.190000057220459,4.9200000762939453,4.929999828338623,1121200]
["2015-06-25",5.059999942779541,5.1599998474121094,5.0500001907348633,5.130000114440918,725500]
["2015-06-24",5.0999999046325684,5.190000057220459,5.0199999809265137,5.059999942779541,961600]
["2015-06-23",5.2600002288818359,5.2699999809265137,5.0999999046325684,5.130000114440918,865900]
["2015-06-22",5.130000114440918,5.380000114440918,5.119999885559082,5.309999942779541,1859900]
["2015-06-19",5.2800002098083496,5.3400001525878906,5.130000114440918,5.190000057220459,2630600]
["2015-06-18",5.2800002098083496,5.4499998092651367,5.2399997711181641,5.320000171661377,1861300]
["2015-06-17",5.0399999618530273,5.1999998092651367,5.0199999809265137,5.179999828338623,1225400]
["2015-06-16",5.059999942779541,5.130000114440918,5.0199999809265137,5.0500001907348633,1059600]
["2015-06-15",4.8000001907348633,5.119999885559082,4.7199997901916504,5.0999999046325684,2151900]
["2015-06-12",4.75,4.820000171661377,4.7199997901916504,4.7600002288818359,883100]
["2015-06-11",4.8600001335144043,4.869999885559082,4.7199997901916504,4.7800002098083496,781100]
["2015-06-10",4.9600000381469727,5,4.8600001335144043,4.880000114440918,798100]
["2015-06-09",4.929999828338623,4.9800000190734863,4.8299999237060547,4.880000114440918,760300]
["2015-06-08",4.820000171661377,4.9000000953674316,4.7199997901916504,4.8899998664855957,955600]
["2015-06-05",4.8499999046325684,4.940000057220459,4.820000171661377,4.820000171661377,932000]
["2015-06-04",4.880000114440918,5.0100002288818359,4.8600001335144043,4.9099998474121094,880100]
["2015-06-03",5.0399999618530273,5.130000114440918,4.929999828338623,4.940000057220459,835000]
["2015-06-02",5.0300002098083496,5.1500000953674316,4.9899997711181641,5.0999999046325684,870200]
["2015-06-01",5.0199999809265137,5.1599998474121094,4.9600000381469727,4.9899997711181641,922300]
["2015-05-29",5.0300002098083496,5.0799999237060547,4.929999828338623,4.9600000381469727,623400]
["2015-05-28",4.8499999046325684,5.0399999618530273,4.8499999046325684,5.0199999809265137,963100]
["2015-05-27",4.9699997901916504,5,4.8499999046325684,4.8899998664855957,840400]
["2015-05-26",5.0300002098083496,5.130000114440918,4.8899998664855957,4.9600000381469727,1493400]
["2015-05-22",5.2199997901916504,5.3400001525878906,5.190000057220459,5.2300000190734863,763300]
["2015-05-21",5.2399997711181641,5.3000001907348633,5.1700000762939453,5.2199997901916504,432200]
["2015-05-20",5.2300000190734863,5.3499999046325684,5.2199997901916504,5.2399997711181641,851700]
["2015-05-19",5.2199997901916504,5.369999885559082,5.2100000381469727,5.2100000381469727,1015800]
["2015-05-18",5.380000114440918,5.4899997711181641,5.3299999237060547,5.3899998664855957,621100]
["2015-05-15",5.3499999046325684,5.5,5.3299999237060547,5.369999885559082,1207800]
["2015-05-14",5.3400001525878906,5.4800000190734863,5.309999942779541,5.3499999046325684,1339100]
["2015-05-13",5.2600002288818359,5.380000114440918,5.1599998474121094,5.25,1833700]
["2015-05-12",5.0399999618530273,5.1599998474121094,5,5.0999999046325684,954400]
["2015-05-11",4.940000057220459,5.0900001525878906,4.929999828338623,5.0199999809265137,957800]
["2015-05-08",4.7699999809265137,5,4.690000057220459,4.9600000381469727,1488200]
["2015-05-07",4.7600002288818359,4.820000171661377,4.5199999809265137,4.7199997901916504,2121700]
["2015-05-06",5.0500001907348633,5.0799999237060547,4.8000001907348633,4.8499999046325684,1609800]
["2015-05-05",5.190000057220459,5.2399997711181641,4.9699997901916504,4.9899997711181641,1061400]
["2015-05-04",5.1100001335144043,5.179999828338623,5.0500001907348633,5.119999885559082,1078500]
["2015-05-01",4.809999942779541,5.0300002098083496,4.809999942779541,5.0100002288818359,1120000]
["2015-04-30",4.9499998092651367,5.059999942779541,4.8299999237060547,4.869999885559082,2710700]
["2015-04-29",5.1100001335144043,5.25,5.0199999809265137,5.0799999237060547,2176000]
["2015-04-28",5.0799999237060547,5.179999828338623,4.9499998092651367,5.130000114440918,2056700]
["2015-04-27",4.8600001335144043,5.0999999046325684,4.8000001907348633,5.059999942779541,2156000]
["2015-04-24",4.869999885559082,4.9899997711181641,4.7600002288818359,4.809999942779541,1621200]
["2015-04-23",4.880000114440918,4.9600000381469727,4.7600002288818359,4.8899998664855957,1282300]
["2015-04-22",4.9600000381469727,4.9899997711181641,4.809999942779541,4.8499999046325684,1391900]
["2015-04-21",5.0500001907348633,5.0799999237060547,4.9499998092651367,4.9800000190734863,1294500]
["2015-04-20",5.0199999809265137,5.070000171661377,4.9099998474121094,5.059999942779541,1503700]
["2015-04-17",5.2100000381469727,5.2899999618530273,5.0300002098083496,5.0900001525878906,1198600]
["2015-04-16",5.2800002098083496,5.320000171661377,5.0799999237060547,5.130000114440918,1516000]
["2015-04-15",5.0300002098083496,5.3000001907348633,4.9800000190734863,5.2699999809265137,1819000]
["2015-04-14",5.059999942779541,5.1599998474121094,4.9600000381469727,5.0199999809265137,1143800]
["2015-04-13",5.1399998664855957,5.1500000953674316,5.0399999618530273,5.0500001907348633,731400]
["2015-04-10",5.1599998474121094,5.1999998092651367,5.0300002098083496,5.1399998664855957,1518800]
["2015-04-09",5.059999942779541,5.1500000953674316,5,5.0300002098083496,1311300]
["2015-04-08",5.25,5.320000171661377,5.059999942779541,5.130000114440918,2918800]
["2015-04-07",5.3400001525878906,5.5799999237060547,5.3400001525878906,5.3499999046325684,1815300]
["2015-04-06",5.75,5.7699999809265137,5.5799999237060547,5.679999828338623,1121900]
["2015-04-02",5.4800000190734863,5.6399998664855957,5.380000114440918,5.4899997711181641,1309900]
["2015-04-01",5.4699997901916504,5.5900001525878906,5.320000171661377,5.5300002098083496,2377900]
["2015-03-31",5.5900001525878906,5.630000114440918,5.2800002098083496,5.4099998474121094,2107100]
["2015-03-30",5.75,5.820000171661377,5.5300002098083496,5.5799999237060547,1399000]
["2015-03-27",5.820000171661377,5.940000057220459,5.5999999046325684,5.869999885559082,1405000]
["2015-03-26",6.059999942779541,6.25,5.7199997901916504,5.8000001907348633,1879000]
["2015-03-25",6.0500001907348633,6.1399998664855957,5.9200000762939453,5.9699997901916504,1311500]
["2015-03-24",6.1500000953674316,6.1500000953674316,5.9600000381469727,6.0100002288818359,1498000]
["2015-03-23",5.809999942779541,6.1500000953674316,5.7899999618530273,6.130000114440918,2205400]
["2015-03-20",5.679999828338623,5.940000057220459,5.630000114440918,5.630000114440918,6311100]
["2015-03-19",5.3299999237060547,5.6700000762939453,5.2899999618530273,5.5799999237060547,1499000]
["2015-03-18",5.0500001907348633,5.429999828338623,4.9899997711181641,5.4200000762939453,2001000]
["2015-03-17",5.0999999046325684,5.2899999618530273,5.0500001907348633,5.0900001525878906,1400100]
["2015-03-16",5.2300000190734863,5.309999942779541,5.0399999618530273,5.179999828338623,1799300]
["2015-03-13",5.0999999046325684,5.2199997901916504,4.929999828338623,5.2100000381469727,1195900]
["2015-03-12",5.130000114440918,5.190000057220459,5,5.0500001907348633,1583300]
["2015-03-11",4.880000114440918,5.0900001525878906,4.679999828338623,5.0799999237060547,2131100]
["2015-03-10",4.9499998092651367,5.0900001525878906,4.7899999618530273,4.880000114440918,2633200]
["2015-03-09",5.5399999618530273,5.5500001907348633,5,5,2087300]
["2015-03-06",5.5999999046325684,5.75,5.380000114440918,5.5,2132300]
["2015-03-05",5.8499999046325684,5.9899997711181641,5.7600002288818359,5.8400001525878906,963500]
["2015-03-04",6,6.0300002098083496,5.7600002288818359,5.8600001335144043,1376400]
["2015-03-03",6.119999885559082,6.2699999809265137,5.940000057220459,5.9800000190734863,1637900]
["2015-03-02",6.179999828338623,6.2399997711181641,5.9699997901916504,6.0799999237060547,1249500]
["2015-02-27",6.1399998664855957,6.2399997711181641,6.0799999237060547,6.179999828338623,1216700]
["2015-02-26",6.119999885559082,6.25,6.0300002098083496,6.0799999237060547,1564300]
["2015-02-25",5.8000001907348633,6.3000001907348633,5.7699999809265137,6,2971000]
["2015-02-24",5.380000114440918,5.75,5.320000171661377,5.7199997901916504,1775000]
["2015-02-23",5.4499998092651367,5.559999942779541,5.2600002288818359,5.4000000953674316,2042500]
["2015-02-20",5.880000114440918,5.9499998092651367,5.4699997901916504,5.570000171661377,3380000]
["2015-02-19",6.1399998664855957,6.190000057220459,5.820000171661377,5.8600001335144043,1817500]
["2015-02-18",5.9000000953674316,6.130000114440918,5.8400001525878906,6.119999885559082,1871700]
["2015-02-17",5.929999828338623,6.059999942779541,5.9000000953674316,5.929999828338623,1166600]
["2015-02-13",5.9899997711181641,6.1599998474121094,5.9699997901916504,6.0799999237060547,1888300]
["2015-02-12",6.0799999237060547,6.0999999046325684,5.8299999237060547,5.9099998474121094,1793200]
["2015-02-11",6.1500000953674316,6.2100000381469727,5.940000057220459,5.9800000190734863,1912800]
["2015-02-10",6.0399999618530273,6.179999828338623,5.9200000762939453,6.179999828338623,1797000]
["2015-02-09",6.1500000953674316,6.309999942779541,6.0799999237060547,6.190000057220459,1548800]
["2015-02-06",6.0399999618530273,6.3000001907348633,5.9699997901916504,6.059999942779541,2875000]
["2015-02-05",6.179999828338623,6.4099998474121094,6.130000114440918,6.320000171661377,2023400]
["2015-02-04",6.309999942779541,6.3600001335144043,6.130000114440918,6.25,1862000]
["2015-02-03",6.2899999618530273,6.3899998664855957,6.0100002288818359,6.1999998092651367,2216000]
["2015-02-02",6,6.4699997901916504,5.9499998092651367,6.3400001525878906,2171900]
["2015-01-30",5.880000114440918,6.2800002098083496,5.7600002288818359,6.190000057220459,2340500]
["2015-01-29",5.9099998474121094,6.0900001525878906,5.6599998474121094,5.8600001335144043,2631200]
["2015-01-28",6.3400001525878906,6.5500001907348633,6.0199999809265137,6.0799999237060547,2672200]
["2015-01-27",6.190000057220459,6.630000114440918,6.1500000953674316,6.5799999237060547,2996200]
["2015-01-26",5.9099998474121094,6.2100000381469727,5.8299999237060547,6.1700000762939453,2380700]
["2015-01-23",6.190000057220459,6.25,5.8499999046325684,5.940000057220459,2480800]
["2015-01-22",6.4699997901916504,6.570000171661377,6.2300000190734863,6.2899999618530273,2381500]
["2015-01-21",6.559999942779541,6.619999885559082,6.190000057220459,6.4099998474121094,2799100]
["2015-01-20",6.4099998474121094,6.619999885559082,6.25,6.429999828338623,2529000]
["2015-01-16",5.9699997901916504,6.320000171661377,5.940000057220459,6.2399997711181641,2536500]
["2015-01-15",6.3400001525878906,6.4099998474121094,5.8899998664855957,5.9099998474121094,2988900]
["2015-01-14",6.4800000190734863,6.5399999618530273,5.809999942779541,5.9000000953674316,3971200]
["2015-01-13",6.9800000190734863,7,6.380000114440918,6.5199999809265137,4551400]
["2015-01-12",6.309999942779541,7.1500000953674316,6.2899999618530273,6.7800002098083496,4658600]
["2015-01-09",5.929999828338623,6.2699999809265137,5.929999828338623,6.2399997711181641,2429000]
["2015-01-08",6.2399997711181641,6.4699997901916504,5.8400001525878906,5.9099998474121094,3117000]
["2015-01-07",6.130000114440918,6.4200000762939453,5.9200000762939453,6.190000057220459,4826400]
["2015-01-06",5.5799999237060547,6.4099998474121094,5.5100002288818359,6.3600001335144043,5724400]
["2015-01-05",5.309999942779541,5.5399999618530273,5.2100000381469727,5.5399999618530273,2906000]
["2015-01-02",4.869999885559082,5.2300000190734863,4.75,5.2199997901916504,2392100]
["2014-12-31",4.9800000190734863,5.059999942779541,4.809999942779541,5.0199999809265137,2261800]
["2014-12-30",4.8299999237060547,5.0900001525878906,4.7399997711181641,5.0500001907348633,2221700]
["2014-12-29",4.9000000953674316,4.9000000953674316,4.6599998474121094,4.690000057220459,1754900]
["2014-12-26",4.940000057220459,5,4.869999885559082,4.880000114440918,1246000]
["2014-12-24",4.5199999809265137,4.8299999237060547,4.4600000381469727,4.7699999809265137,1299700]
["2014-12-23",4.5799999237060547,4.9499998092651367,4.5300002098083496,4.559999942779541,1900200]
["2014-12-22",4.9600000381469727,5.0100002288818359,4.5999999046325684,4.6100001335144043,4051500]
["2014-12-19",4.8499999046325684,5.1500000953674316,4.8000001907348633,5.119999885559082,26663300]
["2014-12-18",4.7600002288818359,4.880000114440918,4.5799999237060547,4.880000114440918,2997300]
["2014-12-17",4.3499999046325684,4.679999828338623,4.2800002098083496,4.6500000953674316,3508400]
["2014-12-16",4.5500001907348633,4.6100001335144043,4.2699999809265137,4.320000171661377,3208900]
["2014-12-15",4.75,5.2199997901916504,4.369999885559082,4.3899998664855957,6183200]
["2014-12-12",4.5,4.9600000381469727,4.4899997711181641,4.8000001907348633,3007700]
["2014-12-11",4.5300002098083496,4.7899999618530273,4.5,4.5500001907348633,2450200]
["2014-12-10",4.619999885559082,4.8400001525878906,4.5100002288818359,4.6100001335144043,2917600]
["2014-12-09",4.1999998092651367,4.7199997901916504,4.130000114440918,4.5799999237060547,3083800]
["2014-12-08",4.1500000953674316,4.1500000953674316,3.75,4.0399999618530273,2978700]
["2014-12-05",4.059999942779541,4.2199997901916504,4.0199999809265137,4.0799999237060547,1312100]
["2014-12-04",4.3499999046325684,4.369999885559082,4.1399998664855957,4.1599998474121094,1758800]
["2014-12-03",4.130000114440918,4.380000114440918,4.070000171661377,4.2899999618530273,1844200]
["2014-12-02",4.1999998092651367,4.3499999046325684,4.0199999809265137,4.0300002098083496,2183400]
["2014-12-01",4.190000057220459,4.380000114440918,4.1100001335144043,4.309999942779541,2521000]
["2014-11-28",4.559999942779541,4.559999942779541,4.0500001907348633,4.070000171661377,2533400]
["2014-11-26",4.9899997711181641,4.9899997711181641,4.7600002288818359,4.809999942779541,2204000]
["2014-11-25",4.940000057220459,5.070000171661377,4.869999885559082,5,2429700]
["2014-11-24",5.0900001525878906,5.0999999046325684,4.7899999618530273,4.9200000762939453,4417600]
["2014-11-21",5.3600001335144043,5.4600000381469727,5.1399998664855957,5.25,3243500]
["2014-11-20",5.179999828338623,5.25,5.0300002098083496,5.179999828338623,2017500]
["2014-11-19",5.4499998092651367,5.4699997901916504,5.0100002288818359,5.070000171661377,3421600]
["2014-11-18",5.25,5.5,5.2199997901916504,5.4699997901916504,2335400]
["2014-11-17",5.1700000762939453,5.190000057220459,4.940000057220459,5.1100001335144043,2821100]
["2014-11-14",4.6500000953674316,5.2899999618530273,4.6100001335144043,5.2800002098083496,3209200]
["2014-11-13",4.9499998092651367,5.0399999618530273,4.7100000381469727,4.7800002098083496,2439800]
["2014-11-12",5,5.1599998474121094,4.7699999809265137,4.9200000762939453,3433600]
["2014-11-11",5.070000171661377,5.2800002098083496,4.9499998092651367,5.190000057220459,2546700]
["2014-11-10",5.2899999618530273,5.3600001335144043,4.8600001335144043,4.9200000762939453,2606900]
["2014-11-07",4.9600000381469727,5.3600001335144043,4.9200000762939453,5.3299999237060547,2582300]
["2014-11-06",4.7399997711181641,5,4.690000057220459,4.8299999237060547,2371400]
["2014-11-05",4.809999942779541,4.9000000953674316,4.6100001335144043,4.630000114440918,3641400]
["2014-11-04",5.3000001907348633,5.320000171661377,5,5.0100002288818359,2283100]
["2014-11-03",5.179999828338623,5.3899998664855957,5.070000171661377,5.3499999046325684,2141300]
["2014-10-31",5.2100000381469727,5.2899999618530273,4.8299999237060547,5.130000114440918,4677600]
["2014-10-30",6.130000114440918,6.1599998474121094,5.5799999237060547,5.5799999237060547,3468300]
["2014-10-29",6.559999942779541,6.6500000953674316,6.1599998474121094,6.2600002288818359,2592800]
["2014-10-28",6.4600000381469727,6.6999998092651367,6.3899998664855957,6.6599998474121094,1024600]
["2014-10-27",6.7100000381469727,6.7300000190734863,6.369999885559082,6.4000000953674316,1063100]
["2014-10-24",6.6599998474121094,6.8499999046325684,6.5300002098083496,6.7600002288818359,1551600]
["2014-10-23",6.8400001525878906,6.8499999046325684,6.5100002288818359,6.6500000953674316,2630100]
["2014-10-22",7.2199997901916504,7.2699999809265137,6.869999885559082,6.880000114440918,1330700]
["2014-10-21",7.4699997901916504,7.5999999046325684,7.2800002098083496,7.3299999237060547,986900]
["2014-10-20",7.2399997711181641,7.3499999046325684,7.059999942779541,7.3299999237060547,940800]
["2014-10-17",7.5999999046325684,7.7199997901916504,7.119999885559082,7.1700000762939453,1944900]
["2014-10-16",7.309999942779541,7.7800002098083496,7.2699999809265137,7.5999999046325684,1553300]
["2014-10-15",7.119999885559082,7.4899997711181641,7.0999999046325684,7.380000114440918,1819200]
["2014-10-14",7.4099998474121094,7.6500000953674316,7.2100000381469727,7.25,2290200]
["2014-10-13",7.3299999237060547,7.6500000953674316,7.2399997711181641,7.4000000953674316,1306300]
["2014-10-10",7.2800002098083496,7.5399999618530273,7.0900001525878906,7.2199997901916504,1439300]
["2014-10-09",7.7699999809265137,7.7899999618530273,7.1999998092651367,7.3600001335144043,2083100]
["2014-10-08",7.2300000190734863,7.7399997711181641,6.7899999618530273,7.679999828338623,4013700]
["2014-10-07",7.4499998092651367,7.4600000381469727,7.130000114440918,7.1500000953674316,1869100]
["2014-10-06",7.429999828338623,7.4899997711181641,7.2600002288818359,7.4200000762939453,1652900]
["2014-10-03",7.679999828338623,7.7100000381469727,7.3299999237060547,7.3499999046325684,1678600]
["2014-10-02",7.869999885559082,7.9099998474121094,7.6399998664855957,7.8400001525878906,1145400]
["2014-10-01",7.869999885559082,8.0399999618530273,7.7899999618530273,7.809999942779541,1354000]
["2014-09-30",7.9899997711181641,8.119999885559082,7.75,7.8000001907348633,1052600]
["2014-09-29",8.2299995422363281,8.25,8.0500001907348633,8.0699996948242188,735400]
["2014-09-26",8.2200002670288086,8.2299995422363281,8.0900001525878906,8.1599998474121094,1103700]
["2014-09-25",8.0799999237060547,8.2700004577636719,8.0500001907348633,8.2399997711181641,980400]
["2014-09-24",8.25,8.3000001907348633,8.1000003814697266,8.1999998092651367,806200]
["2014-09-23",8.2200002670288086,8.3500003814697266,8.0900001525878906,8.3199996948242188,1160900]
["2014-09-22",8.3400001525878906,8.369999885559082,8.0200004577636719,8.0900001525878906,1653000]
["2014-09-19",8.75,8.8400001525878906,8.369999885559082,8.3900003433227539,2029000]
["2014-09-18",8.9600000381469727,8.9700002670288086,8.75,8.7799997329711914,1022100]
["2014-09-17",9.2100000381469727,9.2600002288818359,8.9300003051757813,8.9899997711181641,1037900]
["2014-09-16",9.1400003433227539,9.3299999237060565,9.0200004577636719,9.2100000381469727,747900]
["2014-09-15",9.2200002670288086,9.3000001907348633,9.0799999237060565,9.1499996185302717,641900]
["2014-09-12",9.1999998092651367,9.3299999237060565,9.0699996948242205,9.1700000762939435,717500]
["2014-09-11",9.1599998474121094,9.3400001525878906,9.0200004577636719,9.3100004196166992,883400]
["2014-09-10",9.2100000381469727,9.4200000762939435,9.1700000762939435,9.2799997329711914,724400]
["2014-09-09",9.2700004577636719,9.3999996185302717,9.0100002288818359,9.2899999618530273,1080600]
["2014-09-08",9.5200004577636719,9.5399999618530273,9.2399997711181641,9.25,915700]
["2014-09-05",9.4700002670288086,9.6400003433227539,9.3100004196166992,9.6000003814697283,1067200]
["2014-09-04",9.9399995803833008,10,9.3199996948242205,9.4099998474121094,1371900]
["2014-09-03",9.9399995803833008,10.050000190734863,9.869999885559082,9.8900003433227539,724800]
["2014-09-02",10.029999732971191,10.100000381469728,9.869999885559082,9.8900003433227539,794300]
["2014-08-29",10.109999656677246,10.319999694824221,10.069999694824221,10.239999771118164,607900]
["2014-08-28",10.180000305175779,10.239999771118164,10.060000419616699,10.159999847412109,759100]
["2014-08-27",10.069999694824221,10.220000267028809,9.9600000381469727,10.010000228881836,732200]
["2014-08-26",9.8500003814697283,10.130000114440918,9.8100004196166992,10.090000152587891,847100]
["2014-08-25",9.8299999237060565,9.8999996185302717,9.6899995803833008,9.6899995803833008,677000]
["2014-08-22",9.7600002288818359,9.880000114440918,9.6599998474121094,9.8500003814697283,652900]
["2014-08-21",9.7600002288818359,9.8199996948242205,9.5600004196166992,9.7200002670288086,1128200]
["2014-08-20",9.8299999237060565,10,9.7899999618530273,9.880000114440918,543300]
["2014-08-19",9.9300003051757795,10.020000457763672,9.7600002288818359,9.8199996948242205,774800]
["2014-08-18",9.8100004196166992,10.039999961853027,9.75,9.9600000381469727,765200]
["2014-08-15",9.75,9.9799995422363281,9.6599998474121094,9.8599996566772461,1424900]
["2014-08-14",10.300000190734863,10.369999885559082,9.8400001525878906,9.8900003433227539,1665600]
["2014-08-13",10.779999732971191,10.800000190734863,10.199999809265137,10.359999656677246,1986900]
["2014-08-12",10.970000267028809,11.220000267028809,10.899999618530272,10.930000305175779,1053200]
["2014-08-11",10.770000457763672,11,10.75,10.930000305175779,653500]
["2014-08-08",10.75,10.960000038146973,10.659999847412109,10.770000457763672,805200]
["2014-08-07",10.680000305175779,10.819999694824221,10.539999961853027,10.720000267028809,897200]
["2014-08-06",10.640000343322754,10.779999732971191,10.539999961853027,10.699999809265137,984800]
["2014-08-05",10.380000114440918,10.489999771118164,10.149999618530272,10.409999847412109,929800]
["2014-08-04",10.649999618530272,10.729999542236328,10.369999885559082,10.460000038146973,520000]
["2014-08-01",10.659999847412109,10.869999885559082,10.520000457763672,10.640000343322754,891400]
["2014-07-31",10.640000343322754,10.729999542236328,10.5,10.600000381469728,1210000]
["2014-07-30",10.670000076293944,10.800000190734863,10.5,10.739999771118164,820700]
["2014-07-29",10.739999771118164,10.850000381469728,10.640000343322754,10.710000038146973,1145900]
["2014-07-28",10.449999809265137,10.699999809265137,10.449999809265137,10.649999618530272,1211800]
["2014-07-25",10.079999923706056,10.520000457763672,10.010000228881836,10.510000228881836,1286500]
["2014-07-24",10.100000381469728,10.159999847412109,9.9899997711181641,10.109999656677246,1157000]
["2014-07-23",10.270000457763672,10.420000076293944,10.159999847412109,10.170000076293944,702300]
["2014-07-22",10.449999809265137,10.489999771118164,10.260000228881836,10.289999961853027,777100]
["2014-07-21",10.529999732971191,10.630000114440918,10.300000190734863,10.470000267028809,1236300]
["2014-07-18",10.409999847412109,10.510000228881836,10.260000228881836,10.5,1398600]
["2014-07-17",10.189999580383301,10.550000190734863,10.100000381469728,10.510000228881836,1951300]
["2014-07-16",9.9300003051757795,10.199999809265137,9.880000114440918,10.069999694824221,1250100]
["2014-07-15",10.329999923706056,10.369999885559082,9.7899999618530273,9.8900003433227539,2011100]
["2014-07-14",10.579999923706056,10.609999656677246,10.130000114440918,10.25,2277100]
["2014-07-11",10.720000267028809,10.939999580383301,10.470000267028809,10.939999580383301,1953400]
["2014-07-10",11.029999732971191,11.289999961853027,10.699999809265137,10.729999542236328,2139100]
["2014-07-09",10.689999580383301,10.909999847412109,10.640000343322754,10.840000152587891,1246400]
["2014-07-08",10.640000343322754,10.680000305175779,10.289999961853027,10.550000190734863,1070500]
["2014-07-07",10.75,10.869999885559082,10.5,10.529999732971191,807500]
["2014-07-03",10.630000114440918,10.840000152587891,10.479999542236328,10.829999923706056,705600]
["2014-07-02",10.649999618530272,10.850000381469728,10.649999618530272,10.720000267028809,905400]
["2014-07-01",10.779999732971191,10.930000305175779,10.619999885559082,10.659999847412109,893500]
["2014-06-30",10.489999771118164,10.850000381469728,10.359999656677246,10.810000419616699,820800]
["2014-06-27",10.579999923706056,10.729999542236328,10.380000114440918,10.539999961853027,887300]
["2014-06-26",10.369999885559082,10.579999923706056,10.279999732971191,10.550000190734863,923400]
["2014-06-25",10.350000381469728,10.560000419616699,10.220000267028809,10.390000343322754,1277700]
["2014-06-24",10.810000419616699,10.970000267028809,10.380000114440918,10.420000076293944,1743800]
["2014-06-23",10.520000457763672,10.770000457763672,10.369999885559082,10.75,1551700]
["2014-06-20",10.430000305175779,10.619999885559082,10.270000457763672,10.470000267028809,1372100]
["2014-06-19",10.079999923706056,10.579999923706056,10.069999694824221,10.5,2166700]
["2014-06-18",9.5399999618530273,9.9300003051757795,9.4300003051757795,9.9099998474121094,1298800]
["2014-06-17",9.3000001907348633,9.5299997329711914,9.1400003433227539,9.4899997711181641,919000]
["2014-06-16",9.6599998474121094,9.6599998474121094,9.3900003433227539,9.3999996185302717,733400]
["2014-06-13",9.5100002288818359,9.630000114440918,9.3299999237060565,9.5900001525878906,885100]
["2014-06-12",9.2100000381469727,9.5699996948242205,9.1099996566772461,9.4700002670288086,1479700]
["2014-06-11",9.0200004577636719,9.2399997711181641,8.9200000762939453,9.1599998474121094,1459300]
["2014-06-10",8.7200002670288086,8.9600000381469727,8.7200002670288086,8.9300003051757813,915000]
["2014-06-09",8.7299995422363281,8.7700004577636719,8.6499996185302734,8.6800003051757813,823800]
["2014-06-06",8.6800003051757813,8.75,8.5,8.7100000381469727,501600]
["2014-06-05",8.4700002670288086,8.7399997711181641,8.4600000381469727,8.6400003433227539,966200]
["2014-06-04",8.4300003051757813,8.4799995422363281,8.3400001525878906,8.3999996185302734,659300]
["2014-06-03",8.369999885559082,8.4600000381469727,8.2200002670288086,8.4399995803833008,729400]
["2014-06-02",8.3000001907348633,8.5,8.2799997329711914,8.4099998474121094,672600]
["2014-05-30",8.5299997329711914,8.5399999618530273,8.2100000381469727,8.3900003433227539,984600]
["2014-05-29",8.3400001525878906,8.630000114440918,8.1899995803833008,8.5600004196166992,1076600]
["2014-05-28",8.75,8.75,8.3000001907348633,8.3999996185302734,1845800]
["2014-05-27",9.0299997329711914,9.0299997329711914,8.75,8.7700004577636719,1151700]
["2014-05-23",9.1400003433227539,9.1700000762939435,9.0200004577636719,9.0600004196166992,507500]
["2014-05-22",9.2100000381469727,9.2700004577636719,9.1099996566772461,9.130000114440918,598600]
["2014-05-21",9.1700000762939435,9.1700000762939435,8.9600000381469727,9.130000114440918,832800]
["2014-05-20",9.1999998092651367,9.3100004196166992,9.1499996185302717,9.2200002670288086,472500]
["2014-05-19",9.2200002670288086,9.4099998474121094,9.0600004196166992,9.3000001907348633,1075800]
["2014-05-16",9.0600004196166992,9.119999885559082,8.9799995422363281,9.1099996566772461,1314200]
["2014-05-15",9.1999998092651367,9.2200002670288086,9.0200004577636719,9.0799999237060565,920300]
["2014-05-14",9.5900001525878906,9.5900001525878906,9.2200002670288086,9.2799997329711914,764400]
["2014-05-13",9.4700002670288086,9.5600004196166992,9.3500003814697283,9.4600000381469727,518000]
["2014-05-12",9.4200000762939435,9.5600004196166992,9.380000114440918,9.4300003051757795,753800]
["2014-05-09",9.4099998474121094,9.4200000762939435,9.119999885559082,9.3199996948242205,715100]
["2014-05-08",9.2799997329711914,9.4899997711181641,9.2799997329711914,9.369999885559082,634900]
["2014-05-07",9.5299997329711914,9.5399999618530273,9.1400003433227539,9.3000001907348633,1212200]
["2014-05-06",9.7299995422363281,9.7799997329711914,9.5100002288818359,9.5799999237060565,376300]
["2014-05-05",9.9099998474121094,9.9600000381469727,9.6800003051757795,9.6999998092651367,634600]
["2014-05-02",9.5200004577636719,9.880000114440918,9.4499998092651367,9.7899999618530273,806200]
["2014-05-01",9.369999885559082,9.5900001525878906,9.3400001525878906,9.4899997711181641,543500]
["2014-04-30",9.5100002288818359,9.6499996185302717,9.4300003051757795,9.5,827700]
["2014-04-29",9.380000114440918,9.6400003433227539,9.3599996566772461,9.5900001525878906,891800]
["2014-04-28",9.5299997329711914,9.5399999618530273,9.2600002288818359,9.3400001525878906,866400]
["2014-04-25",9.5399999618530273,9.6800003051757795,9.4300003051757795,9.5900001525878906,821300]
["2014-04-24",9.4700002670288086,9.6999998092651367,9.3599996566772461,9.4499998092651367,801300]
["2014-04-23",9.4099998474121094,9.6499996185302717,9.3199996948242205,9.5699996948242205,1051200]
["2014-04-22",9.130000114440918,9.3900003433227539,9.0399999618530273,9.380000114440918,1084800]
["2014-04-21",9.2200002670288086,9.2200002670288086,8.8500003814697266,9.119999885559082,1371800]
["2014-04-17",9.3400001525878906,9.4700002670288086,9.1999998092651367,9.2399997711181641,1177800]
["2014-04-16",9.5299997329711914,9.5699996948242205,9.2600002288818359,9.3900003433227539,893700]
["2014-04-15",9.4399995803833008,9.5600004196166992,9.25,9.5100002288818359,1722100]
["2014-04-14",9.6599998474121094,9.9200000762939435,9.6000003814697283,9.7100000381469727,830100]
["2014-04-11",9.8500003814697283,9.8999996185302717,9.4399995803833008,9.5699996948242205,1265500]
["2014-04-10",10.340000152587891,10.479999542236328,9.8500003814697283,9.8900003433227539,1226100]
["2014-04-09",9.8599996566772461,10.390000343322754,9.7399997711181641,10.229999542236328,1138900]
["2014-04-08",10,10.090000152587891,9.8000001907348633,9.9399995803833008,825700]
["2014-04-07",9.8100004196166992,10.090000152587891,9.7100000381469727,9.7899999618530273,855200]
["2014-04-04",10.119999885559082,10.199999809265137,9.7799997329711914,9.8100004196166992,860100]
["2014-04-03",9.9399995803833008,9.9600000381469727,9.7200002670288086,9.880000114440918,868600]
["2014-04-02",10,10.180000305175779,9.9499998092651367,10.079999923706056,1481700]
["2014-04-01",9.6899995803833008,9.8199996948242205,9.6099996566772461,9.7600002288818359,796300]
["2014-03-31",9.9499998092651367,9.9600000381469727,9.5799999237060565,9.6400003433227539,1479900]
["2014-03-28",9.880000114440918,10.100000381469728,9.6400003433227539,10,1421500]
["2014-03-27",9.6400003433227539,10.039999961853027,9.5399999618530273,9.9399995803833008,1263000]
["2014-03-26",10.180000305175779,10.369999885559082,9.6899995803833008,9.7399997711181641,1777600]
["2014-03-25",10.270000457763672,10.380000114440918,10.079999923706056,10.140000343322754,1279900]
["2014-03-24",10.819999694824221,10.949999809265137,10.189999580383301,10.199999809265137,1828300]
["2014-03-21",11.119999885559082,11.319999694824221,10.920000076293944,11.029999732971191,2455300]
["2014-03-20",10.710000038146973,11.069999694824221,10.699999809265137,10.979999542236328,1131800]
["2014-03-19",11.140000343322754,11.260000228881836,10.770000457763672,10.810000419616699,1595700]
["2014-03-18",10.979999542236328,11.5,10.970000267028809,11.310000419616699,1395500]
["2014-03-17",11.439999580383301,11.590000152587891,11.130000114440918,11.159999847412109,1456200]
["2014-03-14",11.670000076293944,11.869999885559082,11.420000076293944,11.529999732971191,1370000]
["2014-03-13",11.159999847412109,11.630000114440918,11.029999732971191,11.5,1922200]
["2014-03-12",10.909999847412109,11.170000076293944,10.909999847412109,11.140000343322754,953300]
["2014-03-11",11.130000114440918,11.239999771118164,10.710000038146973,10.789999961853027,1266300]
["2014-03-10",11.100000381469728,11.100000381469728,10.819999694824221,10.949999809265137,1036300]
["2014-03-07",11.310000419616699,11.369999885559082,11.010000228881836,11.140000343322754,1267500]
["2014-03-06",11.439999580383301,11.640000343322754,11.439999580383301,11.560000419616699,979400]
["2014-03-05",11.170000076293944,11.399999618530272,11.050000190734863,11.350000381469728,1084600]
["2014-03-04",11.170000076293944,11.369999885559082,11,11.140000343322754,1297200]
["2014-03-03",11.310000419616699,11.689999580383301,11.100000381469728,11.420000076293944,1857000]
["2014-02-28",11.069999694824221,11.109999656677246,10.850000381469728,11.010000228881836,1592000]
["2014-02-27",11.199999809265137,11.270000457763672,10.859999656677246,10.970000267028809,1773700]
["2014-02-26",11.550000190734863,11.630000114440918,11.180000305175779,11.239999771118164,1795000]
["2014-02-25",12.010000228881836,12.010000228881836,11.539999961853027,11.680000305175779,1403900]
["2014-02-24",12.329999923706056,12.329999923706056,12.029999732971191,12.050000190734863,1280700]
["2014-02-21",12.300000190734863,12.329999923706056,11.899999618530272,12.090000152587891,1532900]
["2014-02-20",11.670000076293944,12.279999732971191,11.670000076293944,12.239999771118164,1566300]
["2014-02-19",12.239999771118164,12.449999809265137,11.609999656677246,11.640000343322754,2040800]
["2014-02-18",12.300000190734863,12.430000305175779,12.069999694824221,12.359999656677246,1668400]
["2014-02-14",12.069999694824221,12.449999809265137,12.020000457763672,12.189999580383301,2288200]
["2014-02-13",11.199999809265137,11.689999580383301,11.060000419616699,11.680000305175779,1344200]
["2014-02-12",11.659999847412109,11.710000038146973,11.149999618530272,11.170000076293944,1706300]
["2014-02-11",11.170000076293944,11.699999809265137,11.119999885559082,11.609999656677246,2194200]
["2014-02-10",10.880000114440918,11.140000343322754,10.869999885559082,11.050000190734863,1545800]
["2014-02-07",10.359999656677246,10.739999771118164,10.210000038146973,10.720000267028809,1292000]
["2014-02-06",10.390000343322754,10.460000038146973,10.210000038146973,10.369999885559082,722100]
["2014-02-05",10.609999656677246,10.659999847412109,10.25,10.260000228881836,999900]
["2014-02-04",10.380000114440918,10.5,10.25,10.470000267028809,1045300]
["2014-02-03",10.550000190734863,10.760000228881836,10.239999771118164,10.350000381469728,1304200]
["2014-01-31",10.489999771118164,10.630000114440918,10.220000267028809,10.439999580383301,1568300]
["2014-01-30",10.399999618530272,10.720000267028809,10.399999618530272,10.640000343322754,1134700]
["2014-01-29",10.710000038146973,10.810000419616699,10.479999542236328,10.800000190734863,1327300]
["2014-01-28",10.289999961853027,10.520000457763672,10.159999847412109,10.479999542236328,1367800]
["2014-01-27",10.739999771118164,10.800000190734863,10.239999771118164,10.270000457763672,1640300]
["2014-01-24",11.329999923706056,11.479999542236328,10.560000419616699,10.800000190734863,2148000]
["2014-01-23",11.060000419616699,11.520000457763672,10.989999771118164,11.189999580383301,1621900]
["2014-01-22",11.069999694824221,11.229999542236328,10.729999542236328,10.800000190734863,1151100]
["2014-01-21",10.930000305175779,11.289999961853027,10.720000267028809,11.159999847412109,1396600]
["2014-01-17",10.760000228881836,11.069999694824221,10.720000267028809,11.020000457763672,1500400]
["2014-01-16",10.670000076293944,10.770000457763672,10.520000457763672,10.600000381469728,896800]
["2014-01-15",10.270000457763672,10.640000343322754,10.180000305175779,10.600000381469728,1243300]
["2014-01-14",10.670000076293944,11.010000228881836,10.289999961853027,10.310000419616699,1941200]
["2014-01-13",10.550000190734863,10.880000114440918,10.409999847412109,10.810000419616699,1593200]
["2014-01-10",10.319999694824221,10.630000114440918,10.300000190734863,10.569999694824221,1456400]
["2014-01-09",10.399999618530272,10.479999542236328,10.050000190734863,10.050000190734863,1238600]
["2014-01-08",10.300000190734863,10.609999656677246,10.25,10.5,1370800]
["2014-01-07",10.100000381469728,10.550000190734863,9.8299999237060565,10.529999732971191,2423200]
["2014-01-06",10.149999618530272,10.430000305175779,10.100000381469728,10.189999580383301,1054200]
["2014-01-03",10.5,10.550000190734863,10.039999961853027,10.100000381469728,1028900]
["2014-01-02",10.140000343322754,10.590000152587891,10,10.449999809265137,1835900]
["2013-12-31",9.3599996566772461,9.9099998474121094,9.3199996948242205,9.8000001907348633,1269700]
["2013-12-30",9.5299997329711914,9.6899995803833008,9.4399995803833008,9.4399995803833008,802900]
["2013-12-27",9.6000003814697283,9.6899995803833008,9.3599996566772461,9.6599998474121094,911700]
["2013-12-26",9.5900001525878906,9.8000001907348633,9.5,9.5900001525878906,719500]
["2013-12-24",9.1700000762939435,9.369999885559082,9.1599998474121094,9.3500003814697283,649800]
["2013-12-23",9.2700004577636719,9.4399995803833008,9.1800003051757795,9.2100000381469727,848000]
["2013-12-20",9.2299995422363281,9.4899997711181641,9.2299995422363281,9.2899999618530273,2091800]
["2013-12-19",9.119999885559082,9.2899999618530273,9.1099996566772461,9.1999998092651367,936800]
["2013-12-18",9.5600004196166992,9.8000001907348633,9.3599996566772461,9.369999885559082,1476100]
["2013-12-17",9.5500001907348633,9.7100000381469727,9.4300003051757795,9.5100002288818359,582300]
["2013-12-16",9.5299997329711914,9.8299999237060565,9.4600000381469727,9.6400003433227539,1011000]
["2013-12-13",9.4899997711181641,9.7899999618530273,9.4399995803833008,9.5699996948242205,982200]
["2013-12-12",9.25,9.4399995803833008,9.0299997329711914,9.3900003433227539,1117600]
["2013-12-11",9.9700002670288086,10.039999961853027,9.5399999618530273,9.6000003814697283,1079800]
["2013-12-10",9.9600000381469727,10.350000381469728,9.9499998092651367,10.020000457763672,1539400]
["2013-12-09",9.1400003433227539,9.4799995422363281,9.1400003433227539,9.4799995422363281,874300]
["2013-12-06",9.3500003814697283,9.4399995803833008,9.0600004196166992,9.0900001525878906,763300]
["2013-12-05",9.1400003433227539,9.3999996185302717,9.1099996566772461,9.25,939300]
["2013-12-04",9,9.4899997711181641,8.8199996948242188,9.4600000381469727,1682300]
["2013-12-03",9.119999885559082,9.1599998474121094,8.8500003814697266,8.9499998092651367,1075400]
["2013-12-02",9.6000003814697283,9.6999998092651367,9.0699996948242205,9.1499996185302717,1633300]
["2013-11-29",9.6800003051757795,10.039999961853027,9.619999885559082,9.8900003433227539,632300]
["2013-11-27",9.4899997711181641,9.6400003433227539,9.3500003814697283,9.4799995422363281,877600]
["2013-11-26",9.6999998092651367,9.6999998092651367,9.2700004577636719,9.3900003433227539,987700]
["2013-11-25",9.5,9.8299999237060565,9.2700004577636719,9.7700004577636719,1047900]
["2013-11-22",9.5900001525878906,9.8299999237060565,9.4499998092651367,9.6000003814697283,919600]
["2013-11-21",9.8000001907348633,9.8100004196166992,9.4499998092651367,9.5900001525878906,1423100]
["2013-11-20",10.130000114440918,10.229999542236328,9.75,9.8500003814697283,1042000]
["2013-11-19",10.060000419616699,10.300000190734863,10.039999961853027,10.229999542236328,857900]
["2013-11-18",10.5,10.5,10.010000228881836,10.029999732971191,1378200]
["2013-11-15",10.760000228881836,10.829999923706056,10.5,10.560000419616699,1040300]
["2013-11-14",10.619999885559082,10.800000190734863,10.420000076293944,10.75,1054400]
["2013-11-13",10.529999732971191,10.699999809265137,10.350000381469728,10.520000457763672,745400]
["2013-11-12",11.010000228881836,11.010000228881836,10.350000381469728,10.460000038146973,1080800]
["2013-11-11",10.510000228881836,10.770000457763672,10.380000114440918,10.729999542236328,667100]
["2013-11-08",10.390000343322754,10.659999847412109,10.270000457763672,10.630000114440918,876400]
["2013-11-07",10.699999809265137,10.789999961853027,10.470000267028809,10.470000267028809,619900]
["2013-11-06",10.949999809265137,10.949999809265137,10.680000305175779,10.810000419616699,616400]
["2013-11-05",10.979999542236328,11.010000228881836,10.670000076293944,10.800000190734863,799400]
["2013-11-04",11.029999732971191,11.180000305175779,10.800000190734863,11.020000457763672,671000]
["2013-11-01",11.199999809265137,11.229999542236328,10.800000190734863,10.920000076293944,922100]
["2013-10-31",11.670000076293944,11.829999923706056,11.310000419616699,11.310000419616699,1105100]
["2013-10-30",12.079999923706056,12.319999694824221,11.619999885559082,12.039999961853027,1297700]
["2013-10-29",12.130000114440918,12.25,11.710000038146973,11.789999961853027,768000]
["2013-10-28",12.479999542236328,12.5,12.100000381469728,12.180000305175779,770200]
["2013-10-25",12.140000343322754,12.460000038146973,11.989999771118164,12.439999580383301,1237200]
["2013-10-24",11.789999961853027,12.359999656677246,11.760000228881836,12.260000228881836,1479200]
["2013-10-23",11.930000305175779,12.050000190734863,11.430000305175779,11.479999542236328,1050200]
["2013-10-22",11.859999656677246,12.439999580383301,11.829999923706056,12.029999732971191,1170000]
["2013-10-21",11.380000114440918,11.659999847412109,11.380000114440918,11.600000381469728,685100]
["2013-10-18",11.470000267028809,11.699999809265137,11.159999847412109,11.310000419616699,829000]
["2013-10-17",10.989999771118164,11.710000038146973,10.979999542236328,11.479999542236328,1478000]
["2013-10-16",10.840000152587891,10.880000114440918,10.489999771118164,10.550000190734863,898900]
["2013-10-15",10.560000419616699,10.920000076293944,10.470000267028809,10.840000152587891,900800]
["2013-10-14",10.760000228881836,10.970000267028809,10.659999847412109,10.720000267028809,609300]
["2013-10-11",10.789999961853027,10.829999923706056,10.600000381469728,10.689999580383301,825600]
["2013-10-10",10.909999847412109,11.260000228881836,10.869999885559082,10.899999618530272,1061500]
["2013-10-09",10.800000190734863,11.079999923706056,10.449999809265137,10.869999885559082,1099200]
["2013-10-08",11.430000305175779,11.600000381469728,10.880000114440918,10.939999580383301,1012300]
["2013-10-07",11.380000114440918,11.720000267028809,11.340000152587891,11.449999809265137,928100]
["2013-10-04",11.369999885559082,11.420000076293944,11.140000343322754,11.279999732971191,642900]
["2013-10-03",11.579999923706056,11.720000267028809,11.300000190734863,11.300000190734863,912600]
["2013-10-02",11.630000114440918,12.020000457763672,11.5,11.579999923706056,1333300]
["2013-10-01",11.460000038146973,11.770000457763672,11.390000343322754,11.539999961853027,1361300]
["2013-09-30",12.050000190734863,12.229999542236328,11.789999961853027,11.859999656677246,1644300]
["2013-09-27",12.430000305175779,12.800000190734863,12.119999885559082,12.189999580383301,1382600]
["2013-09-26",12.699999809265137,12.899999618530272,12.180000305175779,12.289999961853027,1199000]
["2013-09-25",12.449999809265137,12.979999542236328,12.449999809265137,12.680000305175779,1299100]
["2013-09-24",12.350000381469728,12.680000305175779,12.029999732971191,12.390000343322754,1320600]
["2013-09-23",13,13.270000457763672,12.449999809265137,12.479999542236328,1747100]
["2013-09-20",13.520000457763672,13.550000190734863,12.789999961853027,12.949999809265137,6778700]
["2013-09-19",14.420000076293944,14.470000267028809,13.510000228881836,13.850000381469728,2103600]
["2013-09-18",12.5,14.279999732971191,12.119999885559082,14.079999923706056,2792500]
["2013-09-17",12.560000419616699,12.699999809265137,12.409999847412109,12.609999656677246,1128000]
["2013-09-16",12.810000419616699,12.949999809265137,12.399999618530272,12.460000038146973,1307600]
["2013-09-13",12.550000190734863,12.949999809265137,12.420000076293944,12.819999694824221,1293300]
["2013-09-12",13.140000343322754,13.239999771118164,12.649999618530272,12.680000305175779,1693400]
["2013-09-11",13.630000114440918,13.819999694824221,13.329999923706056,13.699999809265137,936400]
["2013-09-10",13.479999542236328,13.680000305175779,13.289999961853027,13.560000419616699,1397800]
["2013-09-09",14.270000457763672,14.380000114440918,13.930000305175779,13.939999580383301,960500]
["2013-09-06",14.229999542236328,14.430000305175779,14.039999961853027,14.270000457763672,1035100]
["2013-09-05",14.380000114440918,14.449999809265137,13.859999656677246,13.939999580383301,1265900]
["2013-09-04",14.319999694824221,14.680000305175779,14.310000419616699,14.609999656677246,990800]
["2013-09-03",14.590000152587891,14.939999580383301,14.449999809265137,14.630000114440918,1161500]
["2013-08-30",14.130000114440918,14.619999885559082,13.989999771118164,14.210000038146973,1139300]
["2013-08-29",14.319999694824221,14.600000381469728,13.789999961853027,14.359999656677246,2684400]
["2013-08-28",15.050000190734863,15.359999656677246,14.310000419616699,14.439999580383301,1778800]
["2013-08-27",16.219999313354492,16.459999084472656,14.810000419616699,14.859999656677246,2378600]
["2013-08-26",15.640000343322754,16.059999465942383,15.590000152587891,15.770000457763672,1426900]
["2013-08-23",15.029999732971191,15.670000076293944,14.979999542236328,15.430000305175779,1174500]
["2013-08-22",14.880000114440918,15.300000190734863,14.880000114440918,15.079999923706056,835600]
["2013-08-21",15.090000152587891,15.109999656677246,14.510000228881836,14.550000190734863,1462200]
["2013-08-20",14.489999771118164,15.479999542236328,14.489999771118164,15.189999580383301,1394800]
["2013-08-19",14.659999847412109,15,14.369999885559082,14.489999771118164,1701900]
["2013-08-16",15.399999618530272,15.5,14.520000457763672,14.779999732971191,1963600]
["2013-08-15",14.359999656677246,15.399999618530272,14.149999618530272,15.270000457763672,2598400]
["2013-08-14",13.229999542236328,14.439999580383301,13.199999809265137,14.409999847412109,2113100]
["2013-08-13",13.479999542236328,13.479999542236328,12.770000457763672,13.109999656677246,1566800]
["2013-08-12",13.539999961853027,13.689999580383301,13.199999809265137,13.300000190734863,1777900]
["2013-08-09",12.340000152587891,12.970000267028809,12.159999847412109,12.760000228881836,1619700]
["2013-08-08",11.770000457763672,12.409999847412109,11.699999809265137,12.25,1735500]
["2013-08-07",11.399999618530272,11.720000267028809,11.350000381469728,11.489999771118164,933300]
["2013-08-06",12.199999809265137,12.229999542236328,11.390000343322754,11.510000228881836,1589900]
["2013-08-05",12.140000343322754,12.420000076293944,12.130000114440918,12.289999961853027,655000]
["2013-08-02",12.659999847412109,12.779999732971191,12.199999809265137,12.229999542236328,1082600]
["2013-08-01",13.140000343322754,13.189999580383301,12.579999923706056,12.600000381469728,716700]
["2013-07-31",12.970000267028809,13.289999961853027,12.699999809265137,13.060000419616699,906500]
["2013-07-30",13.079999923706056,13.130000114440918,12.789999961853027,12.949999809265137,673200]
["2013-07-29",13.350000381469728,13.439999580383301,13.149999618530272,13.149999618530272,594100]
["2013-07-26",13.399999618530272,13.529999732971191,13.039999961853027,13.319999694824221,969200]
["2013-07-25",13.020000457763672,13.569999694824221,13.020000457763672,13.550000190734863,920100]
["2013-07-24",13.720000267028809,13.970000267028809,12.800000190734863,13.149999618530272,1298000]
["2013-07-23",13.340000152587891,13.829999923706056,13.210000038146973,13.739999771118164,1319500]
["2013-07-22",13.399999618530272,13.529999732971191,13.090000152587891,13.340000152587891,1758400]
["2013-07-19",12.149999618530272,12.579999923706056,12.079999923706056,12.550000190734863,858300]
["2013-07-18",12.350000381469728,12.420000076293944,12,12.079999923706056,693500]
["2013-07-17",12.810000419616699,12.949999809265137,12.100000381469728,12.220000267028809,1274300]
["2013-07-16",12.079999923706056,12.699999809265137,12.029999732971191,12.659999847412109,1380400]
["2013-07-15",11.880000114440918,12.130000114440918,11.850000381469728,11.979999542236328,732300]
["2013-07-12",12.029999732971191,12.069999694824221,11.640000343322754,11.850000381469728,993500]
["2013-07-11",12.300000190734863,12.420000076293944,11.920000076293944,12.149999618530272,1696500]
["2013-07-10",11.319999694824221,11.649999618530272,11.170000076293944,11.510000228881836,1587900]
["2013-07-09",10.760000228881836,11.310000419616699,10.760000228881836,11.109999656677246,1221100]
["2013-07-08",10.930000305175779,11.060000419616699,10.579999923706056,10.579999923706056,753200]
["2013-07-05",10.729999542236328,10.890000343322754,10.439999580383301,10.800000190734863,1164900]
["2013-07-03",10.420000076293944,11.060000419616699,10.399999618530272,11.010000228881836,1027300]
["2013-07-02",11,11.020000457763672,10.149999618530272,10.310000419616699,1207500]
["2013-07-01",10.869999885559082,11.210000038146973,10.710000038146973,10.949999809265137,1353900]
["2013-06-28",9.3999996185302717,10.640000343322754,9.3400001525878906,10.590000152587891,2420900]
["2013-06-27",8.9700002670288086,9.5500001907348633,8.8999996185302734,9.4700002670288086,1418000]
["2013-06-26",9.0799999237060565,9.2600002288818359,8.8100004196166992,8.8500003814697266,1266200]
["2013-06-25",9.3199996948242205,9.5200004577636719,9.1800003051757795,9.4700002670288086,784200]
["2013-06-24",9.869999885559082,9.869999885559082,9.1700000762939435,9.2299995422363281,1790900]
["2013-06-21",9.7299995422363281,10.159999847412109,9.5500001907348633,9.9899997711181641,2961700]
["2013-06-20",9.5500001907348633,10.149999618530272,9.5200004577636719,9.630000114440918,1886800]
["2013-06-19",10.680000305175779,10.909999847412109,10.300000190734863,10.350000381469728,916000]
["2013-06-18",10.710000038146973,10.869999885559082,10.600000381469728,10.670000076293944,641200]
["2013-06-17",10.779999732971191,10.880000114440918,10.640000343322754,10.770000457763672,732000]
["2013-06-14",11.180000305175779,11.229999542236328,10.800000190734863,10.829999923706056,773000]
["2013-06-13",10.979999542236328,11.199999809265137,10.829999923706056,11.090000152587891,832600]
["2013-06-12",11,11.390000343322754,10.989999771118164,11.060000419616699,799300]
["2013-06-11",10.989999771118164,11.180000305175779,10.880000114440918,10.979999542236328,840400]
["2013-06-10",11.199999809265137,11.489999771118164,11.130000114440918,11.220000267028809,829600]
["2013-06-07",11.260000228881836,11.409999847412109,11.069999694824221,11.199999809265137,993600]
["2013-06-06",11.310000419616699,11.760000228881836,11.119999885559082,11.609999656677246,956200]
["2013-06-05",11.289999961853027,11.640000343322754,11.170000076293944,11.319999694824221,981900]
["2013-06-04",11.229999542236328,11.380000114440918,11.109999656677246,11.260000228881836,923500]
["2013-06-03",10.930000305175779,11.420000076293944,10.779999732971191,11.380000114440918,1244200]
["2013-05-31",11.210000038146973,11.270000457763672,10.449999809265137,10.819999694824221,2158800]
["2013-05-30",10.960000038146973,11.439999580383301,10.810000419616699,11.310000419616699,1504800]
["2013-05-29",10.289999961853027,10.75,10.180000305175779,10.710000038146973,1173800]
["2013-05-28",10.470000267028809,10.590000152587891,10.050000190734863,10.229999542236328,904500]
["2013-05-24",10.279999732971191,10.579999923706056,10.189999580383301,10.369999885559082,690700]
["2013-05-23",10.529999732971191,10.550000190734863,10.109999656677246,10.300000190734863,708100]
["2013-05-22",10.600000381469728,10.840000152587891,10.079999923706056,10.310000419616699,1930100]
["2013-05-21",10.279999732971191,10.510000228881836,9.9899997711181641,10.319999694824221,1926700]
["2013-05-20",9.4499998092651367,10.770000457763672,9.4099998474121094,10.689999580383301,1812800]
["2013-05-17",10.029999732971191,10.130000114440918,9.3999996185302717,9.5600004196166992,2126200]
["2013-05-16",10.149999618530272,10.439999580383301,9.9499998092651367,10.149999618530272,2195900]
["2013-05-15",11.100000381469728,11.149999618530272,10.140000343322754,10.239999771118164,1993700]
["2013-05-14",11.180000305175779,11.520000457763672,11.079999923706056,11.25,699700]
["2013-05-13",11.529999732971191,11.560000419616699,11.260000228881836,11.279999732971191,565200]
["2013-05-10",11.350000381469728,11.720000267028809,11.159999847412109,11.659999847412109,1102700]
["2013-05-09",11.739999771118164,12.300000190734863,11.579999923706056,11.689999580383301,983600]
["2013-05-08",11.579999923706056,12,11.510000228881836,11.869999885559082,1024300]
["2013-05-07",11.75,11.75,11.25,11.439999580383301,1037500]
["2013-05-06",12.119999885559082,12.239999771118164,11.819999694824221,11.970000267028809,536100]
["2013-05-03",12.039999961853027,12.430000305175779,11.989999771118164,12.149999618530272,732800]
["2013-05-02",12.159999847412109,12.300000190734863,11.930000305175779,11.949999809265137,790800]
["2013-05-01",11.819999694824221,12.239999771118164,11.630000114440918,12.029999732971191,1134200]
["2013-04-30",12.090000152587891,12.350000381469728,11.760000228881836,12.340000152587891,1099200]
["2013-04-29",12.260000228881836,12.430000305175779,12.079999923706056,12.109999656677246,785800]
["2013-04-26",12.649999618530272,12.920000076293944,11.909999847412109,12.020000457763672,1321800]
["2013-04-25",12.449999809265137,13.189999580383301,12.109999656677246,12.619999885559082,2320500]
["2013-04-24",11.289999961853027,12.189999580383301,11.210000038146973,12.060000419616699,1678000]
["2013-04-23",11.239999771118164,11.270000457763672,10.770000457763672,11.029999732971191,1465500]
["2013-04-22",11.710000038146973,11.75,11.229999542236328,11.470000267028809,1173200]
["2013-04-19",11.600000381469728,11.720000267028809,11.020000457763672,11.460000038146973,1487200]
["2013-04-18",11.079999923706056,11.739999771118164,10.880000114440918,11.430000305175779,1579000]
["2013-04-17",11.739999771118164,12.029999732971191,10.909999847412109,10.970000267028809,2258600]
["2013-04-16",12.729999542236328,12.789999961853027,11.75,11.899999618530272,2150700]
["2013-04-15",12.550000190734863,13.130000114440918,12.109999656677246,12.210000038146973,2746500]
["2013-04-12",14.130000114440918,14.170000076293944,13.420000076293944,13.989999771118164,1487200]
["2013-04-11",14.850000381469728,15.140000343322754,14.659999847412109,14.689999580383301,760900]
["2013-04-10",15.300000190734863,15.390000343322754,14.689999580383301,14.899999618530272,796700]
["2013-04-09",14.800000190734863,15.5,14.720000267028809,15.359999656677246,1001400]
["2013-04-08",15.039999961853027,15.109999656677246,14.609999656677246,14.729999542236328,503900]
["2013-04-05",15.140000343322754,15.560000419616699,14.75,15.069999694824221,1067800]
["2013-04-04",14.119999885559082,15,13.909999847412109,14.970000267028809,1117200]
["2013-04-03",14.75,15.25,13.909999847412109,14.270000457763672,1828000]
["2013-04-02",15.609999656677246,15.609999656677246,14.789999961853027,14.810000419616699,1218000]
["2013-04-01",16.129999160766602,16.149999618530273,15.600000381469728,15.739999771118164,671800]
["2013-03-28",16.260000228881836,16.399999618530273,16.030000686645508,16.170000076293945,406000]
["2013-03-27",16,16.469999313354492,16,16.459999084472656,533600]
["2013-03-26",16.530000686645508,16.530000686645508,16.020000457763672,16.190000534057617,622200]
["2013-03-25",16.629999160766602,16.799999237060547,16.260000228881836,16.540000915527344,827200]
["2013-03-22",16.700000762939453,16.850000381469727,16.559999465942383,16.670000076293945,544100]
["2013-03-21",16.709999084472656,16.930000305175781,16.559999465942383,16.850000381469727,726500]
["2013-03-20",16.540000915527344,16.780000686645508,16.360000610351563,16.530000686645508,454900]
["2013-03-19",16.629999160766602,16.780000686645508,16.350000381469727,16.520000457763672,978900]
["2013-03-18",16.450000762939453,16.709999084472656,16.319999694824219,16.659999847412109,877300]
["2013-03-15",16.329999923706055,16.530000686645508,16.059999465942383,16.319999694824219,1974000]
["2013-03-14",16.200000762939453,16.510000228881836,16.090000152587891,16.329999923706055,749800]
["2013-03-13",16.989999771118164,17.020000457763672,16.190000534057617,16.290000915527344,920300]
["2013-03-12",16.729999542236328,17.209999084472656,16.610000610351563,16.889999389648438,1119200]
["2013-03-11",16.510000228881836,16.709999084472656,16.340000152587891,16.379999160766602,862300]
["2013-03-08",16.100000381469727,16.819999694824219,15.890000343322754,16.329999923706055,1171500]
["2013-03-07",16.360000610351563,16.690000534057617,16.129999160766602,16.190000534057617,940700]
["2013-03-06",15.149999618530272,16.190000534057617,14.909999847412109,16.190000534057617,1289500]
["2013-03-05",15.289999961853027,15.670000076293944,15.090000152587891,15.189999580383301,1018200]
["2013-03-04",15.840000152587891,15.869999885559082,15.060000419616699,15.130000114440918,995300]
["2013-03-01",16.139999389648438,16.319999694824219,15.710000038146973,15.810000419616699,848700]
["2013-02-28",16.420000076293945,16.600000381469727,16.040000915527344,16.139999389648438,826500]
["2013-02-27",16.819999694824219,16.829999923706055,16.399999618530273,16.479999542236328,812100]
["2013-02-26",17.440000534057617,17.440000534057617,16.549999237060547,17.010000228881836,1210500]
["2013-02-25",17.430000305175781,17.709999084472656,17.209999084472656,17.350000381469727,808000]
["2013-02-22",17.479999542236328,17.540000915527344,17.020000457763672,17.139999389648438,448200]
["2013-02-21",17.129999160766602,17.680000305175781,17.079999923706055,17.370000839233398,1213300]
["2013-02-20",17.340000152587891,17.790000915527344,17,17.079999923706055,2264500]
["2013-02-19",17.059999465942383,17.180000305175781,16.649999618530273,17,934900]
["2013-02-15",17.540000915527344,17.579999923706055,16.819999694824219,17.209999084472656,967200]
["2013-02-14",18.200000762939453,18.5,17.559999465942383,17.770000457763672,1002900]
["2013-02-13",18.270000457763672,19.139999389648441,18.049999237060547,18.120000839233398,1697100]
["2013-02-12",18.180000305175781,18.25,17.829999923706055,17.909999847412109,535000]
["2013-02-11",18.540000915527344,18.540000915527344,18,18.239999771118164,649200]
["2013-02-08",18.559999465942383,19.059999465942383,18.520000457763672,18.75,914900]
["2013-02-07",18.489999771118164,18.739999771118164,18.350000381469727,18.579999923706055,533300]
["2013-02-06",18.469999313354492,18.850000381469727,18.450000762939453,18.629999160766602,767600]
["2013-02-05",18.600000381469727,18.600000381469727,18.309999465942383,18.469999313354492,392500]
["2013-02-04",18.200000762939453,18.709999084472656,18.110000610351559,18.370000839233398,491600]
["2013-02-01",18.5,18.799999237060547,18.200000762939453,18.389999389648441,689400]
["2013-01-31",18.290000915527344,18.610000610351559,17.959999084472656,18.239999771118164,570600]
["2013-01-30",18.559999465942383,18.790000915527344,18.290000915527344,18.360000610351559,1145800]
["2013-01-29",17.420000076293945,18.350000381469727,17.389999389648438,18.309999465942383,1129900]
["2013-01-28",17.260000228881836,17.399999618530273,16.889999389648438,17.139999389648438,1195800]
["2013-01-25",18,18.149999618530273,17.290000915527344,17.409999847412109,1356700]
["2013-01-24",18.649999618530273,18.799999237060547,18.120000839233398,18.159999847412109,974600]
["2013-01-23",19.149999618530273,19.409999847412109,18.850000381469727,18.850000381469727,765600]
["2013-01-22",18.889999389648441,19.299999237060547,18.760000228881836,19.229999542236328,757700]
["2013-01-18",19.469999313354492,19.5,19.059999465942383,19.149999618530273,514600]
["2013-01-17",19.190000534057617,19.610000610351559,19.020000457763672,19.420000076293945,745300]
["2013-01-16",19.559999465942383,19.719999313354492,19.290000915527344,19.329999923706055,889300]
["2013-01-15",19.799999237060547,20.069999694824219,19.590000152587891,19.670000076293945,1203800]
["2013-01-14",20.209999084472656,20.229999542236328,19.600000381469727,19.659999847412109,543700]
["2013-01-11",20.319999694824219,20.370000839233398,19.959999084472656,20,426700]
["2013-01-10",20.260000228881836,20.469999313354492,20.110000610351559,20.290000915527344,825400]
["2013-01-09",20.120000839233398,20.350000381469727,19.930000305175781,20.049999237060547,715100]
["2013-01-08",20.329999923706055,20.459999084472656,19.950000762939453,19.979999542236328,1012800]
["2013-01-07",20.370000839233398,20.569999694824219,20.030000686645508,20.229999542236328,576400]
["2013-01-04",19.979999542236328,20.540000915527344,19.860000610351559,20.479999542236328,570200]
["2013-01-03",21.100000381469727,21.100000381469727,20.129999160766602,20.180000305175781,818900]
["2013-01-02",20.639999389648441,21.190000534057617,20.639999389648441,21.159999847412109,731000]
["2012-12-31",19.600000381469727,20.340000152587891,19.110000610351559,20.190000534057617,1222300]
["2012-12-28",20.100000381469727,20.180000305175781,19.530000686645508,19.579999923706055,913100]
["2012-12-27",20.239999771118164,20.420000076293945,20,20.110000610351559,943200]
["2012-12-26",20.409999847412109,20.530000686645508,20.129999160766602,20.309999465942383,310100]
["2012-12-24",20.319999694824219,20.379999160766602,20.049999237060547,20.319999694824219,332600]
["2012-12-21",20.229999542236328,20.489999771118164,19.989999771118164,20.319999694824219,2191700]
["2012-12-20",20.290000915527344,20.659999847412109,19.799999237060547,20.510000228881836,1283700]
["2012-12-19",20.100000381469727,20.920000076293945,20.100000381469727,20.620000839233398,1072100]
["2012-12-18",20.479999542236328,21.010000228881836,20.190000534057617,20.379999160766602,1439300]
["2012-12-17",22.239999771118164,22.239999771118164,20.559999465942383,20.590000152587891,2336400]
["2012-12-14",22.600000381469727,22.989999771118164,22.510000228881836,22.920000076293945,634900]
["2012-12-13",22.659999847412109,23.040000915527344,22.420000076293945,22.700000762939453,666300]
["2012-12-12",22.540000915527344,23.489999771118164,22.440000534057617,23.329999923706055,960100]
["2012-12-11",22.569999694824219,22.729999542236328,22.309999465942383,22.329999923706055,526700]
["2012-12-10",22.459999084472656,22.790000915527344,22.379999160766602,22.649999618530273,469100]
["2012-12-07",21.790000915527344,22.370000839233398,21.780000686645508,22.260000228881836,520000]
["2012-12-06",21.879999160766602,22.459999084472656,21.760000228881836,21.780000686645508,782500]
["2012-12-05",22.850000381469727,22.870000839233398,21.969999313354492,22.040000915527344,602000]
["2012-12-04",22.010000228881836,22.889999389648441,22.010000228881836,22.809999465942383,781500]
["2012-12-03",23.040000915527344,23.280000686645508,22.569999694824219,22.610000610351559,444300]
["2012-11-30",22.829999923706055,23.350000381469727,22.629999160766602,23,558600]
["2012-11-29",22.829999923706055,23,22.549999237060547,22.950000762939453,546100]
["2012-11-28",21.920000076293945,22.770000457763672,21.690000534057617,22.680000305175781,821700]
["2012-11-27",23.079999923706055,23.079999923706055,22.5,22.559999465942383,679800]
["2012-11-26",23.219999313354492,23.25,22.739999771118164,23.079999923706055,485100]
["2012-11-23",22.870000839233398,23.229999542236328,22.530000686645508,23.149999618530273,356200]
["2012-11-21",22.25,22.809999465942383,21.879999160766602,22.790000915527344,542600]
["2012-11-20",22.5,23.010000228881836,21.969999313354492,22.170000076293945,757600]
["2012-11-19",21.899999618530273,22.489999771118164,21.860000610351559,22.469999313354492,639000]
["2012-11-16",20.510000228881836,21.319999694824219,20.409999847412109,21.190000534057617,712900]
["2012-11-15",21.5,21.620000839233398,20.799999237060547,20.920000076293945,1314600]
["2012-11-14",23.739999771118164,23.799999237060547,21.520000457763672,21.649999618530273,1641800]
["2012-11-13",23.170000076293945,23.889999389648441,22.780000686645508,23.469999313354492,630100]
["2012-11-12",23.700000762939453,23.770000457763672,23.270000457763672,23.319999694824219,397800]
["2012-11-09",23.760000228881836,24.200000762939453,23.600000381469727,23.690000534057617,908700]
["2012-11-08",22.709999084472656,23.860000610351559,22.690000534057617,23.670000076293945,830800]
["2012-11-07",22.879999160766602,23.040000915527344,22.219999313354492,22.889999389648441,796300]
["2012-11-06",22.590000152587891,23,22.149999618530273,22.739999771118164,677500]
["2012-11-05",22.850000381469727,23,22.420000076293945,22.420000076293945,691300]
["2012-11-02",23.340000152587891,23.340000152587891,22.860000610351559,22.889999389648441,773100]
["2012-11-01",23.290000915527344,23.770000457763672,23.219999313354492,23.690000534057617,732300]
["2012-10-31",22.420000076293945,23.270000457763672,22.389999389648441,23.200000762939453,758400]
["2012-10-26",22.700000762939453,22.840000152587891,22.100000381469727,22.290000915527344,528300]
["2012-10-25",22.059999465942383,22.719999313354492,22.049999237060547,22.670000076293945,613600]
["2012-10-24",22.360000610351559,22.399999618530273,21.590000152587891,21.620000839233398,802900]
["2012-10-23",22.649999618530273,22.860000610351559,22.129999160766602,22.190000534057617,879400]
["2012-10-22",22.360000610351559,23.180000305175781,22.299999237060547,23.180000305175781,702800]
["2012-10-19",22.299999237060547,22.530000686645508,21.899999618530273,22.440000534057617,760700]
["2012-10-18",22.899999618530273,23.030000686645508,22.440000534057617,22.489999771118164,555200]
["2012-10-17",22.850000381469727,23.25,22.670000076293945,23.079999923706055,405500]
["2012-10-16",22.649999618530273,22.930000305175781,22.520000457763672,22.840000152587891,563500]
["2012-10-15",22.200000762939453,22.479999542236328,21.950000762939453,22.440000534057617,658400]
["2012-10-12",22.780000686645508,22.979999542236328,22.399999618530273,22.510000228881836,462200]
["2012-10-11",22.989999771118164,23.270000457763672,22.760000228881836,22.770000457763672,580200]
["2012-10-10",22.290000915527344,22.850000381469727,22.040000915527344,22.739999771118164,679200]
["2012-10-09",22.700000762939453,23.079999923706055,22.25,22.440000534057617,746400]
["2012-10-08",22.540000915527344,23.049999237060547,22.530000686645508,22.889999389648441,398500]
["2012-10-05",23.479999542236328,23.700000762939453,23.120000839233398,23.319999694824219,524800]
["2012-10-04",23,23.709999084472656,22.989999771118164,23.680000305175781,746300]
["2012-10-03",22.840000152587891,23,22.450000762939453,22.620000839233398,565000]
["2012-10-02",23.030000686645508,23.170000076293945,22.510000228881836,22.860000610351559,878500]
["2012-10-01",23.420000076293945,23.549999237060547,22.860000610351559,22.940000534057617,1122200]
["2012-09-28",23.129999160766602,23.579999923706055,22.950000762939453,23.170000076293945,794400]
["2012-09-27",22.760000228881836,23.459999084472656,22.610000610351559,23.420000076293945,940400]
["2012-09-26",21.680000305175781,22.399999618530273,21.309999465942383,22.379999160766602,1424500]
["2012-09-25",22.979999542236328,23.120000839233398,22.149999618530273,22.209999084472656,857500]
["2012-09-24",23.200000762939453,23.370000839233398,22.329999923706055,22.680000305175781,1346000]
["2012-09-21",23.819999694824219,23.950000762939453,23.120000839233398,23.729999542236328,4438900]
["2012-09-20",22.930000305175781,23.569999694824219,22.799999237060547,23.5,1286000]
["2012-09-19",23.079999923706055,23.370000839233398,22.829999923706055,23.319999694824219,1063800]
["2012-09-18",22.459999084472656,23.079999923706055,22.350000381469727,23.059999465942383,1127600]
["2012-09-17",22.600000381469727,22.899999618530273,22.100000381469727,22.549999237060547,980100]
["2012-09-14",22.120000839233398,22.979999542236328,22.100000381469727,22.559999465942383,1238500]
["2012-09-13",20.770000457763672,22,20.440000534057617,21.969999313354492,1630600]
["2012-09-12",21.049999237060547,21.139999389648441,20.180000305175781,21.040000915527344,1062900]
["2012-09-11",20.819999694824219,21.079999923706055,20.770000457763672,20.889999389648441,885100]
["2012-09-10",20.870000839233398,20.989999771118164,20.420000076293945,20.459999084472656,637000]
["2012-09-07",20.620000839233398,20.979999542236328,20.549999237060547,20.840000152587891,877800]
["2012-09-06",20.329999923706055,20.440000534057617,19.979999542236328,20.200000762939453,839900]
["2012-09-05",20.180000305175781,20.229999542236328,19.739999771118164,20.170000076293945,805000]
["2012-09-04",20.020000457763672,20.340000152587891,19.729999542236328,20.280000686645508,1115500]
["2012-08-31",18.729999542236328,19.729999542236328,18.459999084472656,19.729999542236328,1108200]
["2012-08-30",18.739999771118164,18.850000381469727,18.209999084472656,18.479999542236328,560900]
["2012-08-29",19.079999923706055,19.149999618530273,18.590000152587891,18.690000534057617,516600]
["2012-08-28",19.200000762939453,19.399999618530273,19.020000457763672,19.079999923706055,492600]
["2012-08-27",19.399999618530273,19.549999237060547,19.120000839233398,19.190000534057617,627800]
["2012-08-24",19.040000915527344,19.700000762939453,19,19.329999923706055,822800]
["2012-08-23",19.579999923706055,19.700000762939453,18.840000152587891,18.860000610351559,1426100]
["2012-08-22",18.700000762939453,19.159999847412109,18.370000839233398,19.159999847412109,874900]
["2012-08-21",18.440000534057617,19.229999542236328,18.420000076293945,18.600000381469727,1333400]
["2012-08-20",17.629999160766602,18.069999694824219,17.440000534057617,18.040000915527344,791700]
["2012-08-17",17.700000762939453,17.700000762939453,17.209999084472656,17.489999771118164,454400]
["2012-08-16",17.020000457763672,17.540000915527344,16.909999847412109,17.520000457763672,531500]
["2012-08-15",16.579999923706055,17.059999465942383,16.540000915527344,17,399900]
["2012-08-14",16.870000839233398,17.110000610351563,16.649999618530273,16.649999618530273,618800]
["2012-08-13",17.299999237060547,17.469999313354492,16.930000305175781,16.950000762939453,467300]
["2012-08-10",17.260000228881836,17.399999618530273,17.110000610351563,17.25,268200]
["2012-08-09",17.25,17.420000076293945,17.180000305175781,17.350000381469727,330200]
["2012-08-08",17.219999313354492,17.430000305175781,17.190000534057617,17.25,473600]
["2012-08-07",17.350000381469727,17.409999847412109,17.129999160766602,17.219999313354492,522500]
["2012-08-06",16.629999160766602,17.5,16.629999160766602,17.329999923706055,1132200]
["2012-08-03",16.319999694824219,16.440000534057617,16.069999694824219,16.159999847412109,660700]
["2012-08-02",15.960000038146973,16.280000686645508,15.819999694824221,16.020000457763672,708800]
["2012-08-01",16.069999694824219,16.25,15.590000152587891,15.970000267028809,582300]
["2012-07-31",17,17,16.170000076293945,16.170000076293945,541500]
["2012-07-30",16.860000610351563,17.030000686645508,16.510000228881836,16.920000076293945,440000]
["2012-07-27",17,17.030000686645508,16.659999847412109,16.840000152587891,515000]
["2012-07-26",16.600000381469727,16.950000762939453,16.360000610351563,16.840000152587891,815700]
["2012-07-25",15.729999542236328,16.549999237060547,15.640000343322754,16.399999618530273,926500]
["2012-07-24",15.170000076293944,15.460000038146973,15.029999732971191,15.449999809265137,489900]
["2012-07-23",14.899999618530272,15.140000343322754,14.850000381469728,15.029999732971191,383000]
["2012-07-20",15.289999961853027,15.579999923706056,15.210000038146973,15.329999923706056,548400]
["2012-07-19",14.729999542236328,15.460000038146973,14.710000038146973,15.460000038146973,750100]
["2012-07-18",14.229999542236328,14.850000381469728,14.229999542236328,14.550000190734863,329700]
["2012-07-17",14.359999656677246,14.619999885559082,14.119999885559082,14.560000419616699,317800]
["2012-07-16",14.380000114440918,14.590000152587891,14.210000038146973,14.319999694824221,286000]
["2012-07-13",14.600000381469728,14.699999809265137,14.350000381469728,14.380000114440918,330100]
["2012-07-12",13.949999809265137,14.529999732971191,13.689999580383301,14.420000076293944,515000]
["2012-07-11",14.350000381469728,14.489999771118164,14.079999923706056,14.300000190734863,389000]
["2012-07-10",15.140000343322754,15.289999961853027,14.149999618530272,14.270000457763672,618500]
["2012-07-09",14.930000305175779,15.109999656677246,14.75,15.050000190734863,691400]
["2012-07-06",15.399999618530272,15.510000228881836,14.930000305175779,15.010000228881836,629500]
["2012-07-05",15.520000457763672,15.930000305175779,15.390000343322754,15.710000038146973,888900]
["2012-07-03",15,15.520000457763672,14.909999847412109,15.5,518800]
["2012-07-02",14.390000343322754,14.800000190734863,14.390000343322754,14.619999885559082,381400]
["2012-06-29",14.569999694824221,14.619999885559082,14.25,14.449999809265137,539800]
["2012-06-28",14.020000457763672,14.279999732971191,13.680000305175779,13.840000152587891,532600]
["2012-06-27",14.130000114440918,14.449999809265137,13.880000114440918,14.390000343322754,644900]
["2012-06-26",14.510000228881836,14.680000305175779,14.079999923706056,14.100000381469728,462200]
["2012-06-25",14.550000190734863,14.659999847412109,14.25,14.550000190734863,488800]
["2012-06-22",14.689999580383301,14.869999885559082,14.359999656677246,14.659999847412109,600800]
["2012-06-21",15.710000038146973,15.720000267028809,14.720000267028809,14.720000267028809,971300]
["2012-06-20",16.190000534057617,16.329999923706055,15.640000343322754,15.840000152587891,711600]
["2012-06-19",15.939999580383301,16.450000762939453,15.699999809265137,16.290000915527344,586800]
["2012-06-18",15.590000152587891,16.139999389648438,15.390000343322754,15.909999847412109,659400]
["2012-06-15",15.850000381469728,16.010000228881836,15.460000038146973,15.739999771118164,2356500]
["2012-06-14",16.139999389648438,16.299999237060547,15.520000457763672,15.789999961853027,983300]
["2012-06-13",16.090000152587891,16.379999160766602,15.819999694824221,15.979999542236328,993300]
["2012-06-12",15.369999885559082,16.069999694824219,15.319999694824221,16.059999465942383,865900]
["2012-06-11",15.699999809265137,15.789999961853027,15.119999885559082,15.25,576400]
["2012-06-08",15.090000152587891,15.649999618530272,14.829999923706056,15.600000381469728,549700]
["2012-06-07",15.909999847412109,16,15.149999618530272,15.380000114440918,641400]
["2012-06-06",15.479999542236328,15.949999809265137,15.430000305175779,15.770000457763672,1321800]
["2012-06-05",14.720000267028809,15.140000343322754,14.640000343322754,15.100000381469728,787200]
["2012-06-04",14.729999542236328,14.829999923706056,14.199999809265137,14.720000267028809,698100]
["2012-06-01",13.949999809265137,14.779999732971191,13.880000114440918,14.729999542236328,849400]
["2012-05-31",14.229999542236328,14.340000152587891,13.659999847412109,13.800000190734863,522000]
["2012-05-30",14.100000381469728,14.439999580383301,13.640000343322754,14.239999771118164,725700]
["2012-05-29",14.630000114440918,14.779999732971191,14.289999961853027,14.439999580383301,489100]
["2012-05-25",14.409999847412109,14.649999618530272,14.220000267028809,14.449999809265137,414200]
["2012-05-24",14.649999618530272,14.800000190734863,14.029999732971191,14.380000114440918,760100]
["2012-05-23",13.369999885559082,14.369999885559082,13.050000190734863,14.300000190734863,1000000]
["2012-05-22",13.949999809265137,14.25,13.600000381469728,13.75,780800]
["2012-05-21",13.289999961853027,13.939999580383301,13.25,13.890000343322754,512500]
["2012-05-18",13.210000038146973,13.600000381469728,12.949999809265137,13.220000267028809,1121600]
["2012-05-17",12.75,13.079999923706056,12.529999732971191,12.819999694824221,992900]
["2012-05-16",12.5,13.050000190734863,12.119999885559082,12.399999618530272,1202000]
["2012-05-15",14.020000457763672,14.109999656677246,12.350000381469728,12.5,1861100]
["2012-05-14",14.359999656677246,14.75,14.020000457763672,14.020000457763672,569200]
["2012-05-11",14.539999961853027,15.039999961853027,14.479999542236328,14.729999542236328,479300]
["2012-05-10",14.909999847412109,15.199999809265137,14.680000305175779,14.760000228881836,661100]
["2012-05-09",14.279999732971191,15,14.060000419616699,14.670000076293944,1150400]
["2012-05-08",14.310000419616699,14.689999580383301,14.270000457763672,14.680000305175779,836600]
["2012-05-07",15.359999656677246,15.5,14.680000305175779,14.729999542236328,746000]
["2012-05-04",15.039999961853027,15.439999580383301,14.819999694824221,15.380000114440918,917400]
["2012-05-03",15.539999961853027,15.550000190734863,14.729999542236328,15.050000190734863,689100]
["2012-05-02",15.850000381469728,15.850000381469728,15.390000343322754,15.649999618530272,454700]
["2012-05-01",15.840000152587891,16.170000076293945,15.810000419616699,16.049999237060547,512800]
["2012-04-30",15.289999961853027,15.909999847412109,15.220000267028809,15.770000457763672,686500]
["2012-04-27",15.850000381469728,15.890000343322754,15.350000381469728,15.539999961853027,437800]
["2012-04-26",15.390000343322754,15.699999809265137,15.300000190734863,15.659999847412109,461500]
["2012-04-25",14.869999885559082,15.340000152587891,14.569999694824221,15.289999961853027,757900]
["2012-04-24",15.020000457763672,15.060000419616699,14.670000076293944,14.710000038146973,414800]
["2012-04-23",15.140000343322754,15.159999847412109,14.680000305175779,14.840000152587891,765500]
["2012-04-20",15.909999847412109,16.020000457763672,15.470000267028809,15.510000228881836,403000]
["2012-04-19",15.659999847412109,15.930000305175779,15.550000190734863,15.829999923706056,507700]
["2012-04-18",15.670000076293944,15.930000305175779,15.449999809265137,15.550000190734863,442200]
["2012-04-17",15.649999618530272,16.100000381469727,15.5,15.819999694824221,403600]
["2012-04-16",15.710000038146973,15.859999656677246,15.199999809265137,15.409999847412109,745000]
["2012-04-13",16.110000610351563,16.170000076293945,15.680000305175779,15.710000038146973,553900]
["2012-04-12",15.409999847412109,16.340000152587891,15.369999885559082,16.309999465942383,738500]
["2012-04-11",15.600000381469728,15.760000228881836,15.289999961853027,15.319999694824221,462200]
["2012-04-10",15.529999732971191,15.689999580383301,15.069999694824221,15.479999542236328,691500]
["2012-04-09",15.729999542236328,15.970000267028809,15.5,15.539999961853027,523000]
["2012-04-05",15.939999580383301,16.129999160766602,15.680000305175779,15.720000267028809,476800]
["2012-04-04",15.930000305175779,16.200000762939453,15.579999923706056,15.859999656677246,966100]
["2012-04-03",17.049999237060547,17.090000152587891,16.280000686645508,16.569999694824219,782500]
["2012-04-02",16.590000152587891,17.299999237060547,16.569999694824219,17.030000686645508,735600]
["2012-03-30",16.530000686645508,16.639999389648438,16.139999389648438,16.579999923706055,541000]
["2012-03-29",15.880000114440918,16.360000610351563,15.760000228881836,16.309999465942383,616300]
["2012-03-28",16.530000686645508,16.649999618530273,15.800000190734863,15.989999771118164,815100]
["2012-03-27",17.159999847412109,17.370000839233398,16.670000076293945,16.690000534057617,670000]
["2012-03-26",17.340000152587891,17.379999160766602,17.030000686645508,17.079999923706055,539600]
["2012-03-23",16.329999923706055,16.909999847412109,16.129999160766602,16.879999160766602,1530900]
["2012-03-22",16.370000839233398,16.569999694824219,16,16.159999847412109,758400]
["2012-03-21",17,17.149999618530273,16.569999694824219,16.690000534057617,692000]
["2012-03-20",16.450000762939453,16.940000534057617,16.170000076293945,16.860000610351563,812300]
["2012-03-19",16.959999084472656,17.219999313354492,16.709999084472656,16.729999542236328,771200]
["2012-03-16",17.299999237060547,17.399999618530273,16.829999923706055,16.930000305175781,2388800]
["2012-03-15",17.260000228881836,17.590000152587891,17.110000610351563,17.239999771118164,845400]
["2012-03-14",18.180000305175781,18.180000305175781,17.030000686645508,17.069999694824219,1451600]
["2012-03-13",18.680000305175781,18.870000839233398,18.309999465942383,18.389999389648441,706500]
["2012-03-12",19,19.129999160766602,18.459999084472656,18.5,500400]
["2012-03-09",18.620000839233398,19.389999389648441,18.450000762939453,19.149999618530273,666800]
["2012-03-08",18.649999618530273,18.899999618530273,18.360000610351559,18.729999542236328,563600]
["2012-03-07",18.340000152587891,18.590000152587891,17.940000534057617,18.319999694824219,717200]
["2012-03-06",18.659999847412109,18.659999847412109,17.909999847412109,18.200000762939453,1248500]
["2012-03-05",20,20.120000839233398,19.260000228881836,19.379999160766602,933200]
["2012-03-02",20.549999237060547,20.610000610351559,20.139999389648441,20.280000686645508,551300]
["2012-03-01",20.590000152587891,21.059999465942383,20.450000762939453,20.809999465942383,806800]
["2012-02-29",21.799999237060547,22.200000762939453,20.229999542236328,20.459999084472656,1805800]
["2012-02-28",20.610000610351559,21.780000686645508,20.530000686645508,21.770000457763672,1252900]
["2012-02-27",20.479999542236328,20.770000457763672,20.120000839233398,20.340000152587891,388300]
["2012-02-24",20.770000457763672,20.889999389648441,20.329999923706055,20.579999923706055,477100]
["2012-02-23",20.559999465942383,20.950000762939453,20.430000305175781,20.75,761500]
["2012-02-22",19.719999313354492,20.440000534057617,19.719999313354492,20.430000305175781,682300]
["2012-02-21",19.809999465942383,20.139999389648441,19.719999313354492,19.860000610351559,485800]
["2012-02-17",19.989999771118164,20.069999694824219,19.450000762939453,19.510000228881836,360900]
["2012-02-16",19,19.979999542236328,18.920000076293945,19.889999389648441,603700]
["2012-02-15",19.469999313354492,19.600000381469727,19.159999847412109,19.260000228881836,677200]
["2012-02-14",19.129999160766602,19.420000076293945,18.760000228881836,19.090000152587891,412500]
["2012-02-13",19.329999923706055,19.469999313354492,19.010000228881836,19.260000228881836,335500]
["2012-02-10",18.959999084472656,19.299999237060547,18.75,19.120000839233398,506400]
["2012-02-09",20.030000686645508,20.180000305175781,19.319999694824219,19.329999923706055,587600]
["2012-02-08",20.149999618530273,20.309999465942383,19.579999923706055,19.670000076293945,515900]
["2012-02-07",19.870000839233398,20.469999313354492,19.670000076293945,20.120000839233398,486100]
["2012-02-06",19.719999313354492,20.110000610351559,19.620000839233398,19.909999847412109,514000]
["2012-02-03",20.120000839233398,20.299999237060547,19.760000228881836,20.040000915527344,691800]
["2012-02-02",20.790000915527344,20.959999084472656,20.299999237060547,20.459999084472656,549300]
["2012-02-01",21.040000915527344,21.170000076293945,20.540000915527344,20.670000076293945,619100]
["2012-01-31",20.799999237060547,21.200000762939453,20.370000839233398,20.670000076293945,1122300]
["2012-01-30",19.770000457763672,20.420000076293945,19.770000457763672,20.260000228881836,912700]
["2012-01-27",19.430000305175781,20.510000228881836,19.389999389648441,20.430000305175781,976400]
["2012-01-26",19.469999313354492,20.030000686645508,19.280000686645508,19.479999542236328,1209200]
["2012-01-25",17.459999084472656,19.25,17.159999847412109,19.100000381469727,1382700]
["2012-01-24",17.899999618530273,18.090000152587891,17.579999923706055,17.610000610351563,571500]
["2012-01-23",17.899999618530273,18.340000152587891,17.770000457763672,18.059999465942383,717500]
["2012-01-20",17.299999237060547,17.809999465942383,17.190000534057617,17.690000534057617,832900]
["2012-01-19",17.729999542236328,17.850000381469727,17.120000839233398,17.379999160766602,798400]
["2012-01-18",17.639999389648438,17.840000152587891,17.510000228881836,17.760000228881836,535000]
["2012-01-17",18.25,18.459999084472656,17.530000686645508,17.700000762939453,607200]
["2012-01-13",18.219999313354492,18.270000457763672,17.610000610351563,17.930000305175781,829500]
["2012-01-12",18.979999542236328,18.979999542236328,18.559999465942383,18.659999847412109,527300]
["2012-01-11",18.340000152587891,18.770000457763672,18.229999542236328,18.659999847412109,538100]
["2012-01-10",18.979999542236328,19,18.389999389648441,18.450000762939453,716700]
["2012-01-09",18.229999542236328,18.450000762939453,17.879999160766602,18.290000915527344,677400]
["2012-01-06",18.129999160766602,18.370000839233398,17.920000076293945,18.280000686645508,934000]
["2012-01-05",17.399999618530273,18.239999771118164,17.239999771118164,18.079999923706055,812400]
["2012-01-04",17.450000762939453,17.979999542236328,17.409999847412109,17.729999542236328,577900]
["2012-01-03",17.469999313354492,17.799999237060547,17.399999618530273,17.639999389648438,720800]
["2011-12-30",16.899999618530273,16.959999084472656,16.569999694824219,16.840000152587891,678100]
["2011-12-29",16.059999465942383,16.950000762939453,15.869999885559082,16.75,781600]
["2011-12-28",17.120000839233398,17.139999389648438,16.219999313354492,16.340000152587891,711600]
["2011-12-27",17.399999618530273,17.459999084472656,16.930000305175781,17.139999389648438,403900]
["2011-12-23",17.629999160766602,17.780000686645508,17.260000228881836,17.540000915527344,462500]
["2011-12-22",16.969999313354492,17.549999237060547,16.969999313354492,17.459999084472656,1012800]
["2011-12-21",16.989999771118164,17.559999465942383,16.860000610351563,17.530000686645508,986300]
["2011-12-20",16.969999313354492,17.440000534057617,16.829999923706055,17.299999237060547,1073500]
["2011-12-19",16.569999694824219,16.909999847412109,16.299999237060547,16.659999847412109,1600700]
["2011-12-16",16.309999465942383,17.090000152587891,16.200000762939453,17.090000152587891,7863100]
["2011-12-15",15.470000267028809,16.389999389648438,15.319999694824221,16.049999237060547,4405500]
["2011-12-14",14.729999542236328,14.970000267028809,14.159999847412109,14.630000114440918,1522800]
["2011-12-13",16.290000915527344,16.579999923706055,15.300000190734863,15.449999809265137,815100]
["2011-12-12",15.909999847412109,16.309999465942383,15.810000419616699,16.299999237060547,808300]
["2011-12-09",16.600000381469727,16.840000152587891,16.100000381469727,16.809999465942383,1163000]
["2011-12-08",16.309999465942383,16.520000457763672,15.569999694824221,15.729999542236328,968100]
["2011-12-07",16.799999237060547,16.899999618530273,16.25,16.559999465942383,546300]
["2011-12-06",16.489999771118164,17.010000228881836,16.139999389648438,16.799999237060547,790000]
["2011-12-05",16.690000534057617,17.149999618530273,16.530000686645508,16.75,748200]
["2011-12-02",17.209999084472656,17.209999084472656,16.420000076293945,16.659999847412109,942700]
["2011-12-01",16.469999313354492,16.979999542236328,16.299999237060547,16.729999542236328,852500]
["2011-11-30",15.560000419616699,16.290000915527344,15.529999732971191,16.280000686645508,892400]
["2011-11-29",14.739999771118164,15.239999771118164,14.710000038146973,14.869999885559082,528600]
["2011-11-28",15.189999580383301,15.199999809265137,14.699999809265137,14.840000152587891,617800]
["2011-11-25",14.069999694824221,14.430000305175779,13.880000114440918,14.090000152587891,387200]
["2011-11-23",14.739999771118164,14.779999732971191,14.170000076293944,14.229999542236328,891000]
["2011-11-22",14.699999809265137,15.279999732971191,14.560000419616699,15.159999847412109,824300]
["2011-11-21",14.720000267028809,14.729999542236328,14.010000228881836,14.550000190734863,1163000]
["2011-11-18",15.520000457763672,15.659999847412109,14.939999580383301,15.149999618530272,1034000]
["2011-11-17",16.040000915527344,16.170000076293945,15.140000343322754,15.25,1337800]
["2011-11-16",16.239999771118164,16.760000228881836,16.149999618530273,16.360000610351563,739100]
["2011-11-15",16.75,16.979999542236328,16.340000152587891,16.420000076293945,982500]
["2011-11-14",17.170000076293945,17.170000076293945,16.620000839233398,16.75,551300]
["2011-11-11",17.280000686645508,17.540000915527344,17.129999160766602,17.270000457763672,708300]
["2011-11-10",17.049999237060547,17.489999771118164,16.389999389648438,16.950000762939453,928900]
["2011-11-09",17.719999313354492,18.180000305175781,16.889999389648438,17.040000915527344,1241000]
["2011-11-08",18.520000457763672,18.979999542236328,18.110000610351559,18.239999771118164,977700]
["2011-11-07",18.120000839233398,18.489999771118164,17.870000839233398,18.459999084472656,866000]
["2011-11-04",18.149999618530273,18.280000686645508,17.420000076293945,17.809999465942383,752600]
["2011-11-03",18.069999694824219,18.340000152587891,17.350000381469727,18.270000457763672,966500]
["2011-11-02",17.280000686645508,17.629999160766602,17.049999237060547,17.540000915527344,855300]
["2011-11-01",16,17.159999847412109,15.420000076293944,16.799999237060547,1472100]
["2011-10-31",17.780000686645508,17.780000686645508,17.010000228881836,17.010000228881836,856300]
["2011-10-28",18.010000228881836,18.629999160766602,17.899999618530273,18.149999618530273,838800]
["2011-10-27",18,18.520000457763672,17.680000305175781,18.209999084472656,1281600]
["2011-10-26",17.620000839233398,17.950000762939453,16.819999694824219,17.469999313354492,1279400]
["2011-10-25",16.430000305175781,17.389999389648438,15.680000305175779,17.049999237060547,1227100]
["2011-10-24",15.550000190734863,16.5,15.520000457763672,16.430000305175781,878200]
["2011-10-21",15.770000457763672,15.840000152587891,15.180000305175779,15.340000152587891,669700]
["2011-10-20",15.220000267028809,15.739999771118164,14.680000305175779,15.189999580383301,1453400]
["2011-10-19",16.350000381469727,16.450000762939453,15.350000381469728,15.479999542236328,999400]
["2011-10-18",15.680000305175779,16.75,15.119999885559082,16.629999160766602,1013400]
["2011-10-17",16.819999694824219,16.860000610351563,16,16.110000610351563,857600]
["2011-10-14",17.180000305175781,17.239999771118164,16.620000839233398,16.879999160766602,905700]
["2011-10-13",16.840000152587891,16.850000381469727,16.069999694824219,16.549999237060547,1073400]
["2011-10-12",17.610000610351563,17.670000076293945,17,17.069999694824219,1232100]
["2011-10-11",16.510000228881836,17.079999923706055,16.170000076293945,16.979999542236328,945800]
["2011-10-10",16.680000305175781,16.760000228881836,16.340000152587891,16.729999542236328,741400]
["2011-10-07",17.069999694824219,17.319999694824219,15.670000076293944,15.949999809265137,1525000]
["2011-10-06",15.630000114440918,16.860000610351563,15.619999885559082,16.729999542236328,1880800]
["2011-10-05",14.140000343322754,15.710000038146973,13.909999847412109,15.630000114440918,1287400]
["2011-10-04",14.479999542236328,14.5,13.350000381469728,14.170000076293944,1900000]
["2011-10-03",15.689999580383301,15.850000381469728,14.850000381469728,14.899999618530272,1435400]
["2011-09-30",15.220000267028809,16.010000228881836,15.020000457763672,15.210000038146973,1252400]
["2011-09-29",16.5,16.739999771118164,15.25,15.659999847412109,1806000]
["2011-09-28",17.270000457763672,17.559999465942383,15.760000228881836,15.899999618530272,2139600]
["2011-09-27",18.209999084472656,18.299999237060547,17.139999389648438,17.239999771118164,1532500]
["2011-09-26",16.190000534057617,17.049999237060547,16.190000534057617,16.879999160766602,2652900]
["2011-09-23",16.889999389648438,17.959999084472656,16.739999771118164,16.930000305175781,1669600]
["2011-09-22",18.879999160766602,18.879999160766602,17.579999923706055,18.260000228881836,2322400]
["2011-09-21",20.780000686645508,21.420000076293945,20.010000228881836,20.110000610351559,1593600]
["2011-09-20",20.299999237060547,21.440000534057617,20.170000076293945,20.690000534057617,1617900]
["2011-09-19",20.520000457763672,20.579999923706055,19.840000152587891,20.329999923706055,1484500]
["2011-09-16",20.299999237060547,21.110000610351559,20.25,20.389999389648441,2227300]
["2011-09-15",20.219999313354492,20.420000076293945,19.600000381469727,20.049999237060547,1805800]
["2011-09-14",20.870000839233398,21,19.569999694824219,20.520000457763672,2092600]
["2011-09-13",21.459999084472656,21.75,20.950000762939453,21.049999237060547,1042100]
["2011-09-12",21.399999618530273,21.659999847412109,19.739999771118164,20.889999389648441,2833600]
["2011-09-09",23.370000839233398,23.520000457763672,22.430000305175781,22.659999847412109,1046600]
["2011-09-08",24.139999389648441,24.239999771118164,23.399999618530273,23.709999084472656,1166600]
["2011-09-07",22.729999542236328,23.700000762939453,22.600000381469727,23.700000762939453,1078100]
["2011-09-06",24.159999847412109,24.479999542236328,22.690000534057617,23.319999694824219,1701300]
["2011-09-02",24.450000762939453,25,24.090000152587891,24.379999160766602,1523400]
["2011-09-01",24.010000228881836,24.5,23.719999313354492,23.930000305175781,993700]
["2011-08-31",24.370000839233398,24.549999237060547,23.579999923706055,24.010000228881836,1355800]
["2011-08-30",23.200000762939453,24.409999847412109,23.170000076293945,24.190000534057617,1588900]
["2011-08-29",22.590000152587891,23.190000534057617,22,22.850000381469727,1491500]
["2011-08-26",21.930000305175781,22.610000610351559,21.170000076293945,22.569999694824219,1052300]
["2011-08-25",20.909999847412109,22.600000381469727,20.870000839233398,21.770000457763672,1356600]
["2011-08-24",22.010000228881836,22.049999237060547,20.360000610351559,21.030000686645508,1349600]
["2011-08-23",22.090000152587891,22.799999237060547,21.850000381469727,22.209999084472656,1643900]
["2011-08-22",21.75,22.729999542236328,21.600000381469727,22.469999313354492,1703100]
["2011-08-19",21.280000686645508,21.840000152587891,20.979999542236328,21.110000610351559,1568400]
["2011-08-18",20.75,21.209999084472656,19.659999847412109,20.670000076293945,1375700]
["2011-08-17",21.350000381469727,21.639999389648441,20.590000152587891,20.959999084472656,747200]
["2011-08-16",21.389999389648441,21.889999389648441,20.610000610351559,20.760000228881836,1460400]
["2011-08-15",20.670000076293945,21.780000686645508,20.340000152587891,21.75,1059500]
["2011-08-12",20.620000839233398,20.809999465942383,20,20.329999923706055,1233800]
["2011-08-11",21.129999160766602,21.25,19.940000534057617,20.719999313354492,2268900]
["2011-08-10",19.940000534057617,21.989999771118164,19.260000228881836,21.309999465942383,2272000]
["2011-08-09",18.569999694824219,19.629999160766602,18.25,19.629999160766602,2339400]
["2011-08-08",20.629999160766602,20.670000076293945,18.760000228881836,19.079999923706055,1835000]
["2011-08-05",20.559999465942383,21.290000915527344,19.030000686645508,20.389999389648441,2470500]
["2011-08-04",24.469999313354492,24.510000228881836,21.030000686645508,21.239999771118164,2586600]
["2011-08-03",24.340000152587891,24.899999618530273,23.829999923706055,24.280000686645508,1935000]
["2011-08-02",23.280000686645508,24.110000610351559,22.799999237060547,23.860000610351559,1533700]
["2011-08-01",22.159999847412109,23.100000381469727,22.049999237060547,22.5,966400]
["2011-07-29",22.530000686645508,22.659999847412109,21.790000915527344,22.370000839233398,901200]
["2011-07-28",22.209999084472656,22.760000228881836,21.889999389648441,22.5,1528800]
["2011-07-27",24.530000686645508,24.680000305175781,22.290000915527344,22.649999618530273,2390500]
["2011-07-26",23.930000305175781,24.530000686645508,23.829999923706055,24.290000915527344,1276200]
["2011-07-25",25.370000839233398,25.559999465942383,24.649999618530273,24.690000534057617,1694800]
["2011-07-22",25.020000457763672,25.270000457763672,24.799999237060547,24.940000534057617,1189500]
["2011-07-21",24.729999542236328,25.430000305175781,24.100000381469727,24.569999694824219,2232200]
["2011-07-20",22.940000534057617,24.760000228881836,22.780000686645508,24.75,2357700]
["2011-07-19",24.620000839233398,25.079999923706055,23.200000762939453,23.680000305175781,3503800]
["2011-07-18",23.389999389648441,24.469999313354492,23.159999847412109,24.469999313354492,3243100]
["2011-07-15",22.100000381469727,22.690000534057617,22,22.569999694824219,1099500]
["2011-07-14",22.770000457763672,23.090000152587891,22.010000228881836,22.170000076293945,2516200]
["2011-07-13",21.280000686645508,22.329999923706055,21.110000610351559,21.920000076293945,2513000]
["2011-07-12",19.379999160766602,20.790000915527344,19,20.340000152587891,1539100]
["2011-07-11",20.799999237060547,20.959999084472656,19.719999313354492,19.860000610351559,1431600]
["2011-07-08",20.649999618530273,20.819999694824219,20.280000686645508,20.790000915527344,1399700]
["2011-07-07",20.809999465942383,20.860000610351559,20.340000152587891,20.620000839233398,1407300]
["2011-07-06",20.149999618530273,20.329999923706055,19.770000457763672,20.329999923706055,1632300]
["2011-07-05",18.920000076293945,19.829999923706055,18.819999694824219,19.690000534057617,1755500]
["2011-07-01",18.200000762939453,18.200000762939453,17.75,18.100000381469727,460800]
["2011-06-30",18.600000381469727,18.719999313354492,18.280000686645508,18.440000534057617,867000]
["2011-06-29",18.260000228881836,18.549999237060547,17.879999160766602,18.309999465942383,873400]
["2011-06-28",17.569999694824219,18.020000457763672,17.350000381469727,17.790000915527344,784200]
["2011-06-27",17.270000457763672,17.729999542236328,17.079999923706055,17.319999694824219,996300]
["2011-06-24",18.309999465942383,18.399999618530273,17.709999084472656,17.819999694824219,865300]
["2011-06-23",17.399999618530273,18.469999313354492,17.049999237060547,18.389999389648441,1257000]
["2011-06-22",18.540000915527344,19.049999237060547,18.200000762939453,18.25,1326100]
["2011-06-21",16.879999160766602,18.5,16.879999160766602,18.459999084472656,1964700]
["2011-06-20",16.649999618530273,16.930000305175781,16.479999542236328,16.659999847412109,803400]
["2011-06-17",16.329999923706055,16.940000534057617,16.290000915527344,16.75,1096300]
["2011-06-16",16.729999542236328,16.989999771118164,16.040000915527344,16.379999160766602,1067700]
["2011-06-15",17.010000228881836,17.610000610351563,16.610000610351563,16.840000152587891,1182200]
["2011-06-14",16.629999160766602,17.600000381469727,16.549999237060547,17.340000152587891,1136400]
["2011-06-13",17.770000457763672,17.870000839233398,16.209999084472656,16.469999313354492,2053700]
["2011-06-10",18.329999923706055,18.329999923706055,17.620000839233398,17.930000305175781,1082500]
["2011-06-09",17.889999389648438,18.790000915527344,17.680000305175781,18.690000534057617,978100]
["2011-06-08",18.079999923706055,18.379999160766602,17.440000534057617,17.559999465942383,1360100]
["2011-06-07",18.889999389648441,19.120000839233398,18.299999237060547,18.620000839233398,864700]
["2011-06-06",19.620000839233398,19.899999618530273,18.459999084472656,18.659999847412109,1258600]
["2011-06-03",19.219999313354492,19.680000305175781,19,19.430000305175781,1092800]
["2011-06-02",20.049999237060547,20.479999542236328,19.280000686645508,19.610000610351559,1303100]
["2011-06-01",20.709999084472656,21.120000839233398,20.059999465942383,20.25,1704800]
["2011-05-31",21.200000762939453,21.260000228881836,20.659999847412109,21.139999389648441,1139700]
["2011-05-27",20.200000762939453,20.620000839233398,20.190000534057617,20.479999542236328,1038000]
["2011-05-26",19.620000839233398,19.899999618530273,19.129999160766602,19.850000381469727,1813300]
["2011-05-25",19.680000305175781,20.180000305175781,19.399999618530273,19.870000839233398,2379500]
["2011-05-24",18.420000076293945,19.409999847412109,18.260000228881836,19.280000686645508,2270000]
["2011-05-23",17.819999694824219,18.180000305175781,17.579999923706055,17.760000228881836,773400]
["2011-05-20",17.299999237060547,18.040000915527344,16.940000534057617,17.979999542236328,1387400]
["2011-05-19",17.850000381469727,17.879999160766602,17.149999618530273,17.389999389648438,1255000]
["2011-05-18",17.420000076293945,17.950000762939453,17.129999160766602,17.729999542236328,1562900]
["2011-05-17",16.989999771118164,17.290000915527344,16.110000610351563,16.959999084472656,2647400]
["2011-05-16",17.989999771118164,18.590000152587891,17.049999237060547,17.219999313354492,2257500]
["2011-05-13",18.989999771118164,19.190000534057617,17.579999923706055,18,1955000]
["2011-05-12",17.260000228881836,19.069999694824219,17.110000610351563,18.700000762939453,2779800]
["2011-05-11",19.180000305175781,19.329999923706055,17.799999237060547,18.100000381469727,2499500]
["2011-05-10",20.030000686645508,20.209999084472656,19.620000839233398,19.719999313354492,2160000]
["2011-05-09",19.409999847412109,19.940000534057617,18.979999542236328,19.770000457763672,3023700]
["2011-05-06",17.639999389648438,19.489999771118164,17.469999313354492,18.239999771118164,4577300]
["2011-05-05",17.600000381469727,18.329999923706055,16.559999465942383,16.829999923706055,3819700]
["2011-05-04",17.829999923706055,18.659999847412109,17.299999237060547,18.280000686645508,3428400]
["2011-05-03",18.229999542236328,18.379999160766602,17.139999389648438,17.75,4513300]
["2011-05-02",19.870000839233398,20.329999923706055,18.610000610351559,18.709999084472656,3353000]
["2011-04-29",21.239999771118164,21.450000762939453,20.809999465942383,20.979999542236328,1362700]
["2011-04-28",22.620000839233398,22.729999542236328,21.219999313354492,21.280000686645508,2731800]
["2011-04-27",20.899999618530273,22.680000305175781,20.5,22.450000762939453,3057000]
["2011-04-26",21.25,21.319999694824219,20.469999313354492,20.559999465942383,2500000]
["2011-04-25",23.899999618530273,24,21.860000610351559,22.159999847412109,2297700]
["2011-04-21",23.969999313354492,24.049999237060547,23,23.309999465942383,1805900]
["2011-04-20",23.590000152587891,24.049999237060547,23.360000610351559,23.700000762939453,1995200]
["2011-04-19",22.799999237060547,23.090000152587891,22.200000762939453,22.760000228881836,1615700]
["2011-04-18",23.430000305175781,23.430000305175781,21.129999160766602,22.729999542236328,2963300]
["2011-04-15",24.399999618530273,24.799999237060547,23.209999084472656,23.690000534057617,2844800]
["2011-04-14",23.5,24.360000610351559,22.739999771118164,24.020000457763672,3542400]
["2011-04-13",21.340000152587891,23.629999160766602,21.309999465942383,23.049999237060547,4967500]
["2011-04-12",22.559999465942383,22.700000762939453,20.389999389648441,20.530000686645508,4741700]
["2011-04-11",24.559999465942383,24.629999160766602,22.149999618530273,22.620000839233398,3601300]
["2011-04-08",26.139999389648441,26.139999389648441,23.659999847412109,24.540000915527344,3326300]
["2011-04-07",24.780000686645508,26,24.590000152587891,25.270000457763672,1933200]
["2011-04-06",26.469999313354492,26.879999160766602,24.260000228881836,25.379999160766602,5094500]
["2011-04-05",23.569999694824219,25.790000915527344,23.5,25.610000610351559,3283000]
["2011-04-04",22.600000381469727,23.600000381469727,22.430000305175781,23.510000228881836,2254000]
["2011-04-01",20.739999771118164,21.75,20.530000686645508,21.579999923706055,1003900]
["2011-03-31",20.920000076293945,21.370000839233398,20.75,21.239999771118164,1234700]
["2011-03-30",20.260000228881836,20.600000381469727,19.889999389648441,20.579999923706055,1018600]
["2011-03-29",19.309999465942383,19.829999923706055,19.200000762939453,19.739999771118164,728600]
["2011-03-28",19.399999618530273,19.950000762939453,19.25,19.559999465942383,1071000]
["2011-03-25",20.350000381469727,20.5,19.690000534057617,19.870000839233398,1582400]
["2011-03-24",19.950000762939453,20.489999771118164,19.700000762939453,20.110000610351559,3108500]
["2011-03-23",18.229999542236328,19.75,18.110000610351559,19.319999694824219,1807200]
["2011-03-22",18.370000839233398,18.639999389648441,18.010000228881836,18.229999542236328,1084000]
["2011-03-21",17.879999160766602,18.549999237060547,17.75,18.5,1736100]
["2011-03-18",16.719999313354492,17.180000305175781,16.700000762939453,17.040000915527344,960400]
["2011-03-17",15.600000381469728,16.409999847412109,15.489999771118164,16.200000762939453,1008800]
["2011-03-16",15.170000076293944,16.049999237060547,14.850000381469728,15.260000228881836,1119800]
["2011-03-15",14.220000267028809,15.199999809265137,14.180000305175779,15.020000457763672,1479400]
["2011-03-14",16.420000076293945,16.819999694824219,15.880000114440918,16.399999618530273,861800]
["2011-03-11",15.109999656677246,16.909999847412109,15,16.290000915527344,1349100]
["2011-03-10",16.899999618530273,16.899999618530273,15.689999580383301,15.909999847412109,2286800]
["2011-03-09",18.489999771118164,18.799999237060547,17.780000686645508,17.969999313354492,1124100]
["2011-03-08",17.690000534057617,18.379999160766602,17.120000839233398,18.25,1247100]
["2011-03-07",18.190000534057617,18.540000915527344,17.629999160766602,18.079999923706055,1837600]
["2011-03-04",16.5,17.25,16.350000381469727,17.239999771118164,1029500]
["2011-03-03",16.370000839233398,16.489999771118164,16.040000915527344,16.270000457763672,742200]
["2011-03-02",16.450000762939453,17.229999542236328,15.949999809265137,16.489999771118164,2052200]
["2011-03-01",15.800000190734863,16.440000534057617,15.800000190734863,16.280000686645508,1195500]
["2011-02-28",15,15.350000381469728,14.960000038146973,15.300000190734863,707100]
["2011-02-25",14.300000190734863,14.930000305175779,14.300000190734863,14.829999923706056,451900]
["2011-02-24",15.340000152587891,15.350000381469728,13.840000152587891,14.119999885559082,1030300]
["2011-02-23",14.609999656677246,15.420000076293944,14.590000152587891,15.350000381469728,689700]
["2011-02-22",14.789999961853027,15.189999580383301,14.489999771118164,14.600000381469728,999700]
["2011-02-18",13.810000419616699,14.489999771118164,13.729999542236328,14.189999580383301,1125000]
["2011-02-17",13.689999580383301,13.779999732971191,13.380000114440918,13.710000038146973,482900]
["2011-02-16",13.520000457763672,13.590000152587891,13.210000038146973,13.460000038146973,301900]
["2011-02-15",13.739999771118164,13.810000419616699,13.460000038146973,13.529999732971191,309500]
["2011-02-14",13.310000419616699,13.579999923706056,13.159999847412109,13.229999542236328,344400]
["2011-02-11",13.130000114440918,13.600000381469728,12.979999542236328,13.130000114440918,348200]
["2011-02-10",13.199999809265137,13.409999847412109,12.729999542236328,13.220000267028809,436400]
["2011-02-09",13.920000076293944,13.949999809265137,13.270000457763672,13.470000267028809,453400]
["2011-02-08",13.800000190734863,14,13.649999618530272,13.859999656677246,488900]
["2011-02-07",13.600000381469728,13.829999923706056,13.489999771118164,13.520000457763672,297300]
["2011-02-04",13.670000076293944,13.920000076293944,13.329999923706056,13.449999809265137,576100]
["2011-02-03",12.989999771118164,13.579999923706056,12.539999961853027,13.460000038146973,600000]
["2011-02-02",12.960000038146973,13.170000076293944,12.689999580383301,13.020000457763672,398700]
["2011-02-01",12.649999618530272,13.060000419616699,12.390000343322754,13.060000419616699,456600]
["2011-01-31",12.329999923706056,12.659999847412109,12.050000190734863,12.260000228881836,656400]
["2011-01-28",11.260000228881836,12.239999771118164,11.199999809265137,12.199999809265137,656100]
["2011-01-27",12.229999542236328,12.260000228881836,11.100000381469728,11.369999885559082,894100]
["2011-01-26",10.600000381469728,11.880000114440918,10.529999732971191,11.859999656677246,560400]
["2011-01-25",10.609999656677246,10.760000228881836,10.319999694824221,10.489999771118164,638800]
["2011-01-24",10.930000305175779,11.380000114440918,10.789999961853027,10.890000343322754,631500]
["2011-01-21",11.550000190734863,11.619999885559082,11.039999961853027,11.069999694824221,402800]
["2011-01-20",11.689999580383301,11.739999771118164,10.75,11.560000419616699,1155200]
["2011-01-19",13.050000190734863,13.5,12.550000190734863,12.680000305175779,347100]
["2011-01-18",12.510000228881836,12.949999809265137,12.399999618530272,12.800000190734863,390600]
["2011-01-14",12.739999771118164,12.939999580383301,12.369999885559082,12.569999694824221,509600]
["2011-01-13",13.859999656677246,14.050000190734863,12.779999732971191,13.050000190734863,657100]
["2011-01-12",14.460000038146973,14.460000038146973,13.859999656677246,14.050000190734863,502400]
["2011-01-11",13.670000076293944,13.989999771118164,13.409999847412109,13.989999771118164,456600]
["2011-01-10",13.189999580383301,13.220000267028809,12.649999618530272,12.920000076293944,395500]
["2011-01-07",12.800000190734863,13.430000305175779,12.800000190734863,13.149999618530272,469000]
["2011-01-06",14.430000305175779,14.449999809265137,13.270000457763672,13.319999694824221,598900]
["2011-01-05",14,14.579999923706056,13.680000305175779,14.430000305175779,669500]
["2011-01-04",15.069999694824221,15.380000114440918,13.579999923706056,14.350000381469728,998100]
["2011-01-03",15,16.450000762939453,14.859999656677246,15.600000381469728,625500]
["2010-12-31",14.079999923706056,14.619999885559082,14.039999961853027,14.520000457763672,285500]
["2010-12-30",14.090000152587891,14.210000038146973,13.550000190734863,13.859999656677246,282400]
["2010-12-29",13.579999923706056,14.050000190734863,13.430000305175779,13.989999771118164,660800]
["2010-12-28",12.399999618530272,13.850000381469728,12.380000114440918,13.600000381469728,438200]
["2010-12-27",12.319999694824221,12.449999809265137,11.800000190734863,12.090000152587891,179800]
["2010-12-23",12.390000343322754,12.520000457763672,12.170000076293944,12.319999694824221,106100]
["2010-12-22",12.550000190734863,12.699999809265137,12.310000419616699,12.390000343322754,113900]
["2010-12-21",12.460000038146973,12.560000419616699,12.159999847412109,12.5,189000]
["2010-12-20",12.909999847412109,13,12.439999580383301,12.550000190734863,265300]
["2010-12-17",12.630000114440918,13.340000152587891,12.560000419616699,12.960000038146973,236900]
["2010-12-16",12.699999809265137,12.840000152587891,12.189999580383301,12.569999694824221,297200]
["2010-12-15",13.479999542236328,14.050000190734863,12.569999694824221,12.840000152587891,336800]
["2010-12-14",13.460000038146973,14.050000190734863,13.399999618530272,13.850000381469728,317400]
["2010-12-13",13.220000267028809,14.039999961853027,13.029999732971191,13.319999694824221,131200]
["2010-12-10",12.109999656677246,12.579999923706056,11.5,12.569999694824221,149800]
["2010-12-09",12.680000305175779,12.779999732971191,12.25,12.25,101300]
["2010-12-08",12.789999961853027,12.789999961853027,11.859999656677246,12.390000343322754,221800]
["2010-12-07",14.279999732971191,14.279999732971191,12.899999618530272,12.899999618530272,249400]
["2010-12-06",12.789999961853027,13.550000190734863,12.670000076293944,13.539999961853027,230800]
["2010-12-03",12.550000190734863,12.789999961853027,12.420000076293944,12.689999580383301,191300]
["2010-12-02",12.529999732971191,12.770000457763672,12.449999809265137,12.460000038146973,162500]
["2010-12-01",12.189999580383301,12.630000114440918,12.149999618530272,12.460000038146973,236500]
["2010-11-30",11.340000152587891,11.890000343322754,11.229999542236328,11.880000114440918,158200]
["2010-11-29",11.029999732971191,11.310000419616699,10.970000267028809,11.270000457763672,85900]
["2010-11-26",11.170000076293944,11.170000076293944,10.630000114440918,11.029999732971191,119800]
["2010-11-24",11.260000228881836,11.5,11.220000267028809,11.489999771118164,81200]
["2010-11-23",11.180000305175779,11.220000267028809,10.880000114440918,11.220000267028809,120700]
["2010-11-22",10.899999618530272,11.439999580383301,10.880000114440918,11.359999656677246,149300]
["2010-11-19",10.050000190734863,10.819999694824221,9.9099998474121094,10.800000190734863,120300]
["2010-11-18",10.189999580383301,10.329999923706056,10.060000419616699,10.220000267028809,148600]
["2010-11-17",9.1700000762939435,9.6400003433227539,9.1599998474121094,9.6400003433227539,162800]
["2010-11-16",9.1099996566772461,9.3199996948242205,8.4499998092651367,9.2700004577636719,342900]
["2010-11-15",9.8199996948242205,9.9899997711181641,9.4300003051757795,9.4399995803833008,96100]
["2010-11-12",9.8400001525878906,10.060000419616699,9.5799999237060565,9.7399997711181641,137600]
["2010-11-11",10.199999809265137,10.239999771118164,9.9499998092651367,10.229999542236328,89200]
["2010-11-10",10.210000038146973,10.289999961853027,9.4899997711181641,10.270000457763672,347700]
["2010-11-09",11.409999847412109,11.760000228881836,9.8299999237060565,10,473500]
["2010-11-08",10.130000114440918,11.069999694824221,10.039999961853027,11.039999961853027,269000]
["2010-11-05",9.5600004196166992,10.449999809265137,9.4200000762939435,9.9700002670288086,199000]
["2010-11-04",9.2299995422363281,9.7100000381469727,9.1899995803833008,9.7100000381469727,227600]
["2010-11-03",8.619999885559082,8.7100000381469727,7.880000114440918,8.7100000381469727,206300]
["2010-11-02",7.940000057220459,8.6899995803833008,7.3299999237060547,8.619999885559082,201500]
["2010-11-01",7.8000001907348633,7.9699997901916504,7.7699999809265137,7.940000057220459,138100]
["2010-10-29",7.4099998474121094,7.6999998092651367,7.369999885559082,7.6500000953674316,145200]
["2010-10-28",7.2600002288818359,7.429999828338623,7.2600002288818359,7.4000000953674316,69000]
["2010-10-27",7.3299999237060547,7.3299999237060547,7.119999885559082,7.190000057220459,59300]
["2010-10-26",7.2899999618530273,7.4099998474121094,7.070000171661377,7.4099998474121094,113500]
["2010-10-25",6.7899999618530273,7.4200000762939453,6.7800002098083496,7.3499999046325684,225800]
["2010-10-22",6.559999942779541,6.6700000762939453,6.369999885559082,6.5900001525878906,89500]
["2010-10-21",6.6500000953674316,6.75,6.4000000953674316,6.5999999046325684,171000]
["2010-10-20",6.4499998092651367,6.6700000762939453,6.4200000762939453,6.630000114440918,95800]
["2010-10-19",6.7300000190734863,6.7699999809265137,6.3000001907348633,6.369999885559082,412400]
["2010-10-18",6.9899997711181641,7.0999999046325684,6.9000000953674316,7.0199999809265137,152300]
["2010-10-15",7.3899998664855957,7.3899998664855957,7.0900001525878906,7.1500000953674316,119300]
["2010-10-14",7.570000171661377,7.5799999237060547,7.380000114440918,7.4099998474121094,147300]
["2010-10-13",7.4800000190734863,7.6599998474121094,7.4200000762939453,7.5100002288818359,154000]
["2010-10-12",7.440000057220459,7.440000057220459,7.190000057220459,7.3600001335144043,104900]
["2010-10-11",7.4000000953674316,7.570000171661377,7.3299999237060547,7.440000057220459,61100]
["2010-10-08",7.2300000190734863,7.4099998474121094,7.1999998092651367,7.4099998474121094,69500]
["2010-10-07",7.440000057220459,7.5,7.0300002098083496,7.2199997901916504,238300]
["2010-10-06",7.130000114440918,7.5,7.119999885559082,7.369999885559082,202200]
["2010-10-05",6.8000001907348633,7.1700000762939453,6.8000001907348633,7.1100001335144043,155100]
["2010-10-04",6.6700000762939453,6.7300000190734863,6.5100002288818359,6.630000114440918,146300]
["2010-10-01",6.929999828338623,7.0500001907348633,6.7600002288818359,6.8400001525878906,145600]
["2010-09-30",6.8299999237060547,6.9499998092651367,6.6599998474121094,6.820000171661377,146400]
["2010-09-29",6.7699999809265137,6.8899998664855957,6.690000057220459,6.7699999809265137,111200]
["2010-09-28",6.4600000381469727,6.7399997711181641,6.2300000190734863,6.7100000381469727,112400]
["2010-09-27",6.8000001907348633,6.8299999237060547,6.6399998664855957,6.6399998664855957,92300]
["2010-09-24",6.619999885559082,6.7800002098083496,6.5999999046325684,6.75,114200]
["2010-09-23",6.3899998664855957,6.5199999809265137,6.320000171661377,6.5,112200]
["2010-09-22",6.320000171661377,6.429999828338623,6.320000171661377,6.4000000953674316,113000]
["2010-09-21",6.190000057220459,6.4499998092651367,5.9699997901916504,6.1599998474121094,213100]
["2010-09-20",5.7600002288818359,6.179999828338623,5.7399997711181641,6.130000114440918,223200]
["2010-09-17",5.5900001525878906,5.820000171661377,5.559999942779541,5.690000057220459,263400]
["2010-09-16",5.7199997901916504,5.7199997901916504,5.4499998092651367,5.559999942779541,199400]
["2010-09-15",5.6399998664855957,5.7300000190734863,5.440000057220459,5.6999998092651367,116500]
["2010-09-14",5.380000114440918,5.619999885559082,5.3000001907348633,5.5799999237060547,208700]
["2010-09-13",5.1500000953674316,5.25,5.1500000953674316,5.2300000190734863,70800]
["2010-09-10",4.8899998664855957,5.1100001335144043,4.869999885559082,5.0900001525878906,47700]
["2010-09-09",4.9899997711181641,5.0900001525878906,4.7899999618530273,4.8299999237060547,91000]
["2010-09-08",5.059999942779541,5.130000114440918,4.9000000953674316,4.9800000190734863,103300]
["2010-09-07",5.119999885559082,5.380000114440918,4.9899997711181641,5.0300002098083496,464200]
["2010-09-03",4.929999828338623,5.0900001525878906,4.8499999046325684,5.0799999237060547,111600]
["2010-09-02",4.8000001907348633,4.9200000762939453,4.75,4.8899998664855957,79000]
["2010-09-01",4.6999998092651367,4.8000001907348633,4.6100001335144043,4.690000057220459,127300]
["2010-08-31",4.559999942779541,4.6700000762939453,4.559999942779541,4.6399998664855957,85600]
["2010-08-30",4.4800000190734863,4.6399998664855957,4.4800000190734863,4.5,97400]
["2010-08-27",4.5100002288818359,4.6700000762939453,4.4099998474121094,4.4600000381469727,69500]
["2010-08-26",4.369999885559082,4.5199999809265137,4.3600001335144043,4.4899997711181641,85000]
["2010-08-25",4.190000057220459,4.3499999046325684,4.190000057220459,4.3299999237060547,108200]
["2010-08-24",4.0900001525878906,4.1999998092651367,3.9700000286102295,4.1500000953674316,66700]
["2010-08-23",4.2100000381469727,4.2699999809265137,4.119999885559082,4.179999828338623,31200]
["2010-08-20",4.1700000762939453,4.1999998092651367,4.0999999046325684,4.190000057220459,16200]
["2010-08-19",4.3400001525878906,4.4200000762939453,4.179999828338623,4.2100000381469727,66100]
["2010-08-18",4.4600000381469727,4.4899997711181641,4.3400001525878906,4.440000057220459,110000]
["2010-08-17",4.3499999046325684,4.5300002098083496,4.2399997711181641,4.5100002288818359,208900]
["2010-08-16",4.130000114440918,4.309999942779541,4.0999999046325684,4.309999942779541,199000]
["2010-08-13",4.0799999237060547,4.0799999237060547,4.0100002288818359,4.070000171661377,9000]
["2010-08-12",3.9000000953674321,4.0999999046325684,3.9000000953674321,4.059999942779541,89700]
["2010-08-11",4,4,3.8499999046325679,3.9200000762939458,18200]
["2010-08-10",3.8900001049041748,4.0300002098083496,3.8499999046325679,3.9800000190734863,26200]
["2010-08-09",3.9000000953674321,3.9700000286102295,3.9000000953674321,3.9300000667572021,36600]
["2010-08-06",3.8299999237060542,3.9000000953674321,3.8299999237060542,3.880000114440918,28600]
["2010-08-05",3.8399999141693111,3.9100000858306889,3.809999942779541,3.8499999046325679,16000]
["2010-08-04",3.8399999141693111,3.869999885559082,3.8199999332427979,3.8199999332427979,26300]
["2010-08-03",3.9300000667572021,3.9300000667572021,3.7599999904632568,3.7799999713897705,56800]
["2010-08-02",3.9300000667572021,4,3.9300000667572021,3.9900000095367432,12000]
["2010-07-30",3.9100000858306889,3.9700000286102295,3.8900001049041748,3.9000000953674321,10800]
["2010-07-29",3.940000057220459,3.940000057220459,3.8499999046325679,3.9300000667572021,9500]
["2010-07-28",3.7899999618530273,3.9700000286102295,3.7899999618530273,3.9700000286102295,18500]
["2010-07-27",3.9000000953674321,3.9600000381469727,3.8399999141693111,3.880000114440918,35300]
["2010-07-26",3.8199999332427979,3.9800000190734863,3.8199999332427979,3.9600000381469727,44200]
["2010-07-23",3.7300000190734863,3.8399999141693111,3.7300000190734863,3.809999942779541,29100]
["2010-07-22",3.7599999904632568,3.7999999523162842,3.7400000095367432,3.7799999713897705,10800]
["2010-07-21",3.7100000381469727,3.7200000286102295,3.6400001049041748,3.7200000286102295,14900]
["2010-07-20",3.5299999713897705,3.6800000667572021,3.4800000190734863,3.6400001049041748,46400]
["2010-07-19",3.559999942779541,3.6099998950958252,3.5099999904632568,3.5499999523162842,49000]
["2010-07-16",3.7000000476837158,3.75,3.6400001049041748,3.6700000762939458,46600]
["2010-07-15",3.8499999046325679,3.8499999046325679,3.75,3.809999942779541,37600]
["2010-07-14",3.880000114440918,3.9000000953674321,3.7999999523162842,3.8299999237060542,28100]
["2010-07-13",3.9300000667572021,4.0199999809265137,3.9100000858306889,3.940000057220459,59000]
["2010-07-12",3.7999999523162842,3.880000114440918,3.7999999523162842,3.869999885559082,31000]
["2010-07-09",3.8199999332427979,3.9600000381469727,3.8199999332427979,3.8499999046325679,35500]
["2010-07-08",3.8900001049041748,3.8900001049041748,3.690000057220459,3.7599999904632568,39900]
["2010-07-07",3.6700000762939458,3.9100000858306889,3.6700000762939458,3.9100000858306889,44200]
["2010-07-06",3.7400000095367432,3.8299999237060542,3.6700000762939458,3.7699999809265137,133900]
["2010-07-02",3.9000000953674321,3.9200000762939458,3.7799999713897705,3.7899999618530273,100900]
["2010-07-01",4.059999942779541,4.059999942779541,3.7400000095367432,3.7999999523162842,82400]
["2010-06-30",4.0399999618530273,4.1100001335144043,3.9900000095367432,4.0300002098083496,31300]
["2010-06-29",4.070000171661377,4.1399998664855957,4.0300002098083496,4.0399999618530273,58300]
["2010-06-28",4.3400001525878906,4.429999828338623,4.2899999618530273,4.369999885559082,98900]
["2010-06-25",4.0999999046325684,4.3400001525878906,4.0999999046325684,4.320000171661377,62700]
["2010-06-24",4.059999942779541,4.1100001335144043,4.0500001907348633,4.070000171661377,23100]
["2010-06-23",4.0199999809265137,4.1599998474121094,4.0199999809265137,4.0900001525878906,40200]
["2010-06-22",4.1100001335144043,4.2800002098083496,4.1100001335144043,4.1999998092651367,67000]
["2010-06-21",4.380000114440918,4.380000114440918,4.119999885559082,4.119999885559082,70400]
["2010-06-18",4.25,4.3899998664855957,4.1999998092651367,4.3000001907348633,110700]
["2010-06-17",3.9600000381469727,4.369999885559082,3.9600000381469727,4.3499999046325684,202900]
["2010-06-16",3.8900001049041748,4,3.8599998950958252,3.9900000095367432,141900]
["2010-06-15",3.809999942779541,3.9200000762939458,3.7899999618530273,3.8900001049041748,41800]
["2010-06-14",3.8599998950958252,3.9500000476837158,3.7799999713897705,3.7999999523162842,67600]
["2010-06-11",3.8599998950958252,3.8599998950958252,3.7899999618530273,3.8299999237060542,41000]
["2010-06-10",3.7899999618530273,3.869999885559082,3.75,3.8599998950958252,39400]
["2010-06-09",3.809999942779541,3.809999942779541,3.7400000095367432,3.75,34800]
["2010-06-08",3.7799999713897705,3.8599998950958252,3.7799999713897705,3.809999942779541,170800]
["2010-06-07",3.6099998950958252,3.7400000095367432,3.5799999237060547,3.7300000190734863,93000]
["2010-06-04",3.6400001049041748,3.7400000095367432,3.5799999237060547,3.5899999141693115,29100]
["2010-06-03",3.7599999904632568,3.7699999809265137,3.619999885559082,3.7699999809265137,44200]
["2010-06-02",3.5299999713897705,3.7799999713897705,3.4900000095367432,3.7400000095367432,144000]
["2010-06-01",3.630000114440918,3.7000000476837158,3.4900000095367432,3.559999942779541,97800]
["2010-05-28",3.6400001049041748,3.7899999618530273,3.6400001049041748,3.7799999713897705,26800]
["2010-05-27",3.619999885559082,3.7300000190734863,3.5999999046325684,3.7300000190734863,39300]
["2010-05-26",3.5199999809265137,3.630000114440918,3.5199999809265137,3.559999942779541,59900]
["2010-05-25",3.2899999618530273,3.4100000858306885,3.25,3.380000114440918,28500]
["2010-05-24",3.4800000190734863,3.5499999523162842,3.4000000953674316,3.5499999523162842,58200]
["2010-05-21",3.2999999523162842,3.5,3.2400000095367432,3.4000000953674316,80100]
["2010-05-20",3.3900001049041748,3.4200000762939453,3.309999942779541,3.309999942779541,106900]
["2010-05-19",3.6600000858306889,3.690000057220459,3.4700000286102295,3.6099998950958252,151000]
["2010-05-18",3.809999942779541,3.8599998950958252,3.7000000476837158,3.7799999713897705,73200]
["2010-05-17",3.9300000667572021,3.9800000190734863,3.6700000762939458,3.7599999904632568,151000]
["2010-05-14",3.940000057220459,4.75,3.7300000190734863,4.5,68500]
["2010-05-13",4.0500001907348633,4.0799999237060547,3.9000000953674321,3.9200000762939458,79400]
["2010-05-12",4,4.0999999046325684,3.9800000190734863,4.0199999809265137,95800]
["2010-05-11",3.690000057220459,3.9200000762939458,3.6700000762939458,3.9200000762939458,161300]
["2010-05-10",3.5899999141693115,3.5999999046325684,3.5299999713897705,3.5899999141693115,48100]
["2010-05-07",3.5399999618530273,3.5499999523162842,3.4000000953674316,3.4600000381469727,75300]
["2010-05-06",3.5899999141693115,3.6400001049041748,3.3599998950958252,3.4900000095367432,67900]
["2010-05-05",3.4800000190734863,3.5999999046325684,3.4200000762939453,3.5799999237060547,72900]
["2010-05-04",3.7799999713897705,3.7899999618530273,3.5,3.559999942779541,100100]
["2010-05-03",3.7999999523162842,3.8199999332427979,3.690000057220459,3.8199999332427979,63600]
["2010-04-30",3.7000000476837158,3.7699999809265137,3.6800000667572021,3.7100000381469727,100800]
["2010-04-29",3.5999999046325684,3.690000057220459,3.5999999046325684,3.6700000762939458,54800]
["2010-04-28",3.5799999237060547,3.6600000858306889,3.5399999618530273,3.5999999046325684,103500]
["2010-04-27",3.5999999046325684,3.619999885559082,3.5099999904632568,3.559999942779541,63200]
["2010-04-26",3.6500000953674321,3.7000000476837158,3.619999885559082,3.630000114440918,68300]
["2010-04-23",3.4500000476837158,3.6600000858306889,3.440000057220459,3.6600000858306889,89800]
["2010-04-22",3.4900000095367432,3.5099999904632568,3.4300000667572021,3.5099999904632568,21700]
["2010-04-21",3.4800000190734863,3.5299999713897705,3.4300000667572021,3.5199999809265137,40300]
["2010-04-20",3.4700000286102295,3.5299999713897705,3.4300000667572021,3.4700000286102295,62000]
["2010-04-19",3.3299999237060547,3.3900001049041748,3.3199999332427979,3.380000114440918,44900]
["2010-04-16",3.4700000286102295,3.5499999523162842,3.309999942779541,3.4000000953674316,129700]
["2010-04-15",3.619999885559082,3.619999885559082,3.5799999237060547,3.5899999141693115,52300]
["2010-04-14",3.6400001049041748,3.6500000953674321,3.5499999523162842,3.630000114440918,73000]
["2010-04-13",3.619999885559082,3.619999885559082,3.4500000476837158,3.559999942779541,71200]
["2010-04-12",3.6099998950958252,3.690000057220459,3.5799999237060547,3.5999999046325684,143700]
["2010-04-09",3.5399999618530273,3.6099998950958252,3.5299999713897705,3.5699999332427979,69800]
["2010-04-08",3.5199999809265137,3.5499999523162842,3.4000000953674316,3.5199999809265137,109400]
["2010-04-07",3.4700000286102295,3.559999942779541,3.4700000286102295,3.4800000190734863,49700]
["2010-04-06",3.4900000095367432,3.4900000095367432,3.4100000858306885,3.4600000381469727,72300]
["2010-04-05",3.309999942779541,3.4600000381469727,3.309999942779541,3.440000057220459,117600]
["2010-04-01",3.1500000953674316,3.2999999523162842,3.1500000953674316,3.2599999904632568,74300]
["2010-03-31",3.130000114440918,3.1500000953674316,3.0899999141693115,3.130000114440918,48400]
["2010-03-30",3.1099998950958252,3.1500000953674316,3.059999942779541,3.0699999332427979,13100]
["2010-03-29",3.0799999237060547,3.130000114440918,3.0699999332427979,3.0999999046325684,39200]
["2010-03-26",2.9800000190734863,3.059999942779541,2.9500000476837158,3.0499999523162842,38500]
["2010-03-25",3.0499999523162842,3.059999942779541,2.9800000190734863,2.9900000095367432,53700]
["2010-03-24",3.0799999237060547,3.0799999237060547,3.0199999809265137,3.0499999523162842,99800]
["2010-03-23",3.0099999904632568,3.1600000858306885,3,3.1500000953674316,103100]
["2010-03-22",3.0699999332427979,3.0699999332427979,3,3.0099999904632568,140000]
["2010-03-19",3.1600000858306885,3.1700000762939453,3.0499999523162842,3.0499999523162842,82200]
["2010-03-18",3.2400000095367432,3.2400000095367432,3.0999999046325684,3.1400001049041748,59800]
["2010-03-17",3.2599999904632568,3.3299999237060547,3.2200000286102295,3.25,47800]
["2010-03-16",3.190000057220459,3.2300000190734863,3.130000114440918,3.190000057220459,71200]
["2010-03-15",3.1600000858306885,3.1800000667572021,3.0699999332427979,3.0999999046325684,66400]
["2010-03-12",3.2100000381469727,3.2400000095367432,3.1500000953674316,3.2000000476837158,40400]
["2010-03-11",3.1400001049041748,3.2100000381469727,3.0899999141693115,3.2000000476837158,21700]
["2010-03-10",3.2699999809265137,3.3199999332427979,3.119999885559082,3.1500000953674316,104600]
["2010-03-09",3.3199999332427979,3.3199999332427979,3.1700000762939453,3.2400000095367432,145500]
["2010-03-08",3.4000000953674316,3.4100000858306885,3.2999999523162842,3.3199999332427979,56600]
["2010-03-05",3.3399999141693115,3.4600000381469727,3.3399999141693115,3.380000114440918,81700]
["2010-03-04",3.4000000953674316,3.4300000667572021,3.2899999618530273,3.3499999046325684,21800]
["2010-03-03",3.440000057220459,3.5399999618530273,3.4000000953674316,3.4000000953674316,73900]
["2010-03-02",3.2999999523162842,3.4300000667572021,3.2699999809265137,3.3399999141693115,63000]
["2010-03-01",3.3199999332427979,3.3499999046325684,3.2300000190734863,3.25,22500]
["2010-02-26",3.2200000286102295,3.25,3.190000057220459,3.2300000190734863,29100]
["2010-02-25",3.059999942779541,3.2100000381469727,3.0099999904632568,3.190000057220459,30200]
["2010-02-24",3.2000000476837158,3.3199999332427979,3.130000114440918,3.1500000953674316,52800]
["2010-02-23",3.3499999046325684,3.3499999046325684,3.190000057220459,3.2599999904632568,55800]
["2010-02-22",3.4800000190734863,3.5099999904632568,3.3900001049041748,3.4300000667572021,30800]
["2010-02-19",3.3900001049041748,3.5199999809265137,3.3599998950958252,3.5,69500]
["2010-02-18",3.4800000190734863,3.4900000095367432,3.4000000953674316,3.440000057220459,18300]
["2010-02-17",3.5499999523162842,3.5499999523162842,3.4000000953674316,3.4000000953674316,41300]
["2010-02-16",3.4300000667572021,3.5699999332427979,3.3900001049041748,3.5199999809265137,108000]
["2010-02-12",3.2599999904632568,3.3199999332427979,3.2300000190734863,3.309999942779541,38300]
["2010-02-11",3.25,3.3299999237060547,3.2000000476837158,3.3299999237060547,61400]
["2010-02-10",3.2799999713897705,3.2799999713897705,3.119999885559082,3.1800000667572021,80200]
["2010-02-09",3.1800000667572021,3.2999999523162842,3.119999885559082,3.2100000381469727,59300]
["2010-02-08",3.0899999141693115,3.2400000095367432,3.0199999809265137,3.0399999618530273,46200]
["2010-02-05",2.9900000095367432,3.1700000762939453,2.8900001049041748,3.1700000762939453,107800]
["2010-02-04",3.4700000286102295,3.4700000286102295,3,3.0099999904632568,177400]
["2010-02-03",3.4100000858306885,3.4500000476837158,3.2899999618530273,3.4500000476837158,47100]
["2010-02-02",3.4000000953674316,3.4800000190734863,3.4000000953674316,3.4000000953674316,29100]
["2010-02-01",3.119999885559082,3.380000114440918,3.119999885559082,3.380000114440918,67100]
["2010-01-29",3.2000000476837158,3.2000000476837158,3.059999942779541,3.1500000953674316,67600]
["2010-01-28",3.2899999618530273,3.2899999618530273,3.1099998950958252,3.190000057220459,70700]
["2010-01-27",3.3399999141693115,3.380000114440918,3.1800000667572021,3.2699999809265137,89100]
["2010-01-26",3.2200000286102295,3.4800000190734863,3.1500000953674316,3.4000000953674316,121300]
["2010-01-25",3.4000000953674316,3.4000000953674316,3.2300000190734863,3.2899999618530273,83700]
["2010-01-22",3.5,3.5,3.3199999332427979,3.380000114440918,205200]
["2010-01-21",3.6600000858306889,3.7300000190734863,3.4800000190734863,3.5199999809265137,111600]
["2010-01-20",3.869999885559082,3.869999885559082,3.6400001049041748,3.7300000190734863,119400]
["2010-01-19",3.9800000190734863,4.0500001907348633,3.9600000381469727,4.0100002288818359,42500]
["2010-01-15",4.059999942779541,4.059999942779541,3.9700000286102295,4.0199999809265137,70400]
["2010-01-14",4.0799999237060547,4.1500000953674316,3.9800000190734863,4.0999999046325684,21900]
["2010-01-13",4.0100002288818359,4.1399998664855957,3.9300000667572021,4.0900001525878906,41200]
["2010-01-12",4.130000114440918,4.2300000190734863,3.9200000762939458,3.9700000286102295,135600]
["2010-01-11",4.3499999046325684,4.4000000953674316,4.2600002288818359,4.2600002288818359,75300]
["2010-01-08",4.190000057220459,4.2899999618530273,4.1500000953674316,4.2800002098083496,78800]
["2010-01-07",4.25,4.2600002288818359,4.1100001335144043,4.1599998474121094,44900]
["2010-01-06",4.2300000190734863,4.3499999046325684,4.179999828338623,4.2800002098083496,85800]
["2010-01-05",4.0999999046325684,4.179999828338623,4.0799999237060547,4.1500000953674316,57700]
["2010-01-04",4.0799999237060547,4.2100000381469727,4.059999942779541,4.0999999046325684,68000]
["2009-12-31",3.8900001049041748,3.9600000381469727,3.7599999904632568,3.940000057220459,32600]
["2009-12-30",3.9100000858306889,3.9100000858306889,3.8499999046325679,3.869999885559082,23800]
["2009-12-29",4.059999942779541,4.0799999237060547,3.9300000667572021,3.9300000667572021,42800]
["2009-12-28",4.0300002098083496,4.1399998664855957,3.9500000476837158,4.0999999046325684,17200]
["2009-12-24",4.0999999046325684,4.119999885559082,4.0500001907348633,4.0500001907348633,17400]
["2009-12-23",3.9700000286102295,4.1100001335144043,3.9700000286102295,4.0799999237060547,56100]
["2009-12-22",3.8900001049041748,4,3.7300000190734863,3.9900000095367432,74300]
["2009-12-21",3.940000057220459,3.9500000476837158,3.8299999237060542,3.9000000953674321,103400]
["2009-12-18",3.630000114440918,3.880000114440918,3.630000114440918,3.880000114440918,64700]
["2009-12-17",3.940000057220459,4.0199999809265137,3.6099998950958252,3.6099998950958252,163100]
["2009-12-16",3.8399999141693111,4.2199997901916504,3.8199999332427979,4.2100000381469727,178900]
["2009-12-15",3.4800000190734863,3.8499999046325679,3.4800000190734863,3.8499999046325679,78400]
["2009-12-14",3.4100000858306885,3.5,3.3399999141693115,3.4900000095367432,75200]
["2009-12-11",3.440000057220459,3.440000057220459,3.3199999332427979,3.380000114440918,43800]
["2009-12-10",3.3199999332427979,3.4200000762939453,3.3199999332427979,3.4200000762939453,79400]
["2009-12-09",3.25,3.2999999523162842,3.1800000667572021,3.2999999523162842,48300]
["2009-12-08",3.3299999237060547,3.3299999237060547,3.1099998950958252,3.1500000953674316,124400]
["2009-12-07",3.3199999332427979,3.440000057220459,3.2699999809265137,3.3599998950958252,89400]
["2009-12-04",3.6800000667572021,3.6800000667572021,3.4700000286102295,3.5,77500]
["2009-12-03",3.7599999904632568,3.7599999904632568,3.6800000667572021,3.7200000286102295,98500]
["2009-12-02",3.7400000095367432,3.8599998950958252,3.7300000190734863,3.7599999904632568,67100]
["2009-12-01",3.5699999332427979,3.7200000286102295,3.559999942779541,3.6800000667572021,123100]
["2009-11-30",3.5899999141693115,3.5899999141693115,3.4300000667572021,3.4800000190734863,78700]
["2009-11-27",3.2799999713897705,3.5699999332427979,3.2799999713897705,3.5099999904632568,113900]
["2009-11-25",3.6099998950958252,3.7599999904632568,3.5999999046325684,3.7599999904632568,53400]
["2009-11-24",3.6099998950958252,3.619999885559082,3.5299999713897705,3.5899999141693115,57100]
["2009-11-23",3.5999999046325684,3.690000057220459,3.5199999809265137,3.5999999046325684,99600]
["2009-11-20",3.4700000286102295,3.4900000095367432,3.4000000953674316,3.4200000762939453,64200]
["2009-11-19",3.440000057220459,3.4800000190734863,3.3299999237060547,3.4800000190734863,40900]
["2009-11-18",3.4300000667572021,3.5199999809265137,3.4200000762939453,3.4700000286102295,178700]
["2009-11-17",3.3299999237060547,3.4500000476837158,3.3199999332427979,3.369999885559082,64200]
["2009-11-16",3.4500000476837158,3.4700000286102295,3.2599999904632568,3.4300000667572021,184100]
["2009-11-13",3.130000114440918,3.2699999809265137,3.0999999046325684,3.190000057220459,29400]
["2009-11-12",3.2999999523162842,3.3499999046325684,3.059999942779541,3.0999999046325684,64400]
["2009-11-11",3.4800000190734863,3.4800000190734863,3.3499999046325684,3.3499999046325684,30700]
["2009-11-10",3.3900001049041748,3.4300000667572021,3.2300000190734863,3.3299999237060547,68600]
["2009-11-09",3.3599998950958252,3.4500000476837158,3.2999999523162842,3.4500000476837158,144100]
["2009-11-06",3.0799999237060547,3.2100000381469727,3.0799999237060547,3.1600000858306885,111200]
["2009-11-05",3.2699999809265137,3.2699999809265137,3.0899999141693115,3.119999885559082,63100]
["2009-11-04",3.3499999046325684,3.5099999904632568,3.2000000476837158,3.2000000476837158,102800]
["2009-11-03",2.869999885559082,3.2100000381469727,2.8299999237060547,3.2100000381469727,92100]
["2009-11-02",2.940000057220459,3.0699999332427979,2.8499999046325684,2.9300000667572021,59900]
["2009-10-30",2.9500000476837158,3,2.7200000286102295,2.940000057220459,81500]
["2009-10-29",2.8499999046325684,3.0099999904632568,2.7999999523162842,3.0099999904632568,87200]
["2009-10-28",2.75,2.75,2.5499999523162842,2.6500000953674316,150500]
["2009-10-27",2.869999885559082,2.9000000953674316,2.7000000476837158,2.7400000095367432,115800]
["2009-10-26",3.130000114440918,3.1700000762939453,2.7699999809265137,2.8900001049041748,219900]
["2009-10-23",3.309999942779541,3.3199999332427979,3.0699999332427979,3.1500000953674316,56600]
["2009-10-22",3.25,3.3199999332427979,2.2599999904632568,3.2699999809265137,43500]
["2009-10-21",3.1700000762939453,3.4000000953674316,3.1700000762939453,3.3399999141693115,51300]
["2009-10-20",3.2899999618530273,3.3199999332427979,3.1500000953674316,3.2000000476837158,38400]
["2009-10-19",3.2100000381469727,3.3299999237060547,3.190000057220459,3.2599999904632568,85600]
["2009-10-16",3.059999942779541,3.2100000381469727,3.0099999904632568,3.1800000667572021,91600]
["2009-10-15",3.0499999523162842,3.119999885559082,3.0199999809265137,3.0799999237060547,113500]
["2009-10-14",3.0799999237060547,3.2000000476837158,3,3.0499999523162842,151900]
["2009-10-13",2.8499999046325684,3,2.7100000381469727,2.9600000381469727,152900]
["2009-10-12",2.7799999713897705,2.7999999523162842,2.7000000476837158,2.7000000476837158,44300]
["2009-10-09",2.7100000381469727,2.8299999237060547,2.6800000667572021,2.7799999713897705,85200]
["2009-10-08",2.690000057220459,2.7699999809265137,2.5499999523162842,2.75,96400]
["2009-10-07",2.6800000667572021,2.7100000381469727,2.5899999141693115,2.6700000762939453,44600]
["2009-10-06",2.5499999523162842,2.6800000667572021,2.5199999809265137,2.6400001049041748,119500]
["2009-10-05",2.2699999809265137,2.4600000381469727,2.25,2.4100000858306885,70100]
["2009-10-02",2.2400000095367432,2.3499999046325684,2.2200000286102295,2.2899999618530273,84900]
["2009-10-01",2.5099999904632568,2.5299999713897705,2.2599999904632568,2.309999942779541,60300]
["2009-09-30",2.5099999904632568,2.5499999523162842,2.440000057220459,2.5299999713897705,97500]
["2009-09-29",2.4300000667572021,2.440000057220459,2.3900001049041748,2.440000057220459,33900]
["2009-09-28",2.380000114440918,2.5,2.25,2.4900000095367432,54800]
["2009-09-25",2.4000000953674316,2.4300000667572021,2.3599998950958252,2.380000114440918,48300]
["2009-09-24",2.6700000762939453,2.6700000762939453,2.4000000953674316,2.4800000190734863,137700]
["2009-09-23",2.6700000762939453,2.7000000476837158,2.5499999523162842,2.6099998950958252,83000]
["2009-09-22",2.690000057220459,2.7400000095367432,2.6500000953674316,2.6800000667572021,61600]
["2009-09-21",2.5099999904632568,2.5899999141693115,2.4700000286102295,2.5699999332427979,119200]
["2009-09-18",2.6800000667572021,2.6800000667572021,2.5899999141693115,2.6700000762939453,48800]
["2009-09-17",2.8199999332427979,2.9000000953674316,2.6400001049041748,2.690000057220459,95700]
["2009-09-16",2.5499999523162842,2.8599998950958252,2.4900000095367432,2.8499999046325684,113600]
["2009-09-15",2.4100000858306885,2.5099999904632568,2.4000000953674316,2.4800000190734863,104300]
["2009-09-14",2.4800000190734863,2.4800000190734863,2.3599998950958252,2.4100000858306885,80800]
["2009-09-11",2.4500000476837158,2.5499999523162842,2.4200000762939453,2.4500000476837158,113900]
["2009-09-10",2.3199999332427979,2.4300000667572021,2.3199999332427979,2.380000114440918,59800]
["2009-09-09",2.440000057220459,2.4700000286102295,2.2999999523162842,2.3499999046325684,52100]
["2009-09-08",2.4600000381469727,2.5,2.3900001049041748,2.4100000858306885,131300]
["2009-09-04",2.2699999809265137,2.3499999046325684,2.2300000190734863,2.2999999523162842,59500]
["2009-09-03",2.2000000476837158,2.3499999046325684,2.190000057220459,2.2899999618530273,242800]
["2009-09-02",2.0099999904632568,2.2300000190734863,2.0099999904632568,2.2300000190734863,82100]
["2009-09-01",2.0399999618530273,2.0799999237060547,1.9900000095367432,2,67500]
["2009-08-31",2.0799999237060547,2.0799999237060547,2.0199999809265137,2.0199999809265137,18200]
["2009-08-28",2.0799999237060547,2.2000000476837158,2.0399999618530273,2.0699999332427979,27800]
["2009-08-27",2.0299999713897705,2.0499999523162842,1.9700000286102295,2.0499999523162842,17300]
["2009-08-26",2.0099999904632568,2.0299999713897705,1.9800000190734863,2,61600]
["2009-08-25",2.0899999141693115,2.0999999046325684,2.0199999809265137,2.0199999809265137,21200]
["2009-08-24",2.0999999046325684,2.1099998950958252,2,2.0999999046325684,20700]
["2009-08-21",2.0199999809265137,2.0699999332427979,1.9800000190734863,2.059999942779541,30200]
["2009-08-20",1.9600000381469729,2.0199999809265137,1.940000057220459,1.9800000190734863,32300]
["2009-08-19",1.9600000381469729,2.0299999713897705,1.9600000381469729,2.0299999713897705,15800]
["2009-08-18",2,2.0399999618530273,1.950000047683716,2.0399999618530273,15900]
["2009-08-17",2.0199999809265137,2.0399999618530273,1.8799999952316284,1.9600000381469729,49800]
["2009-08-14",2.1500000953674316,2.1600000858306885,2.0499999523162842,2.0499999523162842,30900]
["2009-08-13",2.0999999046325684,2.2000000476837158,2.0499999523162842,2.1600000858306885,106300]
["2009-08-12",2.0699999332427979,2.0999999046325684,2,2.0699999332427979,71800]
["2009-08-11",2.119999885559082,2.2300000190734863,2,2.119999885559082,54200]
["2009-08-10",2.190000057220459,2.190000057220459,2.119999885559082,2.119999885559082,48600]
["2009-08-07",2.2799999713897705,2.2799999713897705,2.2300000190734863,2.2300000190734863,14200]
["2009-08-06",2.4100000858306885,2.4300000667572021,2.2799999713897705,2.309999942779541,27300]
["2009-08-05",2.3299999237060547,2.380000114440918,2.309999942779541,2.369999885559082,285600]
["2009-08-04",2.2899999618530273,2.3599998950958252,2.2699999809265137,2.309999942779541,59900]
["2009-08-03",2.2000000476837158,2.2000000476837158,2.2000000476837158,2.2000000476837158,0]
["2009-07-31",2.1500000953674316,2.2300000190734863,2.0999999046325684,2.2000000476837158,37900]
["2009-07-30",2.1600000858306885,2.190000057220459,2.0999999046325684,2.130000114440918,33300]
["2009-07-29",2.119999885559082,2.130000114440918,2.0199999809265137,2.059999942779541,25800]
["2009-07-28",2.2400000095367432,2.2400000095367432,2.0999999046325684,2.130000114440918,33800]
["2009-07-27",2.380000114440918,2.380000114440918,2.2699999809265137,2.2799999713897705,7500]
["2009-07-24",2.3900001049041748,2.3900001049041748,2.309999942779541,2.3299999237060547,40400]
["2009-07-23",2.3599998950958252,2.4000000953674316,2.3199999332427979,2.3499999046325684,20100]
["2009-07-22",2.2000000476837158,2.3599998950958252,2.2000000476837158,2.3499999046325684,74600]
["2009-07-21",2.3299999237060547,2.3499999046325684,2.1800000667572021,2.2899999618530273,33400]
["2009-07-20",2.3299999237060547,2.4000000953674316,2.2799999713897705,2.3299999237060547,43000]
["2009-07-17",2.2100000381469727,2.2899999618530273,2.2100000381469727,2.2300000190734863,35600]
["2009-07-16",2.2200000286102295,2.2200000286102295,2.0999999046325684,2.190000057220459,44200]
["2009-07-15",2.130000114440918,2.2400000095367432,2.0999999046325684,2.2000000476837158,60600]
["2009-07-14",1.940000057220459,2,1.940000057220459,1.9800000190734863,13900]
["2009-07-13",1.7899999618530271,1.8700000047683716,1.7699999809265137,1.8600000143051147,29700]
["2009-07-10",1.809999942779541,1.8600000143051147,1.7699999809265137,1.8600000143051147,35900]
["2009-07-09",1.8200000524520872,1.8700000047683716,1.7999999523162842,1.8500000238418579,21700]
["2009-07-08",1.8500000238418579,1.8799999952316284,1.75,1.809999942779541,59200]
["2009-07-07",1.8799999952316284,1.940000057220459,1.8600000143051147,1.8999999761581421,23600]
["2009-07-06",1.8799999952316284,1.8999999761581421,1.830000042915344,1.8700000047683716,46600]
["2009-07-02",2.0999999046325684,2.0999999046325684,1.9099999666213989,1.919999957084656,67500]
["2009-07-01",2.059999942779541,2.059999942779541,2.059999942779541,2.059999942779541,0]
["2009-06-30",2,2.059999942779541,1.9299999475479128,2.059999942779541,47000]
["2009-06-29",2.059999942779541,2.059999942779541,1.9900000095367432,2.0199999809265137,28700]
["2009-06-26",2.0999999046325684,2.0999999046325684,2.0099999904632568,2.059999942779541,33500]
["2009-06-25",2.0499999523162842,2.0799999237060547,2,2,49700]
["2009-06-24",1.9900000095367432,2.059999942779541,1.9800000190734863,1.9900000095367432,25400]
["2009-06-23",1.8700000047683716,1.940000057220459,1.8600000143051147,1.919999957084656,22700]
["2009-06-22",1.9299999475479128,1.940000057220459,1.8400000333786011,1.8799999952316284,91600]
["2009-06-19",2,2.0399999618530273,1.9700000286102295,2,14000]
["2009-06-18",2.0199999809265137,2.0499999523162842,1.9600000381469729,1.9800000190734863,10000]
["2009-06-17",2.0299999713897705,2.0399999618530273,1.9299999475479128,2.0299999713897705,74900]
["2009-06-16",2.0699999332427979,2.130000114440918,2.0199999809265137,2.0799999237060547,71300]
["2009-06-15",2.1800000667572021,2.1800000667572021,1.9800000190734863,2.059999942779541,83100]
["2009-06-12",2.2100000381469727,2.2899999618530273,2.130000114440918,2.2400000095367432,69800]
["2009-06-11",2.1500000953674316,2.369999885559082,2.1500000953674316,2.3399999141693115,110400]
["2009-06-10",2.2100000381469727,2.2599999904632568,2.0999999046325684,2.1500000953674316,90400]
["2009-06-09",2.2300000190734863,2.2300000190734863,2.1400001049041748,2.2100000381469727,95000]
["2009-06-08",2.2100000381469727,2.25,2.0199999809265137,2.119999885559082,99300]
["2009-06-05",2.3199999332427979,2.4200000762939453,2.25,2.3199999332427979,67600]
["2009-06-04",2.4200000762939453,2.4800000190734863,2.3599998950958252,2.4500000476837158,126200]
["2009-06-03",2.6600000858306885,2.6600000858306885,2.2999999523162842,2.380000114440918,213300]
["2009-06-02",2.3900001049041748,2.6800000667572021,2.3900001049041748,2.6800000667572021,135000]
["2009-06-01",2.5099999904632568,2.5399999618530273,2.4300000667572021,2.4600000381469727,108000]
["2009-05-29",2.5299999713897705,2.5499999523162842,2.4300000667572021,2.4500000476837158,92500]
["2009-05-28",2.2799999713897705,2.4200000762939453,2.2599999904632568,2.4000000953674316,86100]
["2009-05-27",2.2400000095367432,2.2899999618530273,2.1800000667572021,2.2699999809265137,95600]
["2009-05-26",2.1400001049041748,2.2699999809265137,2.0799999237060547,2.2699999809265137,90600]
["2009-05-22",2.25,2.2899999618530273,2.2400000095367432,2.2699999809265137,87500]
["2009-05-21",2.1500000953674316,2.2300000190734863,2.0999999046325684,2.190000057220459,105700]
["2009-05-20",1.9800000190734863,2.2400000095367432,1.9600000381469729,2.1600000858306885,134300]
["2009-05-19",1.8600000143051147,1.950000047683716,1.7999999523162842,1.940000057220459,93100]
["2009-05-18",1.7899999618530271,1.7899999618530271,1.7899999618530271,1.7899999618530271,0]
["2009-05-15",1.8799999952316284,1.8799999952316284,1.7300000190734863,1.7899999618530271,51800]
["2009-05-14",1.7699999809265137,1.8500000238418579,1.7699999809265137,1.8500000238418579,33800]
["2009-05-13",1.8899999856948853,1.8899999856948853,1.75,1.75,42600]
["2009-05-12",1.8700000047683716,1.919999957084656,1.8400000333786011,1.8899999856948853,149600]
["2009-05-11",1.7400000095367432,1.8500000238418579,1.7400000095367432,1.8500000238418579,102600]
["2009-05-08",1.7599999904632568,1.8600000143051147,1.7100000381469729,1.8600000143051147,151300]
["2009-05-07",1.8600000143051147,1.8700000047683716,1.690000057220459,1.7100000381469729,156600]
["2009-05-06",1.7100000381469729,1.7999999523162842,1.690000057220459,1.7999999523162842,55500]
["2009-05-05",1.6299999952316284,1.6799999475479126,1.6100000143051147,1.6299999952316284,71800]
["2009-05-04",1.559999942779541,1.6000000238418579,1.5399999618530271,1.559999942779541,54200]
["2009-05-01",1.4900000095367432,1.559999942779541,1.4900000095367432,1.5299999713897705,24400]
["2009-04-30",1.5099999904632568,1.5399999618530271,1.4800000190734863,1.4900000095367432,112000]
["2009-04-29",1.559999942779541,1.5900000333786011,1.559999942779541,1.5700000524520874,13900]
["2009-04-28",1.5900000333786011,1.6100000143051147,1.4900000095367432,1.5199999809265137,67400]
["2009-04-27",1.6799999475479126,1.6799999475479126,1.5900000333786011,1.5900000333786011,80700]
["2009-04-24",1.5900000333786011,1.6499999761581421,1.5800000429153442,1.6499999761581421,58000]
["2009-04-23",1.4800000190734863,1.6299999952316284,1.4800000190734863,1.5700000524520874,18900]
["2009-04-22",1.4800000190734863,1.5099999904632568,1.4600000381469729,1.4600000381469729,31000]
["2009-04-21",1.4900000095367432,1.4900000095367432,1.4299999475479126,1.4299999475479126,17300]
["2009-04-20",1.4900000095367432,1.5499999523162842,1.4900000095367432,1.5399999618530271,14700]
["2009-04-17",1.5399999618530271,1.5499999523162842,1.4700000286102295,1.4700000286102295,25300]
["2009-04-16",1.6100000143051147,1.6499999761581421,1.5499999523162842,1.5900000333786011,43000]
["2009-04-15",1.690000057220459,1.690000057220459,1.6499999761581421,1.6599999666213989,11300]
["2009-04-14",1.6100000143051147,1.7000000476837158,1.6100000143051147,1.6699999570846558,12800]
["2009-04-13",1.5199999809265137,1.6499999761581421,1.5199999809265137,1.6200000047683716,68300]
["2009-04-09",1.4900000095367432,1.5299999713897705,1.4800000190734863,1.4800000190734863,10800]
["2009-04-08",1.5199999809265137,1.5299999713897705,1.4600000381469729,1.5099999904632568,15200]
["2009-04-07",1.440000057220459,1.5099999904632568,1.440000057220459,1.5099999904632568,19500]
["2009-04-06",1.4700000286102295,1.4700000286102295,1.3600000143051147,1.4700000286102295,59000]
["2009-04-03",1.6200000047683716,1.6200000047683716,1.4600000381469729,1.4900000095367432,63900]
["2009-04-02",1.7000000476837158,1.7400000095367432,1.6299999952316284,1.6399999856948853,34600]
["2009-04-01",1.7100000381469729,1.7599999904632568,1.6599999666213989,1.6699999570846558,20200]
["2009-03-31",1.6200000047683716,1.7200000286102295,1.6000000238418579,1.6799999475479126,43600]
["2009-03-30",1.6399999856948853,1.6399999856948853,1.5900000333786011,1.6399999856948853,4600]
["2009-03-27",1.6399999856948853,1.6799999475479126,1.5800000429153442,1.6599999666213989,20100]
["2009-03-26",1.7899999618530271,1.830000042915344,1.6299999952316284,1.7200000286102295,21800]
["2009-03-25",1.6799999475479126,1.7799999713897705,1.6799999475479126,1.7599999904632568,14100]
["2009-03-24",1.7300000190734863,1.7300000190734863,1.6399999856948853,1.7100000381469729,113000]
["2009-03-23",1.6599999666213989,1.7400000095367432,1.6599999666213989,1.7300000190734863,34900]
["2009-03-20",1.6299999952316284,1.6599999666213989,1.6000000238418579,1.6000000238418579,59900]
["2009-03-19",1.5499999523162842,1.7100000381469729,1.5399999618530271,1.6399999856948853,92700]
["2009-03-18",1.3600000143051147,1.4500000476837158,1.2899999618530271,1.4500000476837158,45300]
["2009-03-17",1.3400000333786011,1.3500000238418579,1.3300000429153442,1.3300000429153442,21800]
["2009-03-16",1.4199999570846558,1.4199999570846558,1.3200000524520874,1.3600000143051147,46300]
["2009-03-13",1.440000057220459,1.4700000286102295,1.3899999856948853,1.4299999475479126,124600]
["2009-03-12",1.4099999666213989,1.440000057220459,1.3899999856948853,1.4299999475479126,66400]
["2009-03-11",1.3999999761581421,1.4199999570846558,1.3600000143051147,1.4099999666213989,20900]
["2009-03-10",1.3500000238418579,1.4199999570846558,1.3300000429153442,1.4199999570846558,22500]
["2009-03-09",1.3799999952316284,1.3799999952316284,1.3200000524520874,1.3300000429153442,48800]
["2009-03-06",1.4500000476837158,1.4700000286102295,1.3999999761581421,1.4099999666213989,75300]
["2009-03-05",1.440000057220459,1.4500000476837158,1.4099999666213989,1.4099999666213989,16000]
["2009-03-04",1.4900000095367432,1.5099999904632568,1.4299999475479126,1.440000057220459,67500]
["2009-03-03",1.4600000381469729,1.5,1.4299999475479126,1.4900000095367432,82700]
["2009-03-02",1.5099999904632568,1.5099999904632568,1.440000057220459,1.4600000381469729,58500]
["2009-02-27",1.6200000047683716,1.6299999952316284,1.5499999523162842,1.5700000524520874,77400]
["2009-02-26",1.5199999809265137,1.5800000429153442,1.5,1.5800000429153442,55800]
["2009-02-25",1.6100000143051147,1.6599999666213989,1.559999942779541,1.5800000429153442,120300]
["2009-02-24",1.7699999809265137,1.7699999809265137,1.6000000238418579,1.6200000047683716,163000]
["2009-02-23",1.7699999809265137,1.7899999618530271,1.6499999761581421,1.7899999618530271,173200]
["2009-02-20",1.7999999523162842,1.8500000238418579,1.7100000381469729,1.7599999904632568,184300]
["2009-02-19",1.8500000238418579,1.8700000047683716,1.7400000095367432,1.7400000095367432,156900]
["2009-02-18",2.380000114440918,2.3900001049041748,2.2200000286102295,2.2200000286102295,132000]
["2009-02-17",2.4100000858306885,2.4900000095367432,2.3900001049041748,2.4200000762939453,67800]
["2009-02-13",2.2699999809265137,2.3499999046325684,2.2000000476837158,2.3499999046325684,33700]
["2009-02-12",2.4500000476837158,2.4500000476837158,2.1500000953674316,2.2699999809265137,63300]
["2009-02-11",2.3599998950958252,2.4200000762939453,2.3299999237060547,2.4100000858306885,70200]
["2009-02-10",2.2300000190734863,2.2999999523162842,2.2100000381469727,2.2699999809265137,31900]
["2009-02-09",2.0799999237060547,2.3199999332427979,2.0799999237060547,2.2100000381469727,88400]
["2009-02-06",2.0399999618530273,2.1600000858306885,2.0199999809265137,2.119999885559082,37500]
["2009-02-05",2.0099999904632568,2.0399999618530273,1.9600000381469729,2.0299999713897705,32000]
["2009-02-04",1.8999999761581421,2.0499999523162842,1.8899999856948853,1.9800000190734863,26000]
["2009-02-03",1.950000047683716,1.9600000381469729,1.8500000238418579,1.9099999666213989,79300]
["2009-02-02",2.0199999809265137,2.0199999809265137,1.919999957084656,1.940000057220459,66300]
["2009-01-30",2.1400001049041748,2.2100000381469727,2.1099998950958252,2.119999885559082,122700]
["2009-01-29",1.9900000095367432,2.0899999141693115,1.9800000190734863,2.0899999141693115,33700]
["2009-01-28",2.0499999523162842,2.0699999332427979,1.9299999475479128,1.9900000095367432,44100]
["2009-01-27",1.9299999475479128,2,1.9299999475479128,1.9600000381469729,28700]
["2009-01-26",1.9700000286102295,2.1500000953674316,1.9299999475479128,1.9299999475479128,62400]
["2009-01-23",1.8700000047683716,1.9600000381469729,1.7899999618530271,1.8500000238418579,123500]
["2009-01-22",1.7699999809265137,1.7999999523162842,1.6299999952316284,1.7999999523162842,53300]
["2009-01-21",1.8400000333786011,1.8700000047683716,1.6599999666213989,1.7599999904632568,118700]
["2009-01-20",2.0099999904632568,2.0399999618530273,1.809999942779541,1.9099999666213989,51000]
["2009-01-16",2.0199999809265137,2.0999999046325684,1.9299999475479128,2.0199999809265137,69600]
["2009-01-15",1.6599999666213989,1.8500000238418579,1.6100000143051147,1.8500000238418579,28200]
["2009-01-14",1.7599999904632568,1.7699999809265137,1.6499999761581421,1.6799999475479126,23600]
["2009-01-13",1.6699999570846558,1.7300000190734863,1.6699999570846558,1.7300000190734863,28300]
["2009-01-12",1.7799999713897705,1.809999942779541,1.6699999570846558,1.6799999475479126,71600]
["2009-01-09",2.119999885559082,2.1400001049041748,1.950000047683716,1.9700000286102295,76700]
["2009-01-08",2.0399999618530273,2.2400000095367432,1.9900000095367432,2.130000114440918,89200]
["2009-01-07",2.0299999713897705,2.2100000381469727,1.9900000095367432,2.1600000858306885,114300]
["2009-01-06",1.9600000381469729,2.25,1.9600000381469729,2.2000000476837158,67000]
["2009-01-05",1.950000047683716,2.059999942779541,1.8200000524520872,2.059999942779541,137600]
["2009-01-02",1.809999942779541,2.0699999332427979,1.7999999523162842,2.0299999713897705,58200]
["2008-12-31",1.7100000381469729,1.809999942779541,1.5800000429153442,1.809999942779541,76900]
["2008-12-30",1.5900000333786011,1.7300000190734863,1.5700000524520874,1.7000000476837158,38400]
["2008-12-29",1.5499999523162842,1.6699999570846558,1.5499999523162842,1.5800000429153442,123900]
["2008-12-26",1.4700000286102295,1.4700000286102295,1.4700000286102295,1.4700000286102295,0]
["2008-12-24",1.3799999952316284,1.4800000190734863,1.3600000143051147,1.4700000286102295,18900]
["2008-12-23",1.3899999856948853,1.3999999761581421,1.3600000143051147,1.3700000047683716,22200]
["2008-12-22",1.4299999475479126,1.440000057220459,1.309999942779541,1.3799999952316284,86500]
["2008-12-19",1.3700000047683716,1.3799999952316284,1.3200000524520874,1.3400000333786011,95100]
["2008-12-18",1.3899999856948853,1.3999999761581421,1.3200000524520874,1.3300000429153442,67100]
["2008-12-17",1.3200000524520874,1.3200000524520874,1.3200000524520874,1.3200000524520874,2000]
["2008-12-16",1.2100000381469729,1.3400000333786011,1.2100000381469729,1.2899999618530271,30300]
["2008-12-15",1.2599999904632568,1.2599999904632568,1.2000000476837158,1.2100000381469729,61100]
["2008-12-12",1.25,1.25,1.2000000476837158,1.2200000286102295,20600]
["2008-12-11",1.2999999523162842,1.309999942779541,1.2400000095367432,1.2599999904632568,88300]
["2008-12-10",1.1399999856948853,1.2599999904632568,1.1399999856948853,1.2300000190734863,64000]
["2008-12-09",1.1399999856948853,1.190000057220459,1.0299999713897705,1.1699999570846558,44700]
["2008-12-08",1.0900000333786011,1.2100000381469729,1.0900000333786011,1.190000057220459,37700]
["2008-12-05",0.95999997854232799,1.0099999904632568,0.89999997615814209,1.0099999904632568,39800]
["2008-12-04",1.1299999952316284,1.1499999761581421,0.95999997854232799,0.95999997854232799,11600]
["2008-12-03",1.0700000524520874,1.1200000047683716,1.0299999713897705,1.1200000047683716,7300]
["2008-12-02",1.1699999570846558,1.1699999570846558,1.1000000238418579,1.1299999952316284,57600]
["2008-12-01",1.25,1.25,1.1399999856948853,1.1699999570846558,27300]
["2008-11-28",1.2899999618530271,1.2999999523162842,1.2699999809265137,1.2999999523162842,15100]
["2008-11-26",1.2000000476837158,1.2200000286102295,1.1599999666213989,1.1799999475479126,45400]
["2008-11-25",1.2999999523162842,1.2999999523162842,1.1499999761581421,1.2200000286102295,231000]
["2008-11-24",1.3600000143051147,1.3600000143051147,1.2200000286102295,1.2799999713897705,52900]
["2008-11-21",0.99000000953674316,1.0299999713897705,0.87999999523162842,0.9700000286102296,45300]
["2008-11-20",0.8399999737739563,0.92000001668930043,0.82999998331069946,0.89999997615814209,57500]
["2008-11-19",0.92000001668930043,1,0.89999997615814209,0.94999998807907104,31800]
["2008-11-18",1.0299999713897705,1.0299999713897705,0.92000001668930043,0.92000001668930043,8300]
["2008-11-17",1.1100000143051147,1.1499999761581421,1.0800000429153442,1.1200000047683716,14100]
["2008-11-14",1.1799999475479126,1.1799999475479126,1.1100000143051147,1.1499999761581421,14000]
["2008-11-13",1,1.2200000286102295,0.86000001430511475,1.1799999475479126,62100]
["2008-11-12",1.1599999666213989,1.1599999666213989,0.98000001907348644,0.98000001907348644,56900]
["2008-11-11",1.1200000047683716,1.25,1.1200000047683716,1.1499999761581421,54300]
["2008-11-10",1.3300000429153442,1.3899999856948853,1.1299999952316284,1.2000000476837158,94400]
["2008-11-07",1.4299999475479126,1.4299999475479126,1.309999942779541,1.309999942779541,35900]
["2008-11-06",1.5399999618530271,1.5700000524520874,1.3899999856948853,1.3899999856948853,26800]
["2008-11-05",1.5299999713897705,1.6100000143051147,1.5,1.5700000524520874,34300]
["2008-11-04",1.4299999475479126,1.7200000286102295,1.4299999475479126,1.4900000095367432,55300]
["2008-11-03",1.2599999904632568,1.4299999475479126,1.2200000286102295,1.3600000143051147,31700]
["2008-10-31",1.0900000333786011,1.2200000286102295,1.0900000333786011,1.1699999570846558,22700]
["2008-10-30",1.0800000429153442,1.0900000333786011,1.0399999618530271,1.0399999618530271,22000]
["2008-10-29",0.93000000715255737,1.0700000524520874,0.93000000715255737,1.0099999904632568,84600]
["2008-10-28",0.75999999046325684,0.87999999523162842,0.75,0.85000002384185791,40300]
["2008-10-27",0.73000001907348633,0.74000000953674316,0.67000001668930054,0.70999997854232788,83100]
["2008-10-24",0.76999998092651367,0.81999999284744263,0.72000002861022949,0.76999998092651367,163600]
["2008-10-23",0.80000001192092896,0.9700000286102296,0.75,0.80000001192092896,238600]
["2008-10-22",0.93000000715255737,1.0700000524520874,0.93000000715255737,0.93000000715255737,23100]
["2008-10-21",1.0700000524520874,1.1699999570846558,1.0700000524520874,1.0700000524520874,46700]
["2008-10-20",1.1799999475479126,1.1799999475479126,1.1200000047683716,1.1799999475479126,24800]
["2008-10-17",1.1000000238418579,1.1200000047683716,0.95999997854232799,1.1000000238418579,46900]
["2008-10-16",1.0800000429153442,1.2599999904632568,1.0299999713897705,1.0800000429153442,30200]
["2008-10-15",1.2999999523162842,1.440000057220459,1.2999999523162842,1.2999999523162842,20500]
["2008-10-14",1.4500000476837158,1.4900000095367432,1.4099999666213989,1.4500000476837158,38300]
["2008-10-13",1.2599999904632568,1.2599999904632568,1.2599999904632568,1.2599999904632568,0]
["2008-10-10",1.2599999904632568,1.3999999761581421,1.1100000143051147,1.2599999904632568,123100]
["2008-10-09",1.3999999761581421,1.5099999904632568,1.3700000047683716,1.3999999761581421,129900]
["2008-10-08",1.4299999475479126,1.4700000286102295,1.3400000333786011,1.4299999475479126,85000]
["2008-10-07",1.4500000476837158,1.7999999523162842,1.4500000476837158,1.4500000476837158,74200]
["2008-10-06",1.6599999666213989,1.919999957084656,1.2899999618530271,1.6599999666213989,112400]
["2008-10-03",1.8999999761581421,2.119999885559082,1.8600000143051147,1.8999999761581421,67800]
["2008-10-02",1.9700000286102295,2.2699999809265137,1.9700000286102295,1.9700000286102295,32400]
["2008-10-01",2.2899999618530273,2.440000057220459,2.2899999618530273,2.2899999618530273,10100]
["2008-09-30",2.4000000953674316,2.5499999523162842,2.3499999046325684,2.4000000953674316,44800]
["2008-09-29",2.5499999523162842,2.7300000190734863,2.4700000286102295,2.5499999523162842,47200]
["2008-09-26",2.8599998950958252,3,2.809999942779541,2.8599998950958252,31800]
["2008-09-25",2.9300000667572021,3.0099999904632568,2.809999942779541,2.9300000667572021,38200]
["2008-09-24",2.8599998950958252,2.9100000858306885,2.8299999237060547,2.8599998950958252,43100]
["2008-09-23",2.869999885559082,3,2.8199999332427979,2.869999885559082,46800]
["2008-09-22",2.9200000762939453,3.119999885559082,2.7899999618530273,2.9200000762939453,98100]
["2008-09-19",2.5,2.6600000858306885,2.5,2.5,29600]
["2008-09-18",2.4700000286102295,2.7799999713897705,2.4600000381469727,2.4700000286102295,53500]
["2008-09-17",2.5099999904632568,2.619999885559082,2.2300000190734863,2.5099999904632568,54700]
["2008-09-16",2.2999999523162842,2.2999999523162842,2.1600000858306885,2.2999999523162842,30300]
["2008-09-15",2.3900001049041748,2.4900000095367432,2.309999942779541,2.3900001049041748,20600]
["2008-09-12",2.6400001049041748,2.6400001049041748,2.25,2.6400001049041748,48600]
["2008-09-11",2.3199999332427979,2.369999885559082,2.0199999809265137,2.3199999332427979,88800]
["2008-09-10",2.1400001049041748,2.2200000286102295,1.9800000190734863,2.1400001049041748,95300]
["2008-09-09",2.0899999141693115,2.369999885559082,2.0299999713897705,2.0899999141693115,56700]
["2008-09-08",2.4200000762939453,2.7699999809265137,2.3900001049041748,2.4200000762939453,44200]
["2008-09-05",2.7599999904632568,2.8900001049041748,2.6099998950958252,2.7599999904632568,52100]
["2008-09-04",2.8599998950958252,3.0999999046325684,2.8599998950958252,2.8599998950958252,19300]
["2008-09-03",3.130000114440918,3.2000000476837158,3.0999999046325684,3.130000114440918,16800]
["2008-09-02",3.1800000667572021,3.2599999904632568,3.130000114440918,3.1800000667572021,9800]
["2008-08-29",3.380000114440918,3.5199999809265137,3.3299999237060547,3.380000114440918,22200]
["2008-08-28",3.4600000381469727,3.5499999523162842,3.4000000953674316,3.4600000381469727,9100]
["2008-08-27",3.4300000667572021,3.5,3.3599998950958252,3.4300000667572021,31200]
["2008-08-26",3.3900001049041748,3.5,3.2999999523162842,3.3900001049041748,22400]
["2008-08-25",3.4200000762939453,3.559999942779541,3.380000114440918,3.4200000762939453,10000]
["2008-08-22",3.440000057220459,3.5399999618530273,3.3299999237060547,3.440000057220459,24700]
["2008-08-21",3.6400001049041748,3.6500000953674321,3.4500000476837158,3.6400001049041748,21300]
["2008-08-20",3.2999999523162842,3.5,3.2999999523162842,3.2999999523162842,31900]
["2008-08-19",3.5,3.5,3.190000057220459,3.5,16300]
["2008-08-18",3.2699999809265137,3.4100000858306885,3.2699999809265137,3.2699999809265137,22000]
["2008-08-15",3.2400000095367432,3.4000000953674316,3.2000000476837158,3.2400000095367432,47900]
["2008-08-14",3.5099999904632568,3.690000057220459,3.4300000667572021,3.5099999904632568,28200]
["2008-08-13",3.630000114440918,3.630000114440918,3.4800000190734863,3.630000114440918,30800]
["2008-08-12",3.4200000762939453,3.6700000762939458,3.3599998950958252,3.4200000762939453,79600]
["2008-08-11",3.3599998950958252,3.7300000190734863,3.2999999523162842,3.3599998950958252,67500]
["2008-08-08",3.6500000953674321,3.8499999046325679,3.5899999141693115,3.6500000953674321,83100]
["2008-08-07",3.8900001049041748,4.0999999046325684,3.8900001049041748,3.8900001049041748,44100]
["2008-08-06",4.1100001335144043,4.130000114440918,3.940000057220459,4.1100001335144043,33200]
["2008-08-05",3.9000000953674321,4.119999885559082,3.9000000953674321,3.9000000953674321,80100]
["2008-08-04",4.0999999046325684,4.0999999046325684,4.0999999046325684,4.0999999046325684,0]
["2008-08-01",4.0999999046325684,4.2199997901916504,4.0900001525878906,4.0999999046325684,7900]
["2008-07-31",4.0999999046325684,4.2699999809265137,3.9600000381469727,4.0999999046325684,16900]
["2008-07-30",4.2699999809265137,4.3299999237060547,4.0399999618530273,4.2699999809265137,21300]
["2008-07-29",4.179999828338623,4.179999828338623,4.059999942779541,4.179999828338623,19300]
["2008-07-28",4.0900001525878906,4.2800002098083496,4.0900001525878906,4.0900001525878906,26800]
["2008-07-25",4.369999885559082,4.3899998664855957,4.2199997901916504,4.369999885559082,13500]
["2008-07-24",4.309999942779541,4.3499999046325684,4.1500000953674316,4.309999942779541,37300]
["2008-07-23",4.3299999237060547,4.5199999809265137,4.309999942779541,4.3299999237060547,46000]
["2008-07-22",4.4600000381469727,4.5500001907348633,4.440000057220459,4.4600000381469727,39500]
["2008-07-21",4.5999999046325684,4.7699999809265137,4.5999999046325684,4.5999999046325684,10500]
["2008-07-18",4.7199997901916504,4.7800002098083496,4.6700000762939453,4.7199997901916504,46700]
["2008-07-17",4.6100001335144043,4.880000114440918,4.6100001335144043,4.6100001335144043,69700]
["2008-07-16",4.869999885559082,4.8899998664855957,4.690000057220459,4.869999885559082,26600]
["2008-07-15",4.869999885559082,4.929999828338623,4.5900001525878906,4.869999885559082,63200]
["2008-07-14",4.75,4.75,4.4600000381469727,4.75,150600]
["2008-07-11",4.5,4.6100001335144043,4.3899998664855957,4.5,83800]
["2008-07-10",4.4000000953674316,4.5100002288818359,4.3299999237060547,4.4000000953674316,21300]
["2008-07-09",4.5199999809265137,4.5199999809265137,4.2899999618530273,4.5199999809265137,25400]
["2008-07-08",4.2300000190734863,4.25,3.9900000095367432,4.2300000190734863,21500]
["2008-07-07",4.2600002288818359,4.5100002288818359,4.2600002288818359,4.2600002288818359,19000]
["2008-07-03",4.4099998474121094,4.5999999046325684,4.4099998474121094,4.4099998474121094,11200]
["2008-07-02",4.6399998664855957,4.6700000762939453,4.320000171661377,4.6399998664855957,13500]
["2008-07-01",4.6599998474121094,4.6599998474121094,4.6599998474121094,4.6599998474121094,0]
["2008-06-30",4.6599998474121094,4.7600002288818359,4.6399998664855957,4.6599998474121094,12000]
["2008-06-27",4.6700000762939453,4.690000057220459,4.5100002288818359,4.6700000762939453,20100]
["2008-06-26",4.429999828338623,4.5900001525878906,4.25,4.429999828338623,41900]
["2008-06-25",4.1999998092651367,4.2800002098083496,4.0500001907348633,4.1999998092651367,16800]
["2008-06-24",4.25,4.2899999618530273,4.130000114440918,4.25,7900]
["2008-06-23",4.2199997901916504,4.2199997901916504,4.2199997901916504,4.2199997901916504,0]
["2008-06-20",4.2199997901916504,4.3000001907348633,4.2199997901916504,4.2199997901916504,16100]
["2008-06-19",4.2399997711181641,4.4000000953674316,4.2399997711181641,4.2399997711181641,76100]
["2008-06-18",4.2600002288818359,4.309999942779541,4.2199997901916504,4.2600002288818359,36500]
["2008-06-17",4.3000001907348633,4.3000001907348633,4.1599998474121094,4.3000001907348633,20600]
["2008-06-16",4.2300000190734863,4.3600001335144043,4.2100000381469727,4.2300000190734863,43300]
["2008-06-13",4.25,4.3000001907348633,4.2199997901916504,4.25,33500]
["2008-06-12",4.3899998664855957,4.4000000953674316,4.25,4.3899998664855957,9900]
["2008-06-11",4.369999885559082,4.4899997711181641,4.3600001335144043,4.369999885559082,10100]
["2008-06-10",4.369999885559082,4.570000171661377,4.320000171661377,4.369999885559082,12800]
["2008-06-09",4.5100002288818359,4.679999828338623,4.4000000953674316,4.5100002288818359,32600]
["2008-06-06",4.4899997711181641,4.5300002098083496,4.4000000953674316,4.4899997711181641,38600]
["2008-06-05",4.3899998664855957,4.429999828338623,4.2600002288818359,4.3899998664855957,26600]
["2008-06-04",4.380000114440918,4.4000000953674316,4.2699999809265137,4.380000114440918,20400]
["2008-06-03",4.4899997711181641,4.5300002098083496,4.440000057220459,4.4899997711181641,6100]
["2008-06-02",4.5500001907348633,4.5799999237060547,4.5100002288818359,4.5500001907348633,12000]
["2008-05-30",4.570000171661377,4.6399998664855957,4.5399999618530273,4.570000171661377,10600]
["2008-05-29",4.5500001907348633,4.7199997901916504,4.5500001907348633,4.5500001907348633,30100]
["2008-05-28",4.7600002288818359,4.7600002288818359,4.5,4.7600002288818359,34100]
["2008-05-27",4.6500000953674316,4.8499999046325684,4.440000057220459,4.6500000953674316,81200]
["2008-05-23",4.8499999046325684,4.8499999046325684,4.7399997711181641,4.8499999046325684,12700]
["2008-05-22",4.690000057220459,4.8000001907348633,4.6700000762939453,4.690000057220459,13000]
["2008-05-21",4.8600001335144043,5.0399999618530273,4.809999942779541,4.8600001335144043,51700]
["2008-05-20",4.7899999618530273,4.7899999618530273,4.440000057220459,4.7899999618530273,137800]
["2008-05-19",4.380000114440918,4.380000114440918,4.380000114440918,4.380000114440918,0]
["2008-05-16",4.380000114440918,4.380000114440918,0.43000000715255737,4.380000114440918,58700]
["2008-05-15",4.0999999046325684,4.1500000953674316,4.0300002098083496,4.0999999046325684,21000]
["2008-05-14",4.0399999618530273,4.070000171661377,4,4.0399999618530273,15700]
["2008-05-13",4.0399999618530273,4.1500000953674316,4,4.0399999618530273,17900]
["2008-05-12",4.1399998664855957,4.2100000381469727,4.070000171661377,4.1399998664855957,20900]
["2008-05-09",4.1399998664855957,4.1999998092651367,4.0999999046325684,4.1399998664855957,10000]
["2008-05-08",4.059999942779541,4.059999942779541,3.9800000190734863,4.059999942779541,11600]
["2008-05-07",3.9800000190734863,4.070000171661377,3.9600000381469727,3.9800000190734863,14300]
["2008-05-06",4.0300002098083496,4.1500000953674316,4,4.0300002098083496,19300]
["2008-05-05",4,4.0399999618530273,3.9700000286102295,4,13000]
["2008-05-02",3.9600000381469727,3.9800000190734863,3.7599999904632568,3.9600000381469727,13400]
["2008-05-01",3.7300000190734863,3.7699999809265137,3.6400001049041748,3.7300000190734863,32000]
["2008-04-30",3.7599999904632568,3.869999885559082,3.7400000095367432,3.7599999904632568,57000]
["2008-04-29",3.8499999046325679,3.940000057220459,3.7999999523162842,3.8499999046325679,38100]
["2008-04-28",4.070000171661377,4.1999998092651367,4.0199999809265137,4.070000171661377,15700]
["2008-04-25",4.1599998474121094,4.1599998474121094,3.9900000095367432,4.1599998474121094,25100]
["2008-04-24",4.0500001907348633,4.0500001907348633,3.690000057220459,4.0500001907348633,40900]
["2008-04-23",3.8399999141693111,4.0399999618530273,3.8199999332427979,3.8399999141693111,49400]
["2008-04-22",4.0999999046325684,4.130000114440918,4.070000171661377,4.0999999046325684,54600]
["2008-04-21",4.059999942779541,4.4000000953674316,4.059999942779541,4.059999942779541,34800]
["2008-04-18",4.2899999618530273,4.4200000762939453,4.2600002288818359,4.2899999618530273,54300]
["2008-04-17",4.429999828338623,4.4499998092651367,4.3499999046325684,4.429999828338623,67900]
["2008-04-16",4.5,4.5,4.380000114440918,4.5,24800]
["2008-04-15",4.3400001525878906,4.380000114440918,4.3000001907348633,4.3400001525878906,12400]
["2008-04-14",4.3499999046325684,4.4099998474121094,4.3400001525878906,4.3499999046325684,22100]
["2008-04-11",4.3600001335144043,4.380000114440918,4.3299999237060547,4.3600001335144043,22100]
["2008-04-10",4.3600001335144043,4.429999828338623,4.3400001525878906,4.3600001335144043,30300]
["2008-04-09",4.4200000762939453,4.4200000762939453,4.2800002098083496,4.4200000762939453,23100]
["2008-04-08",4.2800002098083496,4.4600000381469727,4.2399997711181641,4.2800002098083496,40600]
["2008-04-07",4.559999942779541,4.559999942779541,4.3499999046325684,4.559999942779541,67500]
["2008-04-04",4.320000171661377,4.4099998474121094,4.2899999618530273,4.320000171661377,42500]
["2008-04-03",4.2899999618530273,4.369999885559082,4.2899999618530273,4.2899999618530273,5900]
["2008-04-02",4.3000001907348633,4.440000057220459,4.1999998092651367,4.3000001907348633,30000]
["2008-04-01",4.1100001335144043,4.190000057220459,3.9900000095367432,4.1100001335144043,24200]
["2008-03-31",4.190000057220459,4.5,4.190000057220459,4.190000057220459,31700]
["2008-03-28",4.5300002098083496,4.619999885559082,4.4499998092651367,4.5300002098083496,29600]
["2008-03-27",4.5500001907348633,4.5999999046325684,4.5100002288818359,4.5500001907348633,9000]
["2008-03-26",4.570000171661377,4.6599998474121094,4.570000171661377,4.570000171661377,25000]
["2008-03-25",4.5799999237060547,4.5900001525878906,4.4899997711181641,4.5799999237060547,60700]
["2008-03-24",4.4499998092651367,4.5300002098083496,4.369999885559082,4.4499998092651367,123900]
["2008-03-20",4.3000001907348633,4.320000171661377,4.0999999046325684,4.3000001907348633,56200]
["2008-03-19",4.5399999618530273,4.869999885559082,4.4800000190734863,4.5399999618530273,149500]
["2008-03-18",4.9800000190734863,5.0300002098083496,4.9200000762939453,4.9800000190734863,44300]
["2008-03-17",4.9800000190734863,5.0500001907348633,4.9099998474121094,4.9800000190734863,57700]
["2008-03-14",5.1100001335144043,5.2300000190734863,5.059999942779541,5.1100001335144043,32000]
["2008-03-13",5.2800002098083496,5.3000001907348633,5.059999942779541,5.2800002098083496,28000]
["2008-03-12",5.179999828338623,5.1999998092651367,5.1399998664855957,5.179999828338623,33600]
["2008-03-11",5.130000114440918,5.130000114440918,5.0199999809265137,5.130000114440918,15900]
["2008-03-10",5.0500001907348633,5.1599998474121094,4.929999828338623,5.0500001907348633,131800]
["2008-03-07",5.0799999237060547,5.190000057220459,5.070000171661377,5.0799999237060547,76600]
["2008-03-06",5.1599998474121094,5.3400001525878906,5.1100001335144043,5.1599998474121094,113100]
["2008-03-05",5.7100000381469727,5.7600002288818359,5.4899997711181641,5.7100000381469727,58900]
["2008-03-04",5.429999828338623,5.6500000953674316,5.130000114440918,5.429999828338623,78700]
["2008-03-03",5.820000171661377,5.820000171661377,5.2800002098083496,5.820000171661377,135800]
["2008-02-29",5.2199997901916504,5.25,5.130000114440918,5.2199997901916504,29900]
["2008-02-28",5.3400001525878906,5.4099998474121094,4.9899997711181641,5.3400001525878906,105600]
["2008-02-27",5.0500001907348633,5.119999885559082,4.9499998092651367,5.0500001907348633,40000]
["2008-02-26",4.7899999618530273,4.809999942779541,4.5199999809265137,4.7899999618530273,24800]
["2008-02-25",4.619999885559082,4.6500000953674316,4.559999942779541,4.619999885559082,34100]
["2008-02-22",4.4699997901916504,4.559999942779541,4.4600000381469727,4.4699997901916504,29500]
["2008-02-21",4.4800000190734863,4.5900001525878906,4.4699997901916504,4.4800000190734863,66700]
["2008-02-20",4.380000114440918,4.380000114440918,4.179999828338623,4.380000114440918,24600]
["2008-02-19",4.2399997711181641,4.4000000953674316,4.2399997711181641,4.2399997711181641,36400]
["2008-02-15",4.2300000190734863,4.4099998474121094,4.2300000190734863,4.2300000190734863,26700]
["2008-02-14",4.320000171661377,4.3400001525878906,4.320000171661377,4.320000171661377,5100]
["2008-02-13",4.3000001907348633,4.380000114440918,4.2600002288818359,4.3000001907348633,25200]
["2008-02-12",4.3499999046325684,4.5100002288818359,4.3400001525878906,4.3499999046325684,37600]
["2008-02-11",4.3600001335144043,4.3899998664855957,4.2800002098083496,4.3600001335144043,19000]
["2008-02-08",4.2699999809265137,4.320000171661377,4.2199997901916504,4.2699999809265137,32400]
["2008-02-07",4.2600002288818359,4.2600002288818359,4.0999999046325684,4.2600002288818359,11800]
["2008-02-06",4.130000114440918,4.2300000190734863,4.130000114440918,4.130000114440918,19100]
["2008-02-05",4.1500000953674316,4.2699999809265137,4.130000114440918,4.1500000953674316,37100]
["2008-02-04",4.309999942779541,4.4200000762939453,4.1399998664855957,4.309999942779541,110700]
["2008-02-01",4.5300002098083496,4.5900001525878906,4.440000057220459,4.5300002098083496,33200]
["2008-01-31",4.5399999618530273,4.5799999237060547,4.2399997711181641,4.5399999618530273,13200]
["2008-01-30",4.4000000953674316,4.5,4.2899999618530273,4.4000000953674316,25400]
["2008-01-29",4.2899999618530273,4.3899998664855957,4.25,4.2899999618530273,26000]
["2008-01-28",4.3400001525878906,4.4800000190734863,4.25,4.3400001525878906,21000]
["2008-01-25",4.559999942779541,4.7300000190734863,4.3899998664855957,4.559999942779541,24900]
["2008-01-24",4.5199999809265137,4.5799999237060547,4.4000000953674316,4.5199999809265137,24000]
["2008-01-23",4.2199997901916504,4.2699999809265137,3.7699999809265137,4.2199997901916504,93200]
["2008-01-22",4.1399998664855957,4.429999828338623,3.809999942779541,4.1399998664855957,51800]
["2008-01-18",4.4899997711181641,4.5799999237060547,4.440000057220459,4.4899997711181641,40900]
["2008-01-17",4.570000171661377,4.7399997711181641,4.559999942779541,4.570000171661377,123100]
["2008-01-16",4.6500000953674316,4.7800002098083496,4.440000057220459,4.6500000953674316,49600]
["2008-01-15",4.929999828338623,5.1100001335144043,4.8499999046325684,4.929999828338623,23700]
["2008-01-14",4.9600000381469727,5.0399999618530273,4.8400001525878906,4.9600000381469727,54700]
["2008-01-11",4.7300000190734863,4.809999942779541,4.6500000953674316,4.7300000190734863,23100]
["2008-01-10",4.8000001907348633,4.8000001907348633,4.5300002098083496,4.8000001907348633,15400]
["2008-01-09",4.6700000762939453,4.809999942779541,4.4899997711181641,4.6700000762939453,114800]
["2008-01-08",4.7600002288818359,4.9000000953674316,4,4.7600002288818359,54100]
["2008-01-07",4.5999999046325684,4.7699999809265137,4.5300002098083496,4.5999999046325684,45600]
["2008-01-04",4.619999885559082,4.8000001907348633,4.619999885559082,4.619999885559082,15700]
["2008-01-03",4.75,4.7800002098083496,4.6500000953674316,4.75,27800]
["2008-01-02",4.809999942779541,4.8499999046325684,4.6700000762939453,4.809999942779541,48000]
["2007-12-31",4.6500000953674316,4.7199997901916504,4.5500001907348633,4.6500000953674316,9200]
["2007-12-28",4.619999885559082,4.7199997901916504,4.5,4.619999885559082,18200]
["2007-12-27",4.4899997711181641,4.6599998474121094,4.4499998092651367,4.4899997711181641,30900]
["2007-12-26",4.380000114440918,4.380000114440918,4.380000114440918,4.380000114440918,0]
["2007-12-24",4.380000114440918,4.3899998664855957,4.380000114440918,4.380000114440918,7000]
["2007-12-21",4.2800002098083496,4.3400001525878906,4.190000057220459,4.2800002098083496,18300]
["2007-12-20",4.1599998474121094,4.2300000190734863,4.059999942779541,4.1599998474121094,30200]
["2007-12-19",4.2300000190734863,4.2399997711181641,4.119999885559082,4.2300000190734863,16300]
["2007-12-18",4.2300000190734863,4.2300000190734863,4.059999942779541,4.2300000190734863,22100]
["2007-12-17",4.2300000190734863,4.3000001907348633,4.0799999237060547,4.2300000190734863,40100]
["2007-12-14",4.3000001907348633,4.309999942779541,4.190000057220459,4.3000001907348633,16700]
["2007-12-13",4.3400001525878906,4.5199999809265137,4.2600002288818359,4.3400001525878906,27700]
["2007-12-12",4.5199999809265137,4.5799999237060547,4.320000171661377,4.5199999809265137,376000]
["2007-12-11",4.3000001907348633,4.440000057220459,4.2399997711181641,4.3000001907348633,31800]
["2007-12-10",4.25,4.2800002098083496,4.2399997711181641,4.25,4300]
["2007-12-07",4.179999828338623,4.2899999618530273,4.1599998474121094,4.179999828338623,13700]
["2007-12-06",4.1999998092651367,4.3499999046325684,4.119999885559082,4.1999998092651367,30600]
["2007-12-05",4.2899999618530273,4.4499998092651367,4.2800002098083496,4.2899999618530273,21600]
["2007-12-04",4.369999885559082,4.4200000762939453,4.2399997711181641,4.369999885559082,9900]
["2007-12-03",4.25,4.2800002098083496,4.1100001335144043,4.25,36200]
["2007-11-30",4.2600002288818359,4.320000171661377,4.1399998664855957,4.2600002288818359,22700]
["2007-11-29",4.3299999237060547,4.3299999237060547,4.2199997901916504,4.3299999237060547,34800]
["2007-11-28",4.4000000953674316,4.4000000953674316,4.4000000953674316,4.4000000953674316,0]
["2007-11-27",4.4000000953674316,4.4699997901916504,4.3499999046325684,4.4000000953674316,96900]
["2007-11-26",4.4099998474121094,4.4099998474121094,4.4099998474121094,4.4099998474121094,0]
["2007-11-23",4.4099998474121094,4.4099998474121094,4.25,4.4099998474121094,17800]
["2007-11-21",4.570000171661377,4.570000171661377,4.2399997711181641,4.2600002288818359,40000]
["2007-11-20",4.570000171661377,4.5799999237060547,4.380000114440918,4.570000171661377,36500]
["2007-11-19",4.3600001335144043,4.4699997901916504,4.2899999618530273,4.3600001335144043,61100]
["2007-11-16",4.5199999809265137,4.619999885559082,4.429999828338623,4.5199999809265137,24200]
["2007-11-15",4.5399999618530273,4.7399997711181641,4.5199999809265137,4.5399999618530273,69000]
["2007-11-14",4.8600001335144043,4.9899997711181641,4.8600001335144043,4.8600001335144043,56400]
["2007-11-13",4.8600001335144043,4.8600001335144043,4.570000171661377,4.8600001335144043,35900]
["2007-11-12",4.619999885559082,4.6399998664855957,4.4000000953674316,4.619999885559082,29900]
["2007-11-09",4.8600001335144043,4.8600001335144043,4.7699999809265137,4.8600001335144043,12300]
["2007-11-08",4.9499998092651367,5.2300000190734863,4.8499999046325684,4.9499998092651367,44300]
["2007-11-07",5.1399998664855957,5.4000000953674316,5.070000171661377,5.1399998664855957,90800]
["2007-11-06",5.0300002098083496,5.1100001335144043,4.8299999237060547,5.0300002098083496,63300]
["2007-11-05",4.7899999618530273,4.8000001907348633,4.75,4.7899999618530273,7700]
["2007-11-02",4.820000171661377,4.820000171661377,4.5300002098083496,4.820000171661377,52300]
["2007-11-01",4.559999942779541,4.6599998474121094,4.4600000381469727,4.559999942779541,59600]
["2007-10-31",4.6599998474121094,4.75,3.75,4.6599998474121094,94200]
["2007-10-30",4.5799999237060547,4.6100001335144043,4.5500001907348633,4.5799999237060547,16200]
["2007-10-29",4.630000114440918,4.6399998664855957,4.4800000190734863,4.630000114440918,98900]
["2007-10-26",4.4200000762939453,4.4800000190734863,4.2600002288818359,4.4200000762939453,41200]
["2007-10-25",4.2100000381469727,4.2399997711181641,4.1500000953674316,4.2100000381469727,61000]
["2007-10-24",4.1599998474121094,4.2600002288818359,4.0999999046325684,4.1599998474121094,54700]
["2007-10-23",4.2100000381469727,4.2600002288818359,4.0100002288818359,4.2100000381469727,100900]
["2007-10-22",4.070000171661377,4.1100001335144043,3.9100000858306889,4.070000171661377,59800]
["2007-10-19",4.3000001907348633,4.369999885559082,4.2300000190734863,4.3000001907348633,51400]
["2007-10-18",4.25,4.25,4.119999885559082,4.25,12800]
["2007-10-17",4.0999999046325684,4.3000001907348633,4.0799999237060547,4.0999999046325684,62300]
["2007-10-16",4.25,4.4000000953674316,4.190000057220459,4.25,24100]
["2007-10-15",4.4000000953674316,4.4899997711181641,4.320000171661377,4.4000000953674316,17200]
["2007-10-12",4.429999828338623,4.429999828338623,4.25,4.429999828338623,27100]
["2007-10-11",4.3499999046325684,4.559999942779541,4.2800002098083496,4.3499999046325684,110700]
["2007-10-10",4.4200000762939453,4.4800000190734863,4.3000001907348633,4.4200000762939453,87300]
["2007-10-09",4.320000171661377,4.3299999237060547,3.9100000858306889,4.320000171661377,52900]
["2007-10-08",3.9000000953674321,3.9000000953674321,3.9000000953674321,3.9000000953674321,0]
["2007-10-05",3.9000000953674321,3.9700000286102295,3.7999999523162842,3.9000000953674321,42100]
["2007-10-04",3.7899999618530273,3.8299999237060542,3.6500000953674321,3.7899999618530273,40100]
["2007-10-03",3.7400000095367432,3.8299999237060542,3.690000057220459,3.7400000095367432,40500]
["2007-10-02",3.7200000286102295,3.75,3.630000114440918,3.7200000286102295,44900]
["2007-10-01",3.8599998950958252,4,3.8399999141693111,3.8599998950958252,31400]
["2007-09-28",4,4.0100002288818359,3.7799999713897705,4,42700]
["2007-09-27",3.7100000381469727,3.7100000381469727,3.6400001049041748,3.7100000381469727,6700]
["2007-09-26",3.5999999046325684,3.5999999046325684,3.5399999618530273,3.5999999046325684,10100]
["2007-09-25",3.5899999141693115,3.7000000476837158,3.5799999237060547,3.5899999141693115,17400]
["2007-09-24",3.7100000381469727,3.809999942779541,3.690000057220459,3.7100000381469727,52700]
["2007-09-21",3.7599999904632568,3.9000000953674321,3.7100000381469727,3.7599999904632568,26900]
["2007-09-20",3.8499999046325679,3.9000000953674321,3.6400001049041748,3.8499999046325679,44000]
["2007-09-19",3.4000000953674316,3.6800000667572021,3.4000000953674316,3.4000000953674316,31000]
["2007-09-18",3.4900000095367432,3.5199999809265137,3.2400000095367432,3.4900000095367432,12500]
["2007-09-17",3.2699999809265137,3.309999942779541,3.2200000286102295,3.2699999809265137,11600]
["2007-09-14",3.309999942779541,3.309999942779541,3.2400000095367432,3.309999942779541,4800]
["2007-09-13",3.2300000190734863,3.2899999618530273,3.2000000476837158,3.2300000190734863,13000]
["2007-09-12",3.3399999141693115,3.369999885559082,3.2799999713897705,3.3399999141693115,17200]
["2007-09-11",3.2999999523162842,3.4000000953674316,3.2400000095367432,3.2999999523162842,120900]
["2007-09-10",3.25,3.4000000953674316,3.2100000381469727,3.25,35800]
["2007-09-07",3.3299999237060547,3.3299999237060547,3.2799999713897705,3.3299999237060547,29800]
["2007-09-06",3.2400000095367432,3.3599998950958252,3.2100000381469727,3.2400000095367432,67700]
["2007-09-05",3.2100000381469727,3.3399999141693115,3.2100000381469727,3.2100000381469727,10100]
["2007-09-04",3.3599998950958252,3.3599998950958252,3.1800000667572021,3.3599998950958252,38200]
["2007-08-31",3.1099998950958252,3.190000057220459,3.0999999046325684,3.1099998950958252,19700]
["2007-08-30",2.9300000667572021,3.0499999523162842,2.9300000667572021,2.9300000667572021,18100]
["2007-08-29",2.9900000095367432,3.0999999046325684,2.9900000095367432,2.9900000095367432,47800]
["2007-08-28",3.0899999141693115,3.2100000381469727,3.059999942779541,3.0899999141693115,13300]
["2007-08-27",3.2000000476837158,3.2699999809265137,3.1500000953674316,3.2000000476837158,18600]
["2007-08-24",3.0899999141693115,3.130000114440918,3.0299999713897705,3.0899999141693115,21800]
["2007-08-23",3.0299999713897705,3.2899999618530273,3.0299999713897705,3.0299999713897705,30900]
["2007-08-22",3.1500000953674316,3.2300000190734863,3.1400001049041748,3.1500000953674316,14700]
["2007-08-21",3.119999885559082,3.130000114440918,3.0699999332427979,3.119999885559082,71700]
["2007-08-20",3.1099998950958252,3.7400000095367432,3.1099998950958252,3.1099998950958252,25100]
["2007-08-17",3.1099998950958252,3.1700000762939453,2.9100000858306885,3.1099998950958252,37600]
["2007-08-16",3.0499999523162842,3.0799999237060547,2.6500000953674316,3.0499999523162842,111000]
["2007-08-15",3.3299999237060547,3.5399999618530273,3.3299999237060547,3.3299999237060547,106500]
["2007-08-14",3.7400000095367432,3.7599999904632568,3.619999885559082,3.7400000095367432,26200]
["2007-08-13",3.7999999523162842,3.7999999523162842,3.5899999141693115,3.7999999523162842,141500]
["2007-08-10",3.8199999332427979,3.8199999332427979,3.3199999332427979,3.8199999332427979,49600]
["2007-08-09",3.6600000858306889,3.8399999141693111,3.5999999046325684,3.6600000858306889,35200]
["2007-08-08",3.9900000095367432,4.0799999237060547,3.9900000095367432,3.9900000095367432,31600]
["2007-08-07",4.0199999809265137,4.1399998664855957,3.880000114440918,4.0199999809265137,65000]
["2007-08-06",4.2300000190734863,4.2300000190734863,4.2300000190734863,4.2300000190734863,0]
["2007-08-03",4.2300000190734863,4.4499998092651367,4.1700000762939453,4.2300000190734863,14500]
["2007-08-02",4.4600000381469727,4.4800000190734863,4.4499998092651367,4.4600000381469727,5200]
["2007-08-01",4.5,4.5300002098083496,4.3899998664855957,4.5,17400]
["2007-07-31",4.3000001907348633,4.3000001907348633,4.3000001907348633,4.3000001907348633,300]
["2007-07-30",4.3000001907348633,4.3600001335144043,4.25,4.3000001907348633,14800]
["2007-07-27",4.3899998664855957,4.4000000953674316,4.3299999237060547,4.3899998664855957,13100]
["2007-07-26",4.440000057220459,4.5,4.2600002288818359,4.440000057220459,25800]
["2007-07-25",4.5199999809265137,4.5999999046325684,4.5,4.5199999809265137,10600]
["2007-07-24",4.7100000381469727,4.7100000381469727,4.5399999618530273,4.7100000381469727,28600]
["2007-07-23",4.5799999237060547,4.6599998474121094,4.5799999237060547,4.5799999237060547,4900]
["2007-07-20",4.6599998474121094,4.7199997901916504,4.5500001907348633,4.6599998474121094,13200]
["2007-07-19",4.6999998092651367,4.7800002098083496,4.6700000762939453,4.6999998092651367,3000]
["2007-07-18",4.7899999618530273,4.8400001525878906,4.7300000190734863,4.7899999618530273,16400]
["2007-07-17",4.8000001907348633,4.8000001907348633,4.6999998092651367,4.8000001907348633,12000]
["2007-07-16",4.820000171661377,4.869999885559082,4.7399997711181641,4.820000171661377,12200]
["2007-07-13",4.7800002098083496,4.880000114440918,4.7800002098083496,4.7800002098083496,49900]
["2007-07-12",4.8400001525878906,4.9099998474121094,4.5,4.8400001525878906,21900]
["2007-07-11",4.7199997901916504,4.7199997901916504,4.6100001335144043,4.7199997901916504,33000]
["2007-07-10",4.6500000953674316,4.7100000381469727,4.5900001525878906,4.6500000953674316,29900]
["2007-07-09",4.6500000953674316,4.6599998474121094,4.4499998092651367,4.6500000953674316,25600]
["2007-07-06",4.619999885559082,4.619999885559082,4.2300000190734863,4.619999885559082,19300]
["2007-07-05",4.3000001907348633,4.3600001335144043,4.1999998092651367,4.3000001907348633,19000]
["2007-07-03",4.3299999237060547,4.3499999046325684,4.1999998092651367,4.3299999237060547,7600]
["2007-07-02",4.1399998664855957,4.1399998664855957,4.1399998664855957,4.1399998664855957,0]
["2007-06-29",4.1399998664855957,4.2399997711181641,4.1399998664855957,4.1399998664855957,2200]
["2007-06-28",4.1399998664855957,4.1599998474121094,4.119999885559082,4.1399998664855957,3000]
["2007-06-27",4.0500001907348633,4.0500001907348633,3.8599998950958252,4.0500001907348633,11300]
["2007-06-26",3.9600000381469727,4.2100000381469727,3.9600000381469727,3.9600000381469727,24100]
["2007-06-25",4.3600001335144043,4.4899997711181641,4.25,4.3600001335144043,4500]
["2007-06-22",4.4699997901916504,4.4699997901916504,4.440000057220459,4.4699997901916504,9200]
["2007-06-21",4.440000057220459,4.4499998092651367,4.3299999237060547,4.440000057220459,7500]
["2007-06-20",4.4499998092651367,4.4899997711181641,4.440000057220459,4.4499998092651367,21300]
["2007-06-19",4.3499999046325684,4.3899998664855957,4.2600002288818359,4.3499999046325684,23400]
["2007-06-18",4.25,4.2899999618530273,4.130000114440918,4.25,38200]
["2007-06-15",4.1500000953674316,4.1500000953674316,3.940000057220459,4.1500000953674316,23100]
["2007-06-14",4.0799999237060547,4.0799999237060547,3.8299999237060542,4.0799999237060547,20700]
["2007-06-13",3.7699999809265137,3.869999885559082,3.7300000190734863,3.7699999809265137,29500]
["2007-06-12",3.8199999332427979,3.8900001049041748,3.809999942779541,3.8199999332427979,18800]
["2007-06-11",3.9600000381469727,4.0500001907348633,3.9100000858306889,3.9600000381469727,49900]
["2007-06-08",4,4.059999942779541,3.9600000381469727,4,21700]
["2007-06-07",4.070000171661377,4.2800002098083496,4.070000171661377,4.070000171661377,13600]
["2007-06-06",4.3000001907348633,4.3600001335144043,4.190000057220459,4.3000001907348633,50700]
["2007-06-05",4.3499999046325684,4.3899998664855957,4.2699999809265137,4.3499999046325684,16100]
["2007-06-04",4.4099998474121094,4.6100001335144043,4.3499999046325684,4.4099998474121094,31900]
["2007-06-01",4.3899998664855957,4.3899998664855957,4.2800002098083496,4.3899998664855957,40400]
["2007-05-31",4.179999828338623,4.190000057220459,4.130000114440918,4.179999828338623,20900]
["2007-05-30",3.9700000286102295,4.0500001907348633,3.7999999523162842,3.9700000286102295,22400]
["2007-05-29",3.9700000286102295,3.9900000095367432,3.869999885559082,3.9700000286102295,56200]
["2007-05-25",3.9200000762939458,4.0799999237060547,3.7999999523162842,3.9200000762939458,58100]
["2007-05-24",3.8299999237060542,4.0500001907348633,3.5899999141693115,3.8299999237060542,40100]
["2007-05-23",4.0999999046325684,4.3000001907348633,4.0999999046325684,4.0999999046325684,21000]
["2007-05-22",4.059999942779541,4.3499999046325684,4.059999942779541,4.059999942779541,23200]
["2007-05-21",4.3299999237060547,4.3299999237060547,4.3299999237060547,4.3299999237060547,500]
["2007-05-18",4.3299999237060547,4.3299999237060547,4.1500000953674316,4.3299999237060547,11300]
["2007-05-17",4.25,4.320000171661377,4.0799999237060547,4.25,59100]
["2007-05-16",4.2300000190734863,4.2800002098083496,4.0300002098083496,4.2300000190734863,42700]
["2007-05-15",4.1700000762939453,4.369999885559082,4.1399998664855957,4.1700000762939453,22000]
["2007-05-14",4.3000001907348633,4.5399999618530273,4.2800002098083496,4.3000001907348633,53100]
["2007-05-11",4.4899997711181641,4.5799999237060547,4.4000000953674316,4.4899997711181641,21500]
["2007-05-10",4.5100002288818359,4.5100002288818359,4.3499999046325684,4.5100002288818359,33600]
["2007-05-09",4.4899997711181641,4.5,4.3899998664855957,4.4899997711181641,17800]
["2007-05-08",4.4699997901916504,4.570000171661377,4.4600000381469727,4.4699997901916504,5500]
["2007-05-07",4.619999885559082,4.6399998664855957,4.4800000190734863,4.619999885559082,40400]
["2007-05-04",4.4000000953674316,4.4600000381469727,4.3499999046325684,4.4000000953674316,43400]
["2007-05-03",4.3899998664855957,4.5,4.3499999046325684,4.3899998664855957,77500]
["2007-05-02",4.4899997711181641,4.5,4.369999885559082,4.4899997711181641,63300]
["2007-05-01",4.2699999809265137,4.3499999046325684,4.1599998474121094,4.2699999809265137,78100]
["2007-04-30",4.0500001907348633,4.070000171661377,3.9500000476837158,4.0500001907348633,82800]
["2007-04-27",4.1500000953674316,4.3899998664855957,4.130000114440918,4.1500000953674316,66800]
["2007-04-26",4.3400001525878906,4.440000057220459,4.2899999618530273,4.3400001525878906,66100]
["2007-04-25",4.4200000762939453,4.5100002288818359,4.380000114440918,4.4200000762939453,54500]
["2007-04-24",4.5199999809265137,4.6399998664855957,4.5199999809265137,4.5199999809265137,3000]
["2007-04-23",4.6100001335144043,4.7699999809265137,4.6100001335144043,4.6100001335144043,19300]
["2007-04-20",4.7699999809265137,4.9099998474121094,4.7300000190734863,4.7699999809265137,57800]
["2007-04-19",4.690000057220459,4.7899999618530273,4.619999885559082,4.690000057220459,90800]
["2007-04-18",4.809999942779541,4.869999885559082,4.6999998092651367,4.809999942779541,14500]
["2007-04-17",4.7199997901916504,4.9000000953674316,4.7100000381469727,4.7199997901916504,86300]
["2007-04-16",4.9000000953674316,4.9000000953674316,4.7800002098083496,4.9000000953674316,6100]
["2007-04-13",4.679999828338623,4.679999828338623,4.5,4.679999828338623,33400]
["2007-04-12",4.5,4.5,4.5,4.5,2000]
["2007-04-11",4.3899998664855957,4.4699997901916504,4.369999885559082,4.3899998664855957,36700]
["2007-04-10",4.4000000953674316,4.5999999046325684,4.369999885559082,4.4000000953674316,31000]
["2007-04-09",4.4099998474121094,4.429999828338623,4.369999885559082,4.4099998474121094,27800]
["2007-04-05",4.4099998474121094,4.4499998092651367,4.369999885559082,4.4099998474121094,32300]
["2007-04-04",4.369999885559082,4.369999885559082,4.3000001907348633,4.369999885559082,25400]
["2007-04-03",4.3499999046325684,4.369999885559082,4.2800002098083496,4.3499999046325684,39800]
["2007-04-02",4.3000001907348633,4.3400001525878906,4.2800002098083496,4.3000001907348633,26400]
["2007-03-30",4.369999885559082,4.369999885559082,4.2699999809265137,4.369999885559082,16000]
["2007-03-29",4.25,4.380000114440918,4.25,4.25,58500]
["2007-03-28",4.2899999618530273,4.380000114440918,4.2899999618530273,4.2899999618530273,13800]
["2007-03-27",4.309999942779541,4.3899998664855957,4.309999942779541,4.309999942779541,30800]
["2007-03-26",4.2899999618530273,4.369999885559082,4.2899999618530273,4.2899999618530273,24400]
["2007-03-23",4.380000114440918,4.440000057220459,4.309999942779541,4.369999885559082,45600]
["2007-03-22",4.380000114440918,4.380000114440918,4.2699999809265137,4.380000114440918,26800]
["2007-03-21",4.2899999618530273,4.4800000190734863,4.2300000190734863,4.2899999618530273,86500]
["2007-03-20",4.619999885559082,4.7399997711181641,4.570000171661377,4.619999885559082,43100]
["2007-03-19",4.6100001335144043,4.6100001335144043,4.5999999046325684,4.6100001335144043,9000]
["2007-03-16",4.5999999046325684,4.6999998092651367,4.5799999237060547,4.5999999046325684,45900]
["2007-03-15",4.4000000953674316,4.429999828338623,4.3499999046325684,4.4000000953674316,1600]
["2007-03-14",4.1500000953674316,4.2699999809265137,4.0500001907348633,4.1500000953674316,58900]
["2007-03-13",4.369999885559082,4.5799999237060547,4.369999885559082,4.369999885559082,34100]
["2007-03-12",4.619999885559082,4.7100000381469727,4.5500001907348633,4.619999885559082,14700]
["2007-03-09",4.6599998474121094,4.6599998474121094,4.5100002288818359,4.6599998474121094,15800]
["2007-03-08",4.630000114440918,4.679999828338623,4.5500001907348633,4.630000114440918,26400]
["2007-03-07",4.4000000953674316,4.7100000381469727,4.4000000953674316,4.4000000953674316,54000]
["2007-03-06",4.5199999809265137,4.5199999809265137,4.2199997901916504,4.5199999809265137,27900]
["2007-03-05",4.1999998092651367,4.2399997711181641,4.1599998474121094,4.1999998092651367,95400]
["2007-03-02",4.4699997901916504,4.5999999046325684,4.3000001907348633,4.4699997901916504,147000]
["2007-03-01",4.6700000762939453,4.7199997901916504,4.5399999618530273,4.6700000762939453,133500]
["2007-02-28",4.6399998664855957,4.75,4.4699997901916504,4.6399998664855957,85100]
["2007-02-27",4.9499998092651367,5.1700000762939453,4.8400001525878906,4.9499998092651367,44600]
["2007-02-26",5.4800000190734863,5.4800000190734863,5.25,5.4800000190734863,50200]
["2007-02-23",5.25,5.2600002288818359,5.0999999046325684,5.25,42800]
["2007-02-22",5.0399999618530273,5.059999942779541,4.9499998092651367,5.0399999618530273,131900]
["2007-02-21",5.0500001907348633,5.1100001335144043,5.0300002098083496,5.0500001907348633,78000]
["2007-02-20",5.059999942779541,5.2699999809265137,5.059999942779541,5.059999942779541,105200]
["2007-02-16",4.9200000762939453,4.9699997901916504,4.6599998474121094,4.9200000762939453,50600]
["2007-02-15",4.7100000381469727,4.7399997711181641,4.630000114440918,4.7100000381469727,45000]
["2007-02-14",4.619999885559082,4.6599998474121094,4.5199999809265137,4.619999885559082,114600]
["2007-02-13",4.3499999046325684,4.3499999046325684,4.3000001907348633,4.3499999046325684,76000]
["2007-02-12",4.0799999237060547,4.1599998474121094,4.0799999237060547,4.0799999237060547,74800]
["2007-02-09",4.2100000381469727,4.2699999809265137,3.9800000190734863,4.2100000381469727,183800]
["2007-02-08",4.130000114440918,4.25,4,4.130000114440918,217500]
["2007-02-07",4.2300000190734863,4.320000171661377,4.1599998474121094,4.2300000190734863,121300]
["2007-02-06",4.3000001907348633,4.309999942779541,4.3000001907348633,4.3000001907348633,89400]
["2007-02-05",4.4000000953674316,4.4000000953674316,4.4000000953674316,4.4000000953674316,0]
["2007-02-02",4.4000000953674316,4.4000000953674316,4.190000057220459,4.4000000953674316,39800]
["2007-02-01",4.5999999046325684,4.6500000953674316,4.570000171661377,4.5999999046325684,15000]
["2007-01-31",4.619999885559082,4.679999828338623,4.559999942779541,4.619999885559082,21900]
["2007-01-30",4.6700000762939453,4.7300000190734863,4.5100002288818359,4.6700000762939453,30300]
["2007-01-29",4.679999828338623,4.7600002288818359,4.679999828338623,4.679999828338623,4500]
["2007-01-26",4.679999828338623,4.7600002288818359,4.5900001525878906,4.679999828338623,8000]
["2007-01-25",4.679999828338623,4.7600002288818359,4.679999828338623,4.679999828338623,14500]
["2007-01-24",4.5900001525878906,4.5900001525878906,4.5799999237060547,4.5900001525878906,5800]
["2007-01-23",4.5900001525878906,4.5900001525878906,4.4899997711181641,4.5900001525878906,4600]
["2007-01-22",4.5,4.5,4.4800000190734863,4.5,35800]
["2007-01-19",4.619999885559082,4.7800002098083496,4.619999885559082,4.619999885559082,14300]
["2007-01-18",4.820000171661377,4.8600001335144043,4.820000171661377,4.820000171661377,12900]
["2007-01-17",4.7899999618530273,4.7899999618530273,4.7199997901916504,4.7899999618530273,22800]
["2007-01-16",4.6599998474121094,4.7399997711181641,4.6599998474121094,4.6599998474121094,59100]
["2007-01-12",4.630000114440918,4.679999828338623,4.5399999618530273,4.630000114440918,52100]
["2007-01-11",4.5500001907348633,4.5500001907348633,4.4899997711181641,4.5500001907348633,7100]
["2007-01-10",4.5100002288818359,4.5100002288818359,4.3499999046325684,4.5100002288818359,5700]
["2007-01-09",4.5199999809265137,4.559999942779541,4.4600000381469727,4.5199999809265137,49100]
["2007-01-08",4.4000000953674316,4.440000057220459,4.1100001335144043,4.4000000953674316,13800]
["2007-01-05",4.0900001525878906,4.3499999046325684,4.0199999809265137,4.0900001525878906,37700]
["2007-01-04",4.3499999046325684,4.5,4.3499999046325684,4.3499999046325684,27000]
["2007-01-03",4.5500001907348633,4.7199997901916504,4.3000001907348633,4.5500001907348633,63000]
["2006-12-29",4.179999828338623,4.25,4.1399998664855957,4.179999828338623,30800]
["2006-12-28",4.1500000953674316,4.1500000953674316,4.070000171661377,4.1500000953674316,63000]
["2006-12-27",4.059999942779541,4.059999942779541,3.9500000476837158,4.059999942779541,10500]
["2006-12-26",3.940000057220459,3.940000057220459,3.940000057220459,3.940000057220459,0]
["2006-12-22",3.940000057220459,3.9900000095367432,3.8499999046325679,3.940000057220459,8500]
["2006-12-21",3.8499999046325679,3.9100000858306889,3.8199999332427979,3.8499999046325679,55400]
["2006-12-20",3.940000057220459,4.0300002098083496,3.940000057220459,3.940000057220459,9000]
["2006-12-19",4,4.0100002288818359,3.9100000858306889,4,15600]
["2006-12-18",3.9900000095367432,4.059999942779541,3.9700000286102295,3.9900000095367432,20900]
["2006-12-15",4,4.0300002098083496,3.9000000953674321,4,20000]
["2006-12-14",3.9300000667572021,4.0399999618530273,3.9100000858306889,3.9300000667572021,4700]
["2006-12-13",3.7799999713897705,3.8499999046325679,3.7599999904632568,3.7799999713897705,15500]
["2006-12-12",3.7400000095367432,3.7400000095367432,3.7400000095367432,3.7400000095367432,3000]
["2006-12-11",3.690000057220459,3.7400000095367432,3.690000057220459,3.690000057220459,900]
["2006-12-08",3.6400001049041748,3.7999999523162842,3.6099998950958252,3.6400001049041748,20300]
["2006-12-07",3.7300000190734863,4.6500000953674316,3.6500000953674321,3.7300000190734863,17200]
["2006-12-06",3.690000057220459,3.7699999809265137,3.690000057220459,3.690000057220459,10400]
["2006-12-05",3.7699999809265137,3.869999885559082,3.75,3.7699999809265137,40600]
["2006-12-04",3.8900001049041748,3.9500000476837158,3.7999999523162842,3.8900001049041748,86200]
["2006-12-01",3.809999942779541,3.9500000476837158,3.7799999713897705,3.809999942779541,23000]
["2006-11-30",3.940000057220459,3.940000057220459,3.8399999141693111,3.940000057220459,24300]
["2006-11-29",3.9200000762939458,3.9600000381469727,3.8399999141693111,3.9200000762939458,58200]
["2006-11-28",3.9000000953674321,3.9000000953674321,3.7300000190734863,3.9000000953674321,19800]

{"sheet":"64 MM","index":2,"n_rows":175,"n_cols":146,"rows_kept":175,"cut":false,"hidden":false,"merged":[[14,6,14,7],[14,37,14,38],[20,37,20,38],[9,37,9,38],[10,37,10,38],[11,37,11,38],[12,37,12,38],[13,37,13,38],[15,37,15,38],[16,37,16,38],[17,37,17,38],[18,37,18,38],[19,37,19,38],[21,37,21,38],[22,37,22,38],[23,37,23,38],[24,31,24,34],[24,36,24,38]]}
[null,{"$f":"+K4","v":17.1875},{"$f":"+K18","v":7.8125},{"$f":"+K16","v":0.78125}]
[{"$f":"COUNT(A4:A132)+3","v":128},null,null,null,null,null,null,null,null,null,null,null,null,null,null,null,null,null,null,null,null,null,null,null,null,null,null,null,null,null,null,null,null,null,"ALGORITHM",null,null,null,null,null,{"$f":"COUNT(B4:B132)","v":77},{"$f":"\"A\"&COUNT(B4:B132)+3","v":"A80"},null,null,null,null,null,null,null,null,null,null,null,null,null,null,null,null,null,null,null,"0-8/8-U","0-6/8-U","0-4/8-U","0-2/8-U",null,null,null,"0-8/8-U","0-6/8-U","0-4/8-U","0-2/8-U",null,null,null,"0-8/8-D","0-2/8-D","0-4/8-D","0-6/8-D",null,null,null,"0-8/8-D","0-2/8-D","0-4/8-D","0-6/8-D",null,null,null,null,null,null,null,"0-1 U",null,null,null,null,null,null,null,null,null,null,null,null,null,null,null,null,null,null,null,null,null,null,null,null,null,null,null,null,null,"0-1 U",0.125,0.25,0.375,0.5,0.625,0.75,0.875]
["Date","Open","High","Low","Close",null,null,null,null,null,null,null,null,null,null,null,null,null,null,null,null,null,null,null,"SELECTING OUR MASTER SQUARE",null,null,null,null,null,null,null,null,null,"Trunc(Log(Square/Range,2))",null,null,null,null,null,"Date","-2/8 Inner","-2/8 Outer","2/8 Inner","2/8 Outer","6/8 Inner","6/8 Outer","10/8 Inner","10/8 Outer","4/8 Inner","4/8 Outer","Mlines","mlines","blines","0/8 line","8/8 line","1/3 line","2/3 line","1MS-78 U","1MS-67 U","1MS-56 U","1MS-45 U","1MS-33 U","1MS-22.5 U","1MS-11.25 U","2MS-78 U","2MS-67 U","2MS-56 U","2MS-45 U","2MS-33 U","2MS-22.5 U","2MS-11.25 U","1MS-78 D","1MS-67 D","1MS-56 D","1MS-45 D","1MS-33 D","1MS-22.5 D","1MS-11.25 D","2MS-78 D","2MS-67 D","2MS-56 D","2MS-45 D","2MS-33 D","2MS-22.5 D","2MS-11.25 D","1MMLU-1","1MMLU-2","1MMLU-3","1MMLU-4","1MMLU-5","1MMLU-6","1MMLU-7","1MMLU-8","1MMLU-9","1MMLU-10","1MMLU-11","1MMLU-12","1MMLU-13","1MMLU-14","1MMLU-15","2MMLU-1","2MMLU-2","2MMLU-3","2MMLU-4","2MMLU-5","2MMLU-6","2MMLU-7","2MMLU-8","2MMLU-9","2MMLU-10","2MMLU-11","2MMLU-12","2MMLU-13","2MMLU-14","2MMLU-15","1MMLD-1","1MMLD-2","1MMLD-3","1MMLD-4","1MMLD-5","1MMLD-6","1MMLD-7","1MMLD-8","1MMLD-9","1MMLD-10","1MMLD-11","1MMLD-12","1MMLD-13","1MMLD-14","1MMLD-15","2MMLD-1","2MMLD-2","2MMLD-3","2MMLD-4","2MMLD-5","2MMLD-6","2MMLD-7","2MMLD-8","2MMLD-9","2MMLD-10","2MMLD-11","2MMLD-12","2MMLD-13","2MMLD-14","2MMLD-15"]
[{"$f":"+AO4","v":"2020-07-10"},{"$f":"VLOOKUP($A4,Data!$A$2:$E$150,2,FALSE)","v":10.619999885559082},{"$f":"VLOOKUP($A4,Data!$A$2:$E$150,3,FALSE)","v":10.680000305175779},{"$f":"VLOOKUP($A4,Data!$A$2:$E$150,4,FALSE)","v":10.300000190734863},{"$f":"VLOOKUP($A4,Data!$A$2:$E$150,5,FALSE)","v":10.409999847412109},null,64,1,null,"+2",{"$f":"K5+1/8*(K$7-K$15)","v":17.1875},{"$f":"IF(AND($H$11>=K4,$H$11<=K6),$H$11,\"\")","v":""},"+2",{"$f":"N5+1/8*(N$7-N$15)","v":15.625},null,"+2",{"$f":"Q5+1/8*(Q$7-Q$15)","v":11.328125},{"$f":"IF(AND($H$11>=Q4,$H$11<=Q6),$H$11,\"\")","v":""},"+2",{"$f":"T5+1/8*(T$7-T$15)","v":10.986328125},{"$f":"IF(AND($H$11>=T4,$H$11<=T6),$H$11,\"\")","v":""},null,"Settings",null,null,null,null,"Price","Time",null,null,null,null,{"$f":"\"= Whole No.LOG of \"&TRUNC(LOG(Z29/Z32,2))","v":"= Whole No.LOG of 1"},null,null,null,null,null,null,{"$f":"+H21","v":"2020-07-10"},{"$f":"IF($W$11,IF(VLOOKUP($AO4,$R$37:$R$46,1,),-2/8,NA()),NA())","v":{"$error":"#N/A"}},{"$f":"IF($W$11,IF(VLOOKUP($AO4,$R$37:$R$46,1,),-2/8,NA()),NA())","v":{"$error":"#N/A"}},{"$f":"IF($W$11,IF(VLOOKUP($AO4,$R$37:$R$46,1,),2/8,NA()),NA())","v":{"$error":"#N/A"}},{"$f":"IF($W$11,IF(VLOOKUP($AO4,$R$37:$R$46,1,),2/8,NA()),NA())","v":{"$error":"#N/A"}},{"$f":"IF($W$11,IF(VLOOKUP($AO4,$R$37:$R$46,1,),6/8,NA()),NA())","v":{"$error":"#N/A"}},{"$f":"IF($W$11,IF(VLOOKUP($AO4,$R$37:$R$46,1,),6/8,NA()),NA())","v":{"$error":"#N/A"}},{"$f":"IF($W$11,IF(VLOOKUP($AO4,$R$37:$R$46,1,),10/8,NA()),NA())","v":{"$error":"#N/A"}},{"$f":"IF($W$11,IF(VLOOKUP($AO4,$R$37:$R$46,1,),10/8,NA()),NA())","v":{"$error":"#N/A"}},{"$f":"IF($W$11,IF(VLOOKUP($AO4,$R$72:$R$76,1,),4/8,NA()),NA())","v":{"$error":"#N/A"}},{"$f":"IF($W$11,IF(VLOOKUP($AO4,$R$72:$R$76,1,),4/8,NA()),NA())","v":{"$error":"#N/A"}},{"$f":"IF(VLOOKUP(AO4,J$47:J$52,1,),10/8,NA())","v":1.25},{"$f":"IF($W$14,IF(VLOOKUP(AO4,L$44:L$64,1,),9/8,NA()))","v":1.125},{"$f":"IF($W$14,IF(VLOOKUP(AO4,M$40:M$79,1,),8/8,NA()))","v":1},0,1,0.33333333333333331,0.66666666666666663,{"$f":"IF($W$5,IF(AO4=$H$21,0,IF(AO4=$G$26,1,NA())),NA())","v":0},{"$f":"IF($W$5,IF(AO4=$H$21,0,IF(AO4=$G$27,1,NA())),NA())","v":0},{"$f":"IF($W$5,IF(AO4=$H$21,0,IF(AO4=$G$28,1,NA())),NA())","v":0},{"$f":"IF($W$5,IF(AO4=$H$21,0,IF(AO4=$H$22,1,NA())),NA())","v":0},{"$f":"IF($W$5,IF(AO4=$H$21,0,IF(AO4=$H$22,6/8,NA())),NA())","v":0},{"$f":"IF($W$5,IF(AO4=$H$21,0,IF(AO4=$H$22,4/8,NA())),NA())","v":0},{"$f":"IF($W$5,IF(AO4=$H$21,0,IF(AO4=$H$22,2/8,NA())),NA())","v":0},{"$f":"IF($W$5,IF(AO4=$H$22,0,IF(AO4=$H$26,1,NA())),NA())","v":{"$error":"#N/A"}},{"$f":"IF($W$5,IF(AO4=$H$22,0,IF(AO4=$H$27,1,NA())),NA())","v":{"$error":"#N/A"}},{"$f":"IF($W$5,IF(AO4=$H$22,0,IF(AO4=$H$28,1,NA())),NA())","v":{"$error":"#N/A"}},{"$f":"IF($W$5,IF(AO4=$H$22,0,IF(AO4=$H$23,1,NA())),NA())","v":{"$error":"#N/A"}},{"$f":"IF($W$5,IF(AO4=$H$22,0,IF(AO4=$H$23,6/8,NA())),NA())","v":{"$error":"#N/A"}},{"$f":"IF($W$5,IF(AO4=$H$22,0,IF(AO4=$H$23,4/8,NA())),NA())","v":{"$error":"#N/A"}},{"$f":"IF($W$5,IF(AO4=$H$22,0,IF(AO4=$H$23,2/8,NA())),NA())","v":{"$error":"#N/A"}},{"$f":"IF($W$8,IF(AO4=$H$21,1,IF(AO4=$G$26,0,NA())),NA())","v":{"$error":"#N/A"}},{"$f":"IF($W$8,IF(AO4=$H$21,1,IF(AO4=$G$27,0,NA())),NA())","v":{"$error":"#N/A"}},{"$f":"IF($W$8,IF(AO4=$H$21,1,IF(AO4=$G$28,0,NA())),NA())","v":{"$error":"#N/A"}},{"$f":"IF($W$8,IF(AO4=$H$21,1,IF(AO4=$H$22,0,NA())),NA())","v":{"$error":"#N/A"}},{"$f":"IF($W$8,IF(AO4=$H$21,1,IF(AO4=$H$22,2/8,NA())),NA())","v":{"$error":"#N/A"}},{"$f":"IF($W$8,IF(AO4=$H$21,1,IF(AO4=$H$22,4/8,NA())),NA())","v":{"$error":"#N/A"}},{"$f":"IF($W$8,IF(AO4=$H$21,1,IF(AO4=$H$22,6/8,NA())),NA())","v":{"$error":"#N/A"}},{"$f":"IF($W$8,IF(AO4=$H$22,1,IF(AO4=$H$26,0,NA())),NA())","v":{"$error":"#N/A"}},{"$f":"IF($W$8,IF(AO4=$H$22,1,IF(AO4=$H$27,0,NA())),NA())","v":{"$error":"#N/A"}},{"$f":"IF($W$8,IF(AO4=$H$22,1,IF(AO4=$H$28,0,NA())),NA())","v":{"$error":"#N/A"}},{"$f":"IF($W$8,IF(AO4=$H$22,1,IF(AO4=$H$23,0,NA())),NA())","v":{"$error":"#N/A"}},{"$f":"IF($W$8,IF(AO4=$H$22,1,IF(AO4=$H$23,2/8,NA())),NA())","v":{"$error":"#N/A"}},{"$f":"IF($W$8,IF(AO4=$H$22,1,IF(AO4=$H$23,4/8,NA())),NA())","v":{"$error":"#N/A"}},{"$f":"IF($W$8,IF(AO4=$H$22,1,IF(AO4=$H$23,6/8,NA())),NA())","v":{"$error":"#N/A"}},{"$f":"IF($W$17,IF(AO4=$M$26,0,IF(AO4=$H$22,1/8,NA())),NA())","v":{"$error":"#N/A"}},{"$f":"IF($W$17,IF(AO4=$G$28,0,IF(AO4=$H$22,2/8,NA())),NA())","v":{"$error":"#N/A"}},{"$f":"IF($W$17,IF(AO4=$J$28,0,IF(AO4=$H$22,3/8,NA())),NA())","v":{"$error":"#N/A"}},{"$f":"IF($W$17,IF(AO4=$G$27,0,IF(AO4=$H$22,4/8,NA())),NA())","v":{"$error":"#N/A"}},{"$f":"IF($W$17,IF(AO4=$J$27,0,IF(AO4=$H$22,5/8,NA())),NA())","v":{"$error":"#N/A"}},{"$f":"IF($W$17,IF(AO4=$G$26,0,IF(AO4=$H$22,6/8,NA())),NA())","v":{"$error":"#N/A"}},{"$f":"IF($W$17,IF(AO4=$J$26,0,IF(AO4=$H$22,7/8,NA())),NA())","v":{"$error":"#N/A"}},{"$f":"IF($W$17,IF(AO4=$H$21,0,IF(AO4=$H$22,1,NA())),NA())","v":0},{"$f":"IF($W$17,IF(AO4=$M$26,1,IF(AO4=$H$21,1/8,NA())),NA())","v":0.125},{"$f":"IF($W$17,IF(AO4=$G$28,1,IF(AO4=$H$21,2/8,NA())),NA())","v":0.25},{"$f":"IF($W$17,IF(AO4=$J$28,1,IF(AO4=$H$21,3/8,NA())),NA())","v":0.375},{"$f":"IF($W$17,IF(AO4=$G$27,1,IF(AO4=$H$21,4/8,NA())),NA())","v":0.5},{"$f":"IF($W$17,IF(AO4=$J$27,1,IF(AO4=$H$21,5/8,NA())),NA())","v":0.625},{"$f":"IF($W$17,IF(AO4=$G$26,1,IF(AO4=$H$21,6/8,NA())),NA())","v":0.75},{"$f":"IF($W$17,IF(AO4=$J$26,1,IF(AO4=$H$21,7/8,NA())),NA())","v":0.875},{"$f":"IF($W$17,IF(AO4=$N$26,0,IF(AO4=$H$23,1/8,NA())),NA())","v":{"$error":"#N/A"}},{"$f":"IF($W$17,IF(AO4=$H$28,0,IF(AO4=$H$23,2/8,NA())),NA())","v":{"$error":"#N/A"}},{"$f":"IF($W$17,IF(AO4=$K$28,0,IF(AO4=$H$23,3/8,NA())),NA())","v":{"$error":"#N/A"}},{"$f":"IF($W$17,IF(AO4=$H$27,0,IF(AO4=$H$23,4/8,NA())),NA())","v":{"$error":"#N/A"}},{"$f":"IF($W$17,IF(AO4=$K$27,0,IF(AO4=$H$23,5/8,NA())),NA())","v":{"$error":"#N/A"}},{"$f":"IF($W$17,IF(AO4=$H$26,0,IF(AO4=$H$23,6/8,NA())),NA())","v":{"$error":"#N/A"}},{"$f":"IF($W$17,IF(AO4=$K$26,0,IF(AO4=$H$23,7/8,NA())),NA())","v":{"$error":"#N/A"}},{"$f":"IF($W$17,IF(AO4=$H$22,0,IF(AO4=$H$23,1,NA())),NA())","v":{"$error":"#N/A"}},{"$f":"IF($W$17,IF(AO4=$N$26,1,IF(AO4=$H$22,1/8,NA())),NA())","v":{"$error":"#N/A"}},{"$f":"IF($W$17,IF(AO4=$H$28,1,IF(AO4=$H$22,2/8,NA())),NA())","v":{"$error":"#N/A"}},{"$f":"IF($W$17,IF(AO4=$K$28,1,IF(AO4=$H$22,3/8,NA())),NA())","v":{"$error":"#N/A"}},{"$f":"IF($W$17,IF(AO4=$H$27,1,IF(AO4=$H$22,4/8,NA())),NA())","v":{"$error":"#N/A"}},{"$f":"IF($W$17,IF(AO4=$K$27,1,IF(AO4=$H$22,5/8,NA())),NA())","v":{"$error":"#N/A"}},{"$f":"IF($W$17,IF(AO4=$H$26,1,IF(AO4=$H$22,6/8,NA())),NA())","v":{"$error":"#N/A"}},{"$f":"IF($W$17,IF(AO4=$K$26,1,IF(AO4=$H$22,7/8,NA())),NA())","v":{"$error":"#N/A"}},{"$f":"IF($W$20,IF(AO4=$J$26,0,IF(AO4=$H$21,1/8,NA())),NA())","v":{"$error":"#N/A"}},{"$f":"IF($W$20,IF(AO4=$G$26,0,IF(AO4=$H$21,2/8,NA())),NA())","v":{"$error":"#N/A"}},{"$f":"IF($W$20,IF(AO4=$J$27,0,IF(AO4=$H$21,3/8,NA())),NA())","v":{"$error":"#N/A"}},{"$f":"IF($W$20,IF(AO4=$G$27,0,IF(AO4=$H$21,4/8,NA())),NA())","v":{"$error":"#N/A"}},{"$f":"IF($W$20,IF(AO4=$J$28,0,IF(AO4=$H$21,5/8,NA())),NA())","v":{"$error":"#N/A"}},{"$f":"IF($W$20,IF(AO4=$G$28,0,IF(AO4=$H$21,6/8,NA())),NA())","v":{"$error":"#N/A"}},{"$f":"IF($W$20,IF(AO4=$M$26,0,IF(AO4=$H$21,7/8,NA())),NA())","v":{"$error":"#N/A"}},{"$f":"IF($W$20,IF(AO4=$H$21,1,IF(AO4=$H$22,0,NA())),NA())","v":{"$error":"#N/A"}},{"$f":"IF($W$20,IF(AO4=$J$26,1,IF(AO4=$H$22,1/8,NA())),NA())","v":{"$error":"#N/A"}},{"$f":"IF($W$20,IF(AO4=$G$26,1,IF(AO4=$H$22,2/8,NA())),NA())","v":{"$error":"#N/A"}},{"$f":"IF($W$20,IF(AO4=$J$27,1,IF(AO4=$H$22,3/8,NA())),NA())","v":{"$error":"#N/A"}},{"$f":"IF($W$20,IF(AO4=$G$27,1,IF(AO4=$H$22,4/8,NA())),NA())","v":{"$error":"#N/A"}},{"$f":"IF($W$20,IF(AO4=$J$28,1,IF(AO4=$H$22,5/8,NA())),NA())","v":{"$error":"#N/A"}},{"$f":"IF($W$20,IF(AO4=$G$28,1,IF(AO4=$H$22,6/8,NA())),NA())","v":{"$error":"#N/A"}},{"$f":"IF($W$20,IF(AO4=$M$26,1,IF(AO4=$H$22,7/8,NA())),NA())","v":{"$error":"#N/A"}},{"$f":"IF($W$20,IF(AO4=$K$26,0,IF(AO4=$H$22,1/8,NA())),NA())","v":{"$error":"#N/A"}},{"$f":"IF($W$20,IF(AO4=$H$26,0,IF(AO4=$H$22,2/8,NA())),NA())","v":{"$error":"#N/A"}},{"$f":"IF($W$20,IF(AO4=$K$27,0,IF(AO4=$H$22,3/8,NA())),NA())","v":{"$error":"#N/A"}},{"$f":"IF($W$20,IF(AO4=$H$27,0,IF(AO4=$H$22,4/8,NA())),NA())","v":{"$error":"#N/A"}},{"$f":"IF($W$20,IF(AO4=$K$28,0,IF(AO4=$H$22,5/8,NA())),NA())","v":{"$error":"#N/A"}},{"$f":"IF($W$20,IF(AO4=$H$28,0,IF(AO4=$H$22,6/8,NA())),NA())","v":{"$error":"#N/A"}},{"$f":"IF($W$20,IF(AO4=$N$26,0,IF(AO4=$H$22,7/8,NA())),NA())","v":{"$error":"#N/A"}},{"$f":"IF($W$20,IF(AO4=$H$22,1,IF(AO4=$H$23,0,NA())),NA())","v":{"$error":"#N/A"}},{"$f":"IF($W$20,IF(AO4=$K$26,1,IF(AO4=$H$23,1/8,NA())),NA())","v":{"$error":"#N/A"}},{"$f":"IF($W$20,IF(AO4=$H$26,1,IF(AO4=$H$23,2/8,NA())),NA())","v":{"$error":"#N/A"}},{"$f":"IF($W$20,IF(AO4=$K$27,1,IF(AO4=$H$23,3/8,NA())),NA())","v":{"$error":"#N/A"}},{"$f":"IF($W$20,IF(AO4=$H$27,1,IF(AO4=$H$23,4/8,NA())),NA())","v":{"$error":"#N/A"}},{"$f":"IF($W$20,IF(AO4=$K$28,1,IF(AO4=$H$23,5/8,NA())),NA())","v":{"$error":"#N/A"}},{"$f":"IF($W$20,IF(AO4=$H$28,1,IF(AO4=$H$23,6/8,NA())),NA())","v":{"$error":"#N/A"}},{"$f":"IF($W$20,IF(AO4=$N$26,1,IF(AO4=$H$23,7/8,NA())),NA())","v":{"$error":"#N/A"}}]
[{"$f":"+AO5","v":"2020-07-13"},{"$f":"VLOOKUP($A5,Data!$A$2:$E$150,2,FALSE)","v":10.810000419616699},{"$f":"VLOOKUP($A5,Data!$A$2:$E$150,3,FALSE)","v":11.069999694824221},{"$f":"VLOOKUP($A5,Data!$A$2:$E$150,4,FALSE)","v":10.159999847412109},{"$f":"VLOOKUP($A5,Data!$A$2:$E$150,5,FALSE)","v":10.170000076293944},null,{"$f":"+AB15","v":12.5},null,null,"+1",{"$f":"K7+1/8*(K$7-K$15)","v":16.40625},{"$f":"IF(AND($H$11>=K5,$H$11<=K4),$H$11,\"\")","v":""},"+1",{"$f":"N7+1/8*(N$7-N$15)","v":14.0625},null,"+1",{"$f":"Q7+1/8*(Q$7-Q$15)","v":11.1328125},{"$f":"IF(AND($H$11>=Q5,$H$11<=Q4),$H$11,\"\")","v":""},"+1",{"$f":"T7+1/8*(T$7-T$15)","v":10.9619140625},{"$f":"IF(AND($H$11>=T5,$H$11<=T4),$H$11,\"\")","v":""},null,true,null,250000,25000,100000,{"$f":"IF(AND($H$11<=Y5,$H$11>Z5),AA5,\"X\")","v":"X"},{"$f":"IF(AND($H$12<=Y5,$H$12>Z5),AA5,\"X\")","v":"X"},null,null,null,null,{"$f":"\"Divide our Square of \"&Z29&\" in 1/2 \"&\"(\"&Z33&\") times\"","v":"Divide our Square of 12.5 in 1/2 (1) times"},null,null,null,null,null,null,{"$f":"IF(WORKDAY(AO4,1,$G$32:$G$71)>$H$23,NA(),WORKDAY(AO4,1,$G$32:$G$71))","v":"2020-07-13"},{"$f":"IF($W$11,IF(VLOOKUP($AO5,$R$37:$R$46,1,),-2/8,NA()),NA())","v":{"$error":"#N/A"}},{"$error":"#N/A"},{"$f":"IF($W$11,IF(VLOOKUP($AO5,$R$37:$R$46,1,),2/8,NA()),NA())","v":{"$error":"#N/A"}},{"$error":"#N/A"},{"$f":"IF($W$11,IF(VLOOKUP($AO5,$R$37:$R$46,1,),6/8,NA()),NA())","v":{"$error":"#N/A"}},{"$error":"#N/A"},{"$f":"IF($W$11,IF(VLOOKUP($AO5,$R$37:$R$46,1,),10/8,NA()),NA())","v":{"$error":"#N/A"}},{"$error":"#N/A"},{"$f":"IF($W$11,IF(VLOOKUP($AO5,$R$72:$R$76,1,),4/8,NA()),NA())","v":{"$error":"#N/A"}},{"$error":"#N/A"},{"$f":"IF(VLOOKUP(AO5,J$47:J$52,1,),10/8,NA())","v":{"$error":"#N/A"}},{"$f":"IF($W$14,IF(VLOOKUP(AO5,L$44:L$64,1,),9/8,NA()))","v":{"$error":"#N/A"}},{"$f":"IF($W$14,IF(VLOOKUP(AO5,M$40:M$79,1,),8/8,NA()))","v":{"$error":"#N/A"}},0,1,0.33333333333333331,0.66666666666666663,{"$error":"#N/A"},{"$error":"#N/A"},{"$error":"#N/A"},{"$f":"IF($W$5,IF(AO5=$H$21,0,IF(AO5=$H$22,1,NA())),NA())","v":{"$error":"#N/A"}},{"$f":"IF($W$5,IF(AO5=$H$21,0,IF(AO5=$H$22,6/8,NA())),NA())","v":{"$error":"#N/A"}},{"$f":"IF($W$5,IF(AO5=$H$21,0,IF(AO5=$H$22,4/8,NA())),NA())","v":{"$error":"#N/A"}},{"$f":"IF($W$5,IF(AO5=$H$21,0,IF(AO5=$H$22,2/8,NA())),NA())","v":{"$error":"#N/A"}},{"$error":"#N/A"},{"$error":"#N/A"},{"$error":"#N/A"},{"$f":"IF($W$5,IF(AO5=$H$22,0,IF(AO5=$H$23,1,NA())),NA())","v":{"$error":"#N/A"}},{"$f":"IF($W$5,IF(AO5=$H$22,0,IF(AO5=$H$23,6/8,NA())),NA())","v":{"$error":"#N/A"}},{"$f":"IF($W$5,IF(AO5=$H$22,0,IF(AO5=$H$23,4/8,NA())),NA())","v":{"$error":"#N/A"}},{"$f":"IF($W$5,IF(AO5=$H$22,0,IF(AO5=$H$23,2/8,NA())),NA())","v":{"$error":"#N/A"}},{"$error":"#N/A"},{"$error":"#N/A"},{"$error":"#N/A"},{"$error":"#N/A"},{"$error":"#N/A"},{"$error":"#N/A"},{"$error":"#N/A"},{"$error":"#N/A"},{"$error":"#N/A"},{"$error":"#N/A"},{"$error":"#N/A"},{"$error":"#N/A"},{"$error":"#N/A"},{"$error":"#N/A"},{"$error":"#N/A"},{"$error":"#N/A"},{"$error":"#N/A"},{"$f":"IF($W$17,IF(AO5=$G$27,0,IF(AO5=$H$22,4/8,NA())),NA())","v":{"$error":"#N/A"}},{"$error":"#N/A"},{"$error":"#N/A"},{"$error":"#N/A"},{"$error":"#N/A"},{"$f":"IF($W$17,IF(AO5=$M$26,1,IF(AO5=$H$21,1/8,NA())),NA())","v":{"$error":"#N/A"}},{"$f":"IF($W$17,IF(AO5=$G$28,1,IF(AO5=$H$21,2/8,NA())),NA())","v":{"$error":"#N/A"}},{"$f":"IF($W$17,IF(AO5=$J$28,1,IF(AO5=$H$21,3/8,NA())),NA())","v":{"$error":"#N/A"}},{"$f":"IF($W$17,IF(AO5=$G$27,1,IF(AO5=$H$21,4/8,NA())),NA())","v":{"$error":"#N/A"}},{"$f":"IF($W$17,IF(AO5=$J$27,1,IF(AO5=$H$21,5/8,NA())),NA())","v":{"$error":"#N/A"}},{"$f":"IF($W$17,IF(AO5=$G$26,1,IF(AO5=$H$21,6/8,NA())),NA())","v":{"$error":"#N/A"}},{"$f":"IF($W$17,IF(AO5=$J$26,1,IF(AO5=$H$21,7/8,NA())),NA())","v":{"$error":"#N/A"}},{"$error":"#N/A"},{"$error":"#N/A"},{"$error":"#N/A"},{"$f":"IF($W$17,IF(AO5=$H$27,0,IF(AO5=$H$23,4/8,NA())),NA())","v":{"$error":"#N/A"}},{"$error":"#N/A"},{"$error":"#N/A"},{"$error":"#N/A"},{"$error":"#N/A"},{"$f":"IF($W$17,IF(AO5=$N$26,1,IF(AO5=$H$22,1/8,NA())),NA())","v":{"$error":"#N/A"}},{"$f":"IF($W$17,IF(AO5=$H$28,1,IF(AO5=$H$22,2/8,NA())),NA())","v":{"$error":"#N/A"}},{"$f":"IF($W$17,IF(AO5=$K$28,1,IF(AO5=$H$22,3/8,NA())),NA())","v":{"$error":"#N/A"}},{"$f":"IF($W$17,IF(AO5=$H$27,1,IF(AO5=$H$22,4/8,NA())),NA())","v":{"$error":"#N/A"}},{"$f":"IF($W$17,IF(AO5=$K$27,1,IF(AO5=$H$22,5/8,NA())),NA())","v":{"$error":"#N/A"}},{"$f":"IF($W$17,IF(AO5=$H$26,1,IF(AO5=$H$22,6/8,NA())),NA())","v":{"$error":"#N/A"}},{"$f":"IF($W$17,IF(AO5=$K$26,1,IF(AO5=$H$22,7/8,NA())),NA())","v":{"$error":"#N/A"}},{"$f":"IF($W$20,IF(AO5=$J$26,0,IF(AO5=$H$21,1/8,NA())),NA())","v":{"$error":"#N/A"}},{"$f":"IF($W$20,IF(AO5=$G$26,0,IF(AO5=$H$21,2/8,NA())),NA())","v":{"$error":"#N/A"}},{"$f":"IF($W$20,IF(AO5=$J$27,0,IF(AO5=$H$21,3/8,NA())),NA())","v":{"$error":"#N/A"}},{"$f":"IF($W$20,IF(AO5=$G$27,0,IF(AO5=$H$21,4/8,NA())),NA())","v":{"$error":"#N/A"}},{"$f":"IF($W$20,IF(AO5=$J$28,0,IF(AO5=$H$21,5/8,NA())),NA())","v":{"$error":"#N/A"}},{"$f":"IF($W$20,IF(AO5=$G$28,0,IF(AO5=$H$21,6/8,NA())),NA())","v":{"$error":"#N/A"}},{"$f":"IF($W$20,IF(AO5=$M$26,0,IF(AO5=$H$21,7/8,NA())),NA())","v":{"$error":"#N/A"}},{"$error":"#N/A"},{"$error":"#N/A"},{"$error":"#N/A"},{"$error":"#N/A"},{"$f":"IF($W$20,IF(AO5=$G$27,1,IF(AO5=$H$22,4/8,NA())),NA())","v":{"$error":"#N/A"}},{"$error":"#N/A"},{"$error":"#N/A"},{"$error":"#N/A"},{"$f":"IF($W$20,IF(AO5=$K$26,0,IF(AO5=$H$22,1/8,NA())),NA())","v":{"$error":"#N/A"}},{"$f":"IF($W$20,IF(AO5=$H$26,0,IF(AO5=$H$22,2/8,NA())),NA())","v":{"$error":"#N/A"}},{"$f":"IF($W$20,IF(AO5=$K$27,0,IF(AO5=$H$22,3/8,NA())),NA())","v":{"$error":"#N/A"}},{"$f":"IF($W$20,IF(AO5=$H$27,0,IF(AO5=$H$22,4/8,NA())),NA())","v":{"$error":"#N/A"}},{"$f":"IF($W$20,IF(AO5=$K$28,0,IF(AO5=$H$22,5/8,NA())),NA())","v":{"$error":"#N/A"}},{"$f":"IF($W$20,IF(AO5=$H$28,0,IF(AO5=$H$22,6/8,NA())),NA())","v":{"$error":"#N/A"}},{"$f":"IF($W$20,IF(AO5=$N$26,0,IF(AO5=$H$22,7/8,NA())),NA())","v":{"$error":"#N/A"}},{"$error":"#N/A"},{"$error":"#N/A"},{"$error":"#N/A"},{"$error":"#N/A"},{"$f":"IF($W$20,IF(AO5=$H$27,1,IF(AO5=$H$23,4/8,NA())),NA())","v":{"$error":"#N/A"}},{"$error":"#N/A"},{"$error":"#N/A"},{"$error":"#N/A"}]
["2020-07-14",{"$f":"VLOOKUP($A6,Data!$A$2:$E$150,2,FALSE)","v":10.149999618530272},{"$f":"VLOOKUP($A6,Data!$A$2:$E$150,3,FALSE)","v":10.5},{"$f":"VLOOKUP($A6,Data!$A$2:$E$150,4,FALSE)","v":9.9899997711181641},{"$f":"VLOOKUP($A6,Data!$A$2:$E$150,5,FALSE)","v":10.449999809265137},null,"Squares",null,null,null,"SQUARE IN TIME",null,null,"MAJOR SQUARE",null,null,{"$f":"\"MINOR SQUARE\"","v":"MINOR SQUARE"},null,null,{"$f":"\"OCTAVE \"&$T$7/($H$8/2)","v":"OCTAVE 112"},null,null,null,null,25000,{"$f":"Y6/10","v":2500},{"$f":"AA5/10","v":10000},"X","X",null,null,null,null,null,{"$f":"\"Our Octave = \"&Z29/(2^TRUNC(LOG(Z29/Z32,2)))","v":"Our Octave = 6.25"},null,null,null,null,null,"2020-07-14",{"$error":"#N/A"},{"$error":"#N/A"},{"$error":"#N/A"},{"$error":"#N/A"},{"$error":"#N/A"},{"$error":"#N/A"},{"$error":"#N/A"},{"$error":"#N/A"},{"$error":"#N/A"},{"$error":"#N/A"},{"$error":"#N/A"},{"$error":"#N/A"},{"$error":"#N/A"},0,1,0.33333333333333331,0.66666666666666663,{"$error":"#N/A"},{"$error":"#N/A"},{"$error":"#N/A"},{"$error":"#N/A"},{"$error":"#N/A"},{"$error":"#N/A"},{"$error":"#N/A"},{"$error":"#N/A"},{"$error":"#N/A"},{"$error":"#N/A"},{"$error":"#N/A"},{"$error":"#N/A"},{"$error":"#N/A"},{"$error":"#N/A"},{"$error":"#N/A"},{"$error":"#N/A"},{"$error":"#N/A"},{"$error":"#N/A"},{"$error":"#N/A"},{"$error":"#N/A"},{"$error":"#N/A"},{"$error":"#N/A"},{"$error":"#N/A"},{"$error":"#N/A"},{"$error":"#N/A"},{"$error":"#N/A"},{"$error":"#N/A"},{"$error":"#N/A"},{"$error":"#N/A"},{"$error":"#N/A"},{"$error":"#N/A"},{"$error":"#N/A"},{"$error":"#N/A"},{"$error":"#N/A"},{"$error":"#N/A"},{"$error":"#N/A"},{"$error":"#N/A"},{"$error":"#N/A"},{"$error":"#N/A"},{"$error":"#N/A"},{"$error":"#N/A"},{"$error":"#N/A"},{"$error":"#N/A"},{"$error":"#N/A"},{"$error":"#N/A"},{"$error":"#N/A"},{"$error":"#N/A"},{"$error":"#N/A"},{"$error":"#N/A"},{"$error":"#N/A"},{"$error":"#N/A"},{"$error":"#N/A"},{"$error":"#N/A"},{"$error":"#N/A"},{"$error":"#N/A"},{"$error":"#N/A"},{"$error":"#N/A"},{"$error":"#N/A"},{"$error":"#N/A"},{"$error":"#N/A"},{"$error":"#N/A"},{"$error":"#N/A"},{"$error":"#N/A"},{"$error":"#N/A"},{"$error":"#N/A"},{"$error":"#N/A"},{"$error":"#N/A"},{"$error":"#N/A"},{"$error":"#N/A"},{"$error":"#N/A"},{"$error":"#N/A"},{"$error":"#N/A"},{"$error":"#N/A"},{"$error":"#N/A"},{"$error":"#N/A"},{"$error":"#N/A"},{"$error":"#N/A"},{"$error":"#N/A"},{"$error":"#N/A"},{"$error":"#N/A"},{"$error":"#N/A"},{"$error":"#N/A"},{"$error":"#N/A"},{"$error":"#N/A"},{"$error":"#N/A"},{"$error":"#N/A"},{"$error":"#N/A"},{"$error":"#N/A"}]
["2020-07-15",{"$f":"VLOOKUP($A7,Data!$A$2:$E$150,2,FALSE)","v":10.470000267028809},{"$f":"VLOOKUP($A7,Data!$A$2:$E$150,3,FALSE)","v":10.560000419616699},{"$f":"VLOOKUP($A7,Data!$A$2:$E$150,4,FALSE)","v":10.180000305175779},{"$f":"VLOOKUP($A7,Data!$A$2:$E$150,5,FALSE)","v":10.529999732971191},null,"MMML",{"$f":"G5/8","v":1.5625},null,{"$f":"($AI$12-$AF$20)/$AF$21&\"/8\"","v":"6/8"},{"$f":"SUM(AJ29:AJ39)","v":15.625},{"$f":"IF(AND($H$11>=K7,$H$11<=K5),$H$11,\"\")","v":""},{"$f":"N7/H7&\"/8\"","v":"8/8"},{"$f":"G5","v":12.5},{"$f":"IF(AND($H$11>=N7,$H$11<=N5),$H$11,\"\")","v":""},{"$f":"Q7/H7&\"/8\"","v":"7/8"},{"$f":"Q15+H7","v":10.9375},{"$f":"IF(AND($H$11>=Q7,$H$11<=Q5),$H$11,\"\")","v":""},{"$f":"(T7-TRUNC($H$11/($G$5/8))*($G$5/8))/$H$8&\"/8\"","v":"8/8"},{"$f":"T15+H8","v":10.9375},{"$f":"IF(AND($H$11>=T7,$H$11<=T5),$H$11,\"\")","v":""},null,null,null,2500,{"$f":"Y7/10","v":250},{"$f":"AA6/10","v":1000},"X","X",null,null,null,null,null,null,null,null,"SQUARE",null,null,"2020-07-15",{"$error":"#N/A"},{"$error":"#N/A"},{"$error":"#N/A"},{"$error":"#N/A"},{"$error":"#N/A"},{"$error":"#N/A"},{"$error":"#N/A"},{"$error":"#N/A"},{"$error":"#N/A"},{"$error":"#N/A"},{"$error":"#N/A"},{"$error":"#N/A"},{"$error":"#N/A"},0,1,0.33333333333333331,0.66666666666666663,{"$error":"#N/A"},{"$error":"#N/A"},{"$error":"#N/A"},{"$error":"#N/A"},{"$error":"#N/A"},{"$error":"#N/A"},{"$error":"#N/A"},{"$error":"#N/A"},{"$error":"#N/A"},{"$error":"#N/A"},{"$error":"#N/A"},{"$error":"#N/A"},{"$error":"#N/A"},{"$error":"#N/A"},{"$error":"#N/A"},{"$error":"#N/A"},{"$error":"#N/A"},{"$error":"#N/A"},{"$error":"#N/A"},{"$error":"#N/A"},{"$error":"#N/A"},{"$error":"#N/A"},{"$error":"#N/A"},{"$error":"#N/A"},{"$error":"#N/A"},{"$error":"#N/A"},{"$error":"#N/A"},{"$error":"#N/A"},{"$error":"#N/A"},{"$error":"#N/A"},{"$error":"#N/A"},{"$error":"#N/A"},{"$error":"#N/A"},{"$error":"#N/A"},{"$error":"#N/A"},{"$error":"#N/A"},{"$error":"#N/A"},{"$error":"#N/A"},{"$error":"#N/A"},{"$error":"#N/A"},{"$error":"#N/A"},{"$error":"#N/A"},{"$error":"#N/A"},{"$error":"#N/A"},{"$error":"#N/A"},{"$error":"#N/A"},{"$error":"#N/A"},{"$error":"#N/A"},{"$error":"#N/A"},{"$error":"#N/A"},{"$error":"#N/A"},{"$error":"#N/A"},{"$error":"#N/A"},{"$error":"#N/A"},{"$error":"#N/A"},{"$error":"#N/A"},{"$error":"#N/A"},{"$error":"#N/A"},{"$error":"#N/A"},{"$error":"#N/A"},{"$error":"#N/A"},{"$error":"#N/A"},{"$error":"#N/A"},{"$error":"#N/A"},{"$error":"#N/A"},{"$error":"#N/A"},{"$error":"#N/A"},{"$error":"#N/A"},{"$error":"#N/A"},{"$error":"#N/A"},{"$error":"#N/A"},{"$error":"#N/A"},{"$error":"#N/A"},{"$error":"#N/A"},{"$error":"#N/A"},{"$error":"#N/A"},{"$error":"#N/A"},{"$error":"#N/A"},{"$error":"#N/A"},{"$error":"#N/A"},{"$error":"#N/A"},{"$error":"#N/A"},{"$error":"#N/A"},{"$error":"#N/A"},{"$error":"#N/A"},{"$error":"#N/A"},{"$error":"#N/A"},{"$error":"#N/A"}]
["2020-07-16",{"$f":"VLOOKUP($A8,Data!$A$2:$E$150,2,FALSE)","v":10.439999580383301},{"$f":"VLOOKUP($A8,Data!$A$2:$E$150,3,FALSE)","v":10.659999847412109},{"$f":"VLOOKUP($A8,Data!$A$2:$E$150,4,FALSE)","v":10.25},{"$f":"VLOOKUP($A8,Data!$A$2:$E$150,5,FALSE)","v":10.350000381469728},null,"mMML",{"$f":"H7/8","v":0.1953125},null,"7",{"$f":"K9+1/8*(K$7-K$15)","v":14.84375},{"$f":"IF(AND($H$11>=K8,$H$11<=K7),$H$11,\"\")","v":""},"7",{"$f":"N9+1/8*(N$7-N$15)","v":10.9375},{"$f":"IF(AND($H$11>=N8,$H$11<=N7),$H$11,\"\")","v":""},"7",{"$f":"Q9+1/8*(Q$7-Q$15)","v":10.7421875},{"$f":"IF(AND($H$11>=Q8,$H$11<=Q7),$H$11,\"\")","v":10.899999618530272},"7",{"$f":"T9+1/8*(T$7-T$15)","v":10.9130859375},{"$f":"IF(AND($H$11>=T8,$H$11<=T7),$H$11,\"\")","v":""},null,false,null,250,{"$f":"Y8/10","v":25},{"$f":"AA7/10","v":100},"X","X",null,null,null,null,null,null,null,"LOG",{"$f":"Z29","v":12.5},null,null,"2020-07-16",{"$error":"#N/A"},{"$error":"#N/A"},{"$error":"#N/A"},{"$error":"#N/A"},{"$error":"#N/A"},{"$error":"#N/A"},{"$error":"#N/A"},{"$error":"#N/A"},{"$error":"#N/A"},{"$error":"#N/A"},{"$error":"#N/A"},{"$error":"#N/A"},{"$error":"#N/A"},0,1,0.33333333333333331,0.66666666666666663,{"$error":"#N/A"},{"$error":"#N/A"},{"$error":"#N/A"},{"$error":"#N/A"},{"$error":"#N/A"},{"$error":"#N/A"},{"$error":"#N/A"},{"$error":"#N/A"},{"$error":"#N/A"},{"$error":"#N/A"},{"$error":"#N/A"},{"$error":"#N/A"},{"$error":"#N/A"},{"$error":"#N/A"},{"$error":"#N/A"},{"$error":"#N/A"},{"$error":"#N/A"},{"$error":"#N/A"},{"$error":"#N/A"},{"$error":"#N/A"},{"$error":"#N/A"},{"$error":"#N/A"},{"$error":"#N/A"},{"$error":"#N/A"},{"$error":"#N/A"},{"$error":"#N/A"},{"$error":"#N/A"},{"$error":"#N/A"},{"$error":"#N/A"},{"$error":"#N/A"},{"$error":"#N/A"},{"$error":"#N/A"},{"$error":"#N/A"},{"$error":"#N/A"},{"$error":"#N/A"},{"$error":"#N/A"},{"$error":"#N/A"},{"$error":"#N/A"},{"$error":"#N/A"},{"$error":"#N/A"},{"$error":"#N/A"},{"$error":"#N/A"},{"$error":"#N/A"},{"$error":"#N/A"},{"$error":"#N/A"},{"$error":"#N/A"},{"$error":"#N/A"},{"$error":"#N/A"},{"$error":"#N/A"},{"$error":"#N/A"},{"$error":"#N/A"},{"$error":"#N/A"},{"$error":"#N/A"},{"$error":"#N/A"},{"$error":"#N/A"},{"$error":"#N/A"},{"$error":"#N/A"},{"$error":"#N/A"},{"$error":"#N/A"},{"$error":"#N/A"},{"$error":"#N/A"},{"$error":"#N/A"},{"$error":"#N/A"},{"$error":"#N/A"},{"$error":"#N/A"},{"$error":"#N/A"},{"$error":"#N/A"},{"$error":"#N/A"},{"$error":"#N/A"},{"$error":"#N/A"},{"$error":"#N/A"},{"$error":"#N/A"},{"$error":"#N/A"},{"$error":"#N/A"},{"$error":"#N/A"},{"$error":"#N/A"},{"$error":"#N/A"},{"$error":"#N/A"},{"$error":"#N/A"},{"$error":"#N/A"},{"$error":"#N/A"},{"$error":"#N/A"},{"$error":"#N/A"},{"$error":"#N/A"},{"$error":"#N/A"},{"$error":"#N/A"},{"$error":"#N/A"},{"$error":"#N/A"}]
["2020-07-17",{"$f":"VLOOKUP($A9,Data!$A$2:$E$150,2,FALSE)","v":10.460000038146973},{"$f":"VLOOKUP($A9,Data!$A$2:$E$150,3,FALSE)","v":10.770000457763672},{"$f":"VLOOKUP($A9,Data!$A$2:$E$150,4,FALSE)","v":10.420000076293944},{"$f":"VLOOKUP($A9,Data!$A$2:$E$150,5,FALSE)","v":10.600000381469728},null,"bMML",{"$f":"H8/8","v":2.44140625E-2},null,"6",14.0625,"","6",9.375,10.899999618530272,"6",10.546875,"","6",10.888671875,10.899999618530272,null,null,null,25,12.5,12.5,"X",12.5,null,"+2",{"$f":"AF10+1/8*(AF$12-AF$20)","v":21.875},{"$f":"IF(AND($H$11>=AF9,$H$11<=AF11),$H$11,\"\")","v":""},"+2",{"$f":"AI10+1/8*(AI$12-AI$20)","v":17.1875},{"$f":"IF(AND($H$11>=AI9,$H$11<=AI11),$H$11,\"\")","v":""},1,{"$f":"AL8/2","v":6.25},null,null,"2020-07-17",{"$error":"#N/A"},{"$error":"#N/A"},{"$error":"#N/A"},{"$error":"#N/A"},{"$error":"#N/A"},{"$error":"#N/A"},{"$error":"#N/A"},{"$error":"#N/A"},{"$error":"#N/A"},{"$error":"#N/A"},{"$error":"#N/A"},{"$error":"#N/A"},{"$error":"#N/A"},0,1,0.33333333333333331,0.66666666666666663,{"$error":"#N/A"},{"$error":"#N/A"},{"$error":"#N/A"},{"$error":"#N/A"},{"$error":"#N/A"},{"$error":"#N/A"},{"$error":"#N/A"},{"$error":"#N/A"},{"$error":"#N/A"},{"$error":"#N/A"},{"$error":"#N/A"},{"$error":"#N/A"},{"$error":"#N/A"},{"$error":"#N/A"},{"$error":"#N/A"},{"$error":"#N/A"},{"$error":"#N/A"},{"$error":"#N/A"},{"$error":"#N/A"},{"$error":"#N/A"},{"$error":"#N/A"},{"$error":"#N/A"},{"$error":"#N/A"},{"$error":"#N/A"},{"$error":"#N/A"},{"$error":"#N/A"},{"$error":"#N/A"},{"$error":"#N/A"},{"$error":"#N/A"},{"$error":"#N/A"},{"$error":"#N/A"},{"$error":"#N/A"},{"$error":"#N/A"},{"$error":"#N/A"},{"$error":"#N/A"},{"$error":"#N/A"},{"$error":"#N/A"},{"$error":"#N/A"},{"$error":"#N/A"},{"$error":"#N/A"},{"$error":"#N/A"},{"$error":"#N/A"},{"$error":"#N/A"},{"$error":"#N/A"},{"$error":"#N/A"},{"$error":"#N/A"},{"$error":"#N/A"},{"$error":"#N/A"},{"$error":"#N/A"},{"$error":"#N/A"},{"$error":"#N/A"},{"$error":"#N/A"},{"$error":"#N/A"},{"$error":"#N/A"},{"$error":"#N/A"},{"$error":"#N/A"},{"$error":"#N/A"},{"$error":"#N/A"},{"$error":"#N/A"},{"$error":"#N/A"},{"$error":"#N/A"},{"$error":"#N/A"},{"$error":"#N/A"},{"$error":"#N/A"},{"$error":"#N/A"},{"$error":"#N/A"},{"$error":"#N/A"},{"$error":"#N/A"},{"$error":"#N/A"},{"$error":"#N/A"},{"$error":"#N/A"},{"$error":"#N/A"},{"$error":"#N/A"},{"$error":"#N/A"},{"$error":"#N/A"},{"$error":"#N/A"},{"$error":"#N/A"},{"$error":"#N/A"},{"$error":"#N/A"},{"$error":"#N/A"},{"$error":"#N/A"},{"$error":"#N/A"},{"$error":"#N/A"},{"$error":"#N/A"},{"$error":"#N/A"},{"$error":"#N/A"},{"$error":"#N/A"},{"$error":"#N/A"}]
["2020-07-20",{"$f":"VLOOKUP($A10,Data!$A$2:$E$150,2,FALSE)","v":10.939999580383301},{"$f":"VLOOKUP($A10,Data!$A$2:$E$150,3,FALSE)","v":11.760000228881836},{"$f":"VLOOKUP($A10,Data!$A$2:$E$150,4,FALSE)","v":10.880000114440918},{"$f":"VLOOKUP($A10,Data!$A$2:$E$150,5,FALSE)","v":11.630000114440918},null,{"$f":"+H4*G4","v":64},"bar",null,"5",13.28125,"","5",7.8125,"","5",10.3515625,"","5",10.8642578125,"",null,null,null,12.5,{"$f":"Y10/2","v":6.25},12.5,12.5,"X",null,"+1",{"$f":"AF12+1/8*(AF$12-AF$20)","v":20.3125},{"$f":"IF(AND($H$11>=AF10,$H$11<=AF9),$H$11,\"\")","v":""},"+1",{"$f":"AI12+1/8*(AI$12-AI$20)","v":16.40625},{"$f":"IF(AND($H$11>=AI10,$H$11<=AI9),$H$11,\"\")","v":""},2,3.125,null,null,"2020-07-20",{"$error":"#N/A"},{"$error":"#N/A"},{"$error":"#N/A"},{"$error":"#N/A"},{"$error":"#N/A"},{"$error":"#N/A"},{"$error":"#N/A"},{"$error":"#N/A"},{"$error":"#N/A"},{"$error":"#N/A"},{"$error":"#N/A"},{"$error":"#N/A"},{"$error":"#N/A"},0,1,0.33333333333333331,0.66666666666666663,{"$error":"#N/A"},{"$error":"#N/A"},{"$error":"#N/A"},{"$error":"#N/A"},{"$error":"#N/A"},{"$error":"#N/A"},{"$error":"#N/A"},{"$error":"#N/A"},{"$error":"#N/A"},{"$error":"#N/A"},{"$error":"#N/A"},{"$error":"#N/A"},{"$error":"#N/A"},{"$error":"#N/A"},{"$error":"#N/A"},{"$error":"#N/A"},{"$error":"#N/A"},{"$error":"#N/A"},{"$error":"#N/A"},{"$error":"#N/A"},{"$error":"#N/A"},{"$error":"#N/A"},{"$error":"#N/A"},{"$error":"#N/A"},{"$error":"#N/A"},{"$error":"#N/A"},{"$error":"#N/A"},{"$error":"#N/A"},{"$error":"#N/A"},{"$error":"#N/A"},{"$error":"#N/A"},{"$error":"#N/A"},{"$error":"#N/A"},{"$error":"#N/A"},{"$error":"#N/A"},{"$error":"#N/A"},{"$error":"#N/A"},{"$error":"#N/A"},{"$error":"#N/A"},{"$error":"#N/A"},{"$error":"#N/A"},{"$error":"#N/A"},{"$error":"#N/A"},{"$error":"#N/A"},{"$error":"#N/A"},{"$error":"#N/A"},{"$error":"#N/A"},{"$error":"#N/A"},{"$error":"#N/A"},{"$error":"#N/A"},{"$error":"#N/A"},{"$error":"#N/A"},{"$error":"#N/A"},{"$error":"#N/A"},{"$error":"#N/A"},{"$error":"#N/A"},{"$error":"#N/A"},{"$error":"#N/A"},{"$error":"#N/A"},{"$error":"#N/A"},{"$error":"#N/A"},{"$error":"#N/A"},{"$error":"#N/A"},{"$error":"#N/A"},{"$error":"#N/A"},{"$error":"#N/A"},{"$error":"#N/A"},{"$error":"#N/A"},{"$error":"#N/A"},{"$error":"#N/A"},{"$error":"#N/A"},{"$error":"#N/A"},{"$error":"#N/A"},{"$error":"#N/A"},{"$error":"#N/A"},{"$error":"#N/A"},{"$error":"#N/A"},{"$error":"#N/A"},{"$error":"#N/A"},{"$error":"#N/A"},{"$error":"#N/A"},{"$error":"#N/A"},{"$error":"#N/A"},{"$error":"#N/A"},{"$error":"#N/A"},{"$error":"#N/A"},{"$error":"#N/A"},{"$error":"#N/A"}]
["2020-07-21",{"$f":"VLOOKUP($A11,Data!$A$2:$E$150,2,FALSE)","v":12.319999694824221},{"$f":"VLOOKUP($A11,Data!$A$2:$E$150,3,FALSE)","v":12.859999656677246},{"$f":"VLOOKUP($A11,Data!$A$2:$E$150,4,FALSE)","v":12.140000343322754},{"$f":"VLOOKUP($A11,Data!$A$2:$E$150,5,FALSE)","v":12.350000381469728},null,"Current",{"$f":"+Data!E2","v":10.899999618530272},null,"4",12.5,"","4",6.25,"","4",10.15625,"","4",10.83984375,"",null,true,null,6.25,{"$f":"Y11/2","v":3.125},{"$f":"Z10","v":6.25},"X","X",null,null,"MAX TIMEFRAME",null,null,"BEST TIMEFRAME",null,3,1.5625,null,null,"2020-07-21",{"$error":"#N/A"},{"$error":"#N/A"},{"$error":"#N/A"},{"$error":"#N/A"},{"$error":"#N/A"},{"$error":"#N/A"},{"$error":"#N/A"},{"$error":"#N/A"},{"$error":"#N/A"},{"$error":"#N/A"},{"$error":"#N/A"},{"$error":"#N/A"},{"$error":"#N/A"},0,1,0.33333333333333331,0.66666666666666663,{"$error":"#N/A"},{"$error":"#N/A"},{"$error":"#N/A"},{"$error":"#N/A"},{"$error":"#N/A"},{"$error":"#N/A"},{"$error":"#N/A"},{"$error":"#N/A"},{"$error":"#N/A"},{"$error":"#N/A"},{"$error":"#N/A"},{"$error":"#N/A"},{"$error":"#N/A"},{"$error":"#N/A"},{"$error":"#N/A"},{"$error":"#N/A"},{"$error":"#N/A"},{"$error":"#N/A"},{"$error":"#N/A"},{"$error":"#N/A"},{"$error":"#N/A"},{"$error":"#N/A"},{"$error":"#N/A"},{"$error":"#N/A"},{"$error":"#N/A"},{"$error":"#N/A"},{"$error":"#N/A"},{"$error":"#N/A"},{"$error":"#N/A"},{"$error":"#N/A"},{"$error":"#N/A"},{"$error":"#N/A"},{"$error":"#N/A"},{"$error":"#N/A"},{"$error":"#N/A"},{"$error":"#N/A"},{"$error":"#N/A"},{"$error":"#N/A"},{"$error":"#N/A"},{"$error":"#N/A"},{"$error":"#N/A"},{"$error":"#N/A"},{"$error":"#N/A"},{"$error":"#N/A"},{"$error":"#N/A"},{"$error":"#N/A"},{"$error":"#N/A"},{"$error":"#N/A"},{"$error":"#N/A"},{"$error":"#N/A"},{"$error":"#N/A"},{"$error":"#N/A"},{"$error":"#N/A"},{"$error":"#N/A"},{"$error":"#N/A"},{"$error":"#N/A"},{"$error":"#N/A"},{"$error":"#N/A"},{"$error":"#N/A"},{"$error":"#N/A"},{"$error":"#N/A"},{"$error":"#N/A"},{"$error":"#N/A"},{"$error":"#N/A"},{"$error":"#N/A"},{"$error":"#N/A"},{"$error":"#N/A"},{"$error":"#N/A"},{"$error":"#N/A"},{"$error":"#N/A"},{"$error":"#N/A"},{"$error":"#N/A"},{"$error":"#N/A"},{"$error":"#N/A"},{"$error":"#N/A"},{"$error":"#N/A"},{"$error":"#N/A"},{"$error":"#N/A"},{"$error":"#N/A"},{"$error":"#N/A"},{"$error":"#N/A"},{"$error":"#N/A"},{"$error":"#N/A"},{"$error":"#N/A"},{"$error":"#N/A"},{"$error":"#N/A"},{"$error":"#N/A"},{"$error":"#N/A"}]
["2020-07-22",{"$f":"VLOOKUP($A12,Data!$A$2:$E$150,2,FALSE)","v":12.909999847412109},{"$f":"VLOOKUP($A12,Data!$A$2:$E$150,3,FALSE)","v":14.079999923706056},{"$f":"VLOOKUP($A12,Data!$A$2:$E$150,4,FALSE)","v":12.710000038146973},{"$f":"VLOOKUP($A12,Data!$A$2:$E$150,5,FALSE)","v":14.050000190734863},null,"High",{"$f":"MAX(OFFSET(Data!C2,0,0,G10))","v":14.569999694824221},null,"3",11.71875,"","3",4.6875,"","3",9.9609375,"","3",10.8154296875,"",null,null,null,3.125,{"$f":"Y12/2","v":1.5625},{"$f":"Z11","v":3.125},"X","X",null,"MAX 8/8",{"$f":"Z35","v":18.75},{"$f":"IF(AND($H$11>=AF12,$H$11<=AF10),$H$11,\"\")","v":""},{"$f":"($AI$12-$AF$20)/$AF$21&\"/8\"","v":"6/8"},{"$f":"SUM(AJ29:AJ39)","v":15.625},{"$f":"IF(AND($H$11>=AI12,$H$11<=AI10),$H$11,\"\")","v":""},4,0.78125,null,null,"2020-07-22",{"$error":"#N/A"},{"$error":"#N/A"},{"$error":"#N/A"},{"$error":"#N/A"},{"$error":"#N/A"},{"$error":"#N/A"},{"$error":"#N/A"},{"$error":"#N/A"},{"$error":"#N/A"},{"$error":"#N/A"},{"$error":"#N/A"},{"$error":"#N/A"},1,0,1,0.33333333333333331,0.66666666666666663,{"$error":"#N/A"},{"$error":"#N/A"},{"$error":"#N/A"},{"$error":"#N/A"},{"$error":"#N/A"},{"$error":"#N/A"},{"$error":"#N/A"},{"$error":"#N/A"},{"$error":"#N/A"},{"$error":"#N/A"},{"$error":"#N/A"},{"$error":"#N/A"},{"$error":"#N/A"},{"$error":"#N/A"},{"$error":"#N/A"},{"$error":"#N/A"},{"$error":"#N/A"},{"$error":"#N/A"},{"$error":"#N/A"},{"$error":"#N/A"},{"$error":"#N/A"},{"$error":"#N/A"},{"$error":"#N/A"},{"$error":"#N/A"},{"$error":"#N/A"},{"$error":"#N/A"},{"$error":"#N/A"},{"$error":"#N/A"},{"$error":"#N/A"},{"$error":"#N/A"},{"$error":"#N/A"},{"$error":"#N/A"},{"$error":"#N/A"},{"$error":"#N/A"},0,{"$error":"#N/A"},{"$error":"#N/A"},{"$error":"#N/A"},{"$error":"#N/A"},{"$error":"#N/A"},{"$error":"#N/A"},{"$error":"#N/A"},1,{"$error":"#N/A"},{"$error":"#N/A"},{"$error":"#N/A"},{"$error":"#N/A"},{"$error":"#N/A"},{"$error":"#N/A"},{"$error":"#N/A"},{"$error":"#N/A"},{"$error":"#N/A"},{"$error":"#N/A"},{"$error":"#N/A"},{"$error":"#N/A"},{"$error":"#N/A"},{"$error":"#N/A"},{"$error":"#N/A"},{"$error":"#N/A"},{"$error":"#N/A"},{"$error":"#N/A"},{"$error":"#N/A"},{"$error":"#N/A"},{"$error":"#N/A"},{"$error":"#N/A"},{"$error":"#N/A"},{"$error":"#N/A"},{"$error":"#N/A"},{"$error":"#N/A"},{"$error":"#N/A"},{"$error":"#N/A"},{"$error":"#N/A"},{"$error":"#N/A"},{"$error":"#N/A"},{"$error":"#N/A"},{"$error":"#N/A"},{"$error":"#N/A"},{"$error":"#N/A"},{"$error":"#N/A"},{"$error":"#N/A"},{"$error":"#N/A"},{"$error":"#N/A"},{"$error":"#N/A"},{"$error":"#N/A"},{"$error":"#N/A"},{"$error":"#N/A"},{"$error":"#N/A"},{"$error":"#N/A"}]
["2020-07-23",{"$f":"VLOOKUP($A13,Data!$A$2:$E$150,2,FALSE)","v":13.699999809265137},{"$f":"VLOOKUP($A13,Data!$A$2:$E$150,3,FALSE)","v":14.039999961853027},{"$f":"VLOOKUP($A13,Data!$A$2:$E$150,4,FALSE)","v":13.050000190734863},{"$f":"VLOOKUP($A13,Data!$A$2:$E$150,5,FALSE)","v":13.329999923706056},null,"Low",{"$f":"MIN(OFFSET(Data!D2,0,0,G10))","v":9.3299999237060565},null,"2",10.9375,"","2",3.125,"","2",9.765625,"","2",10.791015625,"",null,null,null,1.5625,0.390625,{"$f":"Z12","v":1.5625},"X","X",null,"7",{"$f":"AF14+1/8*(AF$12-AF$20)","v":17.1875},{"$f":"IF(AND($H$11>=AF13,$H$11<=AF12),$H$11,\"\")","v":""},"7",{"$f":"AI14+1/8*(AI$12-AI$20)","v":14.84375},{"$f":"IF(AND($H$11>=AI13,$H$11<=AI12),$H$11,\"\")","v":""},5,0.390625,null,null,"2020-07-23",{"$error":"#N/A"},{"$error":"#N/A"},{"$error":"#N/A"},{"$error":"#N/A"},{"$error":"#N/A"},{"$error":"#N/A"},{"$error":"#N/A"},{"$error":"#N/A"},{"$error":"#N/A"},{"$error":"#N/A"},{"$error":"#N/A"},{"$error":"#N/A"},{"$error":"#N/A"},0,1,0.33333333333333331,0.66666666666666663,{"$error":"#N/A"},{"$error":"#N/A"},{"$error":"#N/A"},{"$error":"#N/A"},{"$error":"#N/A"},{"$error":"#N/A"},{"$error":"#N/A"},{"$error":"#N/A"},{"$error":"#N/A"},{"$error":"#N/A"},{"$error":"#N/A"},{"$error":"#N/A"},{"$error":"#N/A"},{"$error":"#N/A"},{"$error":"#N/A"},{"$error":"#N/A"},{"$error":"#N/A"},{"$error":"#N/A"},{"$error":"#N/A"},{"$error":"#N/A"},{"$error":"#N/A"},{"$error":"#N/A"},{"$error":"#N/A"},{"$error":"#N/A"},{"$error":"#N/A"},{"$error":"#N/A"},{"$error":"#N/A"},{"$error":"#N/A"},{"$error":"#N/A"},{"$error":"#N/A"},{"$error":"#N/A"},{"$error":"#N/A"},{"$error":"#N/A"},{"$error":"#N/A"},{"$error":"#N/A"},{"$error":"#N/A"},{"$error":"#N/A"},{"$error":"#N/A"},{"$error":"#N/A"},{"$error":"#N/A"},{"$error":"#N/A"},{"$error":"#N/A"},{"$error":"#N/A"},{"$error":"#N/A"},{"$error":"#N/A"},{"$error":"#N/A"},{"$error":"#N/A"},{"$error":"#N/A"},{"$error":"#N/A"},{"$error":"#N/A"},{"$error":"#N/A"},{"$error":"#N/A"},{"$error":"#N/A"},{"$error":"#N/A"},{"$error":"#N/A"},{"$error":"#N/A"},{"$error":"#N/A"},{"$error":"#N/A"},{"$error":"#N/A"},{"$error":"#N/A"},{"$error":"#N/A"},{"$error":"#N/A"},{"$error":"#N/A"},{"$error":"#N/A"},{"$error":"#N/A"},{"$error":"#N/A"},{"$error":"#N/A"},{"$error":"#N/A"},{"$error":"#N/A"},{"$error":"#N/A"},{"$error":"#N/A"},{"$error":"#N/A"},{"$error":"#N/A"},{"$error":"#N/A"},{"$error":"#N/A"},{"$error":"#N/A"},{"$error":"#N/A"},{"$error":"#N/A"},{"$error":"#N/A"},{"$error":"#N/A"},{"$error":"#N/A"},{"$error":"#N/A"},{"$error":"#N/A"},{"$error":"#N/A"},{"$error":"#N/A"},{"$error":"#N/A"},{"$error":"#N/A"},{"$error":"#N/A"}]
["2020-07-24",{"$f":"VLOOKUP($A14,Data!$A$2:$E$150,2,FALSE)","v":13.449999809265137},{"$f":"VLOOKUP($A14,Data!$A$2:$E$150,3,FALSE)","v":13.649999618530272},{"$f":"VLOOKUP($A14,Data!$A$2:$E$150,4,FALSE)","v":13.130000114440918},{"$f":"VLOOKUP($A14,Data!$A$2:$E$150,5,FALSE)","v":13.279999732971191},null,0.33333333333333331,{"$f":"(K7-K15)/3+K15","v":11.458333333333334},null,"1",10.15625,10.899999618530272,"1",1.5625,"","1",9.5703125,"","1",10.7666015625,"",null,true,null,{"$f":"Z13","v":0.390625},0,0.1953125,"X","X",null,"6",15.625,"","6",14.0625,"",6,0.1953125,null,null,"2020-07-24",{"$error":"#N/A"},{"$error":"#N/A"},{"$error":"#N/A"},{"$error":"#N/A"},{"$error":"#N/A"},{"$error":"#N/A"},{"$error":"#N/A"},{"$error":"#N/A"},{"$error":"#N/A"},{"$error":"#N/A"},{"$error":"#N/A"},{"$error":"#N/A"},{"$error":"#N/A"},0,1,0.33333333333333331,0.66666666666666663,{"$error":"#N/A"},{"$error":"#N/A"},{"$error":"#N/A"},{"$error":"#N/A"},{"$error":"#N/A"},{"$error":"#N/A"},{"$error":"#N/A"},{"$error":"#N/A"},{"$error":"#N/A"},{"$error":"#N/A"},{"$error":"#N/A"},{"$error":"#N/A"},{"$error":"#N/A"},{"$error":"#N/A"},{"$error":"#N/A"},{"$error":"#N/A"},{"$error":"#N/A"},{"$error":"#N/A"},{"$error":"#N/A"},{"$error":"#N/A"},{"$error":"#N/A"},{"$error":"#N/A"},{"$error":"#N/A"},{"$error":"#N/A"},{"$error":"#N/A"},{"$error":"#N/A"},{"$error":"#N/A"},{"$error":"#N/A"},{"$error":"#N/A"},{"$error":"#N/A"},{"$error":"#N/A"},{"$error":"#N/A"},{"$error":"#N/A"},{"$error":"#N/A"},{"$error":"#N/A"},{"$error":"#N/A"},{"$error":"#N/A"},{"$error":"#N/A"},{"$error":"#N/A"},{"$error":"#N/A"},{"$error":"#N/A"},{"$error":"#N/A"},{"$error":"#N/A"},{"$error":"#N/A"},{"$error":"#N/A"},{"$error":"#N/A"},{"$error":"#N/A"},{"$error":"#N/A"},{"$error":"#N/A"},{"$error":"#N/A"},{"$error":"#N/A"},{"$error":"#N/A"},{"$error":"#N/A"},{"$error":"#N/A"},{"$error":"#N/A"},{"$error":"#N/A"},{"$error":"#N/A"},{"$error":"#N/A"},{"$error":"#N/A"},{"$error":"#N/A"},{"$error":"#N/A"},{"$error":"#N/A"},{"$error":"#N/A"},{"$error":"#N/A"},{"$error":"#N/A"},{"$error":"#N/A"},{"$error":"#N/A"},{"$error":"#N/A"},{"$error":"#N/A"},{"$error":"#N/A"},{"$error":"#N/A"},{"$error":"#N/A"},{"$error":"#N/A"},{"$error":"#N/A"},{"$error":"#N/A"},{"$error":"#N/A"},{"$error":"#N/A"},{"$error":"#N/A"},{"$error":"#N/A"},{"$error":"#N/A"},{"$error":"#N/A"},{"$error":"#N/A"},{"$error":"#N/A"},{"$error":"#N/A"},{"$error":"#N/A"},{"$error":"#N/A"},{"$error":"#N/A"},{"$error":"#N/A"}]
["2020-07-27",{"$f":"VLOOKUP($A15,Data!$A$2:$E$150,2,FALSE)","v":14.199999809265137},{"$f":"VLOOKUP($A15,Data!$A$2:$E$150,3,FALSE)","v":14.5},{"$f":"VLOOKUP($A15,Data!$A$2:$E$150,4,FALSE)","v":13.869999885559082},{"$f":"VLOOKUP($A15,Data!$A$2:$E$150,5,FALSE)","v":14.25},null,"wants to reverse off",null,null,{"$f":"($AI$20-$AF$20)/$AF$21&\"/8\"","v":"2/8"},{"$f":"SUM(AH29:AH39)","v":9.375},"",{"$f":"N15/H7&\"/8\"","v":"0/8"},0,"",{"$f":"Q15/H7&\"/8\"","v":"6/8"},{"$f":"(TRUNC(H11/(G5/8))*(G5/8))","v":9.375},"",{"$f":"(T15-TRUNC($H$11/($G$5/8))*($G$5/8))/$H$8&\"/8\"","v":"7/8"},{"$f":"(TRUNC(H11/(G5/64))*(G5/64))+(O18*(H8/2))","v":10.7421875},"",null,null,null,null,null,null,{"$f":"MAX(AB5:AB14)","v":12.5},{"$f":"MAX(AC5:AC14)","v":12.5},{"$f":"Z30","v":14.569999694824221},"5",14.0625,"","5",13.28125,"",7,9.765625E-2,null,null,"2020-07-27",{"$error":"#N/A"},{"$error":"#N/A"},{"$error":"#N/A"},{"$error":"#N/A"},{"$error":"#N/A"},{"$error":"#N/A"},{"$error":"#N/A"},{"$error":"#N/A"},{"$error":"#N/A"},{"$error":"#N/A"},{"$error":"#N/A"},{"$error":"#N/A"},{"$error":"#N/A"},0,1,0.33333333333333331,0.66666666666666663,{"$error":"#N/A"},{"$error":"#N/A"},{"$error":"#N/A"},{"$error":"#N/A"},{"$error":"#N/A"},{"$error":"#N/A"},{"$error":"#N/A"},{"$error":"#N/A"},{"$error":"#N/A"},{"$error":"#N/A"},{"$error":"#N/A"},{"$error":"#N/A"},{"$error":"#N/A"},{"$error":"#N/A"},{"$error":"#N/A"},{"$error":"#N/A"},{"$error":"#N/A"},{"$error":"#N/A"},{"$error":"#N/A"},{"$error":"#N/A"},{"$error":"#N/A"},{"$error":"#N/A"},{"$error":"#N/A"},{"$error":"#N/A"},{"$error":"#N/A"},{"$error":"#N/A"},{"$error":"#N/A"},{"$error":"#N/A"},{"$error":"#N/A"},{"$error":"#N/A"},{"$error":"#N/A"},{"$error":"#N/A"},{"$error":"#N/A"},{"$error":"#N/A"},{"$error":"#N/A"},{"$error":"#N/A"},{"$error":"#N/A"},{"$error":"#N/A"},{"$error":"#N/A"},{"$error":"#N/A"},{"$error":"#N/A"},{"$error":"#N/A"},{"$error":"#N/A"},{"$error":"#N/A"},{"$error":"#N/A"},{"$error":"#N/A"},{"$error":"#N/A"},{"$error":"#N/A"},{"$error":"#N/A"},{"$error":"#N/A"},{"$error":"#N/A"},{"$error":"#N/A"},{"$error":"#N/A"},{"$error":"#N/A"},{"$error":"#N/A"},{"$error":"#N/A"},{"$error":"#N/A"},{"$error":"#N/A"},{"$error":"#N/A"},{"$error":"#N/A"},{"$error":"#N/A"},{"$error":"#N/A"},{"$error":"#N/A"},{"$error":"#N/A"},{"$error":"#N/A"},{"$error":"#N/A"},{"$error":"#N/A"},{"$error":"#N/A"},{"$error":"#N/A"},{"$error":"#N/A"},{"$error":"#N/A"},{"$error":"#N/A"},{"$error":"#N/A"},{"$error":"#N/A"},{"$error":"#N/A"},{"$error":"#N/A"},{"$error":"#N/A"},{"$error":"#N/A"},{"$error":"#N/A"},{"$error":"#N/A"},{"$error":"#N/A"},{"$error":"#N/A"},{"$error":"#N/A"},{"$error":"#N/A"},{"$error":"#N/A"},{"$error":"#N/A"},{"$error":"#N/A"},{"$error":"#N/A"}]
["2020-07-28",{"$f":"VLOOKUP($A16,Data!$A$2:$E$150,2,FALSE)","v":13.630000114440918},{"$f":"VLOOKUP($A16,Data!$A$2:$E$150,3,FALSE)","v":14.279999732971191},{"$f":"VLOOKUP($A16,Data!$A$2:$E$150,4,FALSE)","v":13.619999885559082},{"$f":"VLOOKUP($A16,Data!$A$2:$E$150,5,FALSE)","v":13.859999656677246},null,{"$f":"G5/128","v":9.765625E-2},null,null,null,{"$f":"K14-K15","v":0.78125},null,null,{"$f":"H7","v":1.5625},null,null,{"$f":"H8","v":0.1953125},null,null,{"$f":"H9","v":2.44140625E-2},null,null,null,null,null,null,null,null,null,"HI/LO","4",12.5,"","4",12.5,"",8,4.8828125E-2,null,null,"2020-07-28",{"$error":"#N/A"},{"$error":"#N/A"},{"$error":"#N/A"},{"$error":"#N/A"},{"$error":"#N/A"},{"$error":"#N/A"},{"$error":"#N/A"},{"$error":"#N/A"},{"$error":"#N/A"},{"$error":"#N/A"},{"$error":"#N/A"},{"$error":"#N/A"},{"$error":"#N/A"},0,1,0.33333333333333331,0.66666666666666663,{"$error":"#N/A"},{"$error":"#N/A"},{"$error":"#N/A"},{"$error":"#N/A"},{"$error":"#N/A"},{"$error":"#N/A"},{"$error":"#N/A"},{"$error":"#N/A"},{"$error":"#N/A"},{"$error":"#N/A"},{"$error":"#N/A"},{"$error":"#N/A"},{"$error":"#N/A"},{"$error":"#N/A"},{"$error":"#N/A"},{"$error":"#N/A"},{"$error":"#N/A"},{"$error":"#N/A"},{"$error":"#N/A"},{"$error":"#N/A"},{"$error":"#N/A"},{"$error":"#N/A"},{"$error":"#N/A"},{"$error":"#N/A"},{"$error":"#N/A"},{"$error":"#N/A"},{"$error":"#N/A"},{"$error":"#N/A"},{"$error":"#N/A"},{"$error":"#N/A"},{"$error":"#N/A"},{"$error":"#N/A"},{"$error":"#N/A"},{"$error":"#N/A"},{"$error":"#N/A"},{"$error":"#N/A"},{"$error":"#N/A"},{"$error":"#N/A"},{"$error":"#N/A"},{"$error":"#N/A"},{"$error":"#N/A"},{"$error":"#N/A"},{"$error":"#N/A"},{"$error":"#N/A"},{"$error":"#N/A"},{"$error":"#N/A"},{"$error":"#N/A"},{"$error":"#N/A"},{"$error":"#N/A"},{"$error":"#N/A"},{"$error":"#N/A"},{"$error":"#N/A"},{"$error":"#N/A"},{"$error":"#N/A"},{"$error":"#N/A"},{"$error":"#N/A"},{"$error":"#N/A"},{"$error":"#N/A"},{"$error":"#N/A"},{"$error":"#N/A"},{"$error":"#N/A"},{"$error":"#N/A"},{"$error":"#N/A"},{"$error":"#N/A"},{"$error":"#N/A"},{"$error":"#N/A"},{"$error":"#N/A"},{"$error":"#N/A"},{"$error":"#N/A"},{"$error":"#N/A"},{"$error":"#N/A"},{"$error":"#N/A"},{"$error":"#N/A"},{"$error":"#N/A"},{"$error":"#N/A"},{"$error":"#N/A"},{"$error":"#N/A"},{"$error":"#N/A"},{"$error":"#N/A"},{"$error":"#N/A"},{"$error":"#N/A"},{"$error":"#N/A"},{"$error":"#N/A"},{"$error":"#N/A"},{"$error":"#N/A"},{"$error":"#N/A"},{"$error":"#N/A"},{"$error":"#N/A"}]
["2020-07-29",{"$f":"VLOOKUP($A17,Data!$A$2:$E$150,2,FALSE)","v":13.810000419616699},{"$f":"VLOOKUP($A17,Data!$A$2:$E$150,3,FALSE)","v":13.979999542236328},{"$f":"VLOOKUP($A17,Data!$A$2:$E$150,4,FALSE)","v":13.399999618530272},{"$f":"VLOOKUP($A17,Data!$A$2:$E$150,5,FALSE)","v":13.760000228881836},null,0.66666666666666663,{"$f":"2*(K7-K15)/3+K15","v":13.541666666666668},null,"-1",{"$f":"K15-1/8*(K$7-K$15)","v":8.59375},{"$f":"IF(AND($H$11>=K17,$H$11<=K15),$H$11,\"\")","v":""},"-1",{"$f":"N15-1/8*(N$7-N$15)","v":-1.5625},"±1, 2, or 3","-1",{"$f":"Q15-1/8*(Q$7-Q$15)","v":9.1796875},{"$f":"IF(AND($H$11>=Q17,$H$11<=Q15),$H$11,\"\")","v":""},"-1",{"$f":"T15-1/8*(T$7-T$15)","v":10.7177734375},{"$f":"IF(AND($H$11>=T17,$H$11<=T15),$H$11,\"\")","v":""},null,true,null,null,null,null,null,null,{"$f":"Z31","v":9.3299999237060565},"3",10.9375,"","3",11.71875,"",9,2.44140625E-2,null,null,"2020-07-29",{"$error":"#N/A"},{"$error":"#N/A"},{"$error":"#N/A"},{"$error":"#N/A"},{"$error":"#N/A"},{"$error":"#N/A"},{"$error":"#N/A"},{"$error":"#N/A"},{"$error":"#N/A"},{"$error":"#N/A"},{"$error":"#N/A"},{"$error":"#N/A"},{"$error":"#N/A"},0,1,0.33333333333333331,0.66666666666666663,{"$error":"#N/A"},{"$error":"#N/A"},{"$error":"#N/A"},{"$error":"#N/A"},{"$error":"#N/A"},{"$error":"#N/A"},{"$error":"#N/A"},{"$error":"#N/A"},{"$error":"#N/A"},{"$error":"#N/A"},{"$error":"#N/A"},{"$error":"#N/A"},{"$error":"#N/A"},{"$error":"#N/A"},{"$error":"#N/A"},{"$error":"#N/A"},{"$error":"#N/A"},{"$error":"#N/A"},{"$error":"#N/A"},{"$error":"#N/A"},{"$error":"#N/A"},{"$error":"#N/A"},{"$error":"#N/A"},{"$error":"#N/A"},{"$error":"#N/A"},{"$error":"#N/A"},{"$error":"#N/A"},{"$error":"#N/A"},{"$error":"#N/A"},{"$error":"#N/A"},{"$error":"#N/A"},{"$error":"#N/A"},{"$error":"#N/A"},{"$error":"#N/A"},{"$error":"#N/A"},{"$error":"#N/A"},{"$error":"#N/A"},{"$error":"#N/A"},{"$error":"#N/A"},{"$error":"#N/A"},{"$error":"#N/A"},{"$error":"#N/A"},{"$error":"#N/A"},{"$error":"#N/A"},{"$error":"#N/A"},{"$error":"#N/A"},{"$error":"#N/A"},{"$error":"#N/A"},{"$error":"#N/A"},{"$error":"#N/A"},{"$error":"#N/A"},{"$error":"#N/A"},{"$error":"#N/A"},{"$error":"#N/A"},{"$error":"#N/A"},{"$error":"#N/A"},{"$error":"#N/A"},{"$error":"#N/A"},{"$error":"#N/A"},{"$error":"#N/A"},{"$error":"#N/A"},{"$error":"#N/A"},{"$error":"#N/A"},{"$error":"#N/A"},{"$error":"#N/A"},{"$error":"#N/A"},{"$error":"#N/A"},{"$error":"#N/A"},{"$error":"#N/A"},{"$error":"#N/A"},{"$error":"#N/A"},{"$error":"#N/A"},{"$error":"#N/A"},{"$error":"#N/A"},{"$error":"#N/A"},{"$error":"#N/A"},{"$error":"#N/A"},{"$error":"#N/A"},{"$error":"#N/A"},{"$error":"#N/A"},{"$error":"#N/A"},{"$error":"#N/A"},{"$error":"#N/A"},{"$error":"#N/A"},{"$error":"#N/A"},{"$error":"#N/A"},{"$error":"#N/A"},{"$error":"#N/A"}]
["2020-07-30",{"$f":"VLOOKUP($A18,Data!$A$2:$E$150,2,FALSE)","v":13.090000152587891},{"$f":"VLOOKUP($A18,Data!$A$2:$E$150,3,FALSE)","v":13.489999771118164},{"$f":"VLOOKUP($A18,Data!$A$2:$E$150,4,FALSE)","v":12.840000152587891},{"$f":"VLOOKUP($A18,Data!$A$2:$E$150,5,FALSE)","v":12.970000267028809},null,64,"bar",null,"-2",{"$f":"K17-1/8*(K$7-K$15)","v":7.8125},{"$f":"IF(AND($H$11>=K18,$H$11<=K17),$H$11,\"\")","v":""},"-2",{"$f":"N17-1/8*(N$7-N$15)","v":-3.125},0,"-2",{"$f":"Q17-1/8*(Q$7-Q$15)","v":8.984375},{"$f":"IF(AND($H$11>=Q18,$H$11<=Q17),$H$11,\"\")","v":""},"-2",{"$f":"T17-1/8*(T$7-T$15)","v":10.693359375},{"$f":"IF(AND($H$11>=T18,$H$11<=T17),$H$11,\"\")","v":""},null,null,null,null,null,null,null,null,null,"2",9.375,10.899999618530272,"2",10.9375,"",10,1.220703125E-2,null,null,"2020-07-30",{"$error":"#N/A"},{"$error":"#N/A"},{"$error":"#N/A"},{"$error":"#N/A"},{"$error":"#N/A"},{"$error":"#N/A"},{"$error":"#N/A"},{"$error":"#N/A"},{"$error":"#N/A"},{"$error":"#N/A"},{"$error":"#N/A"},{"$error":"#N/A"},{"$error":"#N/A"},0,1,0.33333333333333331,0.66666666666666663,{"$error":"#N/A"},{"$error":"#N/A"},{"$error":"#N/A"},{"$error":"#N/A"},{"$error":"#N/A"},{"$error":"#N/A"},{"$error":"#N/A"},{"$error":"#N/A"},{"$error":"#N/A"},{"$error":"#N/A"},{"$error":"#N/A"},{"$error":"#N/A"},{"$error":"#N/A"},{"$error":"#N/A"},{"$error":"#N/A"},{"$error":"#N/A"},{"$error":"#N/A"},{"$error":"#N/A"},{"$error":"#N/A"},{"$error":"#N/A"},{"$error":"#N/A"},{"$error":"#N/A"},{"$error":"#N/A"},{"$error":"#N/A"},{"$error":"#N/A"},{"$error":"#N/A"},{"$error":"#N/A"},{"$error":"#N/A"},{"$error":"#N/A"},{"$error":"#N/A"},{"$error":"#N/A"},{"$error":"#N/A"},{"$error":"#N/A"},{"$error":"#N/A"},{"$error":"#N/A"},{"$error":"#N/A"},{"$error":"#N/A"},{"$error":"#N/A"},{"$error":"#N/A"},{"$error":"#N/A"},{"$error":"#N/A"},{"$error":"#N/A"},{"$error":"#N/A"},{"$error":"#N/A"},{"$error":"#N/A"},{"$error":"#N/A"},{"$error":"#N/A"},{"$error":"#N/A"},{"$error":"#N/A"},{"$error":"#N/A"},{"$error":"#N/A"},{"$error":"#N/A"},{"$error":"#N/A"},{"$error":"#N/A"},{"$error":"#N/A"},{"$error":"#N/A"},{"$error":"#N/A"},{"$error":"#N/A"},{"$error":"#N/A"},{"$error":"#N/A"},{"$error":"#N/A"},{"$error":"#N/A"},{"$error":"#N/A"},{"$error":"#N/A"},{"$error":"#N/A"},{"$error":"#N/A"},{"$error":"#N/A"},{"$error":"#N/A"},{"$error":"#N/A"},{"$error":"#N/A"},{"$error":"#N/A"},{"$error":"#N/A"},{"$error":"#N/A"},{"$error":"#N/A"},{"$error":"#N/A"},{"$error":"#N/A"},{"$error":"#N/A"},{"$error":"#N/A"},{"$error":"#N/A"},{"$error":"#N/A"},{"$error":"#N/A"},{"$error":"#N/A"},{"$error":"#N/A"},{"$error":"#N/A"},{"$error":"#N/A"},{"$error":"#N/A"},{"$error":"#N/A"},{"$error":"#N/A"}]
["2020-07-31",{"$f":"VLOOKUP($A19,Data!$A$2:$E$150,2,FALSE)","v":13.430000305175779},{"$f":"VLOOKUP($A19,Data!$A$2:$E$150,3,FALSE)","v":13.430000305175779},{"$f":"VLOOKUP($A19,Data!$A$2:$E$150,4,FALSE)","v":13.079999923706056},{"$f":"VLOOKUP($A19,Data!$A$2:$E$150,5,FALSE)","v":13.329999923706056},null,"min date",{"$f":"+H21","v":"2020-07-10"},null,null,null,null,null,null,null,null,null,null,null,null,null,null,null,null,null,null,null,null,null,null,"1",7.8125,"","1",10.15625,10.899999618530272,11,6.103515625E-3,null,null,"2020-07-31",{"$error":"#N/A"},{"$error":"#N/A"},{"$error":"#N/A"},{"$error":"#N/A"},{"$error":"#N/A"},{"$error":"#N/A"},{"$error":"#N/A"},{"$error":"#N/A"},{"$error":"#N/A"},{"$error":"#N/A"},{"$error":"#N/A"},{"$error":"#N/A"},{"$error":"#N/A"},0,1,0.33333333333333331,0.66666666666666663,{"$error":"#N/A"},{"$error":"#N/A"},{"$error":"#N/A"},{"$error":"#N/A"},{"$error":"#N/A"},{"$error":"#N/A"},{"$error":"#N/A"},{"$error":"#N/A"},{"$error":"#N/A"},{"$error":"#N/A"},{"$error":"#N/A"},{"$error":"#N/A"},{"$error":"#N/A"},{"$error":"#N/A"},{"$error":"#N/A"},{"$error":"#N/A"},{"$error":"#N/A"},{"$error":"#N/A"},{"$error":"#N/A"},{"$error":"#N/A"},{"$error":"#N/A"},{"$error":"#N/A"},{"$error":"#N/A"},{"$error":"#N/A"},{"$error":"#N/A"},{"$error":"#N/A"},{"$error":"#N/A"},{"$error":"#N/A"},{"$error":"#N/A"},{"$error":"#N/A"},{"$error":"#N/A"},{"$error":"#N/A"},{"$error":"#N/A"},{"$error":"#N/A"},{"$error":"#N/A"},{"$error":"#N/A"},{"$error":"#N/A"},{"$error":"#N/A"},{"$error":"#N/A"},{"$error":"#N/A"},{"$error":"#N/A"},{"$error":"#N/A"},{"$error":"#N/A"},{"$error":"#N/A"},{"$error":"#N/A"},{"$error":"#N/A"},{"$error":"#N/A"},{"$error":"#N/A"},{"$error":"#N/A"},{"$error":"#N/A"},{"$error":"#N/A"},{"$error":"#N/A"},{"$error":"#N/A"},{"$error":"#N/A"},{"$error":"#N/A"},{"$error":"#N/A"},{"$error":"#N/A"},{"$error":"#N/A"},{"$error":"#N/A"},{"$error":"#N/A"},{"$error":"#N/A"},{"$error":"#N/A"},{"$error":"#N/A"},{"$error":"#N/A"},{"$error":"#N/A"},{"$error":"#N/A"},{"$error":"#N/A"},{"$error":"#N/A"},{"$error":"#N/A"},{"$error":"#N/A"},{"$error":"#N/A"},{"$error":"#N/A"},{"$error":"#N/A"},{"$error":"#N/A"},{"$error":"#N/A"},{"$error":"#N/A"},{"$error":"#N/A"},{"$error":"#N/A"},{"$error":"#N/A"},{"$error":"#N/A"},{"$error":"#N/A"},{"$error":"#N/A"},{"$error":"#N/A"},{"$error":"#N/A"},{"$error":"#N/A"},{"$error":"#N/A"},{"$error":"#N/A"},{"$error":"#N/A"}]
["2020-08-03",{"$f":"VLOOKUP($A20,Data!$A$2:$E$150,2,FALSE)","v":13.380000114440918},{"$f":"VLOOKUP($A20,Data!$A$2:$E$150,3,FALSE)","v":13.380000114440918},{"$f":"VLOOKUP($A20,Data!$A$2:$E$150,4,FALSE)","v":12.779999732971191},{"$f":"VLOOKUP($A20,Data!$A$2:$E$150,5,FALSE)","v":13.060000419616699},null,"Curr date",{"$f":"+Data!A2","v":"2020-10-27"},null,null,null,null,null,null,null,null,null,null,null,null,null,null,false,null,null,null,null,null,null,null,"MIN 0/8",{"$f":"Z36","v":6.25},"",{"$f":"($AI$20-$AF$20)/$AF$21&\"/8\"","v":"2/8"},{"$f":"SUM(AH29:AH39)","v":9.375},"",12,3.0517578125E-3,null,null,"2020-08-03",-0.25,-0.25,0.25,0.25,0.75,0.75,1.25,1.25,{"$error":"#N/A"},{"$error":"#N/A"},{"$error":"#N/A"},1.125,1,0,1,0.33333333333333331,0.66666666666666663,1,{"$error":"#N/A"},{"$error":"#N/A"},{"$error":"#N/A"},{"$error":"#N/A"},{"$error":"#N/A"},{"$error":"#N/A"},{"$error":"#N/A"},{"$error":"#N/A"},{"$error":"#N/A"},{"$error":"#N/A"},{"$error":"#N/A"},{"$error":"#N/A"},{"$error":"#N/A"},{"$error":"#N/A"},{"$error":"#N/A"},{"$error":"#N/A"},{"$error":"#N/A"},{"$error":"#N/A"},{"$error":"#N/A"},{"$error":"#N/A"},{"$error":"#N/A"},{"$error":"#N/A"},{"$error":"#N/A"},{"$error":"#N/A"},{"$error":"#N/A"},{"$error":"#N/A"},{"$error":"#N/A"},{"$error":"#N/A"},{"$error":"#N/A"},{"$error":"#N/A"},{"$error":"#N/A"},{"$error":"#N/A"},0,{"$error":"#N/A"},{"$error":"#N/A"},{"$error":"#N/A"},{"$error":"#N/A"},{"$error":"#N/A"},{"$error":"#N/A"},{"$error":"#N/A"},1,{"$error":"#N/A"},{"$error":"#N/A"},{"$error":"#N/A"},{"$error":"#N/A"},{"$error":"#N/A"},{"$error":"#N/A"},{"$error":"#N/A"},{"$error":"#N/A"},{"$error":"#N/A"},{"$error":"#N/A"},{"$error":"#N/A"},{"$error":"#N/A"},{"$error":"#N/A"},{"$error":"#N/A"},{"$error":"#N/A"},{"$error":"#N/A"},{"$error":"#N/A"},{"$error":"#N/A"},{"$error":"#N/A"},{"$error":"#N/A"},{"$error":"#N/A"},{"$error":"#N/A"},{"$error":"#N/A"},{"$error":"#N/A"},{"$error":"#N/A"},{"$error":"#N/A"},{"$error":"#N/A"},{"$error":"#N/A"},{"$error":"#N/A"},{"$error":"#N/A"},{"$error":"#N/A"},{"$error":"#N/A"},{"$error":"#N/A"},{"$error":"#N/A"},{"$error":"#N/A"},{"$error":"#N/A"},{"$error":"#N/A"},{"$error":"#N/A"},{"$error":"#N/A"},{"$error":"#N/A"},{"$error":"#N/A"},{"$error":"#N/A"},{"$error":"#N/A"},{"$error":"#N/A"},{"$error":"#N/A"},{"$error":"#N/A"}]
["2020-08-04",{"$f":"VLOOKUP($A21,Data!$A$2:$E$150,2,FALSE)","v":13.079999923706056},{"$f":"VLOOKUP($A21,Data!$A$2:$E$150,3,FALSE)","v":13.989999771118164},{"$f":"VLOOKUP($A21,Data!$A$2:$E$150,4,FALSE)","v":13.060000419616699},{"$f":"VLOOKUP($A21,Data!$A$2:$E$150,5,FALSE)","v":13.949999809265137},null,"1st Square",{"$f":"INDEX(J47:J52,MATCH(+Data!A2,J47:J52,1)-1)","v":"2020-07-10"},null,null,null,null,null,null,null,null,null,null,null,null,null,null,null,null,null,null,null,null,null,null,null,{"$f":"AF19-AF20","v":1.5625},null,null,{"$f":"AI19-AI20","v":0.78125},null,13,1.52587890625E-3,null,null,"2020-08-04",{"$error":"#N/A"},{"$error":"#N/A"},{"$error":"#N/A"},{"$error":"#N/A"},{"$error":"#N/A"},{"$error":"#N/A"},{"$error":"#N/A"},{"$error":"#N/A"},{"$error":"#N/A"},{"$error":"#N/A"},{"$error":"#N/A"},{"$error":"#N/A"},{"$error":"#N/A"},0,1,0.33333333333333331,0.66666666666666663,{"$error":"#N/A"},{"$error":"#N/A"},{"$error":"#N/A"},{"$error":"#N/A"},{"$error":"#N/A"},{"$error":"#N/A"},{"$error":"#N/A"},{"$error":"#N/A"},{"$error":"#N/A"},{"$error":"#N/A"},{"$error":"#N/A"},{"$error":"#N/A"},{"$error":"#N/A"},{"$error":"#N/A"},{"$error":"#N/A"},{"$error":"#N/A"},{"$error":"#N/A"},{"$error":"#N/A"},{"$error":"#N/A"},{"$error":"#N/A"},{"$error":"#N/A"},{"$error":"#N/A"},{"$error":"#N/A"},{"$error":"#N/A"},{"$error":"#N/A"},{"$error":"#N/A"},{"$error":"#N/A"},{"$error":"#N/A"},{"$error":"#N/A"},{"$error":"#N/A"},{"$error":"#N/A"},{"$error":"#N/A"},{"$error":"#N/A"},{"$error":"#N/A"},{"$error":"#N/A"},{"$error":"#N/A"},{"$error":"#N/A"},{"$error":"#N/A"},{"$error":"#N/A"},{"$error":"#N/A"},{"$error":"#N/A"},{"$error":"#N/A"},{"$error":"#N/A"},{"$error":"#N/A"},{"$error":"#N/A"},{"$error":"#N/A"},{"$error":"#N/A"},{"$error":"#N/A"},{"$error":"#N/A"},{"$error":"#N/A"},{"$error":"#N/A"},{"$error":"#N/A"},{"$error":"#N/A"},{"$error":"#N/A"},{"$error":"#N/A"},{"$error":"#N/A"},{"$error":"#N/A"},{"$error":"#N/A"},{"$error":"#N/A"},{"$error":"#N/A"},{"$error":"#N/A"},{"$error":"#N/A"},{"$error":"#N/A"},{"$error":"#N/A"},{"$error":"#N/A"},{"$error":"#N/A"},{"$error":"#N/A"},{"$error":"#N/A"},{"$error":"#N/A"},{"$error":"#N/A"},{"$error":"#N/A"},{"$error":"#N/A"},{"$error":"#N/A"},{"$error":"#N/A"},{"$error":"#N/A"},{"$error":"#N/A"},{"$error":"#N/A"},{"$error":"#N/A"},{"$error":"#N/A"},{"$error":"#N/A"},{"$error":"#N/A"},{"$error":"#N/A"},{"$error":"#N/A"},{"$error":"#N/A"},{"$error":"#N/A"},{"$error":"#N/A"},{"$error":"#N/A"},{"$error":"#N/A"}]
["2020-08-05",{"$f":"VLOOKUP($A22,Data!$A$2:$E$150,2,FALSE)","v":14.520000457763672},{"$f":"VLOOKUP($A22,Data!$A$2:$E$150,3,FALSE)","v":14.569999694824221},{"$f":"VLOOKUP($A22,Data!$A$2:$E$150,4,FALSE)","v":13.560000419616699},{"$f":"VLOOKUP($A22,Data!$A$2:$E$150,5,FALSE)","v":13.810000419616699},null,"Middle",{"$f":"INDEX(J47:J52,MATCH(+Data!A2,J47:J52,1))","v":"2020-10-05"},null,null,null,null,null,null,null,null,null,null,null,null,null,null,null,null,null,null,null,null,null,null,"-1",{"$f":"AF20-1/8*(AF$12-AF$20)","v":4.6875},{"$f":"IF(AND($H$11>=AF22,$H$11<=AF20),$H$11,\"\")","v":""},"-1",{"$f":"AI20-1/8*(AI$12-AI$20)","v":8.59375},{"$f":"IF(AND($H$11>=AI22,$H$11<=AI20),$H$11,\"\")","v":""},14,7.62939453125E-4,null,null,"2020-08-05",{"$error":"#N/A"},{"$error":"#N/A"},{"$error":"#N/A"},{"$error":"#N/A"},{"$error":"#N/A"},{"$error":"#N/A"},{"$error":"#N/A"},{"$error":"#N/A"},{"$error":"#N/A"},{"$error":"#N/A"},{"$error":"#N/A"},{"$error":"#N/A"},{"$error":"#N/A"},0,1,0.33333333333333331,0.66666666666666663,{"$error":"#N/A"},{"$error":"#N/A"},{"$error":"#N/A"},{"$error":"#N/A"},{"$error":"#N/A"},{"$error":"#N/A"},{"$error":"#N/A"},{"$error":"#N/A"},{"$error":"#N/A"},{"$error":"#N/A"},{"$error":"#N/A"},{"$error":"#N/A"},{"$error":"#N/A"},{"$error":"#N/A"},{"$error":"#N/A"},{"$error":"#N/A"},{"$error":"#N/A"},{"$error":"#N/A"},{"$error":"#N/A"},{"$error":"#N/A"},{"$error":"#N/A"},{"$error":"#N/A"},{"$error":"#N/A"},{"$error":"#N/A"},{"$error":"#N/A"},{"$error":"#N/A"},{"$error":"#N/A"},{"$error":"#N/A"},{"$error":"#N/A"},{"$error":"#N/A"},{"$error":"#N/A"},{"$error":"#N/A"},{"$error":"#N/A"},{"$error":"#N/A"},{"$error":"#N/A"},{"$error":"#N/A"},{"$error":"#N/A"},{"$error":"#N/A"},{"$error":"#N/A"},{"$error":"#N/A"},{"$error":"#N/A"},{"$error":"#N/A"},{"$error":"#N/A"},{"$error":"#N/A"},{"$error":"#N/A"},{"$error":"#N/A"},{"$error":"#N/A"},{"$error":"#N/A"},{"$error":"#N/A"},{"$error":"#N/A"},{"$error":"#N/A"},{"$error":"#N/A"},{"$error":"#N/A"},{"$error":"#N/A"},{"$error":"#N/A"},{"$error":"#N/A"},{"$error":"#N/A"},{"$error":"#N/A"},{"$error":"#N/A"},{"$error":"#N/A"},{"$error":"#N/A"},{"$error":"#N/A"},{"$error":"#N/A"},{"$error":"#N/A"},{"$error":"#N/A"},{"$error":"#N/A"},{"$error":"#N/A"},{"$error":"#N/A"},{"$error":"#N/A"},{"$error":"#N/A"},{"$error":"#N/A"},{"$error":"#N/A"},{"$error":"#N/A"},{"$error":"#N/A"},{"$error":"#N/A"},{"$error":"#N/A"},{"$error":"#N/A"},{"$error":"#N/A"},{"$error":"#N/A"},{"$error":"#N/A"},{"$error":"#N/A"},{"$error":"#N/A"},{"$error":"#N/A"},{"$error":"#N/A"},{"$error":"#N/A"},{"$error":"#N/A"},{"$error":"#N/A"},{"$error":"#N/A"}]
["2020-08-06",{"$f":"VLOOKUP($A23,Data!$A$2:$E$150,2,FALSE)","v":14.279999732971191},{"$f":"VLOOKUP($A23,Data!$A$2:$E$150,3,FALSE)","v":14.279999732971191},{"$f":"VLOOKUP($A23,Data!$A$2:$E$150,4,FALSE)","v":13.390000343322754},{"$f":"VLOOKUP($A23,Data!$A$2:$E$150,5,FALSE)","v":13.659999847412109},null,"2nd Square",{"$f":"IF(INDEX(J47:J52,MATCH(+Data!A2,J47:J52,1))=J51,WORKDAY(H22,G$18,$G$32:$G$71),INDEX(J47:J52,MATCH(+Data!A2,J47:J52,1)+1))","v":"2021-01-06"},null,null,null,null,null,null,null,null,null,null,null,null,null,null,null,null,null,null,null,null,null,null,"-2",{"$f":"AF22-1/8*(AF$12-AF$20)","v":3.125},{"$f":"IF(AND($H$11>=AF23,$H$11<=AF22),$H$11,\"\")","v":""},"-2",{"$f":"AI22-1/8*(AI$12-AI$20)","v":7.8125},{"$f":"IF(AND($H$11>=AI23,$H$11<=AI22),$H$11,\"\")","v":""},15,3.814697265625E-4,null,null,"2020-08-06",{"$error":"#N/A"},{"$error":"#N/A"},{"$error":"#N/A"},{"$error":"#N/A"},{"$error":"#N/A"},{"$error":"#N/A"},{"$error":"#N/A"},{"$error":"#N/A"},{"$error":"#N/A"},{"$error":"#N/A"},{"$error":"#N/A"},{"$error":"#N/A"},{"$error":"#N/A"},0,1,0.33333333333333331,0.66666666666666663,{"$error":"#N/A"},{"$error":"#N/A"},{"$error":"#N/A"},{"$error":"#N/A"},{"$error":"#N/A"},{"$error":"#N/A"},{"$error":"#N/A"},{"$error":"#N/A"},{"$error":"#N/A"},{"$error":"#N/A"},{"$error":"#N/A"},{"$error":"#N/A"},{"$error":"#N/A"},{"$error":"#N/A"},{"$error":"#N/A"},{"$error":"#N/A"},{"$error":"#N/A"},{"$error":"#N/A"},{"$error":"#N/A"},{"$error":"#N/A"},{"$error":"#N/A"},{"$error":"#N/A"},{"$error":"#N/A"},{"$error":"#N/A"},{"$error":"#N/A"},{"$error":"#N/A"},{"$error":"#N/A"},{"$error":"#N/A"},{"$error":"#N/A"},{"$error":"#N/A"},{"$error":"#N/A"},{"$error":"#N/A"},{"$error":"#N/A"},{"$error":"#N/A"},{"$error":"#N/A"},{"$error":"#N/A"},{"$error":"#N/A"},{"$error":"#N/A"},{"$error":"#N/A"},{"$error":"#N/A"},{"$error":"#N/A"},{"$error":"#N/A"},{"$error":"#N/A"},{"$error":"#N/A"},{"$error":"#N/A"},{"$error":"#N/A"},{"$error":"#N/A"},{"$error":"#N/A"},{"$error":"#N/A"},{"$error":"#N/A"},{"$error":"#N/A"},{"$error":"#N/A"},{"$error":"#N/A"},{"$error":"#N/A"},{"$error":"#N/A"},{"$error":"#N/A"},{"$error":"#N/A"},{"$error":"#N/A"},{"$error":"#N/A"},{"$error":"#N/A"},{"$error":"#N/A"},{"$error":"#N/A"},{"$error":"#N/A"},{"$error":"#N/A"},{"$error":"#N/A"},{"$error":"#N/A"},{"$error":"#N/A"},{"$error":"#N/A"},{"$error":"#N/A"},{"$error":"#N/A"},{"$error":"#N/A"},{"$error":"#N/A"},{"$error":"#N/A"},{"$error":"#N/A"},{"$error":"#N/A"},{"$error":"#N/A"},{"$error":"#N/A"},{"$error":"#N/A"},{"$error":"#N/A"},{"$error":"#N/A"},{"$error":"#N/A"},{"$error":"#N/A"},{"$error":"#N/A"},{"$error":"#N/A"},{"$error":"#N/A"},{"$error":"#N/A"},{"$error":"#N/A"},{"$error":"#N/A"}]
["2020-08-07",{"$f":"VLOOKUP($A24,Data!$A$2:$E$150,2,FALSE)","v":13.039999961853027},{"$f":"VLOOKUP($A24,Data!$A$2:$E$150,3,FALSE)","v":13.5},{"$f":"VLOOKUP($A24,Data!$A$2:$E$150,4,FALSE)","v":12.720000267028809},{"$f":"VLOOKUP($A24,Data!$A$2:$E$150,5,FALSE)","v":12.970000267028809},null,null,null,null,null,null,null,null,null,null,null,null,null,null,null,null,null,null,null,null,null,null,null,null,null,null,null,null,null,null,null,16,1.9073486328125E-4,null,null,"2020-08-07",{"$error":"#N/A"},{"$error":"#N/A"},{"$error":"#N/A"},{"$error":"#N/A"},{"$error":"#N/A"},{"$error":"#N/A"},{"$error":"#N/A"},{"$error":"#N/A"},{"$error":"#N/A"},{"$error":"#N/A"},{"$error":"#N/A"},{"$error":"#N/A"},{"$error":"#N/A"},0,1,0.33333333333333331,0.66666666666666663,{"$error":"#N/A"},{"$error":"#N/A"},{"$error":"#N/A"},{"$error":"#N/A"},{"$error":"#N/A"},{"$error":"#N/A"},{"$error":"#N/A"},{"$error":"#N/A"},{"$error":"#N/A"},{"$error":"#N/A"},{"$error":"#N/A"},{"$error":"#N/A"},{"$error":"#N/A"},{"$error":"#N/A"},{"$error":"#N/A"},{"$error":"#N/A"},{"$error":"#N/A"},{"$error":"#N/A"},{"$error":"#N/A"},{"$error":"#N/A"},{"$error":"#N/A"},{"$error":"#N/A"},{"$error":"#N/A"},{"$error":"#N/A"},{"$error":"#N/A"},{"$error":"#N/A"},{"$error":"#N/A"},{"$error":"#N/A"},{"$error":"#N/A"},{"$error":"#N/A"},{"$error":"#N/A"},{"$error":"#N/A"},{"$error":"#N/A"},{"$error":"#N/A"},{"$error":"#N/A"},{"$error":"#N/A"},{"$error":"#N/A"},{"$error":"#N/A"},{"$error":"#N/A"},{"$error":"#N/A"},{"$error":"#N/A"},{"$error":"#N/A"},{"$error":"#N/A"},{"$error":"#N/A"},{"$error":"#N/A"},{"$error":"#N/A"},{"$error":"#N/A"},{"$error":"#N/A"},{"$error":"#N/A"},{"$error":"#N/A"},{"$error":"#N/A"},{"$error":"#N/A"},{"$error":"#N/A"},{"$error":"#N/A"},{"$error":"#N/A"},{"$error":"#N/A"},{"$error":"#N/A"},{"$error":"#N/A"},{"$error":"#N/A"},{"$error":"#N/A"},{"$error":"#N/A"},{"$error":"#N/A"},{"$error":"#N/A"},{"$error":"#N/A"},{"$error":"#N/A"},{"$error":"#N/A"},{"$error":"#N/A"},{"$error":"#N/A"},{"$error":"#N/A"},{"$error":"#N/A"},{"$error":"#N/A"},{"$error":"#N/A"},{"$error":"#N/A"},{"$error":"#N/A"},{"$error":"#N/A"},{"$error":"#N/A"},{"$error":"#N/A"},{"$error":"#N/A"},{"$error":"#N/A"},{"$error":"#N/A"},{"$error":"#N/A"},{"$error":"#N/A"},{"$error":"#N/A"},{"$error":"#N/A"},{"$error":"#N/A"},{"$error":"#N/A"},{"$error":"#N/A"},{"$error":"#N/A"}]
["2020-08-10",{"$f":"VLOOKUP($A25,Data!$A$2:$E$150,2,FALSE)","v":13.189999580383301},{"$f":"VLOOKUP($A25,Data!$A$2:$E$150,3,FALSE)","v":13.670000076293944},{"$f":"VLOOKUP($A25,Data!$A$2:$E$150,4,FALSE)","v":12.930000305175779},{"$f":"VLOOKUP($A25,Data!$A$2:$E$150,5,FALSE)","v":12.970000267028809},null,null,null,null,null,null,null,null,null,null,null,null,null,null,null,null,null,null,null,null,null,null,null,null,null,null,"Can You See It!...",null,null,null,null,null,null,null,null,"2020-08-10",{"$error":"#N/A"},{"$error":"#N/A"},{"$error":"#N/A"},{"$error":"#N/A"},{"$error":"#N/A"},{"$error":"#N/A"},{"$error":"#N/A"},{"$error":"#N/A"},{"$error":"#N/A"},{"$error":"#N/A"},{"$error":"#N/A"},{"$error":"#N/A"},{"$error":"#N/A"},0,1,0.33333333333333331,0.66666666666666663,{"$error":"#N/A"},{"$error":"#N/A"},{"$error":"#N/A"},{"$error":"#N/A"},{"$error":"#N/A"},{"$error":"#N/A"},{"$error":"#N/A"},{"$error":"#N/A"},{"$error":"#N/A"},{"$error":"#N/A"},{"$error":"#N/A"},{"$error":"#N/A"},{"$error":"#N/A"},{"$error":"#N/A"},{"$error":"#N/A"},{"$error":"#N/A"},{"$error":"#N/A"},{"$error":"#N/A"},{"$error":"#N/A"},{"$error":"#N/A"},{"$error":"#N/A"},{"$error":"#N/A"},{"$error":"#N/A"},{"$error":"#N/A"},{"$error":"#N/A"},{"$error":"#N/A"},{"$error":"#N/A"},{"$error":"#N/A"},{"$error":"#N/A"},{"$error":"#N/A"},{"$error":"#N/A"},{"$error":"#N/A"},{"$error":"#N/A"},{"$error":"#N/A"},{"$error":"#N/A"},{"$error":"#N/A"},{"$error":"#N/A"},{"$error":"#N/A"},{"$error":"#N/A"},{"$error":"#N/A"},{"$error":"#N/A"},{"$error":"#N/A"},{"$error":"#N/A"},{"$error":"#N/A"},{"$error":"#N/A"},{"$error":"#N/A"},{"$error":"#N/A"},{"$error":"#N/A"},{"$error":"#N/A"},{"$error":"#N/A"},{"$error":"#N/A"},{"$error":"#N/A"},{"$error":"#N/A"},{"$error":"#N/A"},{"$error":"#N/A"},{"$error":"#N/A"},{"$error":"#N/A"},{"$error":"#N/A"},{"$error":"#N/A"},{"$error":"#N/A"},{"$error":"#N/A"},{"$error":"#N/A"},{"$error":"#N/A"},{"$error":"#N/A"},{"$error":"#N/A"},{"$error":"#N/A"},{"$error":"#N/A"},{"$error":"#N/A"},{"$error":"#N/A"},{"$error":"#N/A"},{"$error":"#N/A"},{"$error":"#N/A"},{"$error":"#N/A"},{"$error":"#N/A"},{"$error":"#N/A"},{"$error":"#N/A"},{"$error":"#N/A"},{"$error":"#N/A"},{"$error":"#N/A"},{"$error":"#N/A"},{"$error":"#N/A"},{"$error":"#N/A"},{"$error":"#N/A"},{"$error":"#N/A"},{"$error":"#N/A"},{"$error":"#N/A"},{"$error":"#N/A"},{"$error":"#N/A"}]
["2020-08-11",{"$f":"VLOOKUP($A26,Data!$A$2:$E$150,2,FALSE)","v":12},{"$f":"VLOOKUP($A26,Data!$A$2:$E$150,3,FALSE)","v":12.329999923706056},{"$f":"VLOOKUP($A26,Data!$A$2:$E$150,4,FALSE)","v":11.319999694824221},{"$f":"VLOOKUP($A26,Data!$A$2:$E$150,5,FALSE)","v":11.420000076293944},0.25,{"$f":"INDEX($I$68:$I$73,MATCH($H$21,$I$68:$I$73,1)+1)","v":"2020-08-03"},{"$f":"INDEX($I$69:$I$73,MATCH($H$22,$I$69:$I$73,1)+1)","v":"2020-10-27"},0.125,{"$f":"INDEX($I$77:$I$82,MATCH($H$21,$I$77:$I$82,1)+1)","v":"2020-07-22"},{"$f":"INDEX($I$78:$I$82,MATCH($H$22,$I$78:$I$82,1)+1)","v":"2020-10-15"},0.875,{"$f":"INDEX($I$86:$I$91,MATCH($H$21,$I$86:$I$91,1)+1)","v":"2020-09-29"},{"$f":"INDEX($I$87:$I$91,MATCH($H$22,$I$87:$I$91,1)+1)","v":"2020-12-23"},null,null,null,null,null,null,null,null,null,null,null,null,null,null,null,null,null,null,null,null,null,null,null,null,null,null,"2020-08-11",{"$error":"#N/A"},{"$error":"#N/A"},{"$error":"#N/A"},{"$error":"#N/A"},{"$error":"#N/A"},{"$error":"#N/A"},{"$error":"#N/A"},{"$error":"#N/A"},{"$error":"#N/A"},{"$error":"#N/A"},{"$error":"#N/A"},{"$error":"#N/A"},{"$error":"#N/A"},0,1,0.33333333333333331,0.66666666666666663,{"$error":"#N/A"},{"$error":"#N/A"},{"$error":"#N/A"},{"$error":"#N/A"},{"$error":"#N/A"},{"$error":"#N/A"},{"$error":"#N/A"},{"$error":"#N/A"},{"$error":"#N/A"},{"$error":"#N/A"},{"$error":"#N/A"},{"$error":"#N/A"},{"$error":"#N/A"},{"$error":"#N/A"},{"$error":"#N/A"},{"$error":"#N/A"},{"$error":"#N/A"},{"$error":"#N/A"},{"$error":"#N/A"},{"$error":"#N/A"},{"$error":"#N/A"},{"$error":"#N/A"},{"$error":"#N/A"},{"$error":"#N/A"},{"$error":"#N/A"},{"$error":"#N/A"},{"$error":"#N/A"},{"$error":"#N/A"},{"$error":"#N/A"},{"$error":"#N/A"},{"$error":"#N/A"},{"$error":"#N/A"},{"$error":"#N/A"},{"$error":"#N/A"},{"$error":"#N/A"},{"$error":"#N/A"},{"$error":"#N/A"},{"$error":"#N/A"},{"$error":"#N/A"},{"$error":"#N/A"},{"$error":"#N/A"},{"$error":"#N/A"},{"$error":"#N/A"},{"$error":"#N/A"},{"$error":"#N/A"},{"$error":"#N/A"},{"$error":"#N/A"},{"$error":"#N/A"},{"$error":"#N/A"},{"$error":"#N/A"},{"$error":"#N/A"},{"$error":"#N/A"},{"$error":"#N/A"},{"$error":"#N/A"},{"$error":"#N/A"},{"$error":"#N/A"},{"$error":"#N/A"},{"$error":"#N/A"},{"$error":"#N/A"},{"$error":"#N/A"},{"$error":"#N/A"},{"$error":"#N/A"},{"$error":"#N/A"},{"$error":"#N/A"},{"$error":"#N/A"},{"$error":"#N/A"},{"$error":"#N/A"},{"$error":"#N/A"},{"$error":"#N/A"},{"$error":"#N/A"},{"$error":"#N/A"},{"$error":"#N/A"},{"$error":"#N/A"},{"$error":"#N/A"},{"$error":"#N/A"},{"$error":"#N/A"},{"$error":"#N/A"},{"$error":"#N/A"},{"$error":"#N/A"},{"$error":"#N/A"},{"$error":"#N/A"},{"$error":"#N/A"},{"$error":"#N/A"},{"$error":"#N/A"},{"$error":"#N/A"},{"$error":"#N/A"},{"$error":"#N/A"},{"$error":"#N/A"}]
["2020-08-12",{"$f":"VLOOKUP($A27,Data!$A$2:$E$150,2,FALSE)","v":11.760000228881836},{"$f":"VLOOKUP($A27,Data!$A$2:$E$150,3,FALSE)","v":11.819999694824221},{"$f":"VLOOKUP($A27,Data!$A$2:$E$150,4,FALSE)","v":11.350000381469728},{"$f":"VLOOKUP($A27,Data!$A$2:$E$150,5,FALSE)","v":11.399999618530272},0.5,{"$f":"INDEX($J$68:$J$73,MATCH($H$21,$J$68:$J$73,1)+1)","v":"2020-08-25"},{"$f":"INDEX($J$69:$J$73,MATCH($H$22,$J$69:$J$73,1)+1)","v":"2020-11-18"},0.375,{"$f":"INDEX($J$77:$J$82,MATCH($H$21,$J$77:$J$82,1)+1)","v":"2020-08-13"},{"$f":"INDEX($J$78:$J$82,MATCH($H$22,$J$78:$J$82,1)+1)","v":"2020-11-06"},null,null,null,null,null,null,null,null,null,null,null,null,null,null,null,null,null,null,null,null,null,null,null,null,null,null,null,null,null,"2020-08-12",{"$error":"#N/A"},{"$error":"#N/A"},{"$error":"#N/A"},{"$error":"#N/A"},{"$error":"#N/A"},{"$error":"#N/A"},{"$error":"#N/A"},{"$error":"#N/A"},{"$error":"#N/A"},{"$error":"#N/A"},{"$error":"#N/A"},{"$error":"#N/A"},{"$error":"#N/A"},0,1,0.33333333333333331,0.66666666666666663,{"$error":"#N/A"},{"$error":"#N/A"},{"$error":"#N/A"},{"$error":"#N/A"},{"$error":"#N/A"},{"$error":"#N/A"},{"$error":"#N/A"},{"$error":"#N/A"},{"$error":"#N/A"},{"$error":"#N/A"},{"$error":"#N/A"},{"$error":"#N/A"},{"$error":"#N/A"},{"$error":"#N/A"},{"$error":"#N/A"},{"$error":"#N/A"},{"$error":"#N/A"},{"$error":"#N/A"},{"$error":"#N/A"},{"$error":"#N/A"},{"$error":"#N/A"},{"$error":"#N/A"},{"$error":"#N/A"},{"$error":"#N/A"},{"$error":"#N/A"},{"$error":"#N/A"},{"$error":"#N/A"},{"$error":"#N/A"},{"$error":"#N/A"},{"$error":"#N/A"},{"$error":"#N/A"},{"$error":"#N/A"},{"$error":"#N/A"},{"$error":"#N/A"},{"$error":"#N/A"},{"$error":"#N/A"},{"$error":"#N/A"},{"$error":"#N/A"},{"$error":"#N/A"},{"$error":"#N/A"},{"$error":"#N/A"},{"$error":"#N/A"},{"$error":"#N/A"},{"$error":"#N/A"},{"$error":"#N/A"},{"$error":"#N/A"},{"$error":"#N/A"},{"$error":"#N/A"},{"$error":"#N/A"},{"$error":"#N/A"},{"$error":"#N/A"},{"$error":"#N/A"},{"$error":"#N/A"},{"$error":"#N/A"},{"$error":"#N/A"},{"$error":"#N/A"},{"$error":"#N/A"},{"$error":"#N/A"},{"$error":"#N/A"},{"$error":"#N/A"},{"$error":"#N/A"},{"$error":"#N/A"},{"$error":"#N/A"},{"$error":"#N/A"},{"$error":"#N/A"},{"$error":"#N/A"},{"$error":"#N/A"},{"$error":"#N/A"},{"$error":"#N/A"},{"$error":"#N/A"},{"$error":"#N/A"},{"$error":"#N/A"},{"$error":"#N/A"},{"$error":"#N/A"},{"$error":"#N/A"},{"$error":"#N/A"},{"$error":"#N/A"},{"$error":"#N/A"},{"$error":"#N/A"},{"$error":"#N/A"},{"$error":"#N/A"},{"$error":"#N/A"},{"$error":"#N/A"},{"$error":"#N/A"},{"$error":"#N/A"},{"$error":"#N/A"},{"$error":"#N/A"},{"$error":"#N/A"}]
["2020-08-13",{"$f":"VLOOKUP($A28,Data!$A$2:$E$150,2,FALSE)","v":11.609999656677246},{"$f":"VLOOKUP($A28,Data!$A$2:$E$150,3,FALSE)","v":12.114999771118164},{"$f":"VLOOKUP($A28,Data!$A$2:$E$150,4,FALSE)","v":11.510000228881836},{"$f":"VLOOKUP($A28,Data!$A$2:$E$150,5,FALSE)","v":11.869999885559082},0.75,{"$f":"INDEX($K$68:$K$73,MATCH($H$21,$K$68:$K$73,1)+1)","v":"2020-09-17"},{"$f":"INDEX($K$69:$K$73,MATCH($H$22,$K$69:$K$73,1)+1)","v":"2020-12-11"},0.625,{"$f":"INDEX($K$77:$K$82,MATCH($H$21,$K$77:$K$82,1)+1)","v":"2020-09-04"},{"$f":"INDEX($K$78:$K$82,MATCH($H$22,$K$78:$K$82,1)+1)","v":"2020-12-01"},null,null,null,null,null,null,null,null,null,null,null,null,null,"Creating Our TimeFrame",null,null,null,null,"Available TimeFrames",null,null,null,null,"Best fit for Time",null,null,null,null,null,"2020-08-13",{"$error":"#N/A"},{"$error":"#N/A"},{"$error":"#N/A"},{"$error":"#N/A"},{"$error":"#N/A"},{"$error":"#N/A"},{"$error":"#N/A"},{"$error":"#N/A"},{"$error":"#N/A"},{"$error":"#N/A"},{"$error":"#N/A"},{"$error":"#N/A"},1,0,1,0.33333333333333331,0.66666666666666663,{"$error":"#N/A"},{"$error":"#N/A"},{"$error":"#N/A"},{"$error":"#N/A"},{"$error":"#N/A"},{"$error":"#N/A"},{"$error":"#N/A"},{"$error":"#N/A"},{"$error":"#N/A"},{"$error":"#N/A"},{"$error":"#N/A"},{"$error":"#N/A"},{"$error":"#N/A"},{"$error":"#N/A"},{"$error":"#N/A"},{"$error":"#N/A"},{"$error":"#N/A"},{"$error":"#N/A"},{"$error":"#N/A"},{"$error":"#N/A"},{"$error":"#N/A"},{"$error":"#N/A"},{"$error":"#N/A"},{"$error":"#N/A"},{"$error":"#N/A"},{"$error":"#N/A"},{"$error":"#N/A"},{"$error":"#N/A"},{"$error":"#N/A"},{"$error":"#N/A"},{"$error":"#N/A"},{"$error":"#N/A"},0,{"$error":"#N/A"},{"$error":"#N/A"},{"$error":"#N/A"},{"$error":"#N/A"},{"$error":"#N/A"},{"$error":"#N/A"},{"$error":"#N/A"},1,{"$error":"#N/A"},{"$error":"#N/A"},{"$error":"#N/A"},{"$error":"#N/A"},{"$error":"#N/A"},{"$error":"#N/A"},{"$error":"#N/A"},{"$error":"#N/A"},{"$error":"#N/A"},{"$error":"#N/A"},{"$error":"#N/A"},{"$error":"#N/A"},{"$error":"#N/A"},{"$error":"#N/A"},{"$error":"#N/A"},{"$error":"#N/A"},{"$error":"#N/A"},{"$error":"#N/A"},{"$error":"#N/A"},{"$error":"#N/A"},{"$error":"#N/A"},{"$error":"#N/A"},{"$error":"#N/A"},{"$error":"#N/A"},{"$error":"#N/A"},{"$error":"#N/A"},{"$error":"#N/A"},{"$error":"#N/A"},{"$error":"#N/A"},{"$error":"#N/A"},{"$error":"#N/A"},{"$error":"#N/A"},{"$error":"#N/A"},{"$error":"#N/A"},{"$error":"#N/A"},{"$error":"#N/A"},{"$error":"#N/A"},{"$error":"#N/A"},{"$error":"#N/A"},{"$error":"#N/A"},{"$error":"#N/A"},{"$error":"#N/A"},{"$error":"#N/A"},{"$error":"#N/A"},{"$error":"#N/A"},{"$error":"#N/A"},{"$error":"#N/A"}]
["2020-08-14",{"$f":"VLOOKUP($A29,Data!$A$2:$E$150,2,FALSE)","v":11.739999771118164},{"$f":"VLOOKUP($A29,Data!$A$2:$E$150,3,FALSE)","v":11.859999656677246},{"$f":"VLOOKUP($A29,Data!$A$2:$E$150,4,FALSE)","v":11.359999656677246},{"$f":"VLOOKUP($A29,Data!$A$2:$E$150,5,FALSE)","v":11.689999580383301},null,null,null,null,{"$f":"NETWORKDAYS(I30,J30,$G$32:$G$71)","v":252},{"$f":"NETWORKDAYS(J30,K30,$G$32:$G$71)","v":253},253,253,null,{"$f":"WORKDAY(L48,-16,G32:G71)","v":"2020-09-11"},null,{"$f":"NETWORKDAYS(K30,L30,G32:G71)","v":253},null,null,null,null,null,null,null,"SQUARE",{"$f":"MAX(AB15:AC15)","v":12.5},null,{"$f":"(AE29-AC29)/8","v":0.78125},{"$f":"+Z36","v":6.25},"0/8:4/8",{"$f":"+Z36+4*Z37","v":12.5},{"$f":"IF(AND(AE29+2*AB29>Z$30,AC29-2*AB29<Z$31),ABS(Z$30-AE29) + ABS(Z$31-AC29),\"x\")","v":"x"},null,{"$f":"IF(AJ29>0,AC29,0)","v":0},{"$f":"IF(AH29>0,AD29,\" \")","v":" "},{"$f":"IF(AF29=AF$41,AE29,0)","v":0},null,null,null,null,"2020-08-14",{"$error":"#N/A"},{"$error":"#N/A"},{"$error":"#N/A"},{"$error":"#N/A"},{"$error":"#N/A"},{"$error":"#N/A"},{"$error":"#N/A"},{"$error":"#N/A"},{"$error":"#N/A"},{"$error":"#N/A"},{"$error":"#N/A"},{"$error":"#N/A"},{"$error":"#N/A"},0,1,0.33333333333333331,0.66666666666666663,{"$error":"#N/A"},{"$error":"#N/A"},{"$error":"#N/A"},{"$error":"#N/A"},{"$error":"#N/A"},{"$error":"#N/A"},{"$error":"#N/A"},{"$error":"#N/A"},{"$error":"#N/A"},{"$error":"#N/A"},{"$error":"#N/A"},{"$error":"#N/A"},{"$error":"#N/A"},{"$error":"#N/A"},{"$error":"#N/A"},{"$error":"#N/A"},{"$error":"#N/A"},{"$error":"#N/A"},{"$error":"#N/A"},{"$error":"#N/A"},{"$error":"#N/A"},{"$error":"#N/A"},{"$error":"#N/A"},{"$error":"#N/A"},{"$error":"#N/A"},{"$error":"#N/A"},{"$error":"#N/A"},{"$error":"#N/A"},{"$error":"#N/A"},{"$error":"#N/A"},{"$error":"#N/A"},{"$error":"#N/A"},{"$error":"#N/A"},{"$error":"#N/A"},{"$error":"#N/A"},{"$error":"#N/A"},{"$error":"#N/A"},{"$error":"#N/A"},{"$error":"#N/A"},{"$error":"#N/A"},{"$error":"#N/A"},{"$error":"#N/A"},{"$error":"#N/A"},{"$error":"#N/A"},{"$error":"#N/A"},{"$error":"#N/A"},{"$error":"#N/A"},{"$error":"#N/A"},{"$error":"#N/A"},{"$error":"#N/A"},{"$error":"#N/A"},{"$error":"#N/A"},{"$error":"#N/A"},{"$error":"#N/A"},{"$error":"#N/A"},{"$error":"#N/A"},{"$error":"#N/A"},{"$error":"#N/A"},{"$error":"#N/A"},{"$error":"#N/A"},{"$error":"#N/A"},{"$error":"#N/A"},{"$error":"#N/A"},{"$error":"#N/A"},{"$error":"#N/A"},{"$error":"#N/A"},{"$error":"#N/A"},{"$error":"#N/A"},{"$error":"#N/A"},{"$error":"#N/A"},{"$error":"#N/A"},{"$error":"#N/A"},{"$error":"#N/A"},{"$error":"#N/A"},{"$error":"#N/A"},{"$error":"#N/A"},{"$error":"#N/A"},{"$error":"#N/A"},{"$error":"#N/A"},{"$error":"#N/A"},{"$error":"#N/A"},{"$error":"#N/A"},{"$error":"#N/A"},{"$error":"#N/A"},{"$error":"#N/A"},{"$error":"#N/A"},{"$error":"#N/A"},{"$error":"#N/A"}]
["2020-08-17",{"$f":"VLOOKUP($A30,Data!$A$2:$E$150,2,FALSE)","v":12.180000305175779},{"$f":"VLOOKUP($A30,Data!$A$2:$E$150,3,FALSE)","v":12.239999771118164},{"$f":"VLOOKUP($A30,Data!$A$2:$E$150,4,FALSE)","v":11.880000114440918},{"$f":"VLOOKUP($A30,Data!$A$2:$E$150,5,FALSE)","v":12.159999847412109},null,null,null,"2017-10-06","2018-10-05","2019-10-07","2020-10-05","2021-10-05",null,null,null,null,null,null,null,null,null,null,null,"64 Bar HIGH",{"$f":"H12","v":14.569999694824221},null,0.390625,{"$f":"+Z36+2*Z37","v":9.375},"2/8:4/8",{"$f":"+Z36+4*Z37","v":12.5},"x",null,0," ",0,null,null,null,null,"2020-08-17",{"$error":"#N/A"},{"$error":"#N/A"},{"$error":"#N/A"},{"$error":"#N/A"},{"$error":"#N/A"},{"$error":"#N/A"},{"$error":"#N/A"},{"$error":"#N/A"},{"$error":"#N/A"},{"$error":"#N/A"},{"$error":"#N/A"},{"$error":"#N/A"},{"$error":"#N/A"},0,1,0.33333333333333331,0.66666666666666663,{"$error":"#N/A"},{"$error":"#N/A"},{"$error":"#N/A"},{"$error":"#N/A"},{"$error":"#N/A"},{"$error":"#N/A"},{"$error":"#N/A"},{"$error":"#N/A"},{"$error":"#N/A"},{"$error":"#N/A"},{"$error":"#N/A"},{"$error":"#N/A"},{"$error":"#N/A"},{"$error":"#N/A"},{"$error":"#N/A"},{"$error":"#N/A"},{"$error":"#N/A"},{"$error":"#N/A"},{"$error":"#N/A"},{"$error":"#N/A"},{"$error":"#N/A"},{"$error":"#N/A"},{"$error":"#N/A"},{"$error":"#N/A"},{"$error":"#N/A"},{"$error":"#N/A"},{"$error":"#N/A"},{"$error":"#N/A"},{"$error":"#N/A"},{"$error":"#N/A"},{"$error":"#N/A"},{"$error":"#N/A"},{"$error":"#N/A"},{"$error":"#N/A"},{"$error":"#N/A"},{"$error":"#N/A"},{"$error":"#N/A"},{"$error":"#N/A"},{"$error":"#N/A"},{"$error":"#N/A"},{"$error":"#N/A"},{"$error":"#N/A"},{"$error":"#N/A"},{"$error":"#N/A"},{"$error":"#N/A"},{"$error":"#N/A"},{"$error":"#N/A"},{"$error":"#N/A"},{"$error":"#N/A"},{"$error":"#N/A"},{"$error":"#N/A"},{"$error":"#N/A"},{"$error":"#N/A"},{"$error":"#N/A"},{"$error":"#N/A"},{"$error":"#N/A"},{"$error":"#N/A"},{"$error":"#N/A"},{"$error":"#N/A"},{"$error":"#N/A"},{"$error":"#N/A"},{"$error":"#N/A"},{"$error":"#N/A"},{"$error":"#N/A"},{"$error":"#N/A"},{"$error":"#N/A"},{"$error":"#N/A"},{"$error":"#N/A"},{"$error":"#N/A"},{"$error":"#N/A"},{"$error":"#N/A"},{"$error":"#N/A"},{"$error":"#N/A"},{"$error":"#N/A"},{"$error":"#N/A"},{"$error":"#N/A"},{"$error":"#N/A"},{"$error":"#N/A"},{"$error":"#N/A"},{"$error":"#N/A"},{"$error":"#N/A"},{"$error":"#N/A"},{"$error":"#N/A"},{"$error":"#N/A"},{"$error":"#N/A"},{"$error":"#N/A"},{"$error":"#N/A"},{"$error":"#N/A"}]
["2020-08-18",{"$f":"VLOOKUP($A31,Data!$A$2:$E$150,2,FALSE)","v":12.510000228881836},{"$f":"VLOOKUP($A31,Data!$A$2:$E$150,3,FALSE)","v":12.560000419616699},{"$f":"VLOOKUP($A31,Data!$A$2:$E$150,4,FALSE)","v":11.880000114440918},{"$f":"VLOOKUP($A31,Data!$A$2:$E$150,5,FALSE)","v":11.989999771118164},null,"holidays",null,128,64,32,16,8,4,2,null,64,{"$f":"+Q31/8","v":8},null,null,null,null,null,null,"64 Bar LOW",{"$f":"H13","v":9.3299999237060565},null,0.78125,{"$f":"+Z36+2*Z37","v":9.375},"2/8:6/8",{"$f":"+Z36+6*Z37","v":15.625},1.100000381469723,null,9.375,"2/8:6/8",15.625,null,null,null,null,"2020-08-18",{"$error":"#N/A"},{"$error":"#N/A"},{"$error":"#N/A"},{"$error":"#N/A"},{"$error":"#N/A"},{"$error":"#N/A"},{"$error":"#N/A"},{"$error":"#N/A"},{"$error":"#N/A"},{"$error":"#N/A"},{"$error":"#N/A"},{"$error":"#N/A"},{"$error":"#N/A"},0,1,0.33333333333333331,0.66666666666666663,{"$error":"#N/A"},{"$error":"#N/A"},{"$error":"#N/A"},{"$error":"#N/A"},{"$error":"#N/A"},{"$error":"#N/A"},{"$error":"#N/A"},{"$error":"#N/A"},{"$error":"#N/A"},{"$error":"#N/A"},{"$error":"#N/A"},{"$error":"#N/A"},{"$error":"#N/A"},{"$error":"#N/A"},{"$error":"#N/A"},{"$error":"#N/A"},{"$error":"#N/A"},{"$error":"#N/A"},{"$error":"#N/A"},{"$error":"#N/A"},{"$error":"#N/A"},{"$error":"#N/A"},{"$error":"#N/A"},{"$error":"#N/A"},{"$error":"#N/A"},{"$error":"#N/A"},{"$error":"#N/A"},{"$error":"#N/A"},{"$error":"#N/A"},{"$error":"#N/A"},{"$error":"#N/A"},{"$error":"#N/A"},{"$error":"#N/A"},{"$error":"#N/A"},{"$error":"#N/A"},{"$error":"#N/A"},{"$error":"#N/A"},{"$error":"#N/A"},{"$error":"#N/A"},{"$error":"#N/A"},{"$error":"#N/A"},{"$error":"#N/A"},{"$error":"#N/A"},{"$error":"#N/A"},{"$error":"#N/A"},{"$error":"#N/A"},{"$error":"#N/A"},{"$error":"#N/A"},{"$error":"#N/A"},{"$error":"#N/A"},{"$error":"#N/A"},{"$error":"#N/A"},{"$error":"#N/A"},{"$error":"#N/A"},{"$error":"#N/A"},{"$error":"#N/A"},{"$error":"#N/A"},{"$error":"#N/A"},{"$error":"#N/A"},{"$error":"#N/A"},{"$error":"#N/A"},{"$error":"#N/A"},{"$error":"#N/A"},{"$error":"#N/A"},{"$error":"#N/A"},{"$error":"#N/A"},{"$error":"#N/A"},{"$error":"#N/A"},{"$error":"#N/A"},{"$error":"#N/A"},{"$error":"#N/A"},{"$error":"#N/A"},{"$error":"#N/A"},{"$error":"#N/A"},{"$error":"#N/A"},{"$error":"#N/A"},{"$error":"#N/A"},{"$error":"#N/A"},{"$error":"#N/A"},{"$error":"#N/A"},{"$error":"#N/A"},{"$error":"#N/A"},{"$error":"#N/A"},{"$error":"#N/A"},{"$error":"#N/A"},{"$error":"#N/A"},{"$error":"#N/A"},{"$error":"#N/A"}]
["2020-08-19",{"$f":"VLOOKUP($A32,Data!$A$2:$E$150,2,FALSE)","v":11.800000190734863},{"$f":"VLOOKUP($A32,Data!$A$2:$E$150,3,FALSE)","v":11.989999771118164},{"$f":"VLOOKUP($A32,Data!$A$2:$E$150,4,FALSE)","v":11.460000038146973},{"$f":"VLOOKUP($A32,Data!$A$2:$E$150,5,FALSE)","v":11.479999542236328},null,"2017-07-04",null,null,null,null,{"$f":"WORKDAY(INDEX(I$30:M$30,1,MATCH(L$48,I$30:M$30,1)-1),0*L$31,$G$32:$G$71)","v":"2019-10-07"},{"$f":"WORKDAY(INDEX(I$30:M$30,1,MATCH(M48,I$30:M$30,1)-1),16*M$31,$G$32:$G$71)","v":"2020-04-09"},{"$f":"WORKDAY(INDEX(I$30:M$30,1,MATCH(N$48,I$30:M$30,1)-1),48*N$31,$G$32:$G$71)","v":"2020-07-10"},{"$f":"WORKDAY(INDEX(I$30:M$30,1,MATCH(O$48,I$30:M$30,1)-1),112*O$31,$G$32:$G$71)","v":"2020-08-25"},null,32,{"$f":"+Q32/8","v":4},null,null,null,null,null,null,"RANGE",{"$f":"Z30-Z31","v":5.2399997711181641},null,0.390625,{"$f":"+Z36+4*Z37","v":12.5},"4/8:6/8",{"$f":"+Z36+6*Z37","v":15.625},"x",null,0," ",0,null,null,null,null,"2020-08-19",{"$error":"#N/A"},{"$error":"#N/A"},{"$error":"#N/A"},{"$error":"#N/A"},{"$error":"#N/A"},{"$error":"#N/A"},{"$error":"#N/A"},{"$error":"#N/A"},{"$error":"#N/A"},{"$error":"#N/A"},{"$error":"#N/A"},{"$error":"#N/A"},{"$error":"#N/A"},0,1,0.33333333333333331,0.66666666666666663,{"$error":"#N/A"},{"$error":"#N/A"},{"$error":"#N/A"},{"$error":"#N/A"},{"$error":"#N/A"},{"$error":"#N/A"},{"$error":"#N/A"},{"$error":"#N/A"},{"$error":"#N/A"},{"$error":"#N/A"},{"$error":"#N/A"},{"$error":"#N/A"},{"$error":"#N/A"},{"$error":"#N/A"},{"$error":"#N/A"},{"$error":"#N/A"},{"$error":"#N/A"},{"$error":"#N/A"},{"$error":"#N/A"},{"$error":"#N/A"},{"$error":"#N/A"},{"$error":"#N/A"},{"$error":"#N/A"},{"$error":"#N/A"},{"$error":"#N/A"},{"$error":"#N/A"},{"$error":"#N/A"},{"$error":"#N/A"},{"$error":"#N/A"},{"$error":"#N/A"},{"$error":"#N/A"},{"$error":"#N/A"},{"$error":"#N/A"},{"$error":"#N/A"},{"$error":"#N/A"},{"$error":"#N/A"},{"$error":"#N/A"},{"$error":"#N/A"},{"$error":"#N/A"},{"$error":"#N/A"},{"$error":"#N/A"},{"$error":"#N/A"},{"$error":"#N/A"},{"$error":"#N/A"},{"$error":"#N/A"},{"$error":"#N/A"},{"$error":"#N/A"},{"$error":"#N/A"},{"$error":"#N/A"},{"$error":"#N/A"},{"$error":"#N/A"},{"$error":"#N/A"},{"$error":"#N/A"},{"$error":"#N/A"},{"$error":"#N/A"},{"$error":"#N/A"},{"$error":"#N/A"},{"$error":"#N/A"},{"$error":"#N/A"},{"$error":"#N/A"},{"$error":"#N/A"},{"$error":"#N/A"},{"$error":"#N/A"},{"$error":"#N/A"},{"$error":"#N/A"},{"$error":"#N/A"},{"$error":"#N/A"},{"$error":"#N/A"},{"$error":"#N/A"},{"$error":"#N/A"},{"$error":"#N/A"},{"$error":"#N/A"},{"$error":"#N/A"},{"$error":"#N/A"},{"$error":"#N/A"},{"$error":"#N/A"},{"$error":"#N/A"},{"$error":"#N/A"},{"$error":"#N/A"},{"$error":"#N/A"},{"$error":"#N/A"},{"$error":"#N/A"},{"$error":"#N/A"},{"$error":"#N/A"},{"$error":"#N/A"},{"$error":"#N/A"},{"$error":"#N/A"},{"$error":"#N/A"}]
["2020-08-20",{"$f":"VLOOKUP($A33,Data!$A$2:$E$150,2,FALSE)","v":11.409999847412109},{"$f":"VLOOKUP($A33,Data!$A$2:$E$150,3,FALSE)","v":11.859999656677246},{"$f":"VLOOKUP($A33,Data!$A$2:$E$150,4,FALSE)","v":11.390000343322754},{"$f":"VLOOKUP($A33,Data!$A$2:$E$150,5,FALSE)","v":11.850000381469728},null,"2017-09-04",null,null,null,null,{"$f":"WORKDAY(INDEX(I$30:M$30,1,MATCH(L$48,I$30:M$30,1)-1),1*L$31,$G$32:$G$71)","v":"2019-10-29"},{"$f":"WORKDAY(INDEX(I$30:M$30,1,MATCH(M48,I$30:M$30,1)-1),17*M$31,$G$32:$G$71)","v":"2020-04-22"},{"$f":"WORKDAY(INDEX(I$30:M$30,1,MATCH(N$48,I$30:M$30,1)-1),49*N$31,$G$32:$G$71)","v":"2020-07-16"},{"$f":"WORKDAY(INDEX(I$30:M$30,1,MATCH(O$48,I$30:M$30,1)-1),113*O$31,$G$32:$G$71)","v":"2020-08-27"},0.125,16,{"$f":"+Q33/8","v":2},null,null,null,null,null,null,"TRUNCLOG(B2)",{"$f":"TRUNC(LOG(Z29/Z32,2))","v":1},null,0.78125,{"$f":"+Z36+4*Z37","v":12.5},"4/8:8/8",{"$f":"+Z35","v":18.75},"x",null,0," ",0,null,null,null,null,"2020-08-20",{"$error":"#N/A"},{"$error":"#N/A"},{"$error":"#N/A"},{"$error":"#N/A"},{"$error":"#N/A"},{"$error":"#N/A"},{"$error":"#N/A"},{"$error":"#N/A"},{"$error":"#N/A"},{"$error":"#N/A"},{"$error":"#N/A"},{"$error":"#N/A"},{"$error":"#N/A"},0,1,0.33333333333333331,0.66666666666666663,{"$error":"#N/A"},{"$error":"#N/A"},{"$error":"#N/A"},{"$error":"#N/A"},{"$error":"#N/A"},{"$error":"#N/A"},{"$error":"#N/A"},{"$error":"#N/A"},{"$error":"#N/A"},{"$error":"#N/A"},{"$error":"#N/A"},{"$error":"#N/A"},{"$error":"#N/A"},{"$error":"#N/A"},{"$error":"#N/A"},{"$error":"#N/A"},{"$error":"#N/A"},{"$error":"#N/A"},{"$error":"#N/A"},{"$error":"#N/A"},{"$error":"#N/A"},{"$error":"#N/A"},{"$error":"#N/A"},{"$error":"#N/A"},{"$error":"#N/A"},{"$error":"#N/A"},{"$error":"#N/A"},{"$error":"#N/A"},{"$error":"#N/A"},{"$error":"#N/A"},{"$error":"#N/A"},{"$error":"#N/A"},{"$error":"#N/A"},{"$error":"#N/A"},{"$error":"#N/A"},{"$error":"#N/A"},{"$error":"#N/A"},{"$error":"#N/A"},{"$error":"#N/A"},{"$error":"#N/A"},{"$error":"#N/A"},{"$error":"#N/A"},{"$error":"#N/A"},{"$error":"#N/A"},{"$error":"#N/A"},{"$error":"#N/A"},{"$error":"#N/A"},{"$error":"#N/A"},{"$error":"#N/A"},{"$error":"#N/A"},{"$error":"#N/A"},{"$error":"#N/A"},{"$error":"#N/A"},{"$error":"#N/A"},{"$error":"#N/A"},{"$error":"#N/A"},{"$error":"#N/A"},{"$error":"#N/A"},{"$error":"#N/A"},{"$error":"#N/A"},{"$error":"#N/A"},{"$error":"#N/A"},{"$error":"#N/A"},{"$error":"#N/A"},{"$error":"#N/A"},{"$error":"#N/A"},{"$error":"#N/A"},{"$error":"#N/A"},{"$error":"#N/A"},{"$error":"#N/A"},{"$error":"#N/A"},{"$error":"#N/A"},{"$error":"#N/A"},{"$error":"#N/A"},{"$error":"#N/A"},{"$error":"#N/A"},{"$error":"#N/A"},{"$error":"#N/A"},{"$error":"#N/A"},{"$error":"#N/A"},{"$error":"#N/A"},{"$error":"#N/A"},{"$error":"#N/A"},{"$error":"#N/A"},{"$error":"#N/A"},{"$error":"#N/A"},{"$error":"#N/A"},{"$error":"#N/A"}]
["2020-08-21",{"$f":"VLOOKUP($A34,Data!$A$2:$E$150,2,FALSE)","v":11.560000419616699},{"$f":"VLOOKUP($A34,Data!$A$2:$E$150,3,FALSE)","v":11.75},{"$f":"VLOOKUP($A34,Data!$A$2:$E$150,4,FALSE)","v":11.449999809265137},{"$f":"VLOOKUP($A34,Data!$A$2:$E$150,5,FALSE)","v":11.550000190734863},null,"2017-11-23",null,null,null,null,{"$f":"WORKDAY(INDEX(I$30:M$30,1,MATCH(L$48,I$30:M$30,1)-1),2*L$31,$G$32:$G$71)","v":"2019-11-20"},{"$f":"WORKDAY(INDEX(I$30:M$30,1,MATCH(M48,I$30:M$30,1)-1),18*M$31,$G$32:$G$71)","v":"2020-05-04"},{"$f":"WORKDAY(INDEX(I$30:M$30,1,MATCH(N$48,I$30:M$30,1)-1),50*N$31,$G$32:$G$71)","v":"2020-07-22"},{"$f":"WORKDAY(INDEX(I$30:M$30,1,MATCH(O$48,I$30:M$30,1)-1),114*O$31,$G$32:$G$71)","v":"2020-08-31"},0.25,null,null,null,null,null,null,null,null,"OCTAVE",{"$f":"Z29/(2^Z33)","v":6.25},null,1.5625,{"$f":"+Z36","v":6.25},"0/8:8/8",{"$f":"+Z35","v":18.75},7.2600002288818359,null,0," ",0,null,null,null,null,"2020-08-21",{"$error":"#N/A"},{"$error":"#N/A"},{"$error":"#N/A"},{"$error":"#N/A"},{"$error":"#N/A"},{"$error":"#N/A"},{"$error":"#N/A"},{"$error":"#N/A"},{"$error":"#N/A"},{"$error":"#N/A"},{"$error":"#N/A"},{"$error":"#N/A"},{"$error":"#N/A"},0,1,0.33333333333333331,0.66666666666666663,{"$error":"#N/A"},{"$error":"#N/A"},{"$error":"#N/A"},{"$error":"#N/A"},{"$error":"#N/A"},{"$error":"#N/A"},{"$error":"#N/A"},{"$error":"#N/A"},{"$error":"#N/A"},{"$error":"#N/A"},{"$error":"#N/A"},{"$error":"#N/A"},{"$error":"#N/A"},{"$error":"#N/A"},{"$error":"#N/A"},{"$error":"#N/A"},{"$error":"#N/A"},{"$error":"#N/A"},{"$error":"#N/A"},{"$error":"#N/A"},{"$error":"#N/A"},{"$error":"#N/A"},{"$error":"#N/A"},{"$error":"#N/A"},{"$error":"#N/A"},{"$error":"#N/A"},{"$error":"#N/A"},{"$error":"#N/A"},{"$error":"#N/A"},{"$error":"#N/A"},{"$error":"#N/A"},{"$error":"#N/A"},{"$error":"#N/A"},{"$error":"#N/A"},{"$error":"#N/A"},{"$error":"#N/A"},{"$error":"#N/A"},{"$error":"#N/A"},{"$error":"#N/A"},{"$error":"#N/A"},{"$error":"#N/A"},{"$error":"#N/A"},{"$error":"#N/A"},{"$error":"#N/A"},{"$error":"#N/A"},{"$error":"#N/A"},{"$error":"#N/A"},{"$error":"#N/A"},{"$error":"#N/A"},{"$error":"#N/A"},{"$error":"#N/A"},{"$error":"#N/A"},{"$error":"#N/A"},{"$error":"#N/A"},{"$error":"#N/A"},{"$error":"#N/A"},{"$error":"#N/A"},{"$error":"#N/A"},{"$error":"#N/A"},{"$error":"#N/A"},{"$error":"#N/A"},{"$error":"#N/A"},{"$error":"#N/A"},{"$error":"#N/A"},{"$error":"#N/A"},{"$error":"#N/A"},{"$error":"#N/A"},{"$error":"#N/A"},{"$error":"#N/A"},{"$error":"#N/A"},{"$error":"#N/A"},{"$error":"#N/A"},{"$error":"#N/A"},{"$error":"#N/A"},{"$error":"#N/A"},{"$error":"#N/A"},{"$error":"#N/A"},{"$error":"#N/A"},{"$error":"#N/A"},{"$error":"#N/A"},{"$error":"#N/A"},{"$error":"#N/A"},{"$error":"#N/A"},{"$error":"#N/A"},{"$error":"#N/A"},{"$error":"#N/A"},{"$error":"#N/A"},{"$error":"#N/A"}]
["2020-08-24",{"$f":"VLOOKUP($A35,Data!$A$2:$E$150,2,FALSE)","v":11.659999847412109},{"$f":"VLOOKUP($A35,Data!$A$2:$E$150,3,FALSE)","v":11.680000305175779},{"$f":"VLOOKUP($A35,Data!$A$2:$E$150,4,FALSE)","v":11.329999923706056},{"$f":"VLOOKUP($A35,Data!$A$2:$E$150,5,FALSE)","v":11.359999656677246},null,"2017-12-25",null,null,null,null,{"$f":"WORKDAY(INDEX(I$30:M$30,1,MATCH(L$48,I$30:M$30,1)-1),3*L$31,$G$32:$G$71)","v":"2019-12-13"},{"$f":"WORKDAY(INDEX(I$30:M$30,1,MATCH(M48,I$30:M$30,1)-1),19*M$31,$G$32:$G$71)","v":"2020-05-14"},{"$f":"WORKDAY(INDEX(I$30:M$30,1,MATCH(N$48,I$30:M$30,1)-1),51*N$31,$G$32:$G$71)","v":"2020-07-28"},{"$f":"WORKDAY(INDEX(I$30:M$30,1,MATCH(O$48,I$30:M$30,1)-1),115*O$31,$G$32:$G$71)","v":"2020-09-02"},0.375,null,null,0.25,null,null,null,null,null,"FRAME(MAX)",{"$f":"IF((Z36+Z34)>Z30,Z36+Z34,Z36+2*Z34)","v":18.75},null,0.390625,{"$f":"+Z36+1*Z37","v":7.8125},"1/8:3/8",{"$f":"+Z36+3*Z37","v":10.9375},"x",null,0," ",{"$f":"IF(AND((AF35=AF$41),AJ$29=0,AJ$30=0,AJ$31=0,AJ$32=0,AJ$33=0,AJ$34=0),AE35,0)","v":0},null,null,null,null,"2020-08-24",{"$error":"#N/A"},{"$error":"#N/A"},{"$error":"#N/A"},{"$error":"#N/A"},{"$error":"#N/A"},{"$error":"#N/A"},{"$error":"#N/A"},{"$error":"#N/A"},{"$error":"#N/A"},{"$error":"#N/A"},{"$error":"#N/A"},{"$error":"#N/A"},{"$error":"#N/A"},0,1,0.33333333333333331,0.66666666666666663,{"$error":"#N/A"},{"$error":"#N/A"},{"$error":"#N/A"},{"$error":"#N/A"},{"$error":"#N/A"},{"$error":"#N/A"},{"$error":"#N/A"},{"$error":"#N/A"},{"$error":"#N/A"},{"$error":"#N/A"},{"$error":"#N/A"},{"$error":"#N/A"},{"$error":"#N/A"},{"$error":"#N/A"},{"$error":"#N/A"},{"$error":"#N/A"},{"$error":"#N/A"},{"$error":"#N/A"},{"$error":"#N/A"},{"$error":"#N/A"},{"$error":"#N/A"},{"$error":"#N/A"},{"$error":"#N/A"},{"$error":"#N/A"},{"$error":"#N/A"},{"$error":"#N/A"},{"$error":"#N/A"},{"$error":"#N/A"},{"$error":"#N/A"},{"$error":"#N/A"},{"$error":"#N/A"},{"$error":"#N/A"},{"$error":"#N/A"},{"$error":"#N/A"},{"$error":"#N/A"},{"$error":"#N/A"},{"$error":"#N/A"},{"$error":"#N/A"},{"$error":"#N/A"},{"$error":"#N/A"},{"$error":"#N/A"},{"$error":"#N/A"},{"$error":"#N/A"},{"$error":"#N/A"},{"$error":"#N/A"},{"$error":"#N/A"},{"$error":"#N/A"},{"$error":"#N/A"},{"$error":"#N/A"},{"$error":"#N/A"},{"$error":"#N/A"},{"$error":"#N/A"},{"$error":"#N/A"},{"$error":"#N/A"},{"$error":"#N/A"},{"$error":"#N/A"},{"$error":"#N/A"},{"$error":"#N/A"},{"$error":"#N/A"},{"$error":"#N/A"},{"$error":"#N/A"},{"$error":"#N/A"},{"$error":"#N/A"},{"$error":"#N/A"},{"$error":"#N/A"},{"$error":"#N/A"},{"$error":"#N/A"},{"$error":"#N/A"},{"$error":"#N/A"},{"$error":"#N/A"},{"$error":"#N/A"},{"$error":"#N/A"},{"$error":"#N/A"},{"$error":"#N/A"},{"$error":"#N/A"},{"$error":"#N/A"},{"$error":"#N/A"},{"$error":"#N/A"},{"$error":"#N/A"},{"$error":"#N/A"},{"$error":"#N/A"},{"$error":"#N/A"},{"$error":"#N/A"},{"$error":"#N/A"},{"$error":"#N/A"},{"$error":"#N/A"},{"$error":"#N/A"},{"$error":"#N/A"}]
["2020-08-25",{"$f":"VLOOKUP($A36,Data!$A$2:$E$150,2,FALSE)","v":11.319999694824221},{"$f":"VLOOKUP($A36,Data!$A$2:$E$150,3,FALSE)","v":11.420000076293944},{"$f":"VLOOKUP($A36,Data!$A$2:$E$150,4,FALSE)","v":10.909999847412109},{"$f":"VLOOKUP($A36,Data!$A$2:$E$150,5,FALSE)","v":11.329999923706056},null,"2018-01-01",null,null,null,null,{"$f":"WORKDAY(INDEX(I$30:M$30,1,MATCH(L$48,I$30:M$30,1)-1),4*L$31,$G$32:$G$71)","v":"2020-01-08"},{"$f":"WORKDAY(INDEX(I$30:M$30,1,MATCH(M48,I$30:M$30,1)-1),20*M$31,$G$32:$G$71)","v":"2020-05-27"},{"$f":"WORKDAY(INDEX(I$30:M$30,1,MATCH(N$48,I$30:M$30,1)-1),52*N$31,$G$32:$G$71)","v":"2020-08-03"},{"$f":"WORKDAY(INDEX(I$30:M$30,1,MATCH(O$48,I$30:M$30,1)-1),116*O$31,$G$32:$G$71)","v":"2020-09-04"},0.5,null,"64 circles","32 circles","16 circles",null,null,null,null,"FRAME(MIN)",{"$f":"TRUNC(Z31/Z$34)*Z$34","v":6.25},null,0.78125,{"$f":"+Z36+1*Z37","v":7.8125},"1/8:5/8",{"$f":"+Z36+5*Z37","v":14.0625},2.024999618530277,null,0," ",{"$f":"IF(AND((AF36=AF$41),AJ$29=0,AJ$30=0,AJ$31=0,AJ$32=0,AJ$33=0,AJ$34=0),AE36,0)","v":0},null,null,null,null,"2020-08-25",{"$error":"#N/A"},{"$error":"#N/A"},{"$error":"#N/A"},{"$error":"#N/A"},{"$error":"#N/A"},{"$error":"#N/A"},{"$error":"#N/A"},{"$error":"#N/A"},0.5,0.5,{"$error":"#N/A"},1.125,1,0,1,0.33333333333333331,0.66666666666666663,{"$error":"#N/A"},1,{"$error":"#N/A"},{"$error":"#N/A"},{"$error":"#N/A"},{"$error":"#N/A"},{"$error":"#N/A"},{"$error":"#N/A"},{"$error":"#N/A"},{"$error":"#N/A"},{"$error":"#N/A"},{"$error":"#N/A"},{"$error":"#N/A"},{"$error":"#N/A"},{"$error":"#N/A"},{"$error":"#N/A"},{"$error":"#N/A"},{"$error":"#N/A"},{"$error":"#N/A"},{"$error":"#N/A"},{"$error":"#N/A"},{"$error":"#N/A"},{"$error":"#N/A"},{"$error":"#N/A"},{"$error":"#N/A"},{"$error":"#N/A"},{"$error":"#N/A"},{"$error":"#N/A"},{"$error":"#N/A"},{"$error":"#N/A"},{"$error":"#N/A"},0,{"$error":"#N/A"},{"$error":"#N/A"},{"$error":"#N/A"},{"$error":"#N/A"},{"$error":"#N/A"},{"$error":"#N/A"},{"$error":"#N/A"},1,{"$error":"#N/A"},{"$error":"#N/A"},{"$error":"#N/A"},{"$error":"#N/A"},{"$error":"#N/A"},{"$error":"#N/A"},{"$error":"#N/A"},{"$error":"#N/A"},{"$error":"#N/A"},{"$error":"#N/A"},{"$error":"#N/A"},{"$error":"#N/A"},{"$error":"#N/A"},{"$error":"#N/A"},{"$error":"#N/A"},{"$error":"#N/A"},{"$error":"#N/A"},{"$error":"#N/A"},{"$error":"#N/A"},{"$error":"#N/A"},{"$error":"#N/A"},{"$error":"#N/A"},{"$error":"#N/A"},{"$error":"#N/A"},{"$error":"#N/A"},{"$error":"#N/A"},{"$error":"#N/A"},{"$error":"#N/A"},{"$error":"#N/A"},{"$error":"#N/A"},{"$error":"#N/A"},{"$error":"#N/A"},{"$error":"#N/A"},{"$error":"#N/A"},{"$error":"#N/A"},{"$error":"#N/A"},{"$error":"#N/A"},{"$error":"#N/A"},{"$error":"#N/A"},{"$error":"#N/A"},{"$error":"#N/A"},{"$error":"#N/A"},{"$error":"#N/A"},{"$error":"#N/A"},{"$error":"#N/A"},{"$error":"#N/A"},{"$error":"#N/A"},{"$error":"#N/A"}]
["2020-08-26",{"$f":"VLOOKUP($A37,Data!$A$2:$E$150,2,FALSE)","v":11.270000457763672},{"$f":"VLOOKUP($A37,Data!$A$2:$E$150,3,FALSE)","v":11.869999885559082},{"$f":"VLOOKUP($A37,Data!$A$2:$E$150,4,FALSE)","v":11.25},{"$f":"VLOOKUP($A37,Data!$A$2:$E$150,5,FALSE)","v":11.829999923706056},null,"2018-01-15",null,null,null,null,{"$f":"WORKDAY(INDEX(I$30:M$30,1,MATCH(L$48,I$30:M$30,1)-1),5*L$31,$G$32:$G$71)","v":"2020-01-31"},{"$f":"WORKDAY(INDEX(I$30:M$30,1,MATCH(M48,I$30:M$30,1)-1),21*M$31,$G$32:$G$71)","v":"2020-06-08"},{"$f":"WORKDAY(INDEX(I$30:M$30,1,MATCH(N$48,I$30:M$30,1)-1),53*N$31,$G$32:$G$71)","v":"2020-08-07"},{"$f":"WORKDAY(INDEX(I$30:M$30,1,MATCH(O$48,I$30:M$30,1)-1),117*O$31,$G$32:$G$71)","v":"2020-09-09"},0.625,null,{"$f":"+M42","v":"2020-08-03"},{"$f":"+N42","v":"2020-09-04"},{"$f":"+O42","v":"2020-09-23"},null,null,null,null,"1/8 th",{"$f":"(Z35-Z36)/8","v":1.5625},null,0.390625,{"$f":"+Z36+3*Z37","v":10.9375},"3/8:5/8",{"$f":"+Z36+5*Z37","v":14.0625},"x",null,0," ",{"$f":"IF(AND((AF37=AF$41),AJ$29=0,AJ$30=0,AJ$31=0,AJ$32=0,AJ$33=0,AJ$34=0),AE37,0)","v":0},null,null,null,null,"2020-08-26",{"$f":"IF($W$11,IF(VLOOKUP($AO37,$R$37:$R$46,1,),-2/8,NA()),NA())","v":{"$error":"#N/A"}},{"$error":"#N/A"},{"$f":"IF($W$11,IF(VLOOKUP($AO37,$R$37:$R$46,1,),2/8,NA()),NA())","v":{"$error":"#N/A"}},{"$error":"#N/A"},{"$f":"IF($W$11,IF(VLOOKUP($AO37,$R$37:$R$46,1,),6/8,NA()),NA())","v":{"$error":"#N/A"}},{"$error":"#N/A"},{"$f":"IF($W$11,IF(VLOOKUP($AO37,$R$37:$R$46,1,),10/8,NA()),NA())","v":{"$error":"#N/A"}},{"$error":"#N/A"},{"$f":"IF($W$11,IF(VLOOKUP($AO37,$R$72:$R$76,1,),4/8,NA()),NA())","v":{"$error":"#N/A"}},{"$error":"#N/A"},{"$error":"#N/A"},{"$error":"#N/A"},{"$error":"#N/A"},0,1,0.33333333333333331,0.66666666666666663,{"$error":"#N/A"},{"$error":"#N/A"},{"$error":"#N/A"},{"$error":"#N/A"},{"$error":"#N/A"},{"$error":"#N/A"},{"$error":"#N/A"},{"$error":"#N/A"},{"$error":"#N/A"},{"$error":"#N/A"},{"$error":"#N/A"},{"$error":"#N/A"},{"$error":"#N/A"},{"$error":"#N/A"},{"$error":"#N/A"},{"$error":"#N/A"},{"$error":"#N/A"},{"$error":"#N/A"},{"$error":"#N/A"},{"$error":"#N/A"},{"$error":"#N/A"},{"$error":"#N/A"},{"$error":"#N/A"},{"$error":"#N/A"},{"$error":"#N/A"},{"$error":"#N/A"},{"$error":"#N/A"},{"$error":"#N/A"},{"$error":"#N/A"},{"$error":"#N/A"},{"$error":"#N/A"},{"$error":"#N/A"},{"$error":"#N/A"},{"$error":"#N/A"},{"$error":"#N/A"},{"$error":"#N/A"},{"$error":"#N/A"},{"$error":"#N/A"},{"$error":"#N/A"},{"$error":"#N/A"},{"$error":"#N/A"},{"$error":"#N/A"},{"$error":"#N/A"},{"$error":"#N/A"},{"$error":"#N/A"},{"$error":"#N/A"},{"$error":"#N/A"},{"$error":"#N/A"},{"$error":"#N/A"},{"$error":"#N/A"},{"$error":"#N/A"},{"$error":"#N/A"},{"$error":"#N/A"},{"$error":"#N/A"},{"$error":"#N/A"},{"$error":"#N/A"},{"$error":"#N/A"},{"$error":"#N/A"},{"$error":"#N/A"},{"$error":"#N/A"},{"$error":"#N/A"},{"$error":"#N/A"},{"$error":"#N/A"},{"$error":"#N/A"},{"$error":"#N/A"},{"$error":"#N/A"},{"$error":"#N/A"},{"$error":"#N/A"},{"$error":"#N/A"},{"$error":"#N/A"},{"$error":"#N/A"},{"$error":"#N/A"},{"$error":"#N/A"},{"$error":"#N/A"},{"$error":"#N/A"},{"$error":"#N/A"},{"$error":"#N/A"},{"$error":"#N/A"},{"$error":"#N/A"},{"$error":"#N/A"},{"$error":"#N/A"},{"$error":"#N/A"},{"$error":"#N/A"},{"$error":"#N/A"},{"$error":"#N/A"},{"$error":"#N/A"},{"$error":"#N/A"},{"$error":"#N/A"}]
["2020-08-27",{"$f":"VLOOKUP($A38,Data!$A$2:$E$150,2,FALSE)","v":12.039999961853027},{"$f":"VLOOKUP($A38,Data!$A$2:$E$150,3,FALSE)","v":12.149999618530272},{"$f":"VLOOKUP($A38,Data!$A$2:$E$150,4,FALSE)","v":11.329999923706056},{"$f":"VLOOKUP($A38,Data!$A$2:$E$150,5,FALSE)","v":11.600000381469728},null,"2018-02-19",null,null,null,null,{"$f":"WORKDAY(INDEX(I$30:M$30,1,MATCH(L$48,I$30:M$30,1)-1),6*L$31,$G$32:$G$71)","v":"2020-02-25"},{"$f":"WORKDAY(INDEX(I$30:M$30,1,MATCH(M48,I$30:M$30,1)-1),22*M$31,$G$32:$G$71)","v":"2020-06-18"},{"$f":"WORKDAY(INDEX(I$30:M$30,1,MATCH(N$48,I$30:M$30,1)-1),54*N$31,$G$32:$G$71)","v":"2020-08-13"},{"$f":"WORKDAY(INDEX(I$30:M$30,1,MATCH(O$48,I$30:M$30,1)-1),118*O$31,$G$32:$G$71)","v":"2020-09-11"},0.75,null,{"$f":"+M46","v":"2020-09-17"},{"$f":"+N46","v":"2020-09-29"},{"$f":"+O46","v":""},null,null,null,null,null,null,null,0.78125,{"$f":"+Z36+3*Z37","v":10.9375},"3/8:7/8",{"$f":"+Z36+7*Z37","v":17.1875},"x",null,0," ",{"$f":"IF(AND((AF38=AF$41),AJ$29=0,AJ$30=0,AJ$31=0,AJ$32=0,AJ$33=0,AJ$34=0),AE38,0)","v":0},null,null,null,null,"2020-08-27",{"$error":"#N/A"},{"$error":"#N/A"},{"$error":"#N/A"},{"$error":"#N/A"},{"$error":"#N/A"},{"$error":"#N/A"},{"$error":"#N/A"},{"$error":"#N/A"},{"$error":"#N/A"},{"$error":"#N/A"},{"$error":"#N/A"},{"$error":"#N/A"},{"$error":"#N/A"},0,1,0.33333333333333331,0.66666666666666663,{"$error":"#N/A"},{"$error":"#N/A"},{"$error":"#N/A"},{"$error":"#N/A"},{"$error":"#N/A"},{"$error":"#N/A"},{"$error":"#N/A"},{"$error":"#N/A"},{"$error":"#N/A"},{"$error":"#N/A"},{"$error":"#N/A"},{"$error":"#N/A"},{"$error":"#N/A"},{"$error":"#N/A"},{"$error":"#N/A"},{"$error":"#N/A"},{"$error":"#N/A"},{"$error":"#N/A"},{"$error":"#N/A"},{"$error":"#N/A"},{"$error":"#N/A"},{"$error":"#N/A"},{"$error":"#N/A"},{"$error":"#N/A"},{"$error":"#N/A"},{"$error":"#N/A"},{"$error":"#N/A"},{"$error":"#N/A"},{"$error":"#N/A"},{"$error":"#N/A"},{"$error":"#N/A"},{"$error":"#N/A"},{"$error":"#N/A"},{"$error":"#N/A"},{"$error":"#N/A"},{"$error":"#N/A"},{"$error":"#N/A"},{"$error":"#N/A"},{"$error":"#N/A"},{"$error":"#N/A"},{"$error":"#N/A"},{"$error":"#N/A"},{"$error":"#N/A"},{"$error":"#N/A"},{"$error":"#N/A"},{"$error":"#N/A"},{"$error":"#N/A"},{"$error":"#N/A"},{"$error":"#N/A"},{"$error":"#N/A"},{"$error":"#N/A"},{"$error":"#N/A"},{"$error":"#N/A"},{"$error":"#N/A"},{"$error":"#N/A"},{"$error":"#N/A"},{"$error":"#N/A"},{"$error":"#N/A"},{"$error":"#N/A"},{"$error":"#N/A"},{"$error":"#N/A"},{"$error":"#N/A"},{"$error":"#N/A"},{"$error":"#N/A"},{"$error":"#N/A"},{"$error":"#N/A"},{"$error":"#N/A"},{"$error":"#N/A"},{"$error":"#N/A"},{"$error":"#N/A"},{"$error":"#N/A"},{"$error":"#N/A"},{"$error":"#N/A"},{"$error":"#N/A"},{"$error":"#N/A"},{"$error":"#N/A"},{"$error":"#N/A"},{"$error":"#N/A"},{"$error":"#N/A"},{"$error":"#N/A"},{"$error":"#N/A"},{"$error":"#N/A"},{"$error":"#N/A"},{"$error":"#N/A"},{"$error":"#N/A"},{"$error":"#N/A"},{"$error":"#N/A"},{"$error":"#N/A"}]
["2020-08-28",{"$f":"VLOOKUP($A39,Data!$A$2:$E$150,2,FALSE)","v":11.75},{"$f":"VLOOKUP($A39,Data!$A$2:$E$150,3,FALSE)","v":12.239999771118164},{"$f":"VLOOKUP($A39,Data!$A$2:$E$150,4,FALSE)","v":11.720000267028809},{"$f":"VLOOKUP($A39,Data!$A$2:$E$150,5,FALSE)","v":12.210000038146973},null,"2018-03-30",null,null,null,null,{"$f":"WORKDAY(INDEX(I$30:M$30,1,MATCH(L$48,I$30:M$30,1)-1),7*L$31,$G$32:$G$71)","v":"2020-03-18"},{"$f":"WORKDAY(INDEX(I$30:M$30,1,MATCH(M48,I$30:M$30,1)-1),23*M$31,$G$32:$G$71)","v":"2020-06-30"},{"$f":"WORKDAY(INDEX(I$30:M$30,1,MATCH(N$48,I$30:M$30,1)-1),55*N$31,$G$32:$G$71)","v":"2020-08-19"},{"$f":"WORKDAY(INDEX(I$30:M$30,1,MATCH(O$48,I$30:M$30,1)-1),119*O$31,$G$32:$G$71)","v":"2020-09-15"},0.875,null,{"$f":"+M50","v":"2020-10-27"},{"$f":"+N50","v":"2020-10-15"},{"$f":"+O50","v":"2020-10-09"},null,null,null,null,null,null,null,0.390625,{"$f":"+Z36+5*Z37","v":14.0625},"5/8:7/8",{"$f":"+Z36+7*Z37","v":17.1875},"x",null,0," ",{"$f":"IF(AND((AF39=AF$41),AJ$29=0,AJ$30=0,AJ$31=0,AJ$32=0,AJ$33=0,AJ$34=0),AE39,0)","v":0},null,null,null,null,"2020-08-28",{"$error":"#N/A"},{"$error":"#N/A"},{"$error":"#N/A"},{"$error":"#N/A"},{"$error":"#N/A"},{"$error":"#N/A"},{"$error":"#N/A"},{"$error":"#N/A"},{"$error":"#N/A"},{"$error":"#N/A"},{"$error":"#N/A"},{"$error":"#N/A"},{"$error":"#N/A"},0,1,0.33333333333333331,0.66666666666666663,{"$error":"#N/A"},{"$error":"#N/A"},{"$error":"#N/A"},{"$error":"#N/A"},{"$error":"#N/A"},{"$error":"#N/A"},{"$error":"#N/A"},{"$error":"#N/A"},{"$error":"#N/A"},{"$error":"#N/A"},{"$error":"#N/A"},{"$error":"#N/A"},{"$error":"#N/A"},{"$error":"#N/A"},{"$error":"#N/A"},{"$error":"#N/A"},{"$error":"#N/A"},{"$error":"#N/A"},{"$error":"#N/A"},{"$error":"#N/A"},{"$error":"#N/A"},{"$error":"#N/A"},{"$error":"#N/A"},{"$error":"#N/A"},{"$error":"#N/A"},{"$error":"#N/A"},{"$error":"#N/A"},{"$error":"#N/A"},{"$error":"#N/A"},{"$error":"#N/A"},{"$error":"#N/A"},{"$error":"#N/A"},{"$error":"#N/A"},{"$error":"#N/A"},{"$error":"#N/A"},{"$error":"#N/A"},{"$error":"#N/A"},{"$error":"#N/A"},{"$error":"#N/A"},{"$error":"#N/A"},{"$error":"#N/A"},{"$error":"#N/A"},{"$error":"#N/A"},{"$error":"#N/A"},{"$error":"#N/A"},{"$error":"#N/A"},{"$error":"#N/A"},{"$error":"#N/A"},{"$error":"#N/A"},{"$error":"#N/A"},{"$error":"#N/A"},{"$error":"#N/A"},{"$error":"#N/A"},{"$error":"#N/A"},{"$error":"#N/A"},{"$error":"#N/A"},{"$error":"#N/A"},{"$error":"#N/A"},{"$error":"#N/A"},{"$error":"#N/A"},{"$error":"#N/A"},{"$error":"#N/A"},{"$error":"#N/A"},{"$error":"#N/A"},{"$error":"#N/A"},{"$error":"#N/A"},{"$error":"#N/A"},{"$error":"#N/A"},{"$error":"#N/A"},{"$error":"#N/A"},{"$error":"#N/A"},{"$error":"#N/A"},{"$error":"#N/A"},{"$error":"#N/A"},{"$error":"#N/A"},{"$error":"#N/A"},{"$error":"#N/A"},{"$error":"#N/A"},{"$error":"#N/A"},{"$error":"#N/A"},{"$error":"#N/A"},{"$error":"#N/A"},{"$error":"#N/A"},{"$error":"#N/A"},{"$error":"#N/A"},{"$error":"#N/A"},{"$error":"#N/A"},{"$error":"#N/A"}]
["2020-08-31",{"$f":"VLOOKUP($A40,Data!$A$2:$E$150,2,FALSE)","v":12.369999885559082},{"$f":"VLOOKUP($A40,Data!$A$2:$E$150,3,FALSE)","v":12.609999656677246},{"$f":"VLOOKUP($A40,Data!$A$2:$E$150,4,FALSE)","v":12.199999809265137},{"$f":"VLOOKUP($A40,Data!$A$2:$E$150,5,FALSE)","v":12.449999809265137},null,"2018-05-28",null,null,null,{"$f":"WORKDAY(INDEX(I$30:M$30,1,MATCH(K$48,I$30:M$30,1)-1),0*K$31,$G$32:$G$71)","v":"2019-10-07"},{"$f":"WORKDAY(INDEX(I$30:M$30,1,MATCH(L$48,I$30:M$30,1)-1),8*L$31,$G$32:$G$71)","v":"2020-04-09"},{"$f":"WORKDAY(INDEX(I$30:M$30,1,MATCH(M48,I$30:M$30,1)-1),24*M$31,$G$32:$G$71)","v":"2020-07-10"},{"$f":"WORKDAY(INDEX(I$30:M$30,1,MATCH(N$48,I$30:M$30,1)-1),56*N$31,$G$32:$G$71)","v":"2020-08-25"},{"$f":"WORKDAY(INDEX(I$30:M$30,1,MATCH(O$48,I$30:M$30,1)-1),120*O$31,$G$32:$G$71)","v":"2020-09-17"},null,null,{"$f":"+M54","v":"2020-12-11"},{"$f":"+N54","v":"2020-11-06"},{"$f":"+O54","v":"2020-10-21"},null,null,null,null,null,null,null,null,null,null,null,null,null,"0/8th",null,"8/8th",null,null,null,null,"2020-08-31",{"$error":"#N/A"},{"$error":"#N/A"},{"$error":"#N/A"},{"$error":"#N/A"},{"$error":"#N/A"},{"$error":"#N/A"},{"$error":"#N/A"},{"$error":"#N/A"},{"$error":"#N/A"},{"$error":"#N/A"},{"$error":"#N/A"},{"$error":"#N/A"},{"$error":"#N/A"},0,1,0.33333333333333331,0.66666666666666663,{"$error":"#N/A"},{"$error":"#N/A"},{"$error":"#N/A"},{"$error":"#N/A"},{"$error":"#N/A"},{"$error":"#N/A"},{"$error":"#N/A"},{"$error":"#N/A"},{"$error":"#N/A"},{"$error":"#N/A"},{"$error":"#N/A"},{"$error":"#N/A"},{"$error":"#N/A"},{"$error":"#N/A"},{"$error":"#N/A"},{"$error":"#N/A"},{"$error":"#N/A"},{"$error":"#N/A"},{"$error":"#N/A"},{"$error":"#N/A"},{"$error":"#N/A"},{"$error":"#N/A"},{"$error":"#N/A"},{"$error":"#N/A"},{"$error":"#N/A"},{"$error":"#N/A"},{"$error":"#N/A"},{"$error":"#N/A"},{"$error":"#N/A"},{"$error":"#N/A"},{"$error":"#N/A"},{"$error":"#N/A"},{"$error":"#N/A"},{"$error":"#N/A"},{"$error":"#N/A"},{"$error":"#N/A"},{"$error":"#N/A"},{"$error":"#N/A"},{"$error":"#N/A"},{"$error":"#N/A"},{"$error":"#N/A"},{"$error":"#N/A"},{"$error":"#N/A"},{"$error":"#N/A"},{"$error":"#N/A"},{"$error":"#N/A"},{"$error":"#N/A"},{"$error":"#N/A"},{"$error":"#N/A"},{"$error":"#N/A"},{"$error":"#N/A"},{"$error":"#N/A"},{"$error":"#N/A"},{"$error":"#N/A"},{"$error":"#N/A"},{"$error":"#N/A"},{"$error":"#N/A"},{"$error":"#N/A"},{"$error":"#N/A"},{"$error":"#N/A"},{"$error":"#N/A"},{"$error":"#N/A"},{"$error":"#N/A"},{"$error":"#N/A"},{"$error":"#N/A"},{"$error":"#N/A"},{"$error":"#N/A"},{"$error":"#N/A"},{"$error":"#N/A"},{"$error":"#N/A"},{"$error":"#N/A"},{"$error":"#N/A"},{"$error":"#N/A"},{"$error":"#N/A"},{"$error":"#N/A"},{"$error":"#N/A"},{"$error":"#N/A"},{"$error":"#N/A"},{"$error":"#N/A"},{"$error":"#N/A"},{"$error":"#N/A"},{"$error":"#N/A"},{"$error":"#N/A"},{"$error":"#N/A"},{"$error":"#N/A"},{"$error":"#N/A"},{"$error":"#N/A"},{"$error":"#N/A"}]
["2020-09-01",{"$f":"VLOOKUP($A41,Data!$A$2:$E$150,2,FALSE)","v":12.800000190734863},{"$f":"VLOOKUP($A41,Data!$A$2:$E$150,3,FALSE)","v":12.800000190734863},{"$f":"VLOOKUP($A41,Data!$A$2:$E$150,4,FALSE)","v":11.789999961853027},{"$f":"VLOOKUP($A41,Data!$A$2:$E$150,5,FALSE)","v":12.060000419616699},null,"2018-07-04",null,null,null,{"$f":"WORKDAY(INDEX(I$30:M$30,1,MATCH(K$48,I$30:M$30,1)-1),1*K$31,$G$32:$G$71)","v":"2019-11-20"},{"$f":"WORKDAY(INDEX(I$30:M$30,1,MATCH(L$48,I$30:M$30,1)-1),9*L$31,$G$32:$G$71)","v":"2020-05-04"},{"$f":"WORKDAY(INDEX(I$30:M$30,1,MATCH(M48,I$30:M$30,1)-1),25*M$31,$G$32:$G$71)","v":"2020-07-22"},{"$f":"WORKDAY(INDEX(I$30:M$30,1,MATCH(N$48,I$30:M$30,1)-1),57*N$31,$G$32:$G$71)","v":"2020-08-31"},{"$f":"WORKDAY(INDEX(I$30:M$30,1,MATCH(O$48,I$30:M$30,1)-1),121*O$31,$G$32:$G$71)","v":"2020-09-21"},0.125,null,{"$f":"+M58","v":"2021-01-29"},{"$f":"+N58","v":"2020-12-01"},{"$f":"+O58","v":"2020-11-02"},null,null,null,null,null,null,null,null,{"$f":"+Z31","v":9.3299999237060565},"LO:HI",{"$f":"+Z30","v":14.569999694824221},{"$f":"MIN(AF29:AF39)","v":1.100000381469723},null,null,null,null,null,null,null,null,"2020-09-01",{"$error":"#N/A"},{"$error":"#N/A"},{"$error":"#N/A"},{"$error":"#N/A"},{"$error":"#N/A"},{"$error":"#N/A"},{"$error":"#N/A"},{"$error":"#N/A"},{"$error":"#N/A"},{"$error":"#N/A"},{"$error":"#N/A"},{"$error":"#N/A"},{"$error":"#N/A"},0,1,0.33333333333333331,0.66666666666666663,{"$error":"#N/A"},{"$error":"#N/A"},{"$error":"#N/A"},{"$error":"#N/A"},{"$error":"#N/A"},{"$error":"#N/A"},{"$error":"#N/A"},{"$error":"#N/A"},{"$error":"#N/A"},{"$error":"#N/A"},{"$error":"#N/A"},{"$error":"#N/A"},{"$error":"#N/A"},{"$error":"#N/A"},{"$error":"#N/A"},{"$error":"#N/A"},{"$error":"#N/A"},{"$error":"#N/A"},{"$error":"#N/A"},{"$error":"#N/A"},{"$error":"#N/A"},{"$error":"#N/A"},{"$error":"#N/A"},{"$error":"#N/A"},{"$error":"#N/A"},{"$error":"#N/A"},{"$error":"#N/A"},{"$error":"#N/A"},{"$error":"#N/A"},{"$error":"#N/A"},{"$error":"#N/A"},{"$error":"#N/A"},{"$error":"#N/A"},{"$error":"#N/A"},{"$error":"#N/A"},{"$error":"#N/A"},{"$error":"#N/A"},{"$error":"#N/A"},{"$error":"#N/A"},{"$error":"#N/A"},{"$error":"#N/A"},{"$error":"#N/A"},{"$error":"#N/A"},{"$error":"#N/A"},{"$error":"#N/A"},{"$error":"#N/A"},{"$error":"#N/A"},{"$error":"#N/A"},{"$error":"#N/A"},{"$error":"#N/A"},{"$error":"#N/A"},{"$error":"#N/A"},{"$error":"#N/A"},{"$error":"#N/A"},{"$error":"#N/A"},{"$error":"#N/A"},{"$error":"#N/A"},{"$error":"#N/A"},{"$error":"#N/A"},{"$error":"#N/A"},{"$error":"#N/A"},{"$error":"#N/A"},{"$error":"#N/A"},{"$error":"#N/A"},{"$error":"#N/A"},{"$error":"#N/A"},{"$error":"#N/A"},{"$error":"#N/A"},{"$error":"#N/A"},{"$error":"#N/A"},{"$error":"#N/A"},{"$error":"#N/A"},{"$error":"#N/A"},{"$error":"#N/A"},{"$error":"#N/A"},{"$error":"#N/A"},{"$error":"#N/A"},{"$error":"#N/A"},{"$error":"#N/A"},{"$error":"#N/A"},{"$error":"#N/A"},{"$error":"#N/A"},{"$error":"#N/A"},{"$error":"#N/A"},{"$error":"#N/A"},{"$error":"#N/A"},{"$error":"#N/A"},{"$error":"#N/A"}]
["2020-09-02",{"$f":"VLOOKUP($A42,Data!$A$2:$E$150,2,FALSE)","v":11.859999656677246},{"$f":"VLOOKUP($A42,Data!$A$2:$E$150,3,FALSE)","v":11.899999618530272},{"$f":"VLOOKUP($A42,Data!$A$2:$E$150,4,FALSE)","v":11.069999694824221},{"$f":"VLOOKUP($A42,Data!$A$2:$E$150,5,FALSE)","v":11.550000190734863},null,"2018-09-03",null,null,null,{"$f":"WORKDAY(INDEX(I$30:M$30,1,MATCH(K$48,I$30:M$30,1)-1),2*K$31,$G$32:$G$71)","v":"2020-01-08"},{"$f":"WORKDAY(INDEX(I$30:M$30,1,MATCH(L$48,I$30:M$30,1)-1),10*L$31,$G$32:$G$71)","v":"2020-05-27"},{"$f":"WORKDAY(INDEX(I$30:M$30,1,MATCH(M48,I$30:M$30,1)-1),26*M$31,$G$32:$G$71)","v":"2020-08-03"},{"$f":"WORKDAY(INDEX(I$30:M$30,1,MATCH(N$48,I$30:M$30,1)-1),58*N$31,$G$32:$G$71)","v":"2020-09-04"},{"$f":"WORKDAY(INDEX(I$30:M$30,1,MATCH(O$48,I$30:M$30,1)-1),122*O$31,$G$32:$G$71)","v":"2020-09-23"},0.25,null,{"$f":"+M62","v":"2021-03-17"},{"$f":"+N62","v":"2020-12-23"},{"$f":"+O62","v":"2020-11-12"},null,null,null,null,null,null,null,null,null,null,null,null,null,null,null,null,null,null,null,null,"2020-09-02",{"$error":"#N/A"},{"$error":"#N/A"},{"$error":"#N/A"},{"$error":"#N/A"},{"$error":"#N/A"},{"$error":"#N/A"},{"$error":"#N/A"},{"$error":"#N/A"},{"$error":"#N/A"},{"$error":"#N/A"},{"$error":"#N/A"},{"$error":"#N/A"},{"$error":"#N/A"},0,1,0.33333333333333331,0.66666666666666663,{"$error":"#N/A"},{"$error":"#N/A"},{"$error":"#N/A"},{"$error":"#N/A"},{"$error":"#N/A"},{"$error":"#N/A"},{"$error":"#N/A"},{"$error":"#N/A"},{"$error":"#N/A"},{"$error":"#N/A"},{"$error":"#N/A"},{"$error":"#N/A"},{"$error":"#N/A"},{"$error":"#N/A"},{"$error":"#N/A"},{"$error":"#N/A"},{"$error":"#N/A"},{"$error":"#N/A"},{"$error":"#N/A"},{"$error":"#N/A"},{"$error":"#N/A"},{"$error":"#N/A"},{"$error":"#N/A"},{"$error":"#N/A"},{"$error":"#N/A"},{"$error":"#N/A"},{"$error":"#N/A"},{"$error":"#N/A"},{"$error":"#N/A"},{"$error":"#N/A"},{"$error":"#N/A"},{"$error":"#N/A"},{"$error":"#N/A"},{"$error":"#N/A"},{"$error":"#N/A"},{"$error":"#N/A"},{"$error":"#N/A"},{"$error":"#N/A"},{"$error":"#N/A"},{"$error":"#N/A"},{"$error":"#N/A"},{"$error":"#N/A"},{"$error":"#N/A"},{"$error":"#N/A"},{"$error":"#N/A"},{"$error":"#N/A"},{"$error":"#N/A"},{"$error":"#N/A"},{"$error":"#N/A"},{"$error":"#N/A"},{"$error":"#N/A"},{"$error":"#N/A"},{"$error":"#N/A"},{"$error":"#N/A"},{"$error":"#N/A"},{"$error":"#N/A"},{"$error":"#N/A"},{"$error":"#N/A"},{"$error":"#N/A"},{"$error":"#N/A"},{"$error":"#N/A"},{"$error":"#N/A"},{"$error":"#N/A"},{"$error":"#N/A"},{"$error":"#N/A"},{"$error":"#N/A"},{"$error":"#N/A"},{"$error":"#N/A"},{"$error":"#N/A"},{"$error":"#N/A"},{"$error":"#N/A"},{"$error":"#N/A"},{"$error":"#N/A"},{"$error":"#N/A"},{"$error":"#N/A"},{"$error":"#N/A"},{"$error":"#N/A"},{"$error":"#N/A"},{"$error":"#N/A"},{"$error":"#N/A"},{"$error":"#N/A"},{"$error":"#N/A"},{"$error":"#N/A"},{"$error":"#N/A"},{"$error":"#N/A"},{"$error":"#N/A"},{"$error":"#N/A"},{"$error":"#N/A"}]
["2020-09-03",{"$f":"VLOOKUP($A43,Data!$A$2:$E$150,2,FALSE)","v":11.420000076293944},{"$f":"VLOOKUP($A43,Data!$A$2:$E$150,3,FALSE)","v":11.630000114440918},{"$f":"VLOOKUP($A43,Data!$A$2:$E$150,4,FALSE)","v":11.090000152587891},{"$f":"VLOOKUP($A43,Data!$A$2:$E$150,5,FALSE)","v":11.529999732971191},null,"2018-11-22",null,null,null,{"$f":"WORKDAY(INDEX(I$30:M$30,1,MATCH(K$48,I$30:M$30,1)-1),3*K$31,$G$32:$G$71)","v":"2020-02-25"},{"$f":"WORKDAY(INDEX(I$30:M$30,1,MATCH(L$48,I$30:M$30,1)-1),11*L$31,$G$32:$G$71)","v":"2020-06-18"},{"$f":"WORKDAY(INDEX(I$30:M$30,1,MATCH(M48,I$30:M$30,1)-1),27*M$31,$G$32:$G$71)","v":"2020-08-13"},{"$f":"WORKDAY(INDEX(I$30:M$30,1,MATCH(N$48,I$30:M$30,1)-1),59*N$31,$G$32:$G$71)","v":"2020-09-11"},{"$f":"WORKDAY(INDEX(I$30:M$30,1,MATCH(O$48,I$30:M$30,1)-1),123*O$31,$G$32:$G$71)","v":"2020-09-25"},0.375,null,{"$f":"+M66","v":"2021-05-03"},{"$f":"+N66","v":"2021-01-19"},{"$f":"+O66","v":"2020-11-24"},null,null,null,null,null,null,null,null,null,null,null,null,null,null,null,null,null,null,null,null,"2020-09-03",{"$error":"#N/A"},{"$error":"#N/A"},{"$error":"#N/A"},{"$error":"#N/A"},{"$error":"#N/A"},{"$error":"#N/A"},{"$error":"#N/A"},{"$error":"#N/A"},{"$error":"#N/A"},{"$error":"#N/A"},{"$error":"#N/A"},{"$error":"#N/A"},{"$error":"#N/A"},0,1,0.33333333333333331,0.66666666666666663,{"$error":"#N/A"},{"$error":"#N/A"},{"$error":"#N/A"},{"$error":"#N/A"},{"$error":"#N/A"},{"$error":"#N/A"},{"$error":"#N/A"},{"$error":"#N/A"},{"$error":"#N/A"},{"$error":"#N/A"},{"$error":"#N/A"},{"$error":"#N/A"},{"$error":"#N/A"},{"$error":"#N/A"},{"$error":"#N/A"},{"$error":"#N/A"},{"$error":"#N/A"},{"$error":"#N/A"},{"$error":"#N/A"},{"$error":"#N/A"},{"$error":"#N/A"},{"$error":"#N/A"},{"$error":"#N/A"},{"$error":"#N/A"},{"$error":"#N/A"},{"$error":"#N/A"},{"$error":"#N/A"},{"$error":"#N/A"},{"$error":"#N/A"},{"$error":"#N/A"},{"$error":"#N/A"},{"$error":"#N/A"},{"$error":"#N/A"},{"$error":"#N/A"},{"$error":"#N/A"},{"$error":"#N/A"},{"$error":"#N/A"},{"$error":"#N/A"},{"$error":"#N/A"},{"$error":"#N/A"},{"$error":"#N/A"},{"$error":"#N/A"},{"$error":"#N/A"},{"$error":"#N/A"},{"$error":"#N/A"},{"$error":"#N/A"},{"$error":"#N/A"},{"$error":"#N/A"},{"$error":"#N/A"},{"$error":"#N/A"},{"$error":"#N/A"},{"$error":"#N/A"},{"$error":"#N/A"},{"$error":"#N/A"},{"$error":"#N/A"},{"$error":"#N/A"},{"$error":"#N/A"},{"$error":"#N/A"},{"$error":"#N/A"},{"$error":"#N/A"},{"$error":"#N/A"},{"$error":"#N/A"},{"$error":"#N/A"},{"$error":"#N/A"},{"$error":"#N/A"},{"$error":"#N/A"},{"$error":"#N/A"},{"$error":"#N/A"},{"$error":"#N/A"},{"$error":"#N/A"},{"$error":"#N/A"},{"$error":"#N/A"},{"$error":"#N/A"},{"$error":"#N/A"},{"$error":"#N/A"},{"$error":"#N/A"},{"$error":"#N/A"},{"$error":"#N/A"},{"$error":"#N/A"},{"$error":"#N/A"},{"$error":"#N/A"},{"$error":"#N/A"},{"$error":"#N/A"},{"$error":"#N/A"},{"$error":"#N/A"},{"$error":"#N/A"},{"$error":"#N/A"},{"$error":"#N/A"}]
["2020-09-04",{"$f":"VLOOKUP($A44,Data!$A$2:$E$150,2,FALSE)","v":11.489999771118164},{"$f":"VLOOKUP($A44,Data!$A$2:$E$150,3,FALSE)","v":11.590000152587891},{"$f":"VLOOKUP($A44,Data!$A$2:$E$150,4,FALSE)","v":10.909999847412109},{"$f":"VLOOKUP($A44,Data!$A$2:$E$150,5,FALSE)","v":11.5},null,"2018-12-25",null,null,{"$f":"WORKDAY(INDEX(I$30:M$30,1,MATCH(J$48,I$30:M$30,1)-1),0*J$31,$G$32:$G$71)","v":"2019-10-07"},{"$f":"WORKDAY(INDEX(I$30:M$30,1,MATCH(K$48,I$30:M$30,1)-1),4*K$31,$G$32:$G$71)","v":"2020-04-09"},{"$f":"WORKDAY(INDEX(I$30:M$30,1,MATCH(L$48,I$30:M$30,1)-1),12*L$31,$G$32:$G$71)","v":"2020-07-10"},{"$f":"WORKDAY(INDEX(I$30:M$30,1,MATCH(M48,I$30:M$30,1)-1),28*M$31,$G$32:$G$71)","v":"2020-08-25"},{"$f":"WORKDAY(INDEX(I$30:M$30,1,MATCH(N$48,I$30:M$30,1)-1),60*N$31,$G$32:$G$71)","v":"2020-09-17"},{"$f":"WORKDAY(INDEX(I$30:M$30,1,MATCH(O$48,I$30:M$30,1)-1),124*O$31,$G$32:$G$71)","v":"2020-09-29"},0.5,null,{"$f":"+M70","v":"2021-06-17"},{"$f":"+N70","v":"2021-02-10"},{"$f":"+O70","v":"2020-12-07"},null,null,null,null,null,null,null,null,null,null,null,null,null,null,null,null,null,null,null,null,"2020-09-04",{"$error":"#N/A"},{"$error":"#N/A"},{"$error":"#N/A"},{"$error":"#N/A"},{"$error":"#N/A"},{"$error":"#N/A"},{"$error":"#N/A"},{"$error":"#N/A"},{"$error":"#N/A"},{"$error":"#N/A"},{"$error":"#N/A"},{"$error":"#N/A"},1,0,1,0.33333333333333331,0.66666666666666663,{"$error":"#N/A"},{"$error":"#N/A"},{"$error":"#N/A"},{"$error":"#N/A"},{"$error":"#N/A"},{"$error":"#N/A"},{"$error":"#N/A"},{"$error":"#N/A"},{"$error":"#N/A"},{"$error":"#N/A"},{"$error":"#N/A"},{"$error":"#N/A"},{"$error":"#N/A"},{"$error":"#N/A"},{"$error":"#N/A"},{"$error":"#N/A"},{"$error":"#N/A"},{"$error":"#N/A"},{"$error":"#N/A"},{"$error":"#N/A"},{"$error":"#N/A"},{"$error":"#N/A"},{"$error":"#N/A"},{"$error":"#N/A"},{"$error":"#N/A"},{"$error":"#N/A"},{"$error":"#N/A"},{"$error":"#N/A"},{"$error":"#N/A"},{"$error":"#N/A"},0,{"$error":"#N/A"},{"$error":"#N/A"},{"$error":"#N/A"},{"$error":"#N/A"},{"$error":"#N/A"},{"$error":"#N/A"},{"$error":"#N/A"},1,{"$error":"#N/A"},{"$error":"#N/A"},{"$error":"#N/A"},{"$error":"#N/A"},{"$error":"#N/A"},{"$error":"#N/A"},{"$error":"#N/A"},{"$error":"#N/A"},{"$error":"#N/A"},{"$error":"#N/A"},{"$error":"#N/A"},{"$error":"#N/A"},{"$error":"#N/A"},{"$error":"#N/A"},{"$error":"#N/A"},{"$error":"#N/A"},{"$error":"#N/A"},{"$error":"#N/A"},{"$error":"#N/A"},{"$error":"#N/A"},{"$error":"#N/A"},{"$error":"#N/A"},{"$error":"#N/A"},{"$error":"#N/A"},{"$error":"#N/A"},{"$error":"#N/A"},{"$error":"#N/A"},{"$error":"#N/A"},{"$error":"#N/A"},{"$error":"#N/A"},{"$error":"#N/A"},{"$error":"#N/A"},{"$error":"#N/A"},{"$error":"#N/A"},{"$error":"#N/A"},{"$error":"#N/A"},{"$error":"#N/A"},{"$error":"#N/A"},{"$error":"#N/A"},{"$error":"#N/A"},{"$error":"#N/A"},{"$error":"#N/A"},{"$error":"#N/A"},{"$error":"#N/A"},{"$error":"#N/A"},{"$error":"#N/A"},{"$error":"#N/A"},{"$error":"#N/A"},{"$error":"#N/A"}]
["2020-09-08",{"$f":"VLOOKUP($A45,Data!$A$2:$E$150,2,FALSE)","v":11.100000381469728},{"$f":"VLOOKUP($A45,Data!$A$2:$E$150,3,FALSE)","v":11.659999847412109},{"$f":"VLOOKUP($A45,Data!$A$2:$E$150,4,FALSE)","v":10.899999618530272},{"$f":"VLOOKUP($A45,Data!$A$2:$E$150,5,FALSE)","v":11.380000114440918},null,"2019-01-01",null,null,{"$f":"WORKDAY(INDEX(I$30:M$30,1,MATCH(J$48,I$30:M$30,1)-1),1*J$31,$G$32:$G$71)","v":"2020-01-08"},{"$f":"WORKDAY(INDEX(I$30:M$30,1,MATCH(K$48,I$30:M$30,1)-1),5*K$31,$G$32:$G$71)","v":"2020-05-27"},{"$f":"WORKDAY(INDEX(I$30:M$30,1,MATCH(L$48,I$30:M$30,1)-1),13*L$31,$G$32:$G$71)","v":"2020-08-03"},{"$f":"WORKDAY(INDEX(I$30:M$30,1,MATCH(M48,I$30:M$30,1)-1),29*M$31,$G$32:$G$71)","v":"2020-09-04"},{"$f":"WORKDAY(INDEX(I$30:M$30,1,MATCH(N$48,I$30:M$30,1)-1),61*N$31,$G$32:$G$71)","v":"2020-09-23"},{"$f":"IF(WORKDAY(INDEX(I$30:M$30,1,MATCH(O$48,I$30:M$30,1)-1),125*O$31,$G$32:$G$71)>=O48,\"\",WORKDAY(INDEX(I$30:M$30,1,MATCH(O$48,I$30:M$30,1)-1),125*O$31,$G$32:$G$71))","v":"2020-10-01"},0.625,null,{"$f":"+M74","v":"2021-08-03"},{"$f":"+N74","v":"2021-03-05"},{"$f":"+O74","v":"2020-12-17"},null,null,null,null,null,null,null,null,null,null,null,null,null,null,null,null,null,null,null,null,"2020-09-08",{"$error":"#N/A"},{"$error":"#N/A"},{"$error":"#N/A"},{"$error":"#N/A"},{"$error":"#N/A"},{"$error":"#N/A"},{"$error":"#N/A"},{"$error":"#N/A"},{"$error":"#N/A"},{"$error":"#N/A"},{"$error":"#N/A"},{"$error":"#N/A"},{"$error":"#N/A"},0,1,0.33333333333333331,0.66666666666666663,{"$error":"#N/A"},{"$error":"#N/A"},{"$error":"#N/A"},{"$error":"#N/A"},{"$error":"#N/A"},{"$error":"#N/A"},{"$error":"#N/A"},{"$error":"#N/A"},{"$error":"#N/A"},{"$error":"#N/A"},{"$error":"#N/A"},{"$error":"#N/A"},{"$error":"#N/A"},{"$error":"#N/A"},{"$error":"#N/A"},{"$error":"#N/A"},{"$error":"#N/A"},{"$error":"#N/A"},{"$error":"#N/A"},{"$error":"#N/A"},{"$error":"#N/A"},{"$error":"#N/A"},{"$error":"#N/A"},{"$error":"#N/A"},{"$error":"#N/A"},{"$error":"#N/A"},{"$error":"#N/A"},{"$error":"#N/A"},{"$error":"#N/A"},{"$error":"#N/A"},{"$error":"#N/A"},{"$error":"#N/A"},{"$error":"#N/A"},{"$error":"#N/A"},{"$error":"#N/A"},{"$error":"#N/A"},{"$error":"#N/A"},{"$error":"#N/A"},{"$error":"#N/A"},{"$error":"#N/A"},{"$error":"#N/A"},{"$error":"#N/A"},{"$error":"#N/A"},{"$error":"#N/A"},{"$error":"#N/A"},{"$error":"#N/A"},{"$error":"#N/A"},{"$error":"#N/A"},{"$error":"#N/A"},{"$error":"#N/A"},{"$error":"#N/A"},{"$error":"#N/A"},{"$error":"#N/A"},{"$error":"#N/A"},{"$error":"#N/A"},{"$error":"#N/A"},{"$error":"#N/A"},{"$error":"#N/A"},{"$error":"#N/A"},{"$error":"#N/A"},{"$error":"#N/A"},{"$error":"#N/A"},{"$error":"#N/A"},{"$error":"#N/A"},{"$error":"#N/A"},{"$error":"#N/A"},{"$error":"#N/A"},{"$error":"#N/A"},{"$error":"#N/A"},{"$error":"#N/A"},{"$error":"#N/A"},{"$error":"#N/A"},{"$error":"#N/A"},{"$error":"#N/A"},{"$error":"#N/A"},{"$error":"#N/A"},{"$error":"#N/A"},{"$error":"#N/A"},{"$error":"#N/A"},{"$error":"#N/A"},{"$error":"#N/A"},{"$error":"#N/A"},{"$error":"#N/A"},{"$error":"#N/A"},{"$error":"#N/A"},{"$error":"#N/A"},{"$error":"#N/A"},{"$error":"#N/A"}]
["2020-09-09",{"$f":"VLOOKUP($A46,Data!$A$2:$E$150,2,FALSE)","v":11.539999961853027},{"$f":"VLOOKUP($A46,Data!$A$2:$E$150,3,FALSE)","v":11.869999885559082},{"$f":"VLOOKUP($A46,Data!$A$2:$E$150,4,FALSE)","v":11.489999771118164},{"$f":"VLOOKUP($A46,Data!$A$2:$E$150,5,FALSE)","v":11.850000381469728},null,"2019-01-21",null,null,{"$f":"WORKDAY(INDEX(I$30:M$30,1,MATCH(J$48,I$30:M$30,1)-1),2*J$31,$G$32:$G$71)","v":"2020-04-09"},{"$f":"WORKDAY(INDEX(I$30:M$30,1,MATCH(K$48,I$30:M$30,1)-1),6*K$31,$G$32:$G$71)","v":"2020-07-10"},{"$f":"WORKDAY(INDEX(I$30:M$30,1,MATCH(L$48,I$30:M$30,1)-1),14*L$31,$G$32:$G$71)","v":"2020-08-25"},{"$f":"WORKDAY(INDEX(I$30:M$30,1,MATCH(M48,I$30:M$30,1)-1),30*M$31,$G$32:$G$71)","v":"2020-09-17"},{"$f":"IF(WORKDAY(INDEX(I$30:M$30,1,MATCH(N$48,I$30:M$30,1)-1),62*N$31,$G$32:$G$71)>=N48,\"\",WORKDAY(INDEX(I$30:M$30,1,MATCH(N$48,I$30:M$30,1)-1),62*N$31,$G$32:$G$71))","v":"2020-09-29"},{"$f":"IF(WORKDAY(INDEX(I$30:M$30,1,MATCH(O$48,I$30:M$30,1)-1),126*O$31,$G$32:$G$71)>=O48,\"\",WORKDAY(INDEX(I$30:M$30,1,MATCH(O$48,I$30:M$30,1)-1),126*O$31,$G$32:$G$71))","v":""},0.75,null,{"$f":"+M78","v":"2021-09-17"},{"$f":"+N78","v":"2021-03-29"},{"$f":"+O78","v":"2020-12-30"},null,null,null,null,null,null,null,null,null,null,null,null,null,null,null,null,null,null,null,null,"2020-09-09",{"$error":"#N/A"},{"$error":"#N/A"},{"$error":"#N/A"},{"$error":"#N/A"},{"$error":"#N/A"},{"$error":"#N/A"},{"$error":"#N/A"},{"$error":"#N/A"},{"$error":"#N/A"},{"$error":"#N/A"},{"$error":"#N/A"},{"$error":"#N/A"},{"$error":"#N/A"},0,1,0.33333333333333331,0.66666666666666663,{"$error":"#N/A"},{"$error":"#N/A"},{"$error":"#N/A"},{"$error":"#N/A"},{"$error":"#N/A"},{"$error":"#N/A"},{"$error":"#N/A"},{"$error":"#N/A"},{"$error":"#N/A"},{"$error":"#N/A"},{"$error":"#N/A"},{"$error":"#N/A"},{"$error":"#N/A"},{"$error":"#N/A"},{"$error":"#N/A"},{"$error":"#N/A"},{"$error":"#N/A"},{"$error":"#N/A"},{"$error":"#N/A"},{"$error":"#N/A"},{"$error":"#N/A"},{"$error":"#N/A"},{"$error":"#N/A"},{"$error":"#N/A"},{"$error":"#N/A"},{"$error":"#N/A"},{"$error":"#N/A"},{"$error":"#N/A"},{"$error":"#N/A"},{"$error":"#N/A"},{"$error":"#N/A"},{"$error":"#N/A"},{"$error":"#N/A"},{"$error":"#N/A"},{"$error":"#N/A"},{"$error":"#N/A"},{"$error":"#N/A"},{"$error":"#N/A"},{"$error":"#N/A"},{"$error":"#N/A"},{"$error":"#N/A"},{"$error":"#N/A"},{"$error":"#N/A"},{"$error":"#N/A"},{"$error":"#N/A"},{"$error":"#N/A"},{"$error":"#N/A"},{"$error":"#N/A"},{"$error":"#N/A"},{"$error":"#N/A"},{"$error":"#N/A"},{"$error":"#N/A"},{"$error":"#N/A"},{"$error":"#N/A"},{"$error":"#N/A"},{"$error":"#N/A"},{"$error":"#N/A"},{"$error":"#N/A"},{"$error":"#N/A"},{"$error":"#N/A"},{"$error":"#N/A"},{"$error":"#N/A"},{"$error":"#N/A"},{"$error":"#N/A"},{"$error":"#N/A"},{"$error":"#N/A"},{"$error":"#N/A"},{"$error":"#N/A"},{"$error":"#N/A"},{"$error":"#N/A"},{"$error":"#N/A"},{"$error":"#N/A"},{"$error":"#N/A"},{"$error":"#N/A"},{"$error":"#N/A"},{"$error":"#N/A"},{"$error":"#N/A"},{"$error":"#N/A"},{"$error":"#N/A"},{"$error":"#N/A"},{"$error":"#N/A"},{"$error":"#N/A"},{"$error":"#N/A"},{"$error":"#N/A"},{"$error":"#N/A"},{"$error":"#N/A"},{"$error":"#N/A"},{"$error":"#N/A"}]
["2020-09-10",{"$f":"VLOOKUP($A47,Data!$A$2:$E$150,2,FALSE)","v":12.050000190734863},{"$f":"VLOOKUP($A47,Data!$A$2:$E$150,3,FALSE)","v":12.210000038146973},{"$f":"VLOOKUP($A47,Data!$A$2:$E$150,4,FALSE)","v":11.520000457763672},{"$f":"VLOOKUP($A47,Data!$A$2:$E$150,5,FALSE)","v":11.670000076293944},null,"2019-02-18",null,null,{"$f":"WORKDAY(INDEX(I$30:M$30,1,MATCH(J$48,I$30:M$30,1)-1),3*J$31,$G$32:$G$71)","v":"2020-07-10"},{"$f":"WORKDAY(INDEX(I$30:M$30,1,MATCH(K$48,I$30:M$30,1)-1),7*K$31,$G$32:$G$71)","v":"2020-08-25"},{"$f":"WORKDAY(INDEX(I$30:M$30,1,MATCH(L$48,I$30:M$30,1)-1),15*L$31,$G$32:$G$71)","v":"2020-09-17"},{"$f":"WORKDAY(INDEX(I$30:M$30,1,MATCH(M48,I$30:M$30,1)-1),31*M$31,$G$32:$G$71)","v":"2020-09-29"},{"$f":"IF(WORKDAY(INDEX(I$30:M$30,1,MATCH(N$48,I$30:M$30,1)-1),63*N$31,$G$32:$G$71)>=N48,\"\",WORKDAY(INDEX(I$30:M$30,1,MATCH(N$48,I$30:M$30,1)-1),63*N$31,$G$32:$G$71))","v":""},{"$f":"IF(WORKDAY(INDEX(I$30:M$30,1,MATCH(O$48,I$30:M$30,1)-1),127*O$31,$G$32:$G$71)>=O48,\"\",WORKDAY(INDEX(I$30:M$30,1,MATCH(O$48,I$30:M$30,1)-1),127*O$31,$G$32:$G$71))","v":""},0.875,null,null,{"$f":"+N82","v":"2021-04-21"},{"$f":"+O82","v":"2021-01-12"},null,null,null,null,null,null,null,null,null,null,null,null,null,null,null,null,null,null,null,null,"2020-09-10",{"$error":"#N/A"},{"$error":"#N/A"},{"$error":"#N/A"},{"$error":"#N/A"},{"$error":"#N/A"},{"$error":"#N/A"},{"$error":"#N/A"},{"$error":"#N/A"},{"$error":"#N/A"},{"$error":"#N/A"},{"$error":"#N/A"},{"$error":"#N/A"},{"$error":"#N/A"},0,1,0.33333333333333331,0.66666666666666663,{"$error":"#N/A"},{"$error":"#N/A"},{"$error":"#N/A"},{"$error":"#N/A"},{"$error":"#N/A"},{"$error":"#N/A"},{"$error":"#N/A"},{"$error":"#N/A"},{"$error":"#N/A"},{"$error":"#N/A"},{"$error":"#N/A"},{"$error":"#N/A"},{"$error":"#N/A"},{"$error":"#N/A"},{"$error":"#N/A"},{"$error":"#N/A"},{"$error":"#N/A"},{"$error":"#N/A"},{"$error":"#N/A"},{"$error":"#N/A"},{"$error":"#N/A"},{"$error":"#N/A"},{"$error":"#N/A"},{"$error":"#N/A"},{"$error":"#N/A"},{"$error":"#N/A"},{"$error":"#N/A"},{"$error":"#N/A"},{"$error":"#N/A"},{"$error":"#N/A"},{"$error":"#N/A"},{"$error":"#N/A"},{"$error":"#N/A"},{"$error":"#N/A"},{"$error":"#N/A"},{"$error":"#N/A"},{"$error":"#N/A"},{"$error":"#N/A"},{"$error":"#N/A"},{"$error":"#N/A"},{"$error":"#N/A"},{"$error":"#N/A"},{"$error":"#N/A"},{"$error":"#N/A"},{"$error":"#N/A"},{"$error":"#N/A"},{"$error":"#N/A"},{"$error":"#N/A"},{"$error":"#N/A"},{"$error":"#N/A"},{"$error":"#N/A"},{"$error":"#N/A"},{"$error":"#N/A"},{"$error":"#N/A"},{"$error":"#N/A"},{"$error":"#N/A"},{"$error":"#N/A"},{"$error":"#N/A"},{"$error":"#N/A"},{"$error":"#N/A"},{"$error":"#N/A"},{"$error":"#N/A"},{"$error":"#N/A"},{"$error":"#N/A"},{"$error":"#N/A"},{"$error":"#N/A"},{"$error":"#N/A"},{"$error":"#N/A"},{"$error":"#N/A"},{"$error":"#N/A"},{"$error":"#N/A"},{"$error":"#N/A"},{"$error":"#N/A"},{"$error":"#N/A"},{"$error":"#N/A"},{"$error":"#N/A"},{"$error":"#N/A"},{"$error":"#N/A"},{"$error":"#N/A"},{"$error":"#N/A"},{"$error":"#N/A"},{"$error":"#N/A"},{"$error":"#N/A"},{"$error":"#N/A"},{"$error":"#N/A"},{"$error":"#N/A"},{"$error":"#N/A"},{"$error":"#N/A"}]
["2020-09-11",{"$f":"VLOOKUP($A48,Data!$A$2:$E$150,2,FALSE)","v":11.829999923706056},{"$f":"VLOOKUP($A48,Data!$A$2:$E$150,3,FALSE)","v":12.270000457763672},{"$f":"VLOOKUP($A48,Data!$A$2:$E$150,4,FALSE)","v":11.550000190734863},{"$f":"VLOOKUP($A48,Data!$A$2:$E$150,5,FALSE)","v":11.649999618530272},null,"2019-04-19",0,{"$f":"IF($H$20<=$I$30,$I$30,IF(AND($H$20>=$I$30,$H$20<$J$30),$I$30,IF(AND($H$20>=$J$30,$H$20<$K$30),$J$30,IF(AND($H$20>=$K$30,$H$20<$L$30),$K$30,$L$30))))","v":"2020-10-05"},"2020-10-05","2020-10-05","2020-10-05","2020-10-05","2020-10-05","2020-10-05",0,null,null,{"$f":"+N86","v":"2021-05-13"},{"$f":"+O86","v":"2021-01-25"},null,null,null,null,null,null,null,null,null,null,null,null,null,null,null,null,null,null,null,null,"2020-09-11",{"$error":"#N/A"},{"$error":"#N/A"},{"$error":"#N/A"},{"$error":"#N/A"},{"$error":"#N/A"},{"$error":"#N/A"},{"$error":"#N/A"},{"$error":"#N/A"},{"$error":"#N/A"},{"$error":"#N/A"},{"$error":"#N/A"},{"$error":"#N/A"},{"$error":"#N/A"},0,1,0.33333333333333331,0.66666666666666663,{"$error":"#N/A"},{"$error":"#N/A"},{"$error":"#N/A"},{"$error":"#N/A"},{"$error":"#N/A"},{"$error":"#N/A"},{"$error":"#N/A"},{"$error":"#N/A"},{"$error":"#N/A"},{"$error":"#N/A"},{"$error":"#N/A"},{"$error":"#N/A"},{"$error":"#N/A"},{"$error":"#N/A"},{"$error":"#N/A"},{"$error":"#N/A"},{"$error":"#N/A"},{"$error":"#N/A"},{"$error":"#N/A"},{"$error":"#N/A"},{"$error":"#N/A"},{"$error":"#N/A"},{"$error":"#N/A"},{"$error":"#N/A"},{"$error":"#N/A"},{"$error":"#N/A"},{"$error":"#N/A"},{"$error":"#N/A"},{"$error":"#N/A"},{"$error":"#N/A"},{"$error":"#N/A"},{"$error":"#N/A"},{"$error":"#N/A"},{"$error":"#N/A"},{"$error":"#N/A"},{"$error":"#N/A"},{"$error":"#N/A"},{"$error":"#N/A"},{"$error":"#N/A"},{"$error":"#N/A"},{"$error":"#N/A"},{"$error":"#N/A"},{"$error":"#N/A"},{"$error":"#N/A"},{"$error":"#N/A"},{"$error":"#N/A"},{"$error":"#N/A"},{"$error":"#N/A"},{"$error":"#N/A"},{"$error":"#N/A"},{"$error":"#N/A"},{"$error":"#N/A"},{"$error":"#N/A"},{"$error":"#N/A"},{"$error":"#N/A"},{"$error":"#N/A"},{"$error":"#N/A"},{"$error":"#N/A"},{"$error":"#N/A"},{"$error":"#N/A"},{"$error":"#N/A"},{"$error":"#N/A"},{"$error":"#N/A"},{"$error":"#N/A"},{"$error":"#N/A"},{"$error":"#N/A"},{"$error":"#N/A"},{"$error":"#N/A"},{"$error":"#N/A"},{"$error":"#N/A"},{"$error":"#N/A"},{"$error":"#N/A"},{"$error":"#N/A"},{"$error":"#N/A"},{"$error":"#N/A"},{"$error":"#N/A"},{"$error":"#N/A"},{"$error":"#N/A"},{"$error":"#N/A"},{"$error":"#N/A"},{"$error":"#N/A"},{"$error":"#N/A"},{"$error":"#N/A"},{"$error":"#N/A"},{"$error":"#N/A"},{"$error":"#N/A"},{"$error":"#N/A"},{"$error":"#N/A"}]
["2020-09-14",{"$f":"VLOOKUP($A49,Data!$A$2:$E$150,2,FALSE)","v":11.899999618530272},{"$f":"VLOOKUP($A49,Data!$A$2:$E$150,3,FALSE)","v":12.560000419616699},{"$f":"VLOOKUP($A49,Data!$A$2:$E$150,4,FALSE)","v":11.850000381469728},{"$f":"VLOOKUP($A49,Data!$A$2:$E$150,5,FALSE)","v":12.460000038146973},null,"2019-05-27",0.125,{"$f":"IF((WORKDAY(I48,I$31,$G$32:$G$71)-$I$48)*0.7/128>2,INDEX(I$30:M$30,1,MATCH(I$48,I$30:M$30,1)+1),WORKDAY(I48,I$31,$G$32:$G$71))","v":"2021-04-09"},{"$f":"IF((WORKDAY(J48,J$31,$G$32:$G$71)-$J$48)*0.7/64>4,INDEX(I$30:M$30,1,MATCH(J$48,I$30:M$30,1)+1),WORKDAY(J48,J$31,$G$32:$G$71))","v":"2021-01-06"},{"$f":"IF((WORKDAY(K48,K$31,$G$32:$G$71)-$K$48)*0.7/32>8,INDEX(I$30:M$30,1,MATCH(K$48,I$30:M$30,1)+1),WORKDAY(K48,K$31,$G$32:$G$71))","v":"2020-11-18"},{"$f":"IF((WORKDAY(L48,L$31,$G$32:$G$71)-$L$48)*0.7/16>16,INDEX(I$30:M$30,1,MATCH(L$48,I$30:M$30,1)+1),WORKDAY(L48,L$31,$G$32:$G$71))","v":"2020-10-27"},{"$f":"IF((WORKDAY(M48,M$31,$G$32:$G$71)-$M$48)*0.7/8>32,INDEX(I$30:M$30,1,MATCH(M$48,I$30:M$30,1)+1),WORKDAY(M48,M$31,$G$32:$G$71))","v":"2020-10-15"},{"$f":"IF((WORKDAY(N48,N$31,$G$32:$G$71)-$N$48)*0.7/4>64,INDEX(I$30:M$30,1,MATCH(N$48,I$30:M$30,1)+1),WORKDAY(N48,N$31,$G$32:$G$71))","v":"2020-10-09"},{"$f":"IF((WORKDAY(O48,O$31,$G$32:$G$71)-$O$48)*0.7/2>127,INDEX(I$30:M$30,1,MATCH(O$48,I$30:M$30,1)+1),WORKDAY(O48,O$31,$G$32:$G$71))","v":"2020-10-07"},0.125,null,null,{"$f":"+N90","v":"2021-06-07"},{"$f":"+O90","v":"2021-02-04"},null,null,null,null,null,null,null,null,null,null,null,null,null,null,null,null,null,null,null,null,"2020-09-14",{"$error":"#N/A"},{"$error":"#N/A"},{"$error":"#N/A"},{"$error":"#N/A"},{"$error":"#N/A"},{"$error":"#N/A"},{"$error":"#N/A"},{"$error":"#N/A"},{"$error":"#N/A"},{"$error":"#N/A"},{"$error":"#N/A"},{"$error":"#N/A"},{"$error":"#N/A"},0,1,0.33333333333333331,0.66666666666666663,{"$error":"#N/A"},{"$error":"#N/A"},{"$error":"#N/A"},{"$error":"#N/A"},{"$error":"#N/A"},{"$error":"#N/A"},{"$error":"#N/A"},{"$error":"#N/A"},{"$error":"#N/A"},{"$error":"#N/A"},{"$error":"#N/A"},{"$error":"#N/A"},{"$error":"#N/A"},{"$error":"#N/A"},{"$error":"#N/A"},{"$error":"#N/A"},{"$error":"#N/A"},{"$error":"#N/A"},{"$error":"#N/A"},{"$error":"#N/A"},{"$error":"#N/A"},{"$error":"#N/A"},{"$error":"#N/A"},{"$error":"#N/A"},{"$error":"#N/A"},{"$error":"#N/A"},{"$error":"#N/A"},{"$error":"#N/A"},{"$error":"#N/A"},{"$error":"#N/A"},{"$error":"#N/A"},{"$error":"#N/A"},{"$error":"#N/A"},{"$error":"#N/A"},{"$error":"#N/A"},{"$error":"#N/A"},{"$error":"#N/A"},{"$error":"#N/A"},{"$error":"#N/A"},{"$error":"#N/A"},{"$error":"#N/A"},{"$error":"#N/A"},{"$error":"#N/A"},{"$error":"#N/A"},{"$error":"#N/A"},{"$error":"#N/A"},{"$error":"#N/A"},{"$error":"#N/A"},{"$error":"#N/A"},{"$error":"#N/A"},{"$error":"#N/A"},{"$error":"#N/A"},{"$error":"#N/A"},{"$error":"#N/A"},{"$error":"#N/A"},{"$error":"#N/A"},{"$error":"#N/A"},{"$error":"#N/A"},{"$error":"#N/A"},{"$error":"#N/A"},{"$error":"#N/A"},{"$error":"#N/A"},{"$error":"#N/A"},{"$error":"#N/A"},{"$error":"#N/A"},{"$error":"#N/A"},{"$error":"#N/A"},{"$error":"#N/A"},{"$error":"#N/A"},{"$error":"#N/A"},{"$error":"#N/A"},{"$error":"#N/A"},{"$error":"#N/A"},{"$error":"#N/A"},{"$error":"#N/A"},{"$error":"#N/A"},{"$error":"#N/A"},{"$error":"#N/A"},{"$error":"#N/A"},{"$error":"#N/A"},{"$error":"#N/A"},{"$error":"#N/A"},{"$error":"#N/A"},{"$error":"#N/A"},{"$error":"#N/A"},{"$error":"#N/A"},{"$error":"#N/A"},{"$error":"#N/A"}]
["2020-09-15",{"$f":"VLOOKUP($A50,Data!$A$2:$E$150,2,FALSE)","v":12.579999923706056},{"$f":"VLOOKUP($A50,Data!$A$2:$E$150,3,FALSE)","v":12.630000114440918},{"$f":"VLOOKUP($A50,Data!$A$2:$E$150,4,FALSE)","v":12.020000457763672},{"$f":"VLOOKUP($A50,Data!$A$2:$E$150,5,FALSE)","v":12.310000419616699},null,"2019-07-04",0.25,{"$f":"IF((WORKDAY(I49,I$31,$G$32:$G$71)-$I$48)*0.7/128>2,INDEX(I$30:M$30,1,MATCH(I$48,I$30:M$30,1)+1),WORKDAY(I49,I$31,$G$32:$G$71))","v":"2021-10-05"},{"$f":"IF((WORKDAY(J49,J$31,$G$32:$G$71)-$J$48)*0.7/64>4,INDEX(I$30:M$30,1,MATCH(J$48,I$30:M$30,1)+1),WORKDAY(J49,J$31,$G$32:$G$71))","v":"2021-04-09"},"2021-01-06","2020-11-18","2020-10-27","2020-10-15","2020-10-09",0.25,null,null,{"$f":"+N94","v":"2021-06-29"},{"$f":"+O94","v":"2021-02-17"},null,null,null,null,null,null,null,null,null,null,null,null,null,null,null,null,null,null,null,null,"2020-09-15",{"$error":"#N/A"},{"$error":"#N/A"},{"$error":"#N/A"},{"$error":"#N/A"},{"$error":"#N/A"},{"$error":"#N/A"},{"$error":"#N/A"},{"$error":"#N/A"},{"$error":"#N/A"},{"$error":"#N/A"},{"$error":"#N/A"},{"$error":"#N/A"},{"$error":"#N/A"},0,1,0.33333333333333331,0.66666666666666663,{"$error":"#N/A"},{"$error":"#N/A"},{"$error":"#N/A"},{"$error":"#N/A"},{"$error":"#N/A"},{"$error":"#N/A"},{"$error":"#N/A"},{"$error":"#N/A"},{"$error":"#N/A"},{"$error":"#N/A"},{"$error":"#N/A"},{"$error":"#N/A"},{"$error":"#N/A"},{"$error":"#N/A"},{"$error":"#N/A"},{"$error":"#N/A"},{"$error":"#N/A"},{"$error":"#N/A"},{"$error":"#N/A"},{"$error":"#N/A"},{"$error":"#N/A"},{"$error":"#N/A"},{"$error":"#N/A"},{"$error":"#N/A"},{"$error":"#N/A"},{"$error":"#N/A"},{"$error":"#N/A"},{"$error":"#N/A"},{"$error":"#N/A"},{"$error":"#N/A"},{"$error":"#N/A"},{"$error":"#N/A"},{"$error":"#N/A"},{"$error":"#N/A"},{"$error":"#N/A"},{"$error":"#N/A"},{"$error":"#N/A"},{"$error":"#N/A"},{"$error":"#N/A"},{"$error":"#N/A"},{"$error":"#N/A"},{"$error":"#N/A"},{"$error":"#N/A"},{"$error":"#N/A"},{"$error":"#N/A"},{"$error":"#N/A"},{"$error":"#N/A"},{"$error":"#N/A"},{"$error":"#N/A"},{"$error":"#N/A"},{"$error":"#N/A"},{"$error":"#N/A"},{"$error":"#N/A"},{"$error":"#N/A"},{"$error":"#N/A"},{"$error":"#N/A"},{"$error":"#N/A"},{"$error":"#N/A"},{"$error":"#N/A"},{"$error":"#N/A"},{"$error":"#N/A"},{"$error":"#N/A"},{"$error":"#N/A"},{"$error":"#N/A"},{"$error":"#N/A"},{"$error":"#N/A"},{"$error":"#N/A"},{"$error":"#N/A"},{"$error":"#N/A"},{"$error":"#N/A"},{"$error":"#N/A"},{"$error":"#N/A"},{"$error":"#N/A"},{"$error":"#N/A"},{"$error":"#N/A"},{"$error":"#N/A"},{"$error":"#N/A"},{"$error":"#N/A"},{"$error":"#N/A"},{"$error":"#N/A"},{"$error":"#N/A"},{"$error":"#N/A"},{"$error":"#N/A"},{"$error":"#N/A"},{"$error":"#N/A"},{"$error":"#N/A"},{"$error":"#N/A"},{"$error":"#N/A"}]
["2020-09-16",{"$f":"VLOOKUP($A51,Data!$A$2:$E$150,2,FALSE)","v":12.479999542236328},{"$f":"VLOOKUP($A51,Data!$A$2:$E$150,3,FALSE)","v":12.479999542236328},{"$f":"VLOOKUP($A51,Data!$A$2:$E$150,4,FALSE)","v":12.159999847412109},{"$f":"VLOOKUP($A51,Data!$A$2:$E$150,5,FALSE)","v":12.199999809265137},null,"2019-09-02",0.375,null,{"$f":"IF((WORKDAY(J50,J$31,$G$32:$G$71)-$J$48)*0.7/64>4,INDEX(I$30:M$30,1,MATCH(J$48,I$30:M$30,1)+1),WORKDAY(J50,J$31,$G$32:$G$71))","v":"2021-07-12"},"2021-02-23","2020-12-11","2020-11-06","2020-10-21","2020-10-13",0.375,null,null,{"$f":"+N98","v":"2021-07-22"},{"$f":"+O98","v":"2021-03-01"},null,null,null,null,null,null,null,null,null,null,null,null,null,null,null,null,null,null,null,null,"2020-09-16",{"$error":"#N/A"},{"$error":"#N/A"},{"$error":"#N/A"},{"$error":"#N/A"},{"$error":"#N/A"},{"$error":"#N/A"},{"$error":"#N/A"},{"$error":"#N/A"},{"$error":"#N/A"},{"$error":"#N/A"},{"$error":"#N/A"},{"$error":"#N/A"},{"$error":"#N/A"},0,1,0.33333333333333331,0.66666666666666663,{"$error":"#N/A"},{"$error":"#N/A"},{"$error":"#N/A"},{"$error":"#N/A"},{"$error":"#N/A"},{"$error":"#N/A"},{"$error":"#N/A"},{"$error":"#N/A"},{"$error":"#N/A"},{"$error":"#N/A"},{"$error":"#N/A"},{"$error":"#N/A"},{"$error":"#N/A"},{"$error":"#N/A"},{"$error":"#N/A"},{"$error":"#N/A"},{"$error":"#N/A"},{"$error":"#N/A"},{"$error":"#N/A"},{"$error":"#N/A"},{"$error":"#N/A"},{"$error":"#N/A"},{"$error":"#N/A"},{"$error":"#N/A"},{"$error":"#N/A"},{"$error":"#N/A"},{"$error":"#N/A"},{"$error":"#N/A"},{"$error":"#N/A"},{"$error":"#N/A"},{"$error":"#N/A"},{"$error":"#N/A"},{"$error":"#N/A"},{"$error":"#N/A"},{"$error":"#N/A"},{"$error":"#N/A"},{"$error":"#N/A"},{"$error":"#N/A"},{"$error":"#N/A"},{"$error":"#N/A"},{"$error":"#N/A"},{"$error":"#N/A"},{"$error":"#N/A"},{"$error":"#N/A"},{"$error":"#N/A"},{"$error":"#N/A"},{"$error":"#N/A"},{"$error":"#N/A"},{"$error":"#N/A"},{"$error":"#N/A"},{"$error":"#N/A"},{"$error":"#N/A"},{"$error":"#N/A"},{"$error":"#N/A"},{"$error":"#N/A"},{"$error":"#N/A"},{"$error":"#N/A"},{"$error":"#N/A"},{"$error":"#N/A"},{"$error":"#N/A"},{"$error":"#N/A"},{"$error":"#N/A"},{"$error":"#N/A"},{"$error":"#N/A"},{"$error":"#N/A"},{"$error":"#N/A"},{"$error":"#N/A"},{"$error":"#N/A"},{"$error":"#N/A"},{"$error":"#N/A"},{"$error":"#N/A"},{"$error":"#N/A"},{"$error":"#N/A"},{"$error":"#N/A"},{"$error":"#N/A"},{"$error":"#N/A"},{"$error":"#N/A"},{"$error":"#N/A"},{"$error":"#N/A"},{"$error":"#N/A"},{"$error":"#N/A"},{"$error":"#N/A"},{"$error":"#N/A"},{"$error":"#N/A"},{"$error":"#N/A"},{"$error":"#N/A"},{"$error":"#N/A"},{"$error":"#N/A"}]
["2020-09-17",{"$f":"VLOOKUP($A52,Data!$A$2:$E$150,2,FALSE)","v":11.859999656677246},{"$f":"VLOOKUP($A52,Data!$A$2:$E$150,3,FALSE)","v":12.189999580383301},{"$f":"VLOOKUP($A52,Data!$A$2:$E$150,4,FALSE)","v":11.670000076293944},{"$f":"VLOOKUP($A52,Data!$A$2:$E$150,5,FALSE)","v":12.159999847412109},null,"2019-11-28",0.5,null,{"$f":"IF((WORKDAY(J51,J$31,$G$32:$G$71)-$J$48)*0.7/64>4,INDEX(I$30:M$30,1,MATCH(J$48,I$30:M$30,1)+1),WORKDAY(J51,J$31,$G$32:$G$71))","v":"2021-10-05"},"2021-04-09","2021-01-06","2020-11-18","2020-10-27","2020-10-15",0.5,null,null,{"$f":"+N102","v":"2021-08-13"},{"$f":"+O102","v":"2021-03-11"},null,null,null,null,null,null,null,null,null,null,null,null,null,null,null,null,null,null,null,null,"2020-09-17",-0.25,-0.25,0.25,0.25,0.75,0.75,1.25,1.25,{"$error":"#N/A"},{"$error":"#N/A"},{"$error":"#N/A"},1.125,1,0,1,0.33333333333333331,0.66666666666666663,{"$error":"#N/A"},{"$error":"#N/A"},1,{"$error":"#N/A"},{"$error":"#N/A"},{"$error":"#N/A"},{"$error":"#N/A"},{"$error":"#N/A"},{"$error":"#N/A"},{"$error":"#N/A"},{"$error":"#N/A"},{"$error":"#N/A"},{"$error":"#N/A"},{"$error":"#N/A"},{"$error":"#N/A"},{"$error":"#N/A"},{"$error":"#N/A"},{"$error":"#N/A"},{"$error":"#N/A"},{"$error":"#N/A"},{"$error":"#N/A"},{"$error":"#N/A"},{"$error":"#N/A"},{"$error":"#N/A"},{"$error":"#N/A"},{"$error":"#N/A"},{"$error":"#N/A"},{"$error":"#N/A"},{"$error":"#N/A"},0,{"$error":"#N/A"},{"$error":"#N/A"},{"$error":"#N/A"},{"$error":"#N/A"},{"$error":"#N/A"},{"$error":"#N/A"},{"$error":"#N/A"},1,{"$error":"#N/A"},{"$error":"#N/A"},{"$error":"#N/A"},{"$error":"#N/A"},{"$error":"#N/A"},{"$error":"#N/A"},{"$error":"#N/A"},{"$error":"#N/A"},{"$error":"#N/A"},{"$error":"#N/A"},{"$error":"#N/A"},{"$error":"#N/A"},{"$error":"#N/A"},{"$error":"#N/A"},{"$error":"#N/A"},{"$error":"#N/A"},{"$error":"#N/A"},{"$error":"#N/A"},{"$error":"#N/A"},{"$error":"#N/A"},{"$error":"#N/A"},{"$error":"#N/A"},{"$error":"#N/A"},{"$error":"#N/A"},{"$error":"#N/A"},{"$error":"#N/A"},{"$error":"#N/A"},{"$error":"#N/A"},{"$error":"#N/A"},{"$error":"#N/A"},{"$error":"#N/A"},{"$error":"#N/A"},{"$error":"#N/A"},{"$error":"#N/A"},{"$error":"#N/A"},{"$error":"#N/A"},{"$error":"#N/A"},{"$error":"#N/A"},{"$error":"#N/A"},{"$error":"#N/A"},{"$error":"#N/A"},{"$error":"#N/A"},{"$error":"#N/A"},{"$error":"#N/A"},{"$error":"#N/A"},{"$error":"#N/A"},{"$error":"#N/A"},{"$error":"#N/A"},{"$error":"#N/A"},{"$error":"#N/A"}]
["2020-09-18",{"$f":"VLOOKUP($A53,Data!$A$2:$E$150,2,FALSE)","v":12.220000267028809},{"$f":"VLOOKUP($A53,Data!$A$2:$E$150,3,FALSE)","v":12.310000419616699},{"$f":"VLOOKUP($A53,Data!$A$2:$E$150,4,FALSE)","v":11.899999618530272},{"$f":"VLOOKUP($A53,Data!$A$2:$E$150,5,FALSE)","v":11.909999847412109},null,"2019-12-25",0.625,null,null,"2021-05-25","2021-01-29","2020-12-01","2020-11-02","2020-10-19",0.625,null,null,{"$f":"+N106","v":"2021-09-07"},{"$f":"+O106","v":"2021-03-23"},null,null,null,null,null,null,null,null,null,null,null,null,null,null,null,null,null,null,null,null,"2020-09-18",{"$error":"#N/A"},{"$error":"#N/A"},{"$error":"#N/A"},{"$error":"#N/A"},{"$error":"#N/A"},{"$error":"#N/A"},{"$error":"#N/A"},{"$error":"#N/A"},{"$error":"#N/A"},{"$error":"#N/A"},{"$error":"#N/A"},{"$error":"#N/A"},{"$error":"#N/A"},0,1,0.33333333333333331,0.66666666666666663,{"$error":"#N/A"},{"$error":"#N/A"},{"$error":"#N/A"},{"$error":"#N/A"},{"$error":"#N/A"},{"$error":"#N/A"},{"$error":"#N/A"},{"$error":"#N/A"},{"$error":"#N/A"},{"$error":"#N/A"},{"$error":"#N/A"},{"$error":"#N/A"},{"$error":"#N/A"},{"$error":"#N/A"},{"$error":"#N/A"},{"$error":"#N/A"},{"$error":"#N/A"},{"$error":"#N/A"},{"$error":"#N/A"},{"$error":"#N/A"},{"$error":"#N/A"},{"$error":"#N/A"},{"$error":"#N/A"},{"$error":"#N/A"},{"$error":"#N/A"},{"$error":"#N/A"},{"$error":"#N/A"},{"$error":"#N/A"},{"$error":"#N/A"},{"$error":"#N/A"},{"$error":"#N/A"},{"$error":"#N/A"},{"$error":"#N/A"},{"$error":"#N/A"},{"$error":"#N/A"},{"$error":"#N/A"},{"$error":"#N/A"},{"$error":"#N/A"},{"$error":"#N/A"},{"$error":"#N/A"},{"$error":"#N/A"},{"$error":"#N/A"},{"$error":"#N/A"},{"$error":"#N/A"},{"$error":"#N/A"},{"$error":"#N/A"},{"$error":"#N/A"},{"$error":"#N/A"},{"$error":"#N/A"},{"$error":"#N/A"},{"$error":"#N/A"},{"$error":"#N/A"},{"$error":"#N/A"},{"$error":"#N/A"},{"$error":"#N/A"},{"$error":"#N/A"},{"$error":"#N/A"},{"$error":"#N/A"},{"$error":"#N/A"},{"$error":"#N/A"},{"$error":"#N/A"},{"$error":"#N/A"},{"$error":"#N/A"},{"$error":"#N/A"},{"$error":"#N/A"},{"$error":"#N/A"},{"$error":"#N/A"},{"$error":"#N/A"},{"$error":"#N/A"},{"$error":"#N/A"},{"$error":"#N/A"},{"$error":"#N/A"},{"$error":"#N/A"},{"$error":"#N/A"},{"$error":"#N/A"},{"$error":"#N/A"},{"$error":"#N/A"},{"$error":"#N/A"},{"$error":"#N/A"},{"$error":"#N/A"},{"$error":"#N/A"},{"$error":"#N/A"},{"$error":"#N/A"},{"$error":"#N/A"},{"$error":"#N/A"},{"$error":"#N/A"},{"$error":"#N/A"},{"$error":"#N/A"}]
["2020-09-21",{"$f":"VLOOKUP($A54,Data!$A$2:$E$150,2,FALSE)","v":11.470000267028809},{"$f":"VLOOKUP($A54,Data!$A$2:$E$150,3,FALSE)","v":11.689999580383301},{"$f":"VLOOKUP($A54,Data!$A$2:$E$150,4,FALSE)","v":10.680000305175779},{"$f":"VLOOKUP($A54,Data!$A$2:$E$150,5,FALSE)","v":10.689999580383301},null,"2020-01-01",0.75,null,null,"2021-07-12","2021-02-23","2020-12-11","2020-11-06","2020-10-21",0.75,null,null,{"$f":"+N110","v":"2021-09-29"},{"$f":"+O110","v":"2021-04-05"},null,null,null,null,null,null,null,null,null,null,null,null,null,null,null,null,null,null,null,null,"2020-09-21",{"$error":"#N/A"},{"$error":"#N/A"},{"$error":"#N/A"},{"$error":"#N/A"},{"$error":"#N/A"},{"$error":"#N/A"},{"$error":"#N/A"},{"$error":"#N/A"},{"$error":"#N/A"},{"$error":"#N/A"},{"$error":"#N/A"},{"$error":"#N/A"},{"$error":"#N/A"},0,1,0.33333333333333331,0.66666666666666663,{"$error":"#N/A"},{"$error":"#N/A"},{"$error":"#N/A"},{"$error":"#N/A"},{"$error":"#N/A"},{"$error":"#N/A"},{"$error":"#N/A"},{"$error":"#N/A"},{"$error":"#N/A"},{"$error":"#N/A"},{"$error":"#N/A"},{"$error":"#N/A"},{"$error":"#N/A"},{"$error":"#N/A"},{"$error":"#N/A"},{"$error":"#N/A"},{"$error":"#N/A"},{"$error":"#N/A"},{"$error":"#N/A"},{"$error":"#N/A"},{"$error":"#N/A"},{"$error":"#N/A"},{"$error":"#N/A"},{"$error":"#N/A"},{"$error":"#N/A"},{"$error":"#N/A"},{"$error":"#N/A"},{"$error":"#N/A"},{"$error":"#N/A"},{"$error":"#N/A"},{"$error":"#N/A"},{"$error":"#N/A"},{"$error":"#N/A"},{"$error":"#N/A"},{"$error":"#N/A"},{"$error":"#N/A"},{"$error":"#N/A"},{"$error":"#N/A"},{"$error":"#N/A"},{"$error":"#N/A"},{"$error":"#N/A"},{"$error":"#N/A"},{"$error":"#N/A"},{"$error":"#N/A"},{"$error":"#N/A"},{"$error":"#N/A"},{"$error":"#N/A"},{"$error":"#N/A"},{"$error":"#N/A"},{"$error":"#N/A"},{"$error":"#N/A"},{"$error":"#N/A"},{"$error":"#N/A"},{"$error":"#N/A"},{"$error":"#N/A"},{"$error":"#N/A"},{"$error":"#N/A"},{"$error":"#N/A"},{"$error":"#N/A"},{"$error":"#N/A"},{"$error":"#N/A"},{"$error":"#N/A"},{"$error":"#N/A"},{"$error":"#N/A"},{"$error":"#N/A"},{"$error":"#N/A"},{"$error":"#N/A"},{"$error":"#N/A"},{"$error":"#N/A"},{"$error":"#N/A"},{"$error":"#N/A"},{"$error":"#N/A"},{"$error":"#N/A"},{"$error":"#N/A"},{"$error":"#N/A"},{"$error":"#N/A"},{"$error":"#N/A"},{"$error":"#N/A"},{"$error":"#N/A"},{"$error":"#N/A"},{"$error":"#N/A"},{"$error":"#N/A"},{"$error":"#N/A"},{"$error":"#N/A"},{"$error":"#N/A"},{"$error":"#N/A"},{"$error":"#N/A"},{"$error":"#N/A"}]
["2020-09-22",{"$f":"VLOOKUP($A55,Data!$A$2:$E$150,2,FALSE)","v":10.770000457763672},{"$f":"VLOOKUP($A55,Data!$A$2:$E$150,3,FALSE)","v":11.060000419616699},{"$f":"VLOOKUP($A55,Data!$A$2:$E$150,4,FALSE)","v":10.609999656677246},{"$f":"VLOOKUP($A55,Data!$A$2:$E$150,5,FALSE)","v":10.680000305175779},null,"2020-01-20",0.875,null,null,"2021-08-25","2021-03-17","2020-12-23","2020-11-12","2020-10-23",0.875,null,null,null,{"$f":"+O114","v":"2021-04-15"},null,null,null,null,null,null,null,null,null,null,null,null,null,null,null,null,null,null,null,null,"2020-09-22",{"$error":"#N/A"},{"$error":"#N/A"},{"$error":"#N/A"},{"$error":"#N/A"},{"$error":"#N/A"},{"$error":"#N/A"},{"$error":"#N/A"},{"$error":"#N/A"},{"$error":"#N/A"},{"$error":"#N/A"},{"$error":"#N/A"},{"$error":"#N/A"},{"$error":"#N/A"},0,1,0.33333333333333331,0.66666666666666663,{"$error":"#N/A"},{"$error":"#N/A"},{"$error":"#N/A"},{"$error":"#N/A"},{"$error":"#N/A"},{"$error":"#N/A"},{"$error":"#N/A"},{"$error":"#N/A"},{"$error":"#N/A"},{"$error":"#N/A"},{"$error":"#N/A"},{"$error":"#N/A"},{"$error":"#N/A"},{"$error":"#N/A"},{"$error":"#N/A"},{"$error":"#N/A"},{"$error":"#N/A"},{"$error":"#N/A"},{"$error":"#N/A"},{"$error":"#N/A"},{"$error":"#N/A"},{"$error":"#N/A"},{"$error":"#N/A"},{"$error":"#N/A"},{"$error":"#N/A"},{"$error":"#N/A"},{"$error":"#N/A"},{"$error":"#N/A"},{"$error":"#N/A"},{"$error":"#N/A"},{"$error":"#N/A"},{"$error":"#N/A"},{"$error":"#N/A"},{"$error":"#N/A"},{"$error":"#N/A"},{"$error":"#N/A"},{"$error":"#N/A"},{"$error":"#N/A"},{"$error":"#N/A"},{"$error":"#N/A"},{"$error":"#N/A"},{"$error":"#N/A"},{"$error":"#N/A"},{"$error":"#N/A"},{"$error":"#N/A"},{"$error":"#N/A"},{"$error":"#N/A"},{"$error":"#N/A"},{"$error":"#N/A"},{"$error":"#N/A"},{"$error":"#N/A"},{"$error":"#N/A"},{"$error":"#N/A"},{"$error":"#N/A"},{"$error":"#N/A"},{"$error":"#N/A"},{"$error":"#N/A"},{"$error":"#N/A"},{"$error":"#N/A"},{"$error":"#N/A"},{"$error":"#N/A"},{"$error":"#N/A"},{"$error":"#N/A"},{"$error":"#N/A"},{"$error":"#N/A"},{"$error":"#N/A"},{"$error":"#N/A"},{"$error":"#N/A"},{"$error":"#N/A"},{"$error":"#N/A"},{"$error":"#N/A"},{"$error":"#N/A"},{"$error":"#N/A"},{"$error":"#N/A"},{"$error":"#N/A"},{"$error":"#N/A"},{"$error":"#N/A"},{"$error":"#N/A"},{"$error":"#N/A"},{"$error":"#N/A"},{"$error":"#N/A"},{"$error":"#N/A"},{"$error":"#N/A"},{"$error":"#N/A"},{"$error":"#N/A"},{"$error":"#N/A"},{"$error":"#N/A"},{"$error":"#N/A"}]
["2020-09-23",{"$f":"VLOOKUP($A56,Data!$A$2:$E$150,2,FALSE)","v":10.479999542236328},{"$f":"VLOOKUP($A56,Data!$A$2:$E$150,3,FALSE)","v":10.489999771118164},{"$f":"VLOOKUP($A56,Data!$A$2:$E$150,4,FALSE)","v":9.6499996185302717},{"$f":"VLOOKUP($A56,Data!$A$2:$E$150,5,FALSE)","v":9.7399997711181641},null,"2020-02-17",1,null,null,"2021-10-05","2021-04-09","2021-01-06","2020-11-18","2020-10-27",1,null,null,null,{"$f":"+O118","v":"2021-04-27"},null,null,null,null,null,null,null,null,null,null,null,null,null,null,null,null,null,null,null,null,"2020-09-23",{"$error":"#N/A"},{"$error":"#N/A"},{"$error":"#N/A"},{"$error":"#N/A"},{"$error":"#N/A"},{"$error":"#N/A"},{"$error":"#N/A"},{"$error":"#N/A"},{"$error":"#N/A"},{"$error":"#N/A"},{"$error":"#N/A"},{"$error":"#N/A"},{"$error":"#N/A"},0,1,0.33333333333333331,0.66666666666666663,{"$error":"#N/A"},{"$error":"#N/A"},{"$error":"#N/A"},{"$error":"#N/A"},{"$error":"#N/A"},{"$error":"#N/A"},{"$error":"#N/A"},{"$error":"#N/A"},{"$error":"#N/A"},{"$error":"#N/A"},{"$error":"#N/A"},{"$error":"#N/A"},{"$error":"#N/A"},{"$error":"#N/A"},{"$error":"#N/A"},{"$error":"#N/A"},{"$error":"#N/A"},{"$error":"#N/A"},{"$error":"#N/A"},{"$error":"#N/A"},{"$error":"#N/A"},{"$error":"#N/A"},{"$error":"#N/A"},{"$error":"#N/A"},{"$error":"#N/A"},{"$error":"#N/A"},{"$error":"#N/A"},{"$error":"#N/A"},{"$error":"#N/A"},{"$error":"#N/A"},{"$error":"#N/A"},{"$error":"#N/A"},{"$error":"#N/A"},{"$error":"#N/A"},{"$error":"#N/A"},{"$error":"#N/A"},{"$error":"#N/A"},{"$error":"#N/A"},{"$error":"#N/A"},{"$error":"#N/A"},{"$error":"#N/A"},{"$error":"#N/A"},{"$error":"#N/A"},{"$error":"#N/A"},{"$error":"#N/A"},{"$error":"#N/A"},{"$error":"#N/A"},{"$error":"#N/A"},{"$error":"#N/A"},{"$error":"#N/A"},{"$error":"#N/A"},{"$error":"#N/A"},{"$error":"#N/A"},{"$error":"#N/A"},{"$error":"#N/A"},{"$error":"#N/A"},{"$error":"#N/A"},{"$error":"#N/A"},{"$error":"#N/A"},{"$error":"#N/A"},{"$error":"#N/A"},{"$error":"#N/A"},{"$error":"#N/A"},{"$error":"#N/A"},{"$error":"#N/A"},{"$error":"#N/A"},{"$error":"#N/A"},{"$error":"#N/A"},{"$error":"#N/A"},{"$error":"#N/A"},{"$error":"#N/A"},{"$error":"#N/A"},{"$error":"#N/A"},{"$error":"#N/A"},{"$error":"#N/A"},{"$error":"#N/A"},{"$error":"#N/A"},{"$error":"#N/A"},{"$error":"#N/A"},{"$error":"#N/A"},{"$error":"#N/A"},{"$error":"#N/A"},{"$error":"#N/A"},{"$error":"#N/A"},{"$error":"#N/A"},{"$error":"#N/A"},{"$error":"#N/A"},{"$error":"#N/A"}]
["2020-09-24",{"$f":"VLOOKUP($A57,Data!$A$2:$E$150,2,FALSE)","v":9.5900001525878906},{"$f":"VLOOKUP($A57,Data!$A$2:$E$150,3,FALSE)","v":10.359999656677246},{"$f":"VLOOKUP($A57,Data!$A$2:$E$150,4,FALSE)","v":9.5},{"$f":"VLOOKUP($A57,Data!$A$2:$E$150,5,FALSE)","v":10.260000228881836},null,"2020-04-10",0.125,null,null,null,"2021-05-03","2021-01-19","2020-11-24","2020-10-29",0.125,null,null,null,{"$f":"+O122","v":"2021-05-07"},null,null,null,null,null,null,null,null,null,null,null,null,null,null,null,null,null,null,null,null,"2020-09-24",{"$error":"#N/A"},{"$error":"#N/A"},{"$error":"#N/A"},{"$error":"#N/A"},{"$error":"#N/A"},{"$error":"#N/A"},{"$error":"#N/A"},{"$error":"#N/A"},{"$error":"#N/A"},{"$error":"#N/A"},{"$error":"#N/A"},{"$error":"#N/A"},{"$error":"#N/A"},0,1,0.33333333333333331,0.66666666666666663,{"$error":"#N/A"},{"$error":"#N/A"},{"$error":"#N/A"},{"$error":"#N/A"},{"$error":"#N/A"},{"$error":"#N/A"},{"$error":"#N/A"},{"$error":"#N/A"},{"$error":"#N/A"},{"$error":"#N/A"},{"$error":"#N/A"},{"$error":"#N/A"},{"$error":"#N/A"},{"$error":"#N/A"},{"$error":"#N/A"},{"$error":"#N/A"},{"$error":"#N/A"},{"$error":"#N/A"},{"$error":"#N/A"},{"$error":"#N/A"},{"$error":"#N/A"},{"$error":"#N/A"},{"$error":"#N/A"},{"$error":"#N/A"},{"$error":"#N/A"},{"$error":"#N/A"},{"$error":"#N/A"},{"$error":"#N/A"},{"$error":"#N/A"},{"$error":"#N/A"},{"$error":"#N/A"},{"$error":"#N/A"},{"$error":"#N/A"},{"$error":"#N/A"},{"$error":"#N/A"},{"$error":"#N/A"},{"$error":"#N/A"},{"$error":"#N/A"},{"$error":"#N/A"},{"$error":"#N/A"},{"$error":"#N/A"},{"$error":"#N/A"},{"$error":"#N/A"},{"$error":"#N/A"},{"$error":"#N/A"},{"$error":"#N/A"},{"$error":"#N/A"},{"$error":"#N/A"},{"$error":"#N/A"},{"$error":"#N/A"},{"$error":"#N/A"},{"$error":"#N/A"},{"$error":"#N/A"},{"$error":"#N/A"},{"$error":"#N/A"},{"$error":"#N/A"},{"$error":"#N/A"},{"$error":"#N/A"},{"$error":"#N/A"},{"$error":"#N/A"},{"$error":"#N/A"},{"$error":"#N/A"},{"$error":"#N/A"},{"$error":"#N/A"},{"$error":"#N/A"},{"$error":"#N/A"},{"$error":"#N/A"},{"$error":"#N/A"},{"$error":"#N/A"},{"$error":"#N/A"},{"$error":"#N/A"},{"$error":"#N/A"},{"$error":"#N/A"},{"$error":"#N/A"},{"$error":"#N/A"},{"$error":"#N/A"},{"$error":"#N/A"},{"$error":"#N/A"},{"$error":"#N/A"},{"$error":"#N/A"},{"$error":"#N/A"},{"$error":"#N/A"},{"$error":"#N/A"},{"$error":"#N/A"},{"$error":"#N/A"},{"$error":"#N/A"},{"$error":"#N/A"},{"$error":"#N/A"}]
["2020-09-25",{"$f":"VLOOKUP($A58,Data!$A$2:$E$150,2,FALSE)","v":10.050000190734863},{"$f":"VLOOKUP($A58,Data!$A$2:$E$150,3,FALSE)","v":10.069999694824221},{"$f":"VLOOKUP($A58,Data!$A$2:$E$150,4,FALSE)","v":9.4600000381469727},{"$f":"VLOOKUP($A58,Data!$A$2:$E$150,5,FALSE)","v":9.5200004577636719},null,"2020-05-25",0.25,null,null,null,"2021-05-25","2021-01-29","2020-12-01","2020-11-02",0.25,null,null,null,{"$f":"+O126","v":"2021-05-19"},null,null,null,null,null,null,null,null,null,null,null,null,null,null,null,null,null,null,null,null,"2020-09-25",{"$error":"#N/A"},{"$error":"#N/A"},{"$error":"#N/A"},{"$error":"#N/A"},{"$error":"#N/A"},{"$error":"#N/A"},{"$error":"#N/A"},{"$error":"#N/A"},{"$error":"#N/A"},{"$error":"#N/A"},{"$error":"#N/A"},{"$error":"#N/A"},{"$error":"#N/A"},0,1,0.33333333333333331,0.66666666666666663,{"$error":"#N/A"},{"$error":"#N/A"},{"$error":"#N/A"},{"$error":"#N/A"},{"$error":"#N/A"},{"$error":"#N/A"},{"$error":"#N/A"},{"$error":"#N/A"},{"$error":"#N/A"},{"$error":"#N/A"},{"$error":"#N/A"},{"$error":"#N/A"},{"$error":"#N/A"},{"$error":"#N/A"},{"$error":"#N/A"},{"$error":"#N/A"},{"$error":"#N/A"},{"$error":"#N/A"},{"$error":"#N/A"},{"$error":"#N/A"},{"$error":"#N/A"},{"$error":"#N/A"},{"$error":"#N/A"},{"$error":"#N/A"},{"$error":"#N/A"},{"$error":"#N/A"},{"$error":"#N/A"},{"$error":"#N/A"},{"$error":"#N/A"},{"$error":"#N/A"},{"$error":"#N/A"},{"$error":"#N/A"},{"$error":"#N/A"},{"$error":"#N/A"},{"$error":"#N/A"},{"$error":"#N/A"},{"$error":"#N/A"},{"$error":"#N/A"},{"$error":"#N/A"},{"$error":"#N/A"},{"$error":"#N/A"},{"$error":"#N/A"},{"$error":"#N/A"},{"$error":"#N/A"},{"$error":"#N/A"},{"$error":"#N/A"},{"$error":"#N/A"},{"$error":"#N/A"},{"$error":"#N/A"},{"$error":"#N/A"},{"$error":"#N/A"},{"$error":"#N/A"},{"$error":"#N/A"},{"$error":"#N/A"},{"$error":"#N/A"},{"$error":"#N/A"},{"$error":"#N/A"},{"$error":"#N/A"},{"$error":"#N/A"},{"$error":"#N/A"},{"$error":"#N/A"},{"$error":"#N/A"},{"$error":"#N/A"},{"$error":"#N/A"},{"$error":"#N/A"},{"$error":"#N/A"},{"$error":"#N/A"},{"$error":"#N/A"},{"$error":"#N/A"},{"$error":"#N/A"},{"$error":"#N/A"},{"$error":"#N/A"},{"$error":"#N/A"},{"$error":"#N/A"},{"$error":"#N/A"},{"$error":"#N/A"},{"$error":"#N/A"},{"$error":"#N/A"},{"$error":"#N/A"},{"$error":"#N/A"},{"$error":"#N/A"},{"$error":"#N/A"},{"$error":"#N/A"},{"$error":"#N/A"},{"$error":"#N/A"},{"$error":"#N/A"},{"$error":"#N/A"},{"$error":"#N/A"}]
["2020-09-28",{"$f":"VLOOKUP($A59,Data!$A$2:$E$150,2,FALSE)","v":9.8500003814697283},{"$f":"VLOOKUP($A59,Data!$A$2:$E$150,3,FALSE)","v":9.8999996185302717},{"$f":"VLOOKUP($A59,Data!$A$2:$E$150,4,FALSE)","v":9.3299999237060565},{"$f":"VLOOKUP($A59,Data!$A$2:$E$150,5,FALSE)","v":9.5699996948242205},null,"2020-07-04",0.375,null,null,null,"2021-06-17","2021-02-10","2020-12-07","2020-11-04",0.375,null,null,null,{"$f":"+O130","v":"2021-06-01"},null,null,null,null,null,null,null,null,null,null,null,null,null,null,null,null,null,null,null,null,"2020-09-28",{"$error":"#N/A"},{"$error":"#N/A"},{"$error":"#N/A"},{"$error":"#N/A"},{"$error":"#N/A"},{"$error":"#N/A"},{"$error":"#N/A"},{"$error":"#N/A"},{"$error":"#N/A"},{"$error":"#N/A"},{"$error":"#N/A"},{"$error":"#N/A"},{"$error":"#N/A"},0,1,0.33333333333333331,0.66666666666666663,{"$error":"#N/A"},{"$error":"#N/A"},{"$error":"#N/A"},{"$error":"#N/A"},{"$error":"#N/A"},{"$error":"#N/A"},{"$error":"#N/A"},{"$error":"#N/A"},{"$error":"#N/A"},{"$error":"#N/A"},{"$error":"#N/A"},{"$error":"#N/A"},{"$error":"#N/A"},{"$error":"#N/A"},{"$error":"#N/A"},{"$error":"#N/A"},{"$error":"#N/A"},{"$error":"#N/A"},{"$error":"#N/A"},{"$error":"#N/A"},{"$error":"#N/A"},{"$error":"#N/A"},{"$error":"#N/A"},{"$error":"#N/A"},{"$error":"#N/A"},{"$error":"#N/A"},{"$error":"#N/A"},{"$error":"#N/A"},{"$error":"#N/A"},{"$error":"#N/A"},{"$error":"#N/A"},{"$error":"#N/A"},{"$error":"#N/A"},{"$error":"#N/A"},{"$error":"#N/A"},{"$error":"#N/A"},{"$error":"#N/A"},{"$error":"#N/A"},{"$error":"#N/A"},{"$error":"#N/A"},{"$error":"#N/A"},{"$error":"#N/A"},{"$error":"#N/A"},{"$error":"#N/A"},{"$error":"#N/A"},{"$error":"#N/A"},{"$error":"#N/A"},{"$error":"#N/A"},{"$error":"#N/A"},{"$error":"#N/A"},{"$error":"#N/A"},{"$error":"#N/A"},{"$error":"#N/A"},{"$error":"#N/A"},{"$error":"#N/A"},{"$error":"#N/A"},{"$error":"#N/A"},{"$error":"#N/A"},{"$error":"#N/A"},{"$error":"#N/A"},{"$error":"#N/A"},{"$error":"#N/A"},{"$error":"#N/A"},{"$error":"#N/A"},{"$error":"#N/A"},{"$error":"#N/A"},{"$error":"#N/A"},{"$error":"#N/A"},{"$error":"#N/A"},{"$error":"#N/A"},{"$error":"#N/A"},{"$error":"#N/A"},{"$error":"#N/A"},{"$error":"#N/A"},{"$error":"#N/A"},{"$error":"#N/A"},{"$error":"#N/A"},{"$error":"#N/A"},{"$error":"#N/A"},{"$error":"#N/A"},{"$error":"#N/A"},{"$error":"#N/A"},{"$error":"#N/A"},{"$error":"#N/A"},{"$error":"#N/A"},{"$error":"#N/A"},{"$error":"#N/A"},{"$error":"#N/A"}]
["2020-09-29",{"$f":"VLOOKUP($A60,Data!$A$2:$E$150,2,FALSE)","v":9.630000114440918},{"$f":"VLOOKUP($A60,Data!$A$2:$E$150,3,FALSE)","v":9.7899999618530273},{"$f":"VLOOKUP($A60,Data!$A$2:$E$150,4,FALSE)","v":9.4899997711181641},{"$f":"VLOOKUP($A60,Data!$A$2:$E$150,5,FALSE)","v":9.5500001907348633},null,"2020-09-07",0.5,null,null,null,"2021-07-12","2021-02-23","2020-12-11","2020-11-06",0.5,null,null,null,{"$f":"+O134","v":"2021-06-11"},null,null,null,null,null,null,null,null,null,null,null,null,null,null,null,null,null,null,null,null,"2020-09-29",{"$error":"#N/A"},{"$error":"#N/A"},{"$error":"#N/A"},{"$error":"#N/A"},{"$error":"#N/A"},{"$error":"#N/A"},{"$error":"#N/A"},{"$error":"#N/A"},{"$error":"#N/A"},{"$error":"#N/A"},{"$error":"#N/A"},{"$error":"#N/A"},1,0,1,0.33333333333333331,0.66666666666666663,{"$error":"#N/A"},{"$error":"#N/A"},{"$error":"#N/A"},{"$error":"#N/A"},{"$error":"#N/A"},{"$error":"#N/A"},{"$error":"#N/A"},{"$error":"#N/A"},{"$error":"#N/A"},{"$error":"#N/A"},{"$error":"#N/A"},{"$error":"#N/A"},{"$error":"#N/A"},{"$error":"#N/A"},{"$error":"#N/A"},{"$error":"#N/A"},{"$error":"#N/A"},{"$error":"#N/A"},{"$error":"#N/A"},{"$error":"#N/A"},{"$error":"#N/A"},{"$error":"#N/A"},{"$error":"#N/A"},{"$error":"#N/A"},{"$error":"#N/A"},{"$error":"#N/A"},{"$error":"#N/A"},{"$error":"#N/A"},0,{"$error":"#N/A"},{"$error":"#N/A"},{"$error":"#N/A"},{"$error":"#N/A"},{"$error":"#N/A"},{"$error":"#N/A"},{"$error":"#N/A"},1,{"$error":"#N/A"},{"$error":"#N/A"},{"$error":"#N/A"},{"$error":"#N/A"},{"$error":"#N/A"},{"$error":"#N/A"},{"$error":"#N/A"},{"$error":"#N/A"},{"$error":"#N/A"},{"$error":"#N/A"},{"$error":"#N/A"},{"$error":"#N/A"},{"$error":"#N/A"},{"$error":"#N/A"},{"$error":"#N/A"},{"$error":"#N/A"},{"$error":"#N/A"},{"$error":"#N/A"},{"$error":"#N/A"},{"$error":"#N/A"},{"$error":"#N/A"},{"$error":"#N/A"},{"$error":"#N/A"},{"$error":"#N/A"},{"$error":"#N/A"},{"$error":"#N/A"},{"$error":"#N/A"},{"$error":"#N/A"},{"$error":"#N/A"},{"$error":"#N/A"},{"$error":"#N/A"},{"$error":"#N/A"},{"$error":"#N/A"},{"$error":"#N/A"},{"$error":"#N/A"},{"$error":"#N/A"},{"$error":"#N/A"},{"$error":"#N/A"},{"$error":"#N/A"},{"$error":"#N/A"},{"$error":"#N/A"},{"$error":"#N/A"},{"$error":"#N/A"},{"$error":"#N/A"},{"$error":"#N/A"},{"$error":"#N/A"},{"$error":"#N/A"},{"$error":"#N/A"},{"$error":"#N/A"},{"$error":"#N/A"},{"$error":"#N/A"}]
["2020-09-30",{"$f":"VLOOKUP($A61,Data!$A$2:$E$150,2,FALSE)","v":9.5},{"$f":"VLOOKUP($A61,Data!$A$2:$E$150,3,FALSE)","v":9.6599998474121094},{"$f":"VLOOKUP($A61,Data!$A$2:$E$150,4,FALSE)","v":9.3299999237060565},{"$f":"VLOOKUP($A61,Data!$A$2:$E$150,5,FALSE)","v":9.5200004577636719},null,"2020-11-26",0.625,null,null,null,"2021-08-03","2021-03-05","2020-12-17","2020-11-10",0.625,null,null,null,{"$f":"+O138","v":"2021-06-23"},null,null,null,null,null,null,null,null,null,null,null,null,null,null,null,null,null,null,null,null,"2020-09-30",{"$error":"#N/A"},{"$error":"#N/A"},{"$error":"#N/A"},{"$error":"#N/A"},{"$error":"#N/A"},{"$error":"#N/A"},{"$error":"#N/A"},{"$error":"#N/A"},{"$error":"#N/A"},{"$error":"#N/A"},{"$error":"#N/A"},{"$error":"#N/A"},{"$error":"#N/A"},0,1,0.33333333333333331,0.66666666666666663,{"$error":"#N/A"},{"$error":"#N/A"},{"$error":"#N/A"},{"$error":"#N/A"},{"$error":"#N/A"},{"$error":"#N/A"},{"$error":"#N/A"},{"$error":"#N/A"},{"$error":"#N/A"},{"$error":"#N/A"},{"$error":"#N/A"},{"$error":"#N/A"},{"$error":"#N/A"},{"$error":"#N/A"},{"$error":"#N/A"},{"$error":"#N/A"},{"$error":"#N/A"},{"$error":"#N/A"},{"$error":"#N/A"},{"$error":"#N/A"},{"$error":"#N/A"},{"$error":"#N/A"},{"$error":"#N/A"},{"$error":"#N/A"},{"$error":"#N/A"},{"$error":"#N/A"},{"$error":"#N/A"},{"$error":"#N/A"},{"$error":"#N/A"},{"$error":"#N/A"},{"$error":"#N/A"},{"$error":"#N/A"},{"$error":"#N/A"},{"$error":"#N/A"},{"$error":"#N/A"},{"$error":"#N/A"},{"$error":"#N/A"},{"$error":"#N/A"},{"$error":"#N/A"},{"$error":"#N/A"},{"$error":"#N/A"},{"$error":"#N/A"},{"$error":"#N/A"},{"$error":"#N/A"},{"$error":"#N/A"},{"$error":"#N/A"},{"$error":"#N/A"},{"$error":"#N/A"},{"$error":"#N/A"},{"$error":"#N/A"},{"$error":"#N/A"},{"$error":"#N/A"},{"$error":"#N/A"},{"$error":"#N/A"},{"$error":"#N/A"},{"$error":"#N/A"},{"$error":"#N/A"},{"$error":"#N/A"},{"$error":"#N/A"},{"$error":"#N/A"},{"$error":"#N/A"},{"$error":"#N/A"},{"$error":"#N/A"},{"$error":"#N/A"},{"$error":"#N/A"},{"$error":"#N/A"},{"$error":"#N/A"},{"$error":"#N/A"},{"$error":"#N/A"},{"$error":"#N/A"},{"$error":"#N/A"},{"$error":"#N/A"},{"$error":"#N/A"},{"$error":"#N/A"},{"$error":"#N/A"},{"$error":"#N/A"},{"$error":"#N/A"},{"$error":"#N/A"},{"$error":"#N/A"},{"$error":"#N/A"},{"$error":"#N/A"},{"$error":"#N/A"},{"$error":"#N/A"},{"$error":"#N/A"},{"$error":"#N/A"},{"$error":"#N/A"},{"$error":"#N/A"},{"$error":"#N/A"}]
["2020-10-01",{"$f":"VLOOKUP($A62,Data!$A$2:$E$150,2,FALSE)","v":9.6000003814697283},{"$f":"VLOOKUP($A62,Data!$A$2:$E$150,3,FALSE)","v":9.8900003433227539},{"$f":"VLOOKUP($A62,Data!$A$2:$E$150,4,FALSE)","v":9.5399999618530273},{"$f":"VLOOKUP($A62,Data!$A$2:$E$150,5,FALSE)","v":9.7600002288818359},null,"2020-12-25",0.75,null,null,null,"2021-08-25","2021-03-17","2020-12-23","2020-11-12",0.75,null,null,null,{"$f":"+O142","v":"2021-07-06"},null,null,null,null,null,null,null,null,null,null,null,null,null,null,null,null,null,null,null,null,"2020-10-01",{"$error":"#N/A"},{"$error":"#N/A"},{"$error":"#N/A"},{"$error":"#N/A"},{"$error":"#N/A"},{"$error":"#N/A"},{"$error":"#N/A"},{"$error":"#N/A"},{"$error":"#N/A"},{"$error":"#N/A"},{"$error":"#N/A"},{"$error":"#N/A"},{"$error":"#N/A"},0,1,0.33333333333333331,0.66666666666666663,{"$error":"#N/A"},{"$error":"#N/A"},{"$error":"#N/A"},{"$error":"#N/A"},{"$error":"#N/A"},{"$error":"#N/A"},{"$error":"#N/A"},{"$error":"#N/A"},{"$error":"#N/A"},{"$error":"#N/A"},{"$error":"#N/A"},{"$error":"#N/A"},{"$error":"#N/A"},{"$error":"#N/A"},{"$error":"#N/A"},{"$error":"#N/A"},{"$error":"#N/A"},{"$error":"#N/A"},{"$error":"#N/A"},{"$error":"#N/A"},{"$error":"#N/A"},{"$error":"#N/A"},{"$error":"#N/A"},{"$error":"#N/A"},{"$error":"#N/A"},{"$error":"#N/A"},{"$error":"#N/A"},{"$error":"#N/A"},{"$error":"#N/A"},{"$error":"#N/A"},{"$error":"#N/A"},{"$error":"#N/A"},{"$error":"#N/A"},{"$error":"#N/A"},{"$error":"#N/A"},{"$error":"#N/A"},{"$error":"#N/A"},{"$error":"#N/A"},{"$error":"#N/A"},{"$error":"#N/A"},{"$error":"#N/A"},{"$error":"#N/A"},{"$error":"#N/A"},{"$error":"#N/A"},{"$error":"#N/A"},{"$error":"#N/A"},{"$error":"#N/A"},{"$error":"#N/A"},{"$error":"#N/A"},{"$error":"#N/A"},{"$error":"#N/A"},{"$error":"#N/A"},{"$error":"#N/A"},{"$error":"#N/A"},{"$error":"#N/A"},{"$error":"#N/A"},{"$error":"#N/A"},{"$error":"#N/A"},{"$error":"#N/A"},{"$error":"#N/A"},{"$error":"#N/A"},{"$error":"#N/A"},{"$error":"#N/A"},{"$error":"#N/A"},{"$error":"#N/A"},{"$error":"#N/A"},{"$error":"#N/A"},{"$error":"#N/A"},{"$error":"#N/A"},{"$error":"#N/A"},{"$error":"#N/A"},{"$error":"#N/A"},{"$error":"#N/A"},{"$error":"#N/A"},{"$error":"#N/A"},{"$error":"#N/A"},{"$error":"#N/A"},{"$error":"#N/A"},{"$error":"#N/A"},{"$error":"#N/A"},{"$error":"#N/A"},{"$error":"#N/A"},{"$error":"#N/A"},{"$error":"#N/A"},{"$error":"#N/A"},{"$error":"#N/A"},{"$error":"#N/A"},{"$error":"#N/A"}]
["2020-10-02",{"$f":"VLOOKUP($A63,Data!$A$2:$E$150,2,FALSE)","v":9.6800003051757795},{"$f":"VLOOKUP($A63,Data!$A$2:$E$150,3,FALSE)","v":9.8599996566772461},{"$f":"VLOOKUP($A63,Data!$A$2:$E$150,4,FALSE)","v":9.5699996948242205},{"$f":"VLOOKUP($A63,Data!$A$2:$E$150,5,FALSE)","v":9.6499996185302717},null,"2021-01-01",0.875,null,null,null,"2021-09-17","2021-03-29","2020-12-30","2020-11-16",0.875,null,null,null,{"$f":"+O146","v":"2021-07-16"},null,null,null,null,null,null,null,null,null,null,null,null,null,null,null,null,null,null,null,null,"2020-10-02",{"$error":"#N/A"},{"$error":"#N/A"},{"$error":"#N/A"},{"$error":"#N/A"},{"$error":"#N/A"},{"$error":"#N/A"},{"$error":"#N/A"},{"$error":"#N/A"},{"$error":"#N/A"},{"$error":"#N/A"},{"$error":"#N/A"},{"$error":"#N/A"},{"$error":"#N/A"},0,1,0.33333333333333331,0.66666666666666663,{"$error":"#N/A"},{"$error":"#N/A"},{"$error":"#N/A"},{"$error":"#N/A"},{"$error":"#N/A"},{"$error":"#N/A"},{"$error":"#N/A"},{"$error":"#N/A"},{"$error":"#N/A"},{"$error":"#N/A"},{"$error":"#N/A"},{"$error":"#N/A"},{"$error":"#N/A"},{"$error":"#N/A"},{"$error":"#N/A"},{"$error":"#N/A"},{"$error":"#N/A"},{"$error":"#N/A"},{"$error":"#N/A"},{"$error":"#N/A"},{"$error":"#N/A"},{"$error":"#N/A"},{"$error":"#N/A"},{"$error":"#N/A"},{"$error":"#N/A"},{"$error":"#N/A"},{"$error":"#N/A"},{"$error":"#N/A"},{"$error":"#N/A"},{"$error":"#N/A"},{"$error":"#N/A"},{"$error":"#N/A"},{"$error":"#N/A"},{"$error":"#N/A"},{"$error":"#N/A"},{"$error":"#N/A"},{"$error":"#N/A"},{"$error":"#N/A"},{"$error":"#N/A"},{"$error":"#N/A"},{"$error":"#N/A"},{"$error":"#N/A"},{"$error":"#N/A"},{"$error":"#N/A"},{"$error":"#N/A"},{"$error":"#N/A"},{"$error":"#N/A"},{"$error":"#N/A"},{"$error":"#N/A"},{"$error":"#N/A"},{"$error":"#N/A"},{"$error":"#N/A"},{"$error":"#N/A"},{"$error":"#N/A"},{"$error":"#N/A"},{"$error":"#N/A"},{"$error":"#N/A"},{"$error":"#N/A"},{"$error":"#N/A"},{"$error":"#N/A"},{"$error":"#N/A"},{"$error":"#N/A"},{"$error":"#N/A"},{"$error":"#N/A"},{"$error":"#N/A"},{"$error":"#N/A"},{"$error":"#N/A"},{"$error":"#N/A"},{"$error":"#N/A"},{"$error":"#N/A"},{"$error":"#N/A"},{"$error":"#N/A"},{"$error":"#N/A"},{"$error":"#N/A"},{"$error":"#N/A"},{"$error":"#N/A"},{"$error":"#N/A"},{"$error":"#N/A"},{"$error":"#N/A"},{"$error":"#N/A"},{"$error":"#N/A"},{"$error":"#N/A"},{"$error":"#N/A"},{"$error":"#N/A"},{"$error":"#N/A"},{"$error":"#N/A"},{"$error":"#N/A"},{"$error":"#N/A"}]
["2020-10-05",{"$f":"VLOOKUP($A64,Data!$A$2:$E$150,2,FALSE)","v":9.7100000381469727},{"$f":"VLOOKUP($A64,Data!$A$2:$E$150,3,FALSE)","v":10.060000419616699},{"$f":"VLOOKUP($A64,Data!$A$2:$E$150,4,FALSE)","v":9.6899995803833008},{"$f":"VLOOKUP($A64,Data!$A$2:$E$150,5,FALSE)","v":9.9399995803833008},null,"2021-01-18",null,null,null,null,"2021-10-05","2021-04-09","2021-01-06","2020-11-18",1,null,null,null,{"$f":"+O150","v":"2021-07-28"},null,null,null,null,null,null,null,null,null,null,null,null,null,null,null,null,null,null,null,null,"2020-10-05",{"$error":"#N/A"},{"$error":"#N/A"},{"$error":"#N/A"},{"$error":"#N/A"},{"$error":"#N/A"},{"$error":"#N/A"},{"$error":"#N/A"},{"$error":"#N/A"},{"$error":"#N/A"},{"$error":"#N/A"},1.25,1.125,1,0,1,0.33333333333333331,0.66666666666666663,{"$error":"#N/A"},{"$error":"#N/A"},{"$error":"#N/A"},1,0.75,0.5,0.25,0,0,0,0,0,0,0,{"$error":"#N/A"},{"$error":"#N/A"},{"$error":"#N/A"},{"$error":"#N/A"},{"$error":"#N/A"},{"$error":"#N/A"},{"$error":"#N/A"},{"$error":"#N/A"},{"$error":"#N/A"},{"$error":"#N/A"},{"$error":"#N/A"},{"$error":"#N/A"},{"$error":"#N/A"},{"$error":"#N/A"},0.125,0.25,0.375,0.5,0.625,0.75,0.875,1,{"$error":"#N/A"},{"$error":"#N/A"},{"$error":"#N/A"},{"$error":"#N/A"},{"$error":"#N/A"},{"$error":"#N/A"},{"$error":"#N/A"},{"$error":"#N/A"},{"$error":"#N/A"},{"$error":"#N/A"},{"$error":"#N/A"},{"$error":"#N/A"},{"$error":"#N/A"},{"$error":"#N/A"},0,0.125,0.25,0.375,0.5,0.625,0.75,0.875,{"$error":"#N/A"},{"$error":"#N/A"},{"$error":"#N/A"},{"$error":"#N/A"},{"$error":"#N/A"},{"$error":"#N/A"},{"$error":"#N/A"},{"$error":"#N/A"},{"$error":"#N/A"},{"$error":"#N/A"},{"$error":"#N/A"},{"$error":"#N/A"},{"$error":"#N/A"},{"$error":"#N/A"},{"$error":"#N/A"},{"$error":"#N/A"},{"$error":"#N/A"},{"$error":"#N/A"},{"$error":"#N/A"},{"$error":"#N/A"},{"$error":"#N/A"},{"$error":"#N/A"},{"$error":"#N/A"},{"$error":"#N/A"},{"$error":"#N/A"},{"$error":"#N/A"},{"$error":"#N/A"},{"$error":"#N/A"},{"$error":"#N/A"},{"$error":"#N/A"}]
["2020-10-06",{"$f":"VLOOKUP($A65,Data!$A$2:$E$150,2,FALSE)","v":9.9700002670288086},{"$f":"VLOOKUP($A65,Data!$A$2:$E$150,3,FALSE)","v":10.039999961853027},{"$f":"VLOOKUP($A65,Data!$A$2:$E$150,4,FALSE)","v":9.4099998474121094},{"$f":"VLOOKUP($A65,Data!$A$2:$E$150,5,FALSE)","v":9.4300003051757795},null,"2021-02-15",0.25,null,null,null,null,"2021-04-21","2021-01-12","2020-11-20",0.125,null,null,null,{"$f":"+O154","v":"2021-08-09"},null,null,null,null,null,null,null,null,null,null,null,null,null,null,null,null,null,null,null,null,"2020-10-06",{"$error":"#N/A"},{"$error":"#N/A"},{"$error":"#N/A"},{"$error":"#N/A"},{"$error":"#N/A"},{"$error":"#N/A"},{"$error":"#N/A"},{"$error":"#N/A"},{"$error":"#N/A"},{"$error":"#N/A"},{"$error":"#N/A"},{"$error":"#N/A"},{"$error":"#N/A"},0,1,0.33333333333333331,0.66666666666666663,{"$error":"#N/A"},{"$error":"#N/A"},{"$error":"#N/A"},{"$error":"#N/A"},{"$error":"#N/A"},{"$error":"#N/A"},{"$error":"#N/A"},{"$error":"#N/A"},{"$error":"#N/A"},{"$error":"#N/A"},{"$error":"#N/A"},{"$error":"#N/A"},{"$error":"#N/A"},{"$error":"#N/A"},{"$error":"#N/A"},{"$error":"#N/A"},{"$error":"#N/A"},{"$error":"#N/A"},{"$error":"#N/A"},{"$error":"#N/A"},{"$error":"#N/A"},{"$error":"#N/A"},{"$error":"#N/A"},{"$error":"#N/A"},{"$error":"#N/A"},{"$error":"#N/A"},{"$error":"#N/A"},{"$error":"#N/A"},{"$error":"#N/A"},{"$error":"#N/A"},{"$error":"#N/A"},{"$error":"#N/A"},{"$error":"#N/A"},{"$error":"#N/A"},{"$error":"#N/A"},{"$error":"#N/A"},{"$error":"#N/A"},{"$error":"#N/A"},{"$error":"#N/A"},{"$error":"#N/A"},{"$error":"#N/A"},{"$error":"#N/A"},{"$error":"#N/A"},{"$error":"#N/A"},{"$error":"#N/A"},{"$error":"#N/A"},{"$error":"#N/A"},{"$error":"#N/A"},{"$error":"#N/A"},{"$error":"#N/A"},{"$error":"#N/A"},{"$error":"#N/A"},{"$error":"#N/A"},{"$error":"#N/A"},{"$error":"#N/A"},{"$error":"#N/A"},{"$error":"#N/A"},{"$error":"#N/A"},{"$error":"#N/A"},{"$error":"#N/A"},{"$error":"#N/A"},{"$error":"#N/A"},{"$error":"#N/A"},{"$error":"#N/A"},{"$error":"#N/A"},{"$error":"#N/A"},{"$error":"#N/A"},{"$error":"#N/A"},{"$error":"#N/A"},{"$error":"#N/A"},{"$error":"#N/A"},{"$error":"#N/A"},{"$error":"#N/A"},{"$error":"#N/A"},{"$error":"#N/A"},{"$error":"#N/A"},{"$error":"#N/A"},{"$error":"#N/A"},{"$error":"#N/A"},{"$error":"#N/A"},{"$error":"#N/A"},{"$error":"#N/A"},{"$error":"#N/A"},{"$error":"#N/A"},{"$error":"#N/A"},{"$error":"#N/A"},{"$error":"#N/A"},{"$error":"#N/A"}]
["2020-10-07",{"$f":"VLOOKUP($A66,Data!$A$2:$E$150,2,FALSE)","v":9.619999885559082},{"$f":"VLOOKUP($A66,Data!$A$2:$E$150,3,FALSE)","v":9.6700000762939435},{"$f":"VLOOKUP($A66,Data!$A$2:$E$150,4,FALSE)","v":9.4600000381469727},{"$f":"VLOOKUP($A66,Data!$A$2:$E$150,5,FALSE)","v":9.5900001525878906},null,"2021-04-02",0.25,null,null,null,null,"2021-05-03","2021-01-19","2020-11-24",0.25,null,null,null,{"$f":"+O158","v":"2021-08-19"},null,null,null,null,null,null,null,null,null,null,null,null,null,null,null,null,null,null,null,null,"2020-10-07",{"$error":"#N/A"},{"$error":"#N/A"},{"$error":"#N/A"},{"$error":"#N/A"},{"$error":"#N/A"},{"$error":"#N/A"},{"$error":"#N/A"},{"$error":"#N/A"},{"$error":"#N/A"},{"$error":"#N/A"},{"$error":"#N/A"},{"$error":"#N/A"},{"$error":"#N/A"},0,1,0.33333333333333331,0.66666666666666663,{"$error":"#N/A"},{"$error":"#N/A"},{"$error":"#N/A"},{"$error":"#N/A"},{"$error":"#N/A"},{"$error":"#N/A"},{"$error":"#N/A"},{"$error":"#N/A"},{"$error":"#N/A"},{"$error":"#N/A"},{"$error":"#N/A"},{"$error":"#N/A"},{"$error":"#N/A"},{"$error":"#N/A"},{"$error":"#N/A"},{"$error":"#N/A"},{"$error":"#N/A"},{"$error":"#N/A"},{"$error":"#N/A"},{"$error":"#N/A"},{"$error":"#N/A"},{"$error":"#N/A"},{"$error":"#N/A"},{"$error":"#N/A"},{"$error":"#N/A"},{"$error":"#N/A"},{"$error":"#N/A"},{"$error":"#N/A"},{"$error":"#N/A"},{"$error":"#N/A"},{"$error":"#N/A"},{"$error":"#N/A"},{"$error":"#N/A"},{"$error":"#N/A"},{"$error":"#N/A"},{"$error":"#N/A"},{"$error":"#N/A"},{"$error":"#N/A"},{"$error":"#N/A"},{"$error":"#N/A"},{"$error":"#N/A"},{"$error":"#N/A"},{"$error":"#N/A"},{"$error":"#N/A"},{"$error":"#N/A"},{"$error":"#N/A"},{"$error":"#N/A"},{"$error":"#N/A"},{"$error":"#N/A"},{"$error":"#N/A"},{"$error":"#N/A"},{"$error":"#N/A"},{"$error":"#N/A"},{"$error":"#N/A"},{"$error":"#N/A"},{"$error":"#N/A"},{"$error":"#N/A"},{"$error":"#N/A"},{"$error":"#N/A"},{"$error":"#N/A"},{"$error":"#N/A"},{"$error":"#N/A"},{"$error":"#N/A"},{"$error":"#N/A"},{"$error":"#N/A"},{"$error":"#N/A"},{"$error":"#N/A"},{"$error":"#N/A"},{"$error":"#N/A"},{"$error":"#N/A"},{"$error":"#N/A"},{"$error":"#N/A"},{"$error":"#N/A"},{"$error":"#N/A"},{"$error":"#N/A"},{"$error":"#N/A"},{"$error":"#N/A"},{"$error":"#N/A"},{"$error":"#N/A"},{"$error":"#N/A"},{"$error":"#N/A"},{"$error":"#N/A"},{"$error":"#N/A"},{"$error":"#N/A"},{"$error":"#N/A"},{"$error":"#N/A"},{"$error":"#N/A"},{"$error":"#N/A"}]
["2020-10-08",{"$f":"VLOOKUP($A67,Data!$A$2:$E$150,2,FALSE)","v":9.6999998092651367},{"$f":"VLOOKUP($A67,Data!$A$2:$E$150,3,FALSE)","v":9.869999885559082},{"$f":"VLOOKUP($A67,Data!$A$2:$E$150,4,FALSE)","v":9.630000114440918},{"$f":"VLOOKUP($A67,Data!$A$2:$E$150,5,FALSE)","v":9.8299999237060565},null,"2021-05-31",0.25,0.25,0.5,0.75,null,"2021-05-13","2021-01-25","2020-11-27",0.375,null,null,null,{"$f":"+O162","v":"2021-08-31"},null,null,null,null,null,null,null,null,null,null,null,null,null,null,null,null,null,null,null,null,"2020-10-08",{"$error":"#N/A"},{"$error":"#N/A"},{"$error":"#N/A"},{"$error":"#N/A"},{"$error":"#N/A"},{"$error":"#N/A"},{"$error":"#N/A"},{"$error":"#N/A"},{"$error":"#N/A"},{"$error":"#N/A"},{"$error":"#N/A"},{"$error":"#N/A"},{"$error":"#N/A"},0,1,0.33333333333333331,0.66666666666666663,{"$error":"#N/A"},{"$error":"#N/A"},{"$error":"#N/A"},{"$error":"#N/A"},{"$error":"#N/A"},{"$error":"#N/A"},{"$error":"#N/A"},{"$error":"#N/A"},{"$error":"#N/A"},{"$error":"#N/A"},{"$error":"#N/A"},{"$error":"#N/A"},{"$error":"#N/A"},{"$error":"#N/A"},{"$error":"#N/A"},{"$error":"#N/A"},{"$error":"#N/A"},{"$error":"#N/A"},{"$error":"#N/A"},{"$error":"#N/A"},{"$error":"#N/A"},{"$error":"#N/A"},{"$error":"#N/A"},{"$error":"#N/A"},{"$error":"#N/A"},{"$error":"#N/A"},{"$error":"#N/A"},{"$error":"#N/A"},{"$error":"#N/A"},{"$error":"#N/A"},{"$error":"#N/A"},{"$error":"#N/A"},{"$error":"#N/A"},{"$error":"#N/A"},{"$error":"#N/A"},{"$error":"#N/A"},{"$error":"#N/A"},{"$error":"#N/A"},{"$error":"#N/A"},{"$error":"#N/A"},{"$error":"#N/A"},{"$error":"#N/A"},{"$error":"#N/A"},{"$error":"#N/A"},{"$error":"#N/A"},{"$error":"#N/A"},{"$error":"#N/A"},{"$error":"#N/A"},{"$error":"#N/A"},{"$error":"#N/A"},{"$error":"#N/A"},{"$error":"#N/A"},{"$error":"#N/A"},{"$error":"#N/A"},{"$error":"#N/A"},{"$error":"#N/A"},{"$error":"#N/A"},{"$error":"#N/A"},{"$error":"#N/A"},{"$error":"#N/A"},{"$error":"#N/A"},{"$error":"#N/A"},{"$error":"#N/A"},{"$error":"#N/A"},{"$error":"#N/A"},{"$error":"#N/A"},{"$error":"#N/A"},{"$error":"#N/A"},{"$error":"#N/A"},{"$error":"#N/A"},{"$error":"#N/A"},{"$error":"#N/A"},{"$error":"#N/A"},{"$error":"#N/A"},{"$error":"#N/A"},{"$error":"#N/A"},{"$error":"#N/A"},{"$error":"#N/A"},{"$error":"#N/A"},{"$error":"#N/A"},{"$error":"#N/A"},{"$error":"#N/A"},{"$error":"#N/A"},{"$error":"#N/A"},{"$error":"#N/A"},{"$error":"#N/A"},{"$error":"#N/A"},{"$error":"#N/A"}]
["2020-10-09",{"$f":"VLOOKUP($A68,Data!$A$2:$E$150,2,FALSE)","v":10.130000114440918},{"$f":"VLOOKUP($A68,Data!$A$2:$E$150,3,FALSE)","v":10.600000381469728},{"$f":"VLOOKUP($A68,Data!$A$2:$E$150,4,FALSE)","v":10.090000152587891},{"$f":"VLOOKUP($A68,Data!$A$2:$E$150,5,FALSE)","v":10.560000419616699},null,"2021-07-05",0.25,{"$f":"+M34","v":"2020-05-04"},{"$f":"+M36","v":"2020-05-27"},{"$f":"+M38","v":"2020-06-18"},null,"2021-05-25","2021-01-29","2020-12-01",0.5,null,null,null,{"$f":"+O166","v":"2021-09-13"},null,null,null,null,null,null,null,null,null,null,null,null,null,null,null,null,null,null,null,null,"2020-10-09",{"$error":"#N/A"},{"$error":"#N/A"},{"$error":"#N/A"},{"$error":"#N/A"},{"$error":"#N/A"},{"$error":"#N/A"},{"$error":"#N/A"},{"$error":"#N/A"},{"$error":"#N/A"},{"$error":"#N/A"},{"$error":"#N/A"},{"$error":"#N/A"},{"$error":"#N/A"},0,1,0.33333333333333331,0.66666666666666663,{"$f":"IF($W$5,IF(AO68=$H$21,0,IF(AO68=$G$26,1,NA())),NA())","v":{"$error":"#N/A"}},{"$f":"IF($W$5,IF(AO68=$H$21,0,IF(AO68=$G$27,1,NA())),NA())","v":{"$error":"#N/A"}},{"$f":"IF($W$5,IF(AO68=$H$21,0,IF(AO68=$G$28,1,NA())),NA())","v":{"$error":"#N/A"}},{"$error":"#N/A"},{"$error":"#N/A"},{"$error":"#N/A"},{"$error":"#N/A"},{"$f":"IF($W$5,IF(AO68=$H$22,0,IF(AO68=$H$26,1,NA())),NA())","v":{"$error":"#N/A"}},{"$f":"IF($W$5,IF(AO68=$H$22,0,IF(AO68=$H$27,1,NA())),NA())","v":{"$error":"#N/A"}},{"$f":"IF($W$5,IF(AO68=$H$22,0,IF(AO68=$H$28,1,NA())),NA())","v":{"$error":"#N/A"}},{"$error":"#N/A"},{"$error":"#N/A"},{"$error":"#N/A"},{"$error":"#N/A"},{"$f":"IF($W$8,IF(AO68=$H$21,1,IF(AO68=$G$26,0,NA())),NA())","v":{"$error":"#N/A"}},{"$f":"IF($W$8,IF(AO68=$H$21,1,IF(AO68=$G$27,0,NA())),NA())","v":{"$error":"#N/A"}},{"$f":"IF($W$8,IF(AO68=$H$21,1,IF(AO68=$G$28,0,NA())),NA())","v":{"$error":"#N/A"}},{"$f":"IF($W$8,IF(AO68=$H$21,1,IF(AO68=$H$22,0,NA())),NA())","v":{"$error":"#N/A"}},{"$f":"IF($W$8,IF(AO68=$H$21,1,IF(AO68=$H$22,2/8,NA())),NA())","v":{"$error":"#N/A"}},{"$f":"IF($W$8,IF(AO68=$H$21,1,IF(AO68=$H$22,4/8,NA())),NA())","v":{"$error":"#N/A"}},{"$f":"IF($W$8,IF(AO68=$H$21,1,IF(AO68=$H$22,6/8,NA())),NA())","v":{"$error":"#N/A"}},{"$f":"IF($W$8,IF(AO68=$H$22,1,IF(AO68=$H$26,0,NA())),NA())","v":{"$error":"#N/A"}},{"$f":"IF($W$8,IF(AO68=$H$22,1,IF(AO68=$H$27,0,NA())),NA())","v":{"$error":"#N/A"}},{"$f":"IF($W$8,IF(AO68=$H$22,1,IF(AO68=$H$28,0,NA())),NA())","v":{"$error":"#N/A"}},{"$f":"IF($W$8,IF(AO68=$H$22,1,IF(AO68=$H$23,0,NA())),NA())","v":{"$error":"#N/A"}},{"$f":"IF($W$8,IF(AO68=$H$22,1,IF(AO68=$H$23,2/8,NA())),NA())","v":{"$error":"#N/A"}},{"$f":"IF($W$8,IF(AO68=$H$22,1,IF(AO68=$H$23,4/8,NA())),NA())","v":{"$error":"#N/A"}},{"$f":"IF($W$8,IF(AO68=$H$22,1,IF(AO68=$H$23,6/8,NA())),NA())","v":{"$error":"#N/A"}},{"$f":"IF($W$17,IF(AO68=$M$26,0,IF(AO68=$H$22,1/8,NA())),NA())","v":{"$error":"#N/A"}},{"$f":"IF($W$17,IF(AO68=$G$28,0,IF(AO68=$H$22,2/8,NA())),NA())","v":{"$error":"#N/A"}},{"$f":"IF($W$17,IF(AO68=$J$28,0,IF(AO68=$H$22,3/8,NA())),NA())","v":{"$error":"#N/A"}},{"$error":"#N/A"},{"$f":"IF($W$17,IF(AO68=$J$27,0,IF(AO68=$H$22,5/8,NA())),NA())","v":{"$error":"#N/A"}},{"$f":"IF($W$17,IF(AO68=$G$26,0,IF(AO68=$H$22,6/8,NA())),NA())","v":{"$error":"#N/A"}},{"$f":"IF($W$17,IF(AO68=$J$26,0,IF(AO68=$H$22,7/8,NA())),NA())","v":{"$error":"#N/A"}},{"$f":"IF($W$17,IF(AO68=$H$21,0,IF(AO68=$H$22,1,NA())),NA())","v":{"$error":"#N/A"}},{"$error":"#N/A"},{"$error":"#N/A"},{"$error":"#N/A"},{"$error":"#N/A"},{"$error":"#N/A"},{"$error":"#N/A"},{"$error":"#N/A"},{"$f":"IF($W$17,IF(AO68=$N$26,0,IF(AO68=$H$23,1/8,NA())),NA())","v":{"$error":"#N/A"}},{"$f":"IF($W$17,IF(AO68=$H$28,0,IF(AO68=$H$23,2/8,NA())),NA())","v":{"$error":"#N/A"}},{"$f":"IF($W$17,IF(AO68=$K$28,0,IF(AO68=$H$23,3/8,NA())),NA())","v":{"$error":"#N/A"}},{"$error":"#N/A"},{"$f":"IF($W$17,IF(AO68=$K$27,0,IF(AO68=$H$23,5/8,NA())),NA())","v":{"$error":"#N/A"}},{"$f":"IF($W$17,IF(AO68=$H$26,0,IF(AO68=$H$23,6/8,NA())),NA())","v":{"$error":"#N/A"}},{"$f":"IF($W$17,IF(AO68=$K$26,0,IF(AO68=$H$23,7/8,NA())),NA())","v":{"$error":"#N/A"}},{"$f":"IF($W$17,IF(AO68=$H$22,0,IF(AO68=$H$23,1,NA())),NA())","v":{"$error":"#N/A"}},{"$error":"#N/A"},{"$error":"#N/A"},{"$error":"#N/A"},{"$error":"#N/A"},{"$error":"#N/A"},{"$error":"#N/A"},{"$error":"#N/A"},{"$error":"#N/A"},{"$error":"#N/A"},{"$error":"#N/A"},{"$error":"#N/A"},{"$error":"#N/A"},{"$error":"#N/A"},{"$error":"#N/A"},{"$f":"IF($W$20,IF(AO68=$H$21,1,IF(AO68=$H$22,0,NA())),NA())","v":{"$error":"#N/A"}},{"$f":"IF($W$20,IF(AO68=$J$26,1,IF(AO68=$H$22,1/8,NA())),NA())","v":{"$error":"#N/A"}},{"$f":"IF($W$20,IF(AO68=$G$26,1,IF(AO68=$H$22,2/8,NA())),NA())","v":{"$error":"#N/A"}},{"$f":"IF($W$20,IF(AO68=$J$27,1,IF(AO68=$H$22,3/8,NA())),NA())","v":{"$error":"#N/A"}},{"$error":"#N/A"},{"$f":"IF($W$20,IF(AO68=$J$28,1,IF(AO68=$H$22,5/8,NA())),NA())","v":{"$error":"#N/A"}},{"$f":"IF($W$20,IF(AO68=$G$28,1,IF(AO68=$H$22,6/8,NA())),NA())","v":{"$error":"#N/A"}},{"$f":"IF($W$20,IF(AO68=$M$26,1,IF(AO68=$H$22,7/8,NA())),NA())","v":{"$error":"#N/A"}},{"$error":"#N/A"},{"$error":"#N/A"},{"$error":"#N/A"},{"$error":"#N/A"},{"$error":"#N/A"},{"$error":"#N/A"},{"$error":"#N/A"},{"$f":"IF($W$20,IF(AO68=$H$22,1,IF(AO68=$H$23,0,NA())),NA())","v":{"$error":"#N/A"}},{"$f":"IF($W$20,IF(AO68=$K$26,1,IF(AO68=$H$23,1/8,NA())),NA())","v":{"$error":"#N/A"}},{"$f":"IF($W$20,IF(AO68=$H$26,1,IF(AO68=$H$23,2/8,NA())),NA())","v":{"$error":"#N/A"}},{"$f":"IF($W$20,IF(AO68=$K$27,1,IF(AO68=$H$23,3/8,NA())),NA())","v":{"$error":"#N/A"}},{"$error":"#N/A"},{"$f":"IF($W$20,IF(AO68=$K$28,1,IF(AO68=$H$23,5/8,NA())),NA())","v":{"$error":"#N/A"}},{"$f":"IF($W$20,IF(AO68=$H$28,1,IF(AO68=$H$23,6/8,NA())),NA())","v":{"$error":"#N/A"}},{"$f":"IF($W$20,IF(AO68=$N$26,1,IF(AO68=$H$23,7/8,NA())),NA())","v":{"$error":"#N/A"}}]
[{"$f":"+AO69","v":"2020-10-12"},{"$f":"VLOOKUP($A69,Data!$A$2:$E$150,2,FALSE)","v":10.579999923706056},{"$f":"VLOOKUP($A69,Data!$A$2:$E$150,3,FALSE)","v":10.699999809265137},{"$f":"VLOOKUP($A69,Data!$A$2:$E$150,4,FALSE)","v":10.310000419616699},{"$f":"VLOOKUP($A69,Data!$A$2:$E$150,5,FALSE)","v":10.600000381469728},null,"2021-09-06",0.25,{"$f":"+M42","v":"2020-08-03"},{"$f":"+M44","v":"2020-08-25"},{"$f":"+M46","v":"2020-09-17"},null,"2021-06-07","2021-02-04","2020-12-03",0.625,null,null,null,{"$f":"+O170","v":"2021-09-23"},null,null,null,null,null,null,null,null,null,null,null,null,null,null,null,null,null,null,null,null,{"$f":"IF(WORKDAY(AO68,1,$G$32:$G$71)>$H$23,NA(),WORKDAY(AO68,1,$G$32:$G$71))","v":"2020-10-12"},{"$f":"IF($W$11,IF(VLOOKUP($AO69,$R$37:$R$46,1,),-2/8,NA()),NA())","v":{"$error":"#N/A"}},{"$error":"#N/A"},{"$f":"IF($W$11,IF(VLOOKUP($AO69,$R$37:$R$46,1,),2/8,NA()),NA())","v":{"$error":"#N/A"}},{"$error":"#N/A"},{"$f":"IF($W$11,IF(VLOOKUP($AO69,$R$37:$R$46,1,),6/8,NA()),NA())","v":{"$error":"#N/A"}},{"$error":"#N/A"},{"$f":"IF($W$11,IF(VLOOKUP($AO69,$R$37:$R$46,1,),10/8,NA()),NA())","v":{"$error":"#N/A"}},{"$error":"#N/A"},{"$f":"IF($W$11,IF(VLOOKUP($AO69,$R$72:$R$76,1,),4/8,NA()),NA())","v":{"$error":"#N/A"}},{"$error":"#N/A"},{"$f":"IF(VLOOKUP(AO69,J$47:J$52,1,),10/8,NA())","v":{"$error":"#N/A"}},{"$f":"IF($W$14,IF(VLOOKUP(AO69,L$44:L$64,1,),9/8,NA()))","v":{"$error":"#N/A"}},{"$f":"IF($W$14,IF(VLOOKUP(AO69,M$40:M$79,1,),8/8,NA()))","v":{"$error":"#N/A"}},0,1,0.33333333333333331,0.66666666666666663,{"$error":"#N/A"},{"$error":"#N/A"},{"$error":"#N/A"},{"$f":"IF($W$5,IF(AO69=$H$21,0,IF(AO69=$H$22,1,NA())),NA())","v":{"$error":"#N/A"}},{"$f":"IF($W$5,IF(AO69=$H$21,0,IF(AO69=$H$22,6/8,NA())),NA())","v":{"$error":"#N/A"}},{"$f":"IF($W$5,IF(AO69=$H$21,0,IF(AO69=$H$22,4/8,NA())),NA())","v":{"$error":"#N/A"}},{"$f":"IF($W$5,IF(AO69=$H$21,0,IF(AO69=$H$22,2/8,NA())),NA())","v":{"$error":"#N/A"}},{"$error":"#N/A"},{"$error":"#N/A"},{"$error":"#N/A"},{"$f":"IF($W$5,IF(AO69=$H$22,0,IF(AO69=$H$23,1,NA())),NA())","v":{"$error":"#N/A"}},{"$f":"IF($W$5,IF(AO69=$H$22,0,IF(AO69=$H$23,6/8,NA())),NA())","v":{"$error":"#N/A"}},{"$f":"IF($W$5,IF(AO69=$H$22,0,IF(AO69=$H$23,4/8,NA())),NA())","v":{"$error":"#N/A"}},{"$f":"IF($W$5,IF(AO69=$H$22,0,IF(AO69=$H$23,2/8,NA())),NA())","v":{"$error":"#N/A"}},{"$error":"#N/A"},{"$error":"#N/A"},{"$error":"#N/A"},{"$error":"#N/A"},{"$error":"#N/A"},{"$error":"#N/A"},{"$error":"#N/A"},{"$error":"#N/A"},{"$error":"#N/A"},{"$error":"#N/A"},{"$error":"#N/A"},{"$error":"#N/A"},{"$error":"#N/A"},{"$error":"#N/A"},{"$error":"#N/A"},{"$error":"#N/A"},{"$error":"#N/A"},{"$f":"IF($W$17,IF(AO69=$G$27,0,IF(AO69=$H$22,4/8,NA())),NA())","v":{"$error":"#N/A"}},{"$error":"#N/A"},{"$error":"#N/A"},{"$error":"#N/A"},{"$error":"#N/A"},{"$f":"IF($W$17,IF(AO69=$M$26,1,IF(AO69=$H$21,1/8,NA())),NA())","v":{"$error":"#N/A"}},{"$f":"IF($W$17,IF(AO69=$G$28,1,IF(AO69=$H$21,2/8,NA())),NA())","v":{"$error":"#N/A"}},{"$f":"IF($W$17,IF(AO69=$J$28,1,IF(AO69=$H$21,3/8,NA())),NA())","v":{"$error":"#N/A"}},{"$f":"IF($W$17,IF(AO69=$G$27,1,IF(AO69=$H$21,4/8,NA())),NA())","v":{"$error":"#N/A"}},{"$f":"IF($W$17,IF(AO69=$J$27,1,IF(AO69=$H$21,5/8,NA())),NA())","v":{"$error":"#N/A"}},{"$f":"IF($W$17,IF(AO69=$G$26,1,IF(AO69=$H$21,6/8,NA())),NA())","v":{"$error":"#N/A"}},{"$f":"IF($W$17,IF(AO69=$J$26,1,IF(AO69=$H$21,7/8,NA())),NA())","v":{"$error":"#N/A"}},{"$error":"#N/A"},{"$error":"#N/A"},{"$error":"#N/A"},{"$f":"IF($W$17,IF(AO69=$H$27,0,IF(AO69=$H$23,4/8,NA())),NA())","v":{"$error":"#N/A"}},{"$error":"#N/A"},{"$error":"#N/A"},{"$error":"#N/A"},{"$error":"#N/A"},{"$f":"IF($W$17,IF(AO69=$N$26,1,IF(AO69=$H$22,1/8,NA())),NA())","v":{"$error":"#N/A"}},{"$f":"IF($W$17,IF(AO69=$H$28,1,IF(AO69=$H$22,2/8,NA())),NA())","v":{"$error":"#N/A"}},{"$f":"IF($W$17,IF(AO69=$K$28,1,IF(AO69=$H$22,3/8,NA())),NA())","v":{"$error":"#N/A"}},{"$f":"IF($W$17,IF(AO69=$H$27,1,IF(AO69=$H$22,4/8,NA())),NA())","v":{"$error":"#N/A"}},{"$f":"IF($W$17,IF(AO69=$K$27,1,IF(AO69=$H$22,5/8,NA())),NA())","v":{"$error":"#N/A"}},{"$f":"IF($W$17,IF(AO69=$H$26,1,IF(AO69=$H$22,6/8,NA())),NA())","v":{"$error":"#N/A"}},{"$f":"IF($W$17,IF(AO69=$K$26,1,IF(AO69=$H$22,7/8,NA())),NA())","v":{"$error":"#N/A"}},{"$f":"IF($W$20,IF(AO69=$J$26,0,IF(AO69=$H$21,1/8,NA())),NA())","v":{"$error":"#N/A"}},{"$f":"IF($W$20,IF(AO69=$G$26,0,IF(AO69=$H$21,2/8,NA())),NA())","v":{"$error":"#N/A"}},{"$f":"IF($W$20,IF(AO69=$J$27,0,IF(AO69=$H$21,3/8,NA())),NA())","v":{"$error":"#N/A"}},{"$f":"IF($W$20,IF(AO69=$G$27,0,IF(AO69=$H$21,4/8,NA())),NA())","v":{"$error":"#N/A"}},{"$f":"IF($W$20,IF(AO69=$J$28,0,IF(AO69=$H$21,5/8,NA())),NA())","v":{"$error":"#N/A"}},{"$f":"IF($W$20,IF(AO69=$G$28,0,IF(AO69=$H$21,6/8,NA())),NA())","v":{"$error":"#N/A"}},{"$f":"IF($W$20,IF(AO69=$M$26,0,IF(AO69=$H$21,7/8,NA())),NA())","v":{"$error":"#N/A"}},{"$error":"#N/A"},{"$error":"#N/A"},{"$error":"#N/A"},{"$error":"#N/A"},{"$f":"IF($W$20,IF(AO69=$G$27,1,IF(AO69=$H$22,4/8,NA())),NA())","v":{"$error":"#N/A"}},{"$error":"#N/A"},{"$error":"#N/A"},{"$error":"#N/A"},{"$f":"IF($W$20,IF(AO69=$K$26,0,IF(AO69=$H$22,1/8,NA())),NA())","v":{"$error":"#N/A"}},{"$f":"IF($W$20,IF(AO69=$H$26,0,IF(AO69=$H$22,2/8,NA())),NA())","v":{"$error":"#N/A"}},{"$f":"IF($W$20,IF(AO69=$K$27,0,IF(AO69=$H$22,3/8,NA())),NA())","v":{"$error":"#N/A"}},{"$f":"IF($W$20,IF(AO69=$H$27,0,IF(AO69=$H$22,4/8,NA())),NA())","v":{"$error":"#N/A"}},{"$f":"IF($W$20,IF(AO69=$K$28,0,IF(AO69=$H$22,5/8,NA())),NA())","v":{"$error":"#N/A"}},{"$f":"IF($W$20,IF(AO69=$H$28,0,IF(AO69=$H$22,6/8,NA())),NA())","v":{"$error":"#N/A"}},{"$f":"IF($W$20,IF(AO69=$N$26,0,IF(AO69=$H$22,7/8,NA())),NA())","v":{"$error":"#N/A"}},{"$error":"#N/A"},{"$error":"#N/A"},{"$error":"#N/A"},{"$error":"#N/A"},{"$f":"IF($W$20,IF(AO69=$H$27,1,IF(AO69=$H$23,4/8,NA())),NA())","v":{"$error":"#N/A"}},{"$error":"#N/A"},{"$error":"#N/A"},{"$error":"#N/A"}]
[{"$f":"+AO70","v":"2020-10-13"},{"$f":"VLOOKUP($A70,Data!$A$2:$E$150,2,FALSE)","v":10.350000381469728},{"$f":"VLOOKUP($A70,Data!$A$2:$E$150,3,FALSE)","v":10.574999809265137},{"$f":"VLOOKUP($A70,Data!$A$2:$E$150,4,FALSE)","v":10.140000343322754},{"$f":"VLOOKUP($A70,Data!$A$2:$E$150,5,FALSE)","v":10.529999732971191},null,"2021-11-25",0.25,{"$f":"+M50","v":"2020-10-27"},{"$f":"+M52","v":"2020-11-18"},{"$f":"+M54","v":"2020-12-11"},null,"2021-06-17","2021-02-10","2020-12-07",0.75,null,null,null,null,null,null,null,null,null,null,null,null,null,null,null,null,null,null,null,null,null,null,null,null,"2020-10-13",{"$error":"#N/A"},{"$error":"#N/A"},{"$error":"#N/A"},{"$error":"#N/A"},{"$error":"#N/A"},{"$error":"#N/A"},{"$error":"#N/A"},{"$error":"#N/A"},{"$error":"#N/A"},{"$error":"#N/A"},{"$error":"#N/A"},{"$error":"#N/A"},{"$error":"#N/A"},0,1,0.33333333333333331,0.66666666666666663,{"$error":"#N/A"},{"$error":"#N/A"},{"$error":"#N/A"},{"$error":"#N/A"},{"$error":"#N/A"},{"$error":"#N/A"},{"$error":"#N/A"},{"$error":"#N/A"},{"$error":"#N/A"},{"$error":"#N/A"},{"$error":"#N/A"},{"$error":"#N/A"},{"$error":"#N/A"},{"$error":"#N/A"},{"$error":"#N/A"},{"$error":"#N/A"},{"$error":"#N/A"},{"$error":"#N/A"},{"$error":"#N/A"},{"$error":"#N/A"},{"$error":"#N/A"},{"$error":"#N/A"},{"$error":"#N/A"},{"$error":"#N/A"},{"$error":"#N/A"},{"$error":"#N/A"},{"$error":"#N/A"},{"$error":"#N/A"},{"$error":"#N/A"},{"$error":"#N/A"},{"$error":"#N/A"},{"$error":"#N/A"},{"$error":"#N/A"},{"$error":"#N/A"},{"$error":"#N/A"},{"$error":"#N/A"},{"$error":"#N/A"},{"$error":"#N/A"},{"$error":"#N/A"},{"$error":"#N/A"},{"$error":"#N/A"},{"$error":"#N/A"},{"$error":"#N/A"},{"$error":"#N/A"},{"$error":"#N/A"},{"$error":"#N/A"},{"$error":"#N/A"},{"$error":"#N/A"},{"$error":"#N/A"},{"$error":"#N/A"},{"$error":"#N/A"},{"$error":"#N/A"},{"$error":"#N/A"},{"$error":"#N/A"},{"$error":"#N/A"},{"$error":"#N/A"},{"$error":"#N/A"},{"$error":"#N/A"},{"$error":"#N/A"},{"$error":"#N/A"},{"$error":"#N/A"},{"$error":"#N/A"},{"$error":"#N/A"},{"$error":"#N/A"},{"$error":"#N/A"},{"$error":"#N/A"},{"$error":"#N/A"},{"$error":"#N/A"},{"$error":"#N/A"},{"$error":"#N/A"},{"$error":"#N/A"},{"$error":"#N/A"},{"$error":"#N/A"},{"$error":"#N/A"},{"$error":"#N/A"},{"$error":"#N/A"},{"$error":"#N/A"},{"$error":"#N/A"},{"$error":"#N/A"},{"$error":"#N/A"},{"$error":"#N/A"},{"$error":"#N/A"},{"$error":"#N/A"},{"$error":"#N/A"},{"$error":"#N/A"},{"$error":"#N/A"},{"$error":"#N/A"},{"$error":"#N/A"}]
["2020-10-14",{"$f":"VLOOKUP($A71,Data!$A$2:$E$150,2,FALSE)","v":10.789999961853027},{"$f":"VLOOKUP($A71,Data!$A$2:$E$150,3,FALSE)","v":10.970000267028809},{"$f":"VLOOKUP($A71,Data!$A$2:$E$150,4,FALSE)","v":10.619999885559082},{"$f":"VLOOKUP($A71,Data!$A$2:$E$150,5,FALSE)","v":10.810000419616699},null,"2021-12-24",0.25,{"$f":"+M58","v":"2021-01-29"},{"$f":"+M60","v":"2021-02-23"},{"$f":"+M62","v":"2021-03-17"},null,"2021-06-29","2021-02-17","2020-12-09",0.875,null,null,0.5,null,null,null,null,null,null,null,null,null,null,null,null,null,null,null,null,null,null,null,null,null,"2020-10-14",{"$error":"#N/A"},{"$error":"#N/A"},{"$error":"#N/A"},{"$error":"#N/A"},{"$error":"#N/A"},{"$error":"#N/A"},{"$error":"#N/A"},{"$error":"#N/A"},{"$error":"#N/A"},{"$error":"#N/A"},{"$error":"#N/A"},{"$error":"#N/A"},{"$error":"#N/A"},0,1,0.33333333333333331,0.66666666666666663,{"$error":"#N/A"},{"$error":"#N/A"},{"$error":"#N/A"},{"$error":"#N/A"},{"$error":"#N/A"},{"$error":"#N/A"},{"$error":"#N/A"},{"$error":"#N/A"},{"$error":"#N/A"},{"$error":"#N/A"},{"$error":"#N/A"},{"$error":"#N/A"},{"$error":"#N/A"},{"$error":"#N/A"},{"$error":"#N/A"},{"$error":"#N/A"},{"$error":"#N/A"},{"$error":"#N/A"},{"$error":"#N/A"},{"$error":"#N/A"},{"$error":"#N/A"},{"$error":"#N/A"},{"$error":"#N/A"},{"$error":"#N/A"},{"$error":"#N/A"},{"$error":"#N/A"},{"$error":"#N/A"},{"$error":"#N/A"},{"$error":"#N/A"},{"$error":"#N/A"},{"$error":"#N/A"},{"$error":"#N/A"},{"$error":"#N/A"},{"$error":"#N/A"},{"$error":"#N/A"},{"$error":"#N/A"},{"$error":"#N/A"},{"$error":"#N/A"},{"$error":"#N/A"},{"$error":"#N/A"},{"$error":"#N/A"},{"$error":"#N/A"},{"$error":"#N/A"},{"$error":"#N/A"},{"$error":"#N/A"},{"$error":"#N/A"},{"$error":"#N/A"},{"$error":"#N/A"},{"$error":"#N/A"},{"$error":"#N/A"},{"$error":"#N/A"},{"$error":"#N/A"},{"$error":"#N/A"},{"$error":"#N/A"},{"$error":"#N/A"},{"$error":"#N/A"},{"$error":"#N/A"},{"$error":"#N/A"},{"$error":"#N/A"},{"$error":"#N/A"},{"$error":"#N/A"},{"$error":"#N/A"},{"$error":"#N/A"},{"$error":"#N/A"},{"$error":"#N/A"},{"$error":"#N/A"},{"$error":"#N/A"},{"$error":"#N/A"},{"$error":"#N/A"},{"$error":"#N/A"},{"$error":"#N/A"},{"$error":"#N/A"},{"$error":"#N/A"},{"$error":"#N/A"},{"$error":"#N/A"},{"$error":"#N/A"},{"$error":"#N/A"},{"$error":"#N/A"},{"$error":"#N/A"},{"$error":"#N/A"},{"$error":"#N/A"},{"$error":"#N/A"},{"$error":"#N/A"},{"$error":"#N/A"},{"$error":"#N/A"},{"$error":"#N/A"},{"$error":"#N/A"},{"$error":"#N/A"}]
["2020-10-15",{"$f":"VLOOKUP($A72,Data!$A$2:$E$150,2,FALSE)","v":10.470000267028809},{"$f":"VLOOKUP($A72,Data!$A$2:$E$150,3,FALSE)","v":10.720000267028809},{"$f":"VLOOKUP($A72,Data!$A$2:$E$150,4,FALSE)","v":10.449999809265137},{"$f":"VLOOKUP($A72,Data!$A$2:$E$150,5,FALSE)","v":10.710000038146973},null,null,0.25,{"$f":"+M66","v":"2021-05-03"},{"$f":"+M68","v":"2021-05-25"},{"$f":"+M70","v":"2021-06-17"},null,"2021-07-12","2021-02-23","2020-12-11",1,null,{"$f":"+M44","v":"2020-08-25"},{"$f":"+N44","v":"2020-09-17"},{"$f":"+O44","v":"2020-09-29"},null,null,null,null,null,null,null,null,null,null,null,null,null,null,null,null,null,null,null,null,"2020-10-15",{"$error":"#N/A"},{"$error":"#N/A"},{"$error":"#N/A"},{"$error":"#N/A"},{"$error":"#N/A"},{"$error":"#N/A"},{"$error":"#N/A"},{"$error":"#N/A"},{"$error":"#N/A"},{"$error":"#N/A"},{"$error":"#N/A"},{"$error":"#N/A"},1,0,1,0.33333333333333331,0.66666666666666663,{"$error":"#N/A"},{"$error":"#N/A"},{"$error":"#N/A"},{"$error":"#N/A"},{"$error":"#N/A"},{"$error":"#N/A"},{"$error":"#N/A"},{"$error":"#N/A"},{"$error":"#N/A"},{"$error":"#N/A"},{"$error":"#N/A"},{"$error":"#N/A"},{"$error":"#N/A"},{"$error":"#N/A"},{"$error":"#N/A"},{"$error":"#N/A"},{"$error":"#N/A"},{"$error":"#N/A"},{"$error":"#N/A"},{"$error":"#N/A"},{"$error":"#N/A"},{"$error":"#N/A"},{"$error":"#N/A"},{"$error":"#N/A"},{"$error":"#N/A"},{"$error":"#N/A"},{"$error":"#N/A"},{"$error":"#N/A"},{"$error":"#N/A"},{"$error":"#N/A"},{"$error":"#N/A"},{"$error":"#N/A"},{"$error":"#N/A"},{"$error":"#N/A"},{"$error":"#N/A"},{"$error":"#N/A"},{"$error":"#N/A"},{"$error":"#N/A"},{"$error":"#N/A"},{"$error":"#N/A"},{"$error":"#N/A"},{"$error":"#N/A"},{"$error":"#N/A"},{"$error":"#N/A"},{"$error":"#N/A"},{"$error":"#N/A"},{"$error":"#N/A"},{"$error":"#N/A"},{"$error":"#N/A"},0,{"$error":"#N/A"},{"$error":"#N/A"},{"$error":"#N/A"},{"$error":"#N/A"},{"$error":"#N/A"},{"$error":"#N/A"},{"$error":"#N/A"},1,{"$error":"#N/A"},{"$error":"#N/A"},{"$error":"#N/A"},{"$error":"#N/A"},{"$error":"#N/A"},{"$error":"#N/A"},{"$error":"#N/A"},{"$error":"#N/A"},{"$error":"#N/A"},{"$error":"#N/A"},{"$error":"#N/A"},{"$error":"#N/A"},{"$error":"#N/A"},{"$error":"#N/A"},{"$error":"#N/A"},{"$error":"#N/A"},{"$error":"#N/A"},{"$error":"#N/A"},{"$error":"#N/A"},{"$error":"#N/A"},{"$error":"#N/A"},{"$error":"#N/A"},{"$error":"#N/A"},{"$error":"#N/A"},{"$error":"#N/A"},{"$error":"#N/A"},{"$error":"#N/A"},{"$error":"#N/A"},{"$error":"#N/A"},{"$error":"#N/A"}]
["2020-10-16",{"$f":"VLOOKUP($A73,Data!$A$2:$E$150,2,FALSE)","v":10.789999961853027},{"$f":"VLOOKUP($A73,Data!$A$2:$E$150,3,FALSE)","v":10.810000419616699},{"$f":"VLOOKUP($A73,Data!$A$2:$E$150,4,FALSE)","v":10.470000267028809},{"$f":"VLOOKUP($A73,Data!$A$2:$E$150,5,FALSE)","v":10.510000228881836},null,null,0.25,{"$f":"+M74","v":"2021-08-03"},{"$f":"+M76","v":"2021-08-25"},{"$f":"+M78","v":"2021-09-17"},null,"2021-07-22","2021-03-01","2020-12-15",0.125,null,{"$f":"+M52","v":"2020-11-18"},{"$f":"+N52","v":"2020-10-27"},{"$f":"+O52","v":"2020-10-15"},null,null,null,null,null,null,null,null,null,null,null,null,null,null,null,null,null,null,null,null,"2020-10-16",{"$error":"#N/A"},{"$error":"#N/A"},{"$error":"#N/A"},{"$error":"#N/A"},{"$error":"#N/A"},{"$error":"#N/A"},{"$error":"#N/A"},{"$error":"#N/A"},{"$error":"#N/A"},{"$error":"#N/A"},{"$error":"#N/A"},{"$error":"#N/A"},{"$error":"#N/A"},0,1,0.33333333333333331,0.66666666666666663,{"$error":"#N/A"},{"$error":"#N/A"},{"$error":"#N/A"},{"$error":"#N/A"},{"$error":"#N/A"},{"$error":"#N/A"},{"$error":"#N/A"},{"$error":"#N/A"},{"$error":"#N/A"},{"$error":"#N/A"},{"$error":"#N/A"},{"$error":"#N/A"},{"$error":"#N/A"},{"$error":"#N/A"},{"$error":"#N/A"},{"$error":"#N/A"},{"$error":"#N/A"},{"$error":"#N/A"},{"$error":"#N/A"},{"$error":"#N/A"},{"$error":"#N/A"},{"$error":"#N/A"},{"$error":"#N/A"},{"$error":"#N/A"},{"$error":"#N/A"},{"$error":"#N/A"},{"$error":"#N/A"},{"$error":"#N/A"},{"$error":"#N/A"},{"$error":"#N/A"},{"$error":"#N/A"},{"$error":"#N/A"},{"$error":"#N/A"},{"$error":"#N/A"},{"$error":"#N/A"},{"$error":"#N/A"},{"$error":"#N/A"},{"$error":"#N/A"},{"$error":"#N/A"},{"$error":"#N/A"},{"$error":"#N/A"},{"$error":"#N/A"},{"$error":"#N/A"},{"$error":"#N/A"},{"$error":"#N/A"},{"$error":"#N/A"},{"$error":"#N/A"},{"$error":"#N/A"},{"$error":"#N/A"},{"$error":"#N/A"},{"$error":"#N/A"},{"$error":"#N/A"},{"$error":"#N/A"},{"$error":"#N/A"},{"$error":"#N/A"},{"$error":"#N/A"},{"$error":"#N/A"},{"$error":"#N/A"},{"$error":"#N/A"},{"$error":"#N/A"},{"$error":"#N/A"},{"$error":"#N/A"},{"$error":"#N/A"},{"$error":"#N/A"},{"$error":"#N/A"},{"$error":"#N/A"},{"$error":"#N/A"},{"$error":"#N/A"},{"$error":"#N/A"},{"$error":"#N/A"},{"$error":"#N/A"},{"$error":"#N/A"},{"$error":"#N/A"},{"$error":"#N/A"},{"$error":"#N/A"},{"$error":"#N/A"},{"$error":"#N/A"},{"$error":"#N/A"},{"$error":"#N/A"},{"$error":"#N/A"},{"$error":"#N/A"},{"$error":"#N/A"},{"$error":"#N/A"},{"$error":"#N/A"},{"$error":"#N/A"},{"$error":"#N/A"},{"$error":"#N/A"},{"$error":"#N/A"}]
["2020-10-19",{"$f":"VLOOKUP($A74,Data!$A$2:$E$150,2,FALSE)","v":10.670000076293944},{"$f":"VLOOKUP($A74,Data!$A$2:$E$150,3,FALSE)","v":10.819999694824221},{"$f":"VLOOKUP($A74,Data!$A$2:$E$150,4,FALSE)","v":10.319999694824221},{"$f":"VLOOKUP($A74,Data!$A$2:$E$150,5,FALSE)","v":10.350000381469728},null,null,0.25,null,null,null,null,"2021-08-03","2021-03-05","2020-12-17",0.25,null,{"$f":"+M60","v":"2021-02-23"},{"$f":"+N60","v":"2020-12-11"},{"$f":"+O60","v":"2020-11-06"},null,null,null,null,null,null,null,null,null,null,null,null,null,null,null,null,null,null,null,null,"2020-10-19",{"$error":"#N/A"},{"$error":"#N/A"},{"$error":"#N/A"},{"$error":"#N/A"},{"$error":"#N/A"},{"$error":"#N/A"},{"$error":"#N/A"},{"$error":"#N/A"},{"$error":"#N/A"},{"$error":"#N/A"},{"$error":"#N/A"},{"$error":"#N/A"},{"$error":"#N/A"},0,1,0.33333333333333331,0.66666666666666663,{"$error":"#N/A"},{"$error":"#N/A"},{"$error":"#N/A"},{"$error":"#N/A"},{"$error":"#N/A"},{"$error":"#N/A"},{"$error":"#N/A"},{"$error":"#N/A"},{"$error":"#N/A"},{"$error":"#N/A"},{"$error":"#N/A"},{"$error":"#N/A"},{"$error":"#N/A"},{"$error":"#N/A"},{"$error":"#N/A"},{"$error":"#N/A"},{"$error":"#N/A"},{"$error":"#N/A"},{"$error":"#N/A"},{"$error":"#N/A"},{"$error":"#N/A"},{"$error":"#N/A"},{"$error":"#N/A"},{"$error":"#N/A"},{"$error":"#N/A"},{"$error":"#N/A"},{"$error":"#N/A"},{"$error":"#N/A"},{"$error":"#N/A"},{"$error":"#N/A"},{"$error":"#N/A"},{"$error":"#N/A"},{"$error":"#N/A"},{"$error":"#N/A"},{"$error":"#N/A"},{"$error":"#N/A"},{"$error":"#N/A"},{"$error":"#N/A"},{"$error":"#N/A"},{"$error":"#N/A"},{"$error":"#N/A"},{"$error":"#N/A"},{"$error":"#N/A"},{"$error":"#N/A"},{"$error":"#N/A"},{"$error":"#N/A"},{"$error":"#N/A"},{"$error":"#N/A"},{"$error":"#N/A"},{"$error":"#N/A"},{"$error":"#N/A"},{"$error":"#N/A"},{"$error":"#N/A"},{"$error":"#N/A"},{"$error":"#N/A"},{"$error":"#N/A"},{"$error":"#N/A"},{"$error":"#N/A"},{"$error":"#N/A"},{"$error":"#N/A"},{"$error":"#N/A"},{"$error":"#N/A"},{"$error":"#N/A"},{"$error":"#N/A"},{"$error":"#N/A"},{"$error":"#N/A"},{"$error":"#N/A"},{"$error":"#N/A"},{"$error":"#N/A"},{"$error":"#N/A"},{"$error":"#N/A"},{"$error":"#N/A"},{"$error":"#N/A"},{"$error":"#N/A"},{"$error":"#N/A"},{"$error":"#N/A"},{"$error":"#N/A"},{"$error":"#N/A"},{"$error":"#N/A"},{"$error":"#N/A"},{"$error":"#N/A"},{"$error":"#N/A"},{"$error":"#N/A"},{"$error":"#N/A"},{"$error":"#N/A"},{"$error":"#N/A"},{"$error":"#N/A"},{"$error":"#N/A"}]
["2020-10-20",{"$f":"VLOOKUP($A75,Data!$A$2:$E$150,2,FALSE)","v":10.449999809265137},{"$f":"VLOOKUP($A75,Data!$A$2:$E$150,3,FALSE)","v":10.939999580383301},{"$f":"VLOOKUP($A75,Data!$A$2:$E$150,4,FALSE)","v":10.430000305175779},{"$f":"VLOOKUP($A75,Data!$A$2:$E$150,5,FALSE)","v":10.829999923706056},null,null,0.25,null,null,null,null,"2021-08-13","2021-03-11","2020-12-21",0.375,null,{"$f":"+M68","v":"2021-05-25"},{"$f":"+N68","v":"2021-01-29"},{"$f":"+O68","v":"2020-12-01"},null,null,null,null,null,null,null,null,null,null,null,null,null,null,null,null,null,null,null,null,"2020-10-20",{"$error":"#N/A"},{"$error":"#N/A"},{"$error":"#N/A"},{"$error":"#N/A"},{"$error":"#N/A"},{"$error":"#N/A"},{"$error":"#N/A"},{"$error":"#N/A"},{"$error":"#N/A"},{"$error":"#N/A"},{"$error":"#N/A"},{"$error":"#N/A"},{"$error":"#N/A"},0,1,0.33333333333333331,0.66666666666666663,{"$error":"#N/A"},{"$error":"#N/A"},{"$error":"#N/A"},{"$error":"#N/A"},{"$error":"#N/A"},{"$error":"#N/A"},{"$error":"#N/A"},{"$error":"#N/A"},{"$error":"#N/A"},{"$error":"#N/A"},{"$error":"#N/A"},{"$error":"#N/A"},{"$error":"#N/A"},{"$error":"#N/A"},{"$error":"#N/A"},{"$error":"#N/A"},{"$error":"#N/A"},{"$error":"#N/A"},{"$error":"#N/A"},{"$error":"#N/A"},{"$error":"#N/A"},{"$error":"#N/A"},{"$error":"#N/A"},{"$error":"#N/A"},{"$error":"#N/A"},{"$error":"#N/A"},{"$error":"#N/A"},{"$error":"#N/A"},{"$error":"#N/A"},{"$error":"#N/A"},{"$error":"#N/A"},{"$error":"#N/A"},{"$error":"#N/A"},{"$error":"#N/A"},{"$error":"#N/A"},{"$error":"#N/A"},{"$error":"#N/A"},{"$error":"#N/A"},{"$error":"#N/A"},{"$error":"#N/A"},{"$error":"#N/A"},{"$error":"#N/A"},{"$error":"#N/A"},{"$error":"#N/A"},{"$error":"#N/A"},{"$error":"#N/A"},{"$error":"#N/A"},{"$error":"#N/A"},{"$error":"#N/A"},{"$error":"#N/A"},{"$error":"#N/A"},{"$error":"#N/A"},{"$error":"#N/A"},{"$error":"#N/A"},{"$error":"#N/A"},{"$error":"#N/A"},{"$error":"#N/A"},{"$error":"#N/A"},{"$error":"#N/A"},{"$error":"#N/A"},{"$error":"#N/A"},{"$error":"#N/A"},{"$error":"#N/A"},{"$error":"#N/A"},{"$error":"#N/A"},{"$error":"#N/A"},{"$error":"#N/A"},{"$error":"#N/A"},{"$error":"#N/A"},{"$error":"#N/A"},{"$error":"#N/A"},{"$error":"#N/A"},{"$error":"#N/A"},{"$error":"#N/A"},{"$error":"#N/A"},{"$error":"#N/A"},{"$error":"#N/A"},{"$error":"#N/A"},{"$error":"#N/A"},{"$error":"#N/A"},{"$error":"#N/A"},{"$error":"#N/A"},{"$error":"#N/A"},{"$error":"#N/A"},{"$error":"#N/A"},{"$error":"#N/A"},{"$error":"#N/A"},{"$error":"#N/A"}]
["2020-10-21",{"$f":"VLOOKUP($A76,Data!$A$2:$E$150,2,FALSE)","v":11.029999732971191},{"$f":"VLOOKUP($A76,Data!$A$2:$E$150,3,FALSE)","v":11.265000343322754},{"$f":"VLOOKUP($A76,Data!$A$2:$E$150,4,FALSE)","v":10.885000228881836},{"$f":"VLOOKUP($A76,Data!$A$2:$E$150,5,FALSE)","v":11.119999885559082},null,null,0.25,0.125,0.375,0.625,null,"2021-08-25","2021-03-17","2020-12-23",0.5,null,{"$f":"+M76","v":"2021-08-25"},{"$f":"+N76","v":"2021-03-17"},{"$f":"+O76","v":"2020-12-23"},null,null,null,null,null,null,null,null,null,null,null,null,null,null,null,null,null,null,null,null,"2020-10-21",{"$error":"#N/A"},{"$error":"#N/A"},{"$error":"#N/A"},{"$error":"#N/A"},{"$error":"#N/A"},{"$error":"#N/A"},{"$error":"#N/A"},{"$error":"#N/A"},{"$error":"#N/A"},{"$error":"#N/A"},{"$error":"#N/A"},{"$error":"#N/A"},{"$error":"#N/A"},0,1,0.33333333333333331,0.66666666666666663,{"$error":"#N/A"},{"$error":"#N/A"},{"$error":"#N/A"},{"$error":"#N/A"},{"$error":"#N/A"},{"$error":"#N/A"},{"$error":"#N/A"},{"$error":"#N/A"},{"$error":"#N/A"},{"$error":"#N/A"},{"$error":"#N/A"},{"$error":"#N/A"},{"$error":"#N/A"},{"$error":"#N/A"},{"$error":"#N/A"},{"$error":"#N/A"},{"$error":"#N/A"},{"$error":"#N/A"},{"$error":"#N/A"},{"$error":"#N/A"},{"$error":"#N/A"},{"$error":"#N/A"},{"$error":"#N/A"},{"$error":"#N/A"},{"$error":"#N/A"},{"$error":"#N/A"},{"$error":"#N/A"},{"$error":"#N/A"},{"$error":"#N/A"},{"$error":"#N/A"},{"$error":"#N/A"},{"$error":"#N/A"},{"$error":"#N/A"},{"$error":"#N/A"},{"$error":"#N/A"},{"$error":"#N/A"},{"$error":"#N/A"},{"$error":"#N/A"},{"$error":"#N/A"},{"$error":"#N/A"},{"$error":"#N/A"},{"$error":"#N/A"},{"$error":"#N/A"},{"$error":"#N/A"},{"$error":"#N/A"},{"$error":"#N/A"},{"$error":"#N/A"},{"$error":"#N/A"},{"$error":"#N/A"},{"$error":"#N/A"},{"$error":"#N/A"},{"$error":"#N/A"},{"$error":"#N/A"},{"$error":"#N/A"},{"$error":"#N/A"},{"$error":"#N/A"},{"$error":"#N/A"},{"$error":"#N/A"},{"$error":"#N/A"},{"$error":"#N/A"},{"$error":"#N/A"},{"$error":"#N/A"},{"$error":"#N/A"},{"$error":"#N/A"},{"$error":"#N/A"},{"$error":"#N/A"},{"$error":"#N/A"},{"$error":"#N/A"},{"$error":"#N/A"},{"$error":"#N/A"},{"$error":"#N/A"},{"$error":"#N/A"},{"$error":"#N/A"},{"$error":"#N/A"},{"$error":"#N/A"},{"$error":"#N/A"},{"$error":"#N/A"},{"$error":"#N/A"},{"$error":"#N/A"},{"$error":"#N/A"},{"$error":"#N/A"},{"$error":"#N/A"},{"$error":"#N/A"},{"$error":"#N/A"},{"$error":"#N/A"},{"$error":"#N/A"},{"$error":"#N/A"},{"$error":"#N/A"}]
["2020-10-22",{"$f":"VLOOKUP($A77,Data!$A$2:$E$150,2,FALSE)","v":10.899999618530272},{"$f":"VLOOKUP($A77,Data!$A$2:$E$150,3,FALSE)","v":10.960000038146973},{"$f":"VLOOKUP($A77,Data!$A$2:$E$150,4,FALSE)","v":10.649999618530272},{"$f":"VLOOKUP($A77,Data!$A$2:$E$150,5,FALSE)","v":10.930000305175779},null,null,0.25,{"$f":"+M33","v":"2020-04-22"},{"$f":"+M35","v":"2020-05-14"},{"$f":"+M37","v":"2020-06-08"},null,"2021-09-07","2021-03-23","2020-12-28",0.625,null,null,{"$f":"+N84","v":"2021-05-03"},{"$f":"+O84","v":"2021-01-19"},null,null,null,null,null,null,null,null,null,null,null,null,null,null,null,null,null,null,null,null,"2020-10-22",{"$error":"#N/A"},{"$error":"#N/A"},{"$error":"#N/A"},{"$error":"#N/A"},{"$error":"#N/A"},{"$error":"#N/A"},{"$error":"#N/A"},{"$error":"#N/A"},{"$error":"#N/A"},{"$error":"#N/A"},{"$error":"#N/A"},{"$error":"#N/A"},{"$error":"#N/A"},0,1,0.33333333333333331,0.66666666666666663,{"$error":"#N/A"},{"$error":"#N/A"},{"$error":"#N/A"},{"$error":"#N/A"},{"$error":"#N/A"},{"$error":"#N/A"},{"$error":"#N/A"},{"$error":"#N/A"},{"$error":"#N/A"},{"$error":"#N/A"},{"$error":"#N/A"},{"$error":"#N/A"},{"$error":"#N/A"},{"$error":"#N/A"},{"$error":"#N/A"},{"$error":"#N/A"},{"$error":"#N/A"},{"$error":"#N/A"},{"$error":"#N/A"},{"$error":"#N/A"},{"$error":"#N/A"},{"$error":"#N/A"},{"$error":"#N/A"},{"$error":"#N/A"},{"$error":"#N/A"},{"$error":"#N/A"},{"$error":"#N/A"},{"$error":"#N/A"},{"$error":"#N/A"},{"$error":"#N/A"},{"$error":"#N/A"},{"$error":"#N/A"},{"$error":"#N/A"},{"$error":"#N/A"},{"$error":"#N/A"},{"$error":"#N/A"},{"$error":"#N/A"},{"$error":"#N/A"},{"$error":"#N/A"},{"$error":"#N/A"},{"$error":"#N/A"},{"$error":"#N/A"},{"$error":"#N/A"},{"$error":"#N/A"},{"$error":"#N/A"},{"$error":"#N/A"},{"$error":"#N/A"},{"$error":"#N/A"},{"$error":"#N/A"},{"$error":"#N/A"},{"$error":"#N/A"},{"$error":"#N/A"},{"$error":"#N/A"},{"$error":"#N/A"},{"$error":"#N/A"},{"$error":"#N/A"},{"$error":"#N/A"},{"$error":"#N/A"},{"$error":"#N/A"},{"$error":"#N/A"},{"$error":"#N/A"},{"$error":"#N/A"},{"$error":"#N/A"},{"$error":"#N/A"},{"$error":"#N/A"},{"$error":"#N/A"},{"$error":"#N/A"},{"$error":"#N/A"},{"$error":"#N/A"},{"$error":"#N/A"},{"$error":"#N/A"},{"$error":"#N/A"},{"$error":"#N/A"},{"$error":"#N/A"},{"$error":"#N/A"},{"$error":"#N/A"},{"$error":"#N/A"},{"$error":"#N/A"},{"$error":"#N/A"},{"$error":"#N/A"},{"$error":"#N/A"},{"$error":"#N/A"},{"$error":"#N/A"},{"$error":"#N/A"},{"$error":"#N/A"},{"$error":"#N/A"},{"$error":"#N/A"},{"$error":"#N/A"}]
["2020-10-23",{"$f":"VLOOKUP($A78,Data!$A$2:$E$150,2,FALSE)","v":10.869999885559082},{"$f":"VLOOKUP($A78,Data!$A$2:$E$150,3,FALSE)","v":11.020000457763672},{"$f":"VLOOKUP($A78,Data!$A$2:$E$150,4,FALSE)","v":10.770000457763672},{"$f":"VLOOKUP($A78,Data!$A$2:$E$150,5,FALSE)","v":10.979999542236328},null,null,0.25,{"$f":"+M41","v":"2020-07-22"},{"$f":"+M43","v":"2020-08-13"},{"$f":"+M45","v":"2020-09-04"},null,"2021-09-17","2021-03-29","2020-12-30",0.75,null,null,{"$f":"+N92","v":"2021-06-17"},{"$f":"+O92","v":"2021-02-10"},null,null,null,null,null,null,null,null,null,null,null,null,null,null,null,null,null,null,null,null,"2020-10-23",{"$error":"#N/A"},{"$error":"#N/A"},{"$error":"#N/A"},{"$error":"#N/A"},{"$error":"#N/A"},{"$error":"#N/A"},{"$error":"#N/A"},{"$error":"#N/A"},{"$error":"#N/A"},{"$error":"#N/A"},{"$error":"#N/A"},{"$error":"#N/A"},{"$error":"#N/A"},0,1,0.33333333333333331,0.66666666666666663,{"$error":"#N/A"},{"$error":"#N/A"},{"$error":"#N/A"},{"$error":"#N/A"},{"$error":"#N/A"},{"$error":"#N/A"},{"$error":"#N/A"},{"$error":"#N/A"},{"$error":"#N/A"},{"$error":"#N/A"},{"$error":"#N/A"},{"$error":"#N/A"},{"$error":"#N/A"},{"$error":"#N/A"},{"$error":"#N/A"},{"$error":"#N/A"},{"$error":"#N/A"},{"$error":"#N/A"},{"$error":"#N/A"},{"$error":"#N/A"},{"$error":"#N/A"},{"$error":"#N/A"},{"$error":"#N/A"},{"$error":"#N/A"},{"$error":"#N/A"},{"$error":"#N/A"},{"$error":"#N/A"},{"$error":"#N/A"},{"$error":"#N/A"},{"$error":"#N/A"},{"$error":"#N/A"},{"$error":"#N/A"},{"$error":"#N/A"},{"$error":"#N/A"},{"$error":"#N/A"},{"$error":"#N/A"},{"$error":"#N/A"},{"$error":"#N/A"},{"$error":"#N/A"},{"$error":"#N/A"},{"$error":"#N/A"},{"$error":"#N/A"},{"$error":"#N/A"},{"$error":"#N/A"},{"$error":"#N/A"},{"$error":"#N/A"},{"$error":"#N/A"},{"$error":"#N/A"},{"$error":"#N/A"},{"$error":"#N/A"},{"$error":"#N/A"},{"$error":"#N/A"},{"$error":"#N/A"},{"$error":"#N/A"},{"$error":"#N/A"},{"$error":"#N/A"},{"$error":"#N/A"},{"$error":"#N/A"},{"$error":"#N/A"},{"$error":"#N/A"},{"$error":"#N/A"},{"$error":"#N/A"},{"$error":"#N/A"},{"$error":"#N/A"},{"$error":"#N/A"},{"$error":"#N/A"},{"$error":"#N/A"},{"$error":"#N/A"},{"$error":"#N/A"},{"$error":"#N/A"},{"$error":"#N/A"},{"$error":"#N/A"},{"$error":"#N/A"},{"$error":"#N/A"},{"$error":"#N/A"},{"$error":"#N/A"},{"$error":"#N/A"},{"$error":"#N/A"},{"$error":"#N/A"},{"$error":"#N/A"},{"$error":"#N/A"},{"$error":"#N/A"},{"$error":"#N/A"},{"$error":"#N/A"},{"$error":"#N/A"},{"$error":"#N/A"},{"$error":"#N/A"},{"$error":"#N/A"}]
["2020-10-26",{"$f":"VLOOKUP($A79,Data!$A$2:$E$150,2,FALSE)","v":10.810000419616699},{"$f":"VLOOKUP($A79,Data!$A$2:$E$150,3,FALSE)","v":11.050000190734863},{"$f":"VLOOKUP($A79,Data!$A$2:$E$150,4,FALSE)","v":10.579999923706056},{"$f":"VLOOKUP($A79,Data!$A$2:$E$150,5,FALSE)","v":10.609999656677246},null,null,0.25,{"$f":"+M49","v":"2020-10-15"},{"$f":"+M51","v":"2020-11-06"},{"$f":"+M53","v":"2020-12-01"},null,"2021-09-29","2021-04-05","2021-01-04",0.875,null,null,{"$f":"+N100","v":"2021-08-03"},{"$f":"+O100","v":"2021-03-05"},null,null,null,null,null,null,null,null,null,null,null,null,null,null,null,null,null,null,null,null,"2020-10-26",{"$error":"#N/A"},{"$error":"#N/A"},{"$error":"#N/A"},{"$error":"#N/A"},{"$error":"#N/A"},{"$error":"#N/A"},{"$error":"#N/A"},{"$error":"#N/A"},{"$error":"#N/A"},{"$error":"#N/A"},{"$error":"#N/A"},{"$error":"#N/A"},{"$error":"#N/A"},0,1,0.33333333333333331,0.66666666666666663,{"$error":"#N/A"},{"$error":"#N/A"},{"$error":"#N/A"},{"$error":"#N/A"},{"$error":"#N/A"},{"$error":"#N/A"},{"$error":"#N/A"},{"$error":"#N/A"},{"$error":"#N/A"},{"$error":"#N/A"},{"$error":"#N/A"},{"$error":"#N/A"},{"$error":"#N/A"},{"$error":"#N/A"},{"$error":"#N/A"},{"$error":"#N/A"},{"$error":"#N/A"},{"$error":"#N/A"},{"$error":"#N/A"},{"$error":"#N/A"},{"$error":"#N/A"},{"$error":"#N/A"},{"$error":"#N/A"},{"$error":"#N/A"},{"$error":"#N/A"},{"$error":"#N/A"},{"$error":"#N/A"},{"$error":"#N/A"},{"$error":"#N/A"},{"$error":"#N/A"},{"$error":"#N/A"},{"$error":"#N/A"},{"$error":"#N/A"},{"$error":"#N/A"},{"$error":"#N/A"},{"$error":"#N/A"},{"$error":"#N/A"},{"$error":"#N/A"},{"$error":"#N/A"},{"$error":"#N/A"},{"$error":"#N/A"},{"$error":"#N/A"},{"$error":"#N/A"},{"$error":"#N/A"},{"$error":"#N/A"},{"$error":"#N/A"},{"$error":"#N/A"},{"$error":"#N/A"},{"$error":"#N/A"},{"$error":"#N/A"},{"$error":"#N/A"},{"$error":"#N/A"},{"$error":"#N/A"},{"$error":"#N/A"},{"$error":"#N/A"},{"$error":"#N/A"},{"$error":"#N/A"},{"$error":"#N/A"},{"$error":"#N/A"},{"$error":"#N/A"},{"$error":"#N/A"},{"$error":"#N/A"},{"$error":"#N/A"},{"$error":"#N/A"},{"$error":"#N/A"},{"$error":"#N/A"},{"$error":"#N/A"},{"$error":"#N/A"},{"$error":"#N/A"},{"$error":"#N/A"},{"$error":"#N/A"},{"$error":"#N/A"},{"$error":"#N/A"},{"$error":"#N/A"},{"$error":"#N/A"},{"$error":"#N/A"},{"$error":"#N/A"},{"$error":"#N/A"},{"$error":"#N/A"},{"$error":"#N/A"},{"$error":"#N/A"},{"$error":"#N/A"},{"$error":"#N/A"},{"$error":"#N/A"},{"$error":"#N/A"},{"$error":"#N/A"},{"$error":"#N/A"},{"$error":"#N/A"}]
["2020-10-27",{"$f":"VLOOKUP($A80,Data!$A$2:$E$150,2,FALSE)","v":10.609999656677246},{"$f":"VLOOKUP($A80,Data!$A$2:$E$150,3,FALSE)","v":10.920000076293944},{"$f":"VLOOKUP($A80,Data!$A$2:$E$150,4,FALSE)","v":10.5},{"$f":"VLOOKUP($A80,Data!$A$2:$E$150,5,FALSE)","v":10.899999618530272},null,null,0.25,{"$f":"+M57","v":"2021-01-19"},{"$f":"+M59","v":"2021-02-10"},{"$f":"+M61","v":"2021-03-05"},null,"2021-10-05","2021-04-09","2021-01-06",1,null,null,{"$f":"+N108","v":"2021-09-17"},{"$f":"+O108","v":"2021-03-29"},null,null,null,null,null,null,null,null,null,null,null,null,null,null,null,null,null,null,null,null,"2020-10-27",-0.25,-0.25,0.25,0.25,0.75,0.75,1.25,1.25,{"$error":"#N/A"},{"$error":"#N/A"},{"$error":"#N/A"},1.125,1,0,1,0.33333333333333331,0.66666666666666663,{"$error":"#N/A"},{"$error":"#N/A"},{"$error":"#N/A"},{"$error":"#N/A"},{"$error":"#N/A"},{"$error":"#N/A"},{"$error":"#N/A"},1,{"$error":"#N/A"},{"$error":"#N/A"},{"$error":"#N/A"},{"$error":"#N/A"},{"$error":"#N/A"},{"$error":"#N/A"},{"$error":"#N/A"},{"$error":"#N/A"},{"$error":"#N/A"},{"$error":"#N/A"},{"$error":"#N/A"},{"$error":"#N/A"},{"$error":"#N/A"},{"$error":"#N/A"},{"$error":"#N/A"},{"$error":"#N/A"},{"$error":"#N/A"},{"$error":"#N/A"},{"$error":"#N/A"},{"$error":"#N/A"},{"$error":"#N/A"},{"$error":"#N/A"},{"$error":"#N/A"},{"$error":"#N/A"},{"$error":"#N/A"},{"$error":"#N/A"},{"$error":"#N/A"},{"$error":"#N/A"},{"$error":"#N/A"},{"$error":"#N/A"},{"$error":"#N/A"},{"$error":"#N/A"},{"$error":"#N/A"},{"$error":"#N/A"},{"$error":"#N/A"},{"$error":"#N/A"},{"$error":"#N/A"},{"$error":"#N/A"},{"$error":"#N/A"},{"$error":"#N/A"},0,{"$error":"#N/A"},{"$error":"#N/A"},{"$error":"#N/A"},{"$error":"#N/A"},{"$error":"#N/A"},{"$error":"#N/A"},{"$error":"#N/A"},1,{"$error":"#N/A"},{"$error":"#N/A"},{"$error":"#N/A"},{"$error":"#N/A"},{"$error":"#N/A"},{"$error":"#N/A"},{"$error":"#N/A"},{"$error":"#N/A"},{"$error":"#N/A"},{"$error":"#N/A"},{"$error":"#N/A"},{"$error":"#N/A"},{"$error":"#N/A"},{"$error":"#N/A"},{"$error":"#N/A"},{"$error":"#N/A"},{"$error":"#N/A"},{"$error":"#N/A"},{"$error":"#N/A"},{"$error":"#N/A"},{"$error":"#N/A"},{"$error":"#N/A"},{"$error":"#N/A"},{"$error":"#N/A"},{"$error":"#N/A"},{"$error":"#N/A"},{"$error":"#N/A"},{"$error":"#N/A"},{"$error":"#N/A"},{"$error":"#N/A"},{"$error":"#N/A"}]
["2020-10-28",{"$f":"VLOOKUP($A81,Data!$A$2:$E$150,2,FALSE)","v":{"$error":"#N/A"}},{"$f":"VLOOKUP($A81,Data!$A$2:$E$150,3,FALSE)","v":{"$error":"#N/A"}},{"$f":"VLOOKUP($A81,Data!$A$2:$E$150,4,FALSE)","v":{"$error":"#N/A"}},{"$f":"VLOOKUP($A81,Data!$A$2:$E$150,5,FALSE)","v":{"$error":"#N/A"}},null,null,null,{"$f":"+M65","v":"2021-04-21"},{"$f":"+M67","v":"2021-05-13"},{"$f":"+M69","v":"2021-06-07"},null,null,"2021-04-15","2021-01-08",0.125,null,null,null,{"$f":"+O116","v":"2021-04-21"},null,null,null,null,null,null,null,null,null,null,null,null,null,null,null,null,null,null,null,null,"2020-10-28",{"$error":"#N/A"},{"$error":"#N/A"},{"$error":"#N/A"},{"$error":"#N/A"},{"$error":"#N/A"},{"$error":"#N/A"},{"$error":"#N/A"},{"$error":"#N/A"},{"$error":"#N/A"},{"$error":"#N/A"},{"$error":"#N/A"},{"$error":"#N/A"},{"$error":"#N/A"},0,1,0.33333333333333331,0.66666666666666663,{"$error":"#N/A"},{"$error":"#N/A"},{"$error":"#N/A"},{"$error":"#N/A"},{"$error":"#N/A"},{"$error":"#N/A"},{"$error":"#N/A"},{"$error":"#N/A"},{"$error":"#N/A"},{"$error":"#N/A"},{"$error":"#N/A"},{"$error":"#N/A"},{"$error":"#N/A"},{"$error":"#N/A"},{"$error":"#N/A"},{"$error":"#N/A"},{"$error":"#N/A"},{"$error":"#N/A"},{"$error":"#N/A"},{"$error":"#N/A"},{"$error":"#N/A"},{"$error":"#N/A"},{"$error":"#N/A"},{"$error":"#N/A"},{"$error":"#N/A"},{"$error":"#N/A"},{"$error":"#N/A"},{"$error":"#N/A"},{"$error":"#N/A"},{"$error":"#N/A"},{"$error":"#N/A"},{"$error":"#N/A"},{"$error":"#N/A"},{"$error":"#N/A"},{"$error":"#N/A"},{"$error":"#N/A"},{"$error":"#N/A"},{"$error":"#N/A"},{"$error":"#N/A"},{"$error":"#N/A"},{"$error":"#N/A"},{"$error":"#N/A"},{"$error":"#N/A"},{"$error":"#N/A"},{"$error":"#N/A"},{"$error":"#N/A"},{"$error":"#N/A"},{"$error":"#N/A"},{"$error":"#N/A"},{"$error":"#N/A"},{"$error":"#N/A"},{"$error":"#N/A"},{"$error":"#N/A"},{"$error":"#N/A"},{"$error":"#N/A"},{"$error":"#N/A"},{"$error":"#N/A"},{"$error":"#N/A"},{"$error":"#N/A"},{"$error":"#N/A"},{"$error":"#N/A"},{"$error":"#N/A"},{"$error":"#N/A"},{"$error":"#N/A"},{"$error":"#N/A"},{"$error":"#N/A"},{"$error":"#N/A"},{"$error":"#N/A"},{"$error":"#N/A"},{"$error":"#N/A"},{"$error":"#N/A"},{"$error":"#N/A"},{"$error":"#N/A"},{"$error":"#N/A"},{"$error":"#N/A"},{"$error":"#N/A"},{"$error":"#N/A"},{"$error":"#N/A"},{"$error":"#N/A"},{"$error":"#N/A"},{"$error":"#N/A"},{"$error":"#N/A"},{"$error":"#N/A"},{"$error":"#N/A"},{"$error":"#N/A"},{"$error":"#N/A"},{"$error":"#N/A"},{"$error":"#N/A"}]
["2020-10-29",{"$f":"VLOOKUP($A82,Data!$A$2:$E$150,2,FALSE)","v":{"$error":"#N/A"}},{"$f":"VLOOKUP($A82,Data!$A$2:$E$150,3,FALSE)","v":{"$error":"#N/A"}},{"$f":"VLOOKUP($A82,Data!$A$2:$E$150,4,FALSE)","v":{"$error":"#N/A"}},{"$f":"VLOOKUP($A82,Data!$A$2:$E$150,5,FALSE)","v":{"$error":"#N/A"}},null,null,null,{"$f":"+M73","v":"2021-07-22"},{"$f":"+M75","v":"2021-08-13"},{"$f":"+M77","v":"2021-09-07"},null,null,"2021-04-21","2021-01-12",0.25,null,null,null,{"$f":"+O124","v":"2021-05-13"},null,null,null,null,null,null,null,null,null,null,null,null,null,null,null,null,null,null,null,null,"2020-10-29",{"$error":"#N/A"},{"$error":"#N/A"},{"$error":"#N/A"},{"$error":"#N/A"},{"$error":"#N/A"},{"$error":"#N/A"},{"$error":"#N/A"},{"$error":"#N/A"},{"$error":"#N/A"},{"$error":"#N/A"},{"$error":"#N/A"},{"$error":"#N/A"},{"$error":"#N/A"},0,1,0.33333333333333331,0.66666666666666663,{"$error":"#N/A"},{"$error":"#N/A"},{"$error":"#N/A"},{"$error":"#N/A"},{"$error":"#N/A"},{"$error":"#N/A"},{"$error":"#N/A"},{"$error":"#N/A"},{"$error":"#N/A"},{"$error":"#N/A"},{"$error":"#N/A"},{"$error":"#N/A"},{"$error":"#N/A"},{"$error":"#N/A"},{"$error":"#N/A"},{"$error":"#N/A"},{"$error":"#N/A"},{"$error":"#N/A"},{"$error":"#N/A"},{"$error":"#N/A"},{"$error":"#N/A"},{"$error":"#N/A"},{"$error":"#N/A"},{"$error":"#N/A"},{"$error":"#N/A"},{"$error":"#N/A"},{"$error":"#N/A"},{"$error":"#N/A"},{"$error":"#N/A"},{"$error":"#N/A"},{"$error":"#N/A"},{"$error":"#N/A"},{"$error":"#N/A"},{"$error":"#N/A"},{"$error":"#N/A"},{"$error":"#N/A"},{"$error":"#N/A"},{"$error":"#N/A"},{"$error":"#N/A"},{"$error":"#N/A"},{"$error":"#N/A"},{"$error":"#N/A"},{"$error":"#N/A"},{"$error":"#N/A"},{"$error":"#N/A"},{"$error":"#N/A"},{"$error":"#N/A"},{"$error":"#N/A"},{"$error":"#N/A"},{"$error":"#N/A"},{"$error":"#N/A"},{"$error":"#N/A"},{"$error":"#N/A"},{"$error":"#N/A"},{"$error":"#N/A"},{"$error":"#N/A"},{"$error":"#N/A"},{"$error":"#N/A"},{"$error":"#N/A"},{"$error":"#N/A"},{"$error":"#N/A"},{"$error":"#N/A"},{"$error":"#N/A"},{"$error":"#N/A"},{"$error":"#N/A"},{"$error":"#N/A"},{"$error":"#N/A"},{"$error":"#N/A"},{"$error":"#N/A"},{"$error":"#N/A"},{"$error":"#N/A"},{"$error":"#N/A"},{"$error":"#N/A"},{"$error":"#N/A"},{"$error":"#N/A"},{"$error":"#N/A"},{"$error":"#N/A"},{"$error":"#N/A"},{"$error":"#N/A"},{"$error":"#N/A"},{"$error":"#N/A"},{"$error":"#N/A"},{"$error":"#N/A"},{"$error":"#N/A"},{"$error":"#N/A"},{"$error":"#N/A"},{"$error":"#N/A"},{"$error":"#N/A"}]
["2020-10-30",{"$f":"VLOOKUP($A83,Data!$A$2:$E$150,2,FALSE)","v":{"$error":"#N/A"}},{"$f":"VLOOKUP($A83,Data!$A$2:$E$150,3,FALSE)","v":{"$error":"#N/A"}},{"$f":"VLOOKUP($A83,Data!$A$2:$E$150,4,FALSE)","v":{"$error":"#N/A"}},{"$f":"VLOOKUP($A83,Data!$A$2:$E$150,5,FALSE)","v":{"$error":"#N/A"}},null,null,null,null,null,null,null,null,"2021-04-27","2021-01-14",0.375,null,null,null,{"$f":"+O140","v":"2021-06-29"},null,null,null,null,null,null,null,null,null,null,null,null,null,null,null,null,null,null,null,null,"2020-10-30",{"$error":"#N/A"},{"$error":"#N/A"},{"$error":"#N/A"},{"$error":"#N/A"},{"$error":"#N/A"},{"$error":"#N/A"},{"$error":"#N/A"},{"$error":"#N/A"},{"$error":"#N/A"},{"$error":"#N/A"},{"$error":"#N/A"},{"$error":"#N/A"},{"$error":"#N/A"},0,1,0.33333333333333331,0.66666666666666663,{"$error":"#N/A"},{"$error":"#N/A"},{"$error":"#N/A"},{"$error":"#N/A"},{"$error":"#N/A"},{"$error":"#N/A"},{"$error":"#N/A"},{"$error":"#N/A"},{"$error":"#N/A"},{"$error":"#N/A"},{"$error":"#N/A"},{"$error":"#N/A"},{"$error":"#N/A"},{"$error":"#N/A"},{"$error":"#N/A"},{"$error":"#N/A"},{"$error":"#N/A"},{"$error":"#N/A"},{"$error":"#N/A"},{"$error":"#N/A"},{"$error":"#N/A"},{"$error":"#N/A"},{"$error":"#N/A"},{"$error":"#N/A"},{"$error":"#N/A"},{"$error":"#N/A"},{"$error":"#N/A"},{"$error":"#N/A"},{"$error":"#N/A"},{"$error":"#N/A"},{"$error":"#N/A"},{"$error":"#N/A"},{"$error":"#N/A"},{"$error":"#N/A"},{"$error":"#N/A"},{"$error":"#N/A"},{"$error":"#N/A"},{"$error":"#N/A"},{"$error":"#N/A"},{"$error":"#N/A"},{"$error":"#N/A"},{"$error":"#N/A"},{"$error":"#N/A"},{"$error":"#N/A"},{"$error":"#N/A"},{"$error":"#N/A"},{"$error":"#N/A"},{"$error":"#N/A"},{"$error":"#N/A"},{"$error":"#N/A"},{"$error":"#N/A"},{"$error":"#N/A"},{"$error":"#N/A"},{"$error":"#N/A"},{"$error":"#N/A"},{"$error":"#N/A"},{"$error":"#N/A"},{"$error":"#N/A"},{"$error":"#N/A"},{"$error":"#N/A"},{"$error":"#N/A"},{"$error":"#N/A"},{"$error":"#N/A"},{"$error":"#N/A"},{"$error":"#N/A"},{"$error":"#N/A"},{"$error":"#N/A"},{"$error":"#N/A"},{"$error":"#N/A"},{"$error":"#N/A"},{"$error":"#N/A"},{"$error":"#N/A"},{"$error":"#N/A"},{"$error":"#N/A"},{"$error":"#N/A"},{"$error":"#N/A"},{"$error":"#N/A"},{"$error":"#N/A"},{"$error":"#N/A"},{"$error":"#N/A"},{"$error":"#N/A"},{"$error":"#N/A"},{"$error":"#N/A"},{"$error":"#N/A"},{"$error":"#N/A"},{"$error":"#N/A"},{"$error":"#N/A"},{"$error":"#N/A"}]
["2020-11-02",{"$f":"VLOOKUP($A84,Data!$A$2:$E$150,2,FALSE)","v":{"$error":"#N/A"}},{"$f":"VLOOKUP($A84,Data!$A$2:$E$150,3,FALSE)","v":{"$error":"#N/A"}},{"$f":"VLOOKUP($A84,Data!$A$2:$E$150,4,FALSE)","v":{"$error":"#N/A"}},{"$f":"VLOOKUP($A84,Data!$A$2:$E$150,5,FALSE)","v":{"$error":"#N/A"}},null,null,null,null,null,null,null,null,"2021-05-03","2021-01-19",0.5,null,null,null,{"$f":"+O148","v":"2021-07-22"},null,null,null,null,null,null,null,null,null,null,null,null,null,null,null,null,null,null,null,null,"2020-11-02",{"$error":"#N/A"},{"$error":"#N/A"},{"$error":"#N/A"},{"$error":"#N/A"},{"$error":"#N/A"},{"$error":"#N/A"},{"$error":"#N/A"},{"$error":"#N/A"},{"$error":"#N/A"},{"$error":"#N/A"},{"$error":"#N/A"},{"$error":"#N/A"},{"$error":"#N/A"},0,1,0.33333333333333331,0.66666666666666663,{"$error":"#N/A"},{"$error":"#N/A"},{"$error":"#N/A"},{"$error":"#N/A"},{"$error":"#N/A"},{"$error":"#N/A"},{"$error":"#N/A"},{"$error":"#N/A"},{"$error":"#N/A"},{"$error":"#N/A"},{"$error":"#N/A"},{"$error":"#N/A"},{"$error":"#N/A"},{"$error":"#N/A"},{"$error":"#N/A"},{"$error":"#N/A"},{"$error":"#N/A"},{"$error":"#N/A"},{"$error":"#N/A"},{"$error":"#N/A"},{"$error":"#N/A"},{"$error":"#N/A"},{"$error":"#N/A"},{"$error":"#N/A"},{"$error":"#N/A"},{"$error":"#N/A"},{"$error":"#N/A"},{"$error":"#N/A"},{"$error":"#N/A"},{"$error":"#N/A"},{"$error":"#N/A"},{"$error":"#N/A"},{"$error":"#N/A"},{"$error":"#N/A"},{"$error":"#N/A"},{"$error":"#N/A"},{"$error":"#N/A"},{"$error":"#N/A"},{"$error":"#N/A"},{"$error":"#N/A"},{"$error":"#N/A"},{"$error":"#N/A"},{"$error":"#N/A"},{"$error":"#N/A"},{"$error":"#N/A"},{"$error":"#N/A"},{"$error":"#N/A"},{"$error":"#N/A"},{"$error":"#N/A"},{"$error":"#N/A"},{"$error":"#N/A"},{"$error":"#N/A"},{"$error":"#N/A"},{"$error":"#N/A"},{"$error":"#N/A"},{"$error":"#N/A"},{"$error":"#N/A"},{"$error":"#N/A"},{"$error":"#N/A"},{"$error":"#N/A"},{"$error":"#N/A"},{"$error":"#N/A"},{"$error":"#N/A"},{"$error":"#N/A"},{"$error":"#N/A"},{"$error":"#N/A"},{"$error":"#N/A"},{"$error":"#N/A"},{"$error":"#N/A"},{"$error":"#N/A"},{"$error":"#N/A"},{"$error":"#N/A"},{"$error":"#N/A"},{"$error":"#N/A"},{"$error":"#N/A"},{"$error":"#N/A"},{"$error":"#N/A"},{"$error":"#N/A"},{"$error":"#N/A"},{"$error":"#N/A"},{"$error":"#N/A"},{"$error":"#N/A"},{"$error":"#N/A"},{"$error":"#N/A"},{"$error":"#N/A"},{"$error":"#N/A"},{"$error":"#N/A"},{"$error":"#N/A"}]
["2020-11-03",{"$f":"VLOOKUP($A85,Data!$A$2:$E$150,2,FALSE)","v":{"$error":"#N/A"}},{"$f":"VLOOKUP($A85,Data!$A$2:$E$150,3,FALSE)","v":{"$error":"#N/A"}},{"$f":"VLOOKUP($A85,Data!$A$2:$E$150,4,FALSE)","v":{"$error":"#N/A"}},{"$f":"VLOOKUP($A85,Data!$A$2:$E$150,5,FALSE)","v":{"$error":"#N/A"}},null,null,null,0.875,null,null,null,null,"2021-05-07","2021-01-21",0.625,null,null,null,{"$f":"+O156","v":"2021-08-13"},null,null,null,null,null,null,null,null,null,null,null,null,null,null,null,null,null,null,null,null,"2020-11-03",{"$error":"#N/A"},{"$error":"#N/A"},{"$error":"#N/A"},{"$error":"#N/A"},{"$error":"#N/A"},{"$error":"#N/A"},{"$error":"#N/A"},{"$error":"#N/A"},{"$error":"#N/A"},{"$error":"#N/A"},{"$error":"#N/A"},{"$error":"#N/A"},{"$error":"#N/A"},0,1,0.33333333333333331,0.66666666666666663,{"$error":"#N/A"},{"$error":"#N/A"},{"$error":"#N/A"},{"$error":"#N/A"},{"$error":"#N/A"},{"$error":"#N/A"},{"$error":"#N/A"},{"$error":"#N/A"},{"$error":"#N/A"},{"$error":"#N/A"},{"$error":"#N/A"},{"$error":"#N/A"},{"$error":"#N/A"},{"$error":"#N/A"},{"$error":"#N/A"},{"$error":"#N/A"},{"$error":"#N/A"},{"$error":"#N/A"},{"$error":"#N/A"},{"$error":"#N/A"},{"$error":"#N/A"},{"$error":"#N/A"},{"$error":"#N/A"},{"$error":"#N/A"},{"$error":"#N/A"},{"$error":"#N/A"},{"$error":"#N/A"},{"$error":"#N/A"},{"$error":"#N/A"},{"$error":"#N/A"},{"$error":"#N/A"},{"$error":"#N/A"},{"$error":"#N/A"},{"$error":"#N/A"},{"$error":"#N/A"},{"$error":"#N/A"},{"$error":"#N/A"},{"$error":"#N/A"},{"$error":"#N/A"},{"$error":"#N/A"},{"$error":"#N/A"},{"$error":"#N/A"},{"$error":"#N/A"},{"$error":"#N/A"},{"$error":"#N/A"},{"$error":"#N/A"},{"$error":"#N/A"},{"$error":"#N/A"},{"$error":"#N/A"},{"$error":"#N/A"},{"$error":"#N/A"},{"$error":"#N/A"},{"$error":"#N/A"},{"$error":"#N/A"},{"$error":"#N/A"},{"$error":"#N/A"},{"$error":"#N/A"},{"$error":"#N/A"},{"$error":"#N/A"},{"$error":"#N/A"},{"$error":"#N/A"},{"$error":"#N/A"},{"$error":"#N/A"},{"$error":"#N/A"},{"$error":"#N/A"},{"$error":"#N/A"},{"$error":"#N/A"},{"$error":"#N/A"},{"$error":"#N/A"},{"$error":"#N/A"},{"$error":"#N/A"},{"$error":"#N/A"},{"$error":"#N/A"},{"$error":"#N/A"},{"$error":"#N/A"},{"$error":"#N/A"},{"$error":"#N/A"},{"$error":"#N/A"},{"$error":"#N/A"},{"$error":"#N/A"},{"$error":"#N/A"},{"$error":"#N/A"},{"$error":"#N/A"},{"$error":"#N/A"},{"$error":"#N/A"},{"$error":"#N/A"},{"$error":"#N/A"},{"$error":"#N/A"}]
["2020-11-04",{"$f":"VLOOKUP($A86,Data!$A$2:$E$150,2,FALSE)","v":{"$error":"#N/A"}},{"$f":"VLOOKUP($A86,Data!$A$2:$E$150,3,FALSE)","v":{"$error":"#N/A"}},{"$f":"VLOOKUP($A86,Data!$A$2:$E$150,4,FALSE)","v":{"$error":"#N/A"}},{"$f":"VLOOKUP($A86,Data!$A$2:$E$150,5,FALSE)","v":{"$error":"#N/A"}},null,null,0.5,{"$f":"+M39","v":"2020-06-30"},null,null,null,null,"2021-05-13","2021-01-25",0.75,null,null,null,{"$f":"+O164","v":"2021-09-07"},null,null,null,null,null,null,null,null,null,null,null,null,null,null,null,null,null,null,null,null,"2020-11-04",{"$error":"#N/A"},{"$error":"#N/A"},{"$error":"#N/A"},{"$error":"#N/A"},{"$error":"#N/A"},{"$error":"#N/A"},{"$error":"#N/A"},{"$error":"#N/A"},{"$error":"#N/A"},{"$error":"#N/A"},{"$error":"#N/A"},{"$error":"#N/A"},{"$error":"#N/A"},0,1,0.33333333333333331,0.66666666666666663,{"$error":"#N/A"},{"$error":"#N/A"},{"$error":"#N/A"},{"$error":"#N/A"},{"$error":"#N/A"},{"$error":"#N/A"},{"$error":"#N/A"},{"$error":"#N/A"},{"$error":"#N/A"},{"$error":"#N/A"},{"$error":"#N/A"},{"$error":"#N/A"},{"$error":"#N/A"},{"$error":"#N/A"},{"$error":"#N/A"},{"$error":"#N/A"},{"$error":"#N/A"},{"$error":"#N/A"},{"$error":"#N/A"},{"$error":"#N/A"},{"$error":"#N/A"},{"$error":"#N/A"},{"$error":"#N/A"},{"$error":"#N/A"},{"$error":"#N/A"},{"$error":"#N/A"},{"$error":"#N/A"},{"$error":"#N/A"},{"$error":"#N/A"},{"$error":"#N/A"},{"$error":"#N/A"},{"$error":"#N/A"},{"$error":"#N/A"},{"$error":"#N/A"},{"$error":"#N/A"},{"$error":"#N/A"},{"$error":"#N/A"},{"$error":"#N/A"},{"$error":"#N/A"},{"$error":"#N/A"},{"$error":"#N/A"},{"$error":"#N/A"},{"$error":"#N/A"},{"$error":"#N/A"},{"$error":"#N/A"},{"$error":"#N/A"},{"$error":"#N/A"},{"$error":"#N/A"},{"$error":"#N/A"},{"$error":"#N/A"},{"$error":"#N/A"},{"$error":"#N/A"},{"$error":"#N/A"},{"$error":"#N/A"},{"$error":"#N/A"},{"$error":"#N/A"},{"$error":"#N/A"},{"$error":"#N/A"},{"$error":"#N/A"},{"$error":"#N/A"},{"$error":"#N/A"},{"$error":"#N/A"},{"$error":"#N/A"},{"$error":"#N/A"},{"$error":"#N/A"},{"$error":"#N/A"},{"$error":"#N/A"},{"$error":"#N/A"},{"$error":"#N/A"},{"$error":"#N/A"},{"$error":"#N/A"},{"$error":"#N/A"},{"$error":"#N/A"},{"$error":"#N/A"},{"$error":"#N/A"},{"$error":"#N/A"},{"$error":"#N/A"},{"$error":"#N/A"},{"$error":"#N/A"},{"$error":"#N/A"},{"$error":"#N/A"},{"$error":"#N/A"},{"$error":"#N/A"},{"$error":"#N/A"},{"$error":"#N/A"},{"$error":"#N/A"},{"$error":"#N/A"},{"$error":"#N/A"}]
["2020-11-05",{"$f":"VLOOKUP($A87,Data!$A$2:$E$150,2,FALSE)","v":{"$error":"#N/A"}},{"$f":"VLOOKUP($A87,Data!$A$2:$E$150,3,FALSE)","v":{"$error":"#N/A"}},{"$f":"VLOOKUP($A87,Data!$A$2:$E$150,4,FALSE)","v":{"$error":"#N/A"}},{"$f":"VLOOKUP($A87,Data!$A$2:$E$150,5,FALSE)","v":{"$error":"#N/A"}},null,null,0.5,{"$f":"+M47","v":"2020-09-29"},null,null,null,null,"2021-05-19","2021-01-27",0.875,null,null,null,{"$f":"+O172","v":"2021-09-29"},null,null,null,null,null,null,null,null,null,null,null,null,null,null,null,null,null,null,null,null,"2020-11-05",{"$error":"#N/A"},{"$error":"#N/A"},{"$error":"#N/A"},{"$error":"#N/A"},{"$error":"#N/A"},{"$error":"#N/A"},{"$error":"#N/A"},{"$error":"#N/A"},{"$error":"#N/A"},{"$error":"#N/A"},{"$error":"#N/A"},{"$error":"#N/A"},{"$error":"#N/A"},0,1,0.33333333333333331,0.66666666666666663,{"$error":"#N/A"},{"$error":"#N/A"},{"$error":"#N/A"},{"$error":"#N/A"},{"$error":"#N/A"},{"$error":"#N/A"},{"$error":"#N/A"},{"$error":"#N/A"},{"$error":"#N/A"},{"$error":"#N/A"},{"$error":"#N/A"},{"$error":"#N/A"},{"$error":"#N/A"},{"$error":"#N/A"},{"$error":"#N/A"},{"$error":"#N/A"},{"$error":"#N/A"},{"$error":"#N/A"},{"$error":"#N/A"},{"$error":"#N/A"},{"$error":"#N/A"},{"$error":"#N/A"},{"$error":"#N/A"},{"$error":"#N/A"},{"$error":"#N/A"},{"$error":"#N/A"},{"$error":"#N/A"},{"$error":"#N/A"},{"$error":"#N/A"},{"$error":"#N/A"},{"$error":"#N/A"},{"$error":"#N/A"},{"$error":"#N/A"},{"$error":"#N/A"},{"$error":"#N/A"},{"$error":"#N/A"},{"$error":"#N/A"},{"$error":"#N/A"},{"$error":"#N/A"},{"$error":"#N/A"},{"$error":"#N/A"},{"$error":"#N/A"},{"$error":"#N/A"},{"$error":"#N/A"},{"$error":"#N/A"},{"$error":"#N/A"},{"$error":"#N/A"},{"$error":"#N/A"},{"$error":"#N/A"},{"$error":"#N/A"},{"$error":"#N/A"},{"$error":"#N/A"},{"$error":"#N/A"},{"$error":"#N/A"},{"$error":"#N/A"},{"$error":"#N/A"},{"$error":"#N/A"},{"$error":"#N/A"},{"$error":"#N/A"},{"$error":"#N/A"},{"$error":"#N/A"},{"$error":"#N/A"},{"$error":"#N/A"},{"$error":"#N/A"},{"$error":"#N/A"},{"$error":"#N/A"},{"$error":"#N/A"},{"$error":"#N/A"},{"$error":"#N/A"},{"$error":"#N/A"},{"$error":"#N/A"},{"$error":"#N/A"},{"$error":"#N/A"},{"$error":"#N/A"},{"$error":"#N/A"},{"$error":"#N/A"},{"$error":"#N/A"},{"$error":"#N/A"},{"$error":"#N/A"},{"$error":"#N/A"},{"$error":"#N/A"},{"$error":"#N/A"},{"$error":"#N/A"},{"$error":"#N/A"},{"$error":"#N/A"},{"$error":"#N/A"},{"$error":"#N/A"},{"$error":"#N/A"}]
["2020-11-06",{"$f":"VLOOKUP($A88,Data!$A$2:$E$150,2,FALSE)","v":{"$error":"#N/A"}},{"$f":"VLOOKUP($A88,Data!$A$2:$E$150,3,FALSE)","v":{"$error":"#N/A"}},{"$f":"VLOOKUP($A88,Data!$A$2:$E$150,4,FALSE)","v":{"$error":"#N/A"}},{"$f":"VLOOKUP($A88,Data!$A$2:$E$150,5,FALSE)","v":{"$error":"#N/A"}},null,null,0.5,{"$f":"+M55","v":"2020-12-23"},null,null,null,null,"2021-05-25","2021-01-29",1,null,null,null,null,null,null,null,null,null,null,null,null,null,null,null,null,null,null,null,null,null,null,null,null,"2020-11-06",{"$error":"#N/A"},{"$error":"#N/A"},{"$error":"#N/A"},{"$error":"#N/A"},{"$error":"#N/A"},{"$error":"#N/A"},{"$error":"#N/A"},{"$error":"#N/A"},{"$error":"#N/A"},{"$error":"#N/A"},{"$error":"#N/A"},{"$error":"#N/A"},1,0,1,0.33333333333333331,0.66666666666666663,{"$error":"#N/A"},{"$error":"#N/A"},{"$error":"#N/A"},{"$error":"#N/A"},{"$error":"#N/A"},{"$error":"#N/A"},{"$error":"#N/A"},{"$error":"#N/A"},{"$error":"#N/A"},{"$error":"#N/A"},{"$error":"#N/A"},{"$error":"#N/A"},{"$error":"#N/A"},{"$error":"#N/A"},{"$error":"#N/A"},{"$error":"#N/A"},{"$error":"#N/A"},{"$error":"#N/A"},{"$error":"#N/A"},{"$error":"#N/A"},{"$error":"#N/A"},{"$error":"#N/A"},{"$error":"#N/A"},{"$error":"#N/A"},{"$error":"#N/A"},{"$error":"#N/A"},{"$error":"#N/A"},{"$error":"#N/A"},{"$error":"#N/A"},{"$error":"#N/A"},{"$error":"#N/A"},{"$error":"#N/A"},{"$error":"#N/A"},{"$error":"#N/A"},{"$error":"#N/A"},{"$error":"#N/A"},{"$error":"#N/A"},{"$error":"#N/A"},{"$error":"#N/A"},{"$error":"#N/A"},{"$error":"#N/A"},{"$error":"#N/A"},{"$error":"#N/A"},{"$error":"#N/A"},{"$error":"#N/A"},{"$error":"#N/A"},{"$error":"#N/A"},0,{"$error":"#N/A"},{"$error":"#N/A"},{"$error":"#N/A"},{"$error":"#N/A"},{"$error":"#N/A"},{"$error":"#N/A"},{"$error":"#N/A"},1,{"$error":"#N/A"},{"$error":"#N/A"},{"$error":"#N/A"},{"$error":"#N/A"},{"$error":"#N/A"},{"$error":"#N/A"},{"$error":"#N/A"},{"$error":"#N/A"},{"$error":"#N/A"},{"$error":"#N/A"},{"$error":"#N/A"},{"$error":"#N/A"},{"$error":"#N/A"},{"$error":"#N/A"},{"$error":"#N/A"},{"$error":"#N/A"},{"$error":"#N/A"},{"$error":"#N/A"},{"$error":"#N/A"},{"$error":"#N/A"},{"$error":"#N/A"},{"$error":"#N/A"},{"$error":"#N/A"},{"$error":"#N/A"},{"$error":"#N/A"},{"$error":"#N/A"},{"$error":"#N/A"},{"$error":"#N/A"},{"$error":"#N/A"},{"$error":"#N/A"},{"$error":"#N/A"},{"$error":"#N/A"}]
["2020-11-09",{"$f":"VLOOKUP($A89,Data!$A$2:$E$150,2,FALSE)","v":{"$error":"#N/A"}},{"$f":"VLOOKUP($A89,Data!$A$2:$E$150,3,FALSE)","v":{"$error":"#N/A"}},{"$f":"VLOOKUP($A89,Data!$A$2:$E$150,4,FALSE)","v":{"$error":"#N/A"}},{"$f":"VLOOKUP($A89,Data!$A$2:$E$150,5,FALSE)","v":{"$error":"#N/A"}},null,null,0.5,{"$f":"+M63","v":"2021-03-29"},null,null,null,null,"2021-06-01","2021-02-02",0.125,null,null,null,null,null,null,null,null,null,null,null,null,null,null,null,null,null,null,null,null,null,null,null,null,"2020-11-09",{"$error":"#N/A"},{"$error":"#N/A"},{"$error":"#N/A"},{"$error":"#N/A"},{"$error":"#N/A"},{"$error":"#N/A"},{"$error":"#N/A"},{"$error":"#N/A"},{"$error":"#N/A"},{"$error":"#N/A"},{"$error":"#N/A"},{"$error":"#N/A"},{"$error":"#N/A"},0,1,0.33333333333333331,0.66666666666666663,{"$error":"#N/A"},{"$error":"#N/A"},{"$error":"#N/A"},{"$error":"#N/A"},{"$error":"#N/A"},{"$error":"#N/A"},{"$error":"#N/A"},{"$error":"#N/A"},{"$error":"#N/A"},{"$error":"#N/A"},{"$error":"#N/A"},{"$error":"#N/A"},{"$error":"#N/A"},{"$error":"#N/A"},{"$error":"#N/A"},{"$error":"#N/A"},{"$error":"#N/A"},{"$error":"#N/A"},{"$error":"#N/A"},{"$error":"#N/A"},{"$error":"#N/A"},{"$error":"#N/A"},{"$error":"#N/A"},{"$error":"#N/A"},{"$error":"#N/A"},{"$error":"#N/A"},{"$error":"#N/A"},{"$error":"#N/A"},{"$error":"#N/A"},{"$error":"#N/A"},{"$error":"#N/A"},{"$error":"#N/A"},{"$error":"#N/A"},{"$error":"#N/A"},{"$error":"#N/A"},{"$error":"#N/A"},{"$error":"#N/A"},{"$error":"#N/A"},{"$error":"#N/A"},{"$error":"#N/A"},{"$error":"#N/A"},{"$error":"#N/A"},{"$error":"#N/A"},{"$error":"#N/A"},{"$error":"#N/A"},{"$error":"#N/A"},{"$error":"#N/A"},{"$error":"#N/A"},{"$error":"#N/A"},{"$error":"#N/A"},{"$error":"#N/A"},{"$error":"#N/A"},{"$error":"#N/A"},{"$error":"#N/A"},{"$error":"#N/A"},{"$error":"#N/A"},{"$error":"#N/A"},{"$error":"#N/A"},{"$error":"#N/A"},{"$error":"#N/A"},{"$error":"#N/A"},{"$error":"#N/A"},{"$error":"#N/A"},{"$error":"#N/A"},{"$error":"#N/A"},{"$error":"#N/A"},{"$error":"#N/A"},{"$error":"#N/A"},{"$error":"#N/A"},{"$error":"#N/A"},{"$error":"#N/A"},{"$error":"#N/A"},{"$error":"#N/A"},{"$error":"#N/A"},{"$error":"#N/A"},{"$error":"#N/A"},{"$error":"#N/A"},{"$error":"#N/A"},{"$error":"#N/A"},{"$error":"#N/A"},{"$error":"#N/A"},{"$error":"#N/A"},{"$error":"#N/A"},{"$error":"#N/A"},{"$error":"#N/A"},{"$error":"#N/A"},{"$error":"#N/A"},{"$error":"#N/A"}]
["2020-11-10",{"$f":"VLOOKUP($A90,Data!$A$2:$E$150,2,FALSE)","v":{"$error":"#N/A"}},{"$f":"VLOOKUP($A90,Data!$A$2:$E$150,3,FALSE)","v":{"$error":"#N/A"}},{"$f":"VLOOKUP($A90,Data!$A$2:$E$150,4,FALSE)","v":{"$error":"#N/A"}},{"$f":"VLOOKUP($A90,Data!$A$2:$E$150,5,FALSE)","v":{"$error":"#N/A"}},null,null,0.5,{"$f":"+M71","v":"2021-06-29"},null,null,null,null,"2021-06-07","2021-02-04",0.25,null,null,null,null,null,null,null,null,null,null,null,null,null,null,null,null,null,null,null,null,null,null,null,null,"2020-11-10",{"$error":"#N/A"},{"$error":"#N/A"},{"$error":"#N/A"},{"$error":"#N/A"},{"$error":"#N/A"},{"$error":"#N/A"},{"$error":"#N/A"},{"$error":"#N/A"},{"$error":"#N/A"},{"$error":"#N/A"},{"$error":"#N/A"},{"$error":"#N/A"},{"$error":"#N/A"},0,1,0.33333333333333331,0.66666666666666663,{"$error":"#N/A"},{"$error":"#N/A"},{"$error":"#N/A"},{"$error":"#N/A"},{"$error":"#N/A"},{"$error":"#N/A"},{"$error":"#N/A"},{"$error":"#N/A"},{"$error":"#N/A"},{"$error":"#N/A"},{"$error":"#N/A"},{"$error":"#N/A"},{"$error":"#N/A"},{"$error":"#N/A"},{"$error":"#N/A"},{"$error":"#N/A"},{"$error":"#N/A"},{"$error":"#N/A"},{"$error":"#N/A"},{"$error":"#N/A"},{"$error":"#N/A"},{"$error":"#N/A"},{"$error":"#N/A"},{"$error":"#N/A"},{"$error":"#N/A"},{"$error":"#N/A"},{"$error":"#N/A"},{"$error":"#N/A"},{"$error":"#N/A"},{"$error":"#N/A"},{"$error":"#N/A"},{"$error":"#N/A"},{"$error":"#N/A"},{"$error":"#N/A"},{"$error":"#N/A"},{"$error":"#N/A"},{"$error":"#N/A"},{"$error":"#N/A"},{"$error":"#N/A"},{"$error":"#N/A"},{"$error":"#N/A"},{"$error":"#N/A"},{"$error":"#N/A"},{"$error":"#N/A"},{"$error":"#N/A"},{"$error":"#N/A"},{"$error":"#N/A"},{"$error":"#N/A"},{"$error":"#N/A"},{"$error":"#N/A"},{"$error":"#N/A"},{"$error":"#N/A"},{"$error":"#N/A"},{"$error":"#N/A"},{"$error":"#N/A"},{"$error":"#N/A"},{"$error":"#N/A"},{"$error":"#N/A"},{"$error":"#N/A"},{"$error":"#N/A"},{"$error":"#N/A"},{"$error":"#N/A"},{"$error":"#N/A"},{"$error":"#N/A"},{"$error":"#N/A"},{"$error":"#N/A"},{"$error":"#N/A"},{"$error":"#N/A"},{"$error":"#N/A"},{"$error":"#N/A"},{"$error":"#N/A"},{"$error":"#N/A"},{"$error":"#N/A"},{"$error":"#N/A"},{"$error":"#N/A"},{"$error":"#N/A"},{"$error":"#N/A"},{"$error":"#N/A"},{"$error":"#N/A"},{"$error":"#N/A"},{"$error":"#N/A"},{"$error":"#N/A"},{"$error":"#N/A"},{"$error":"#N/A"},{"$error":"#N/A"},{"$error":"#N/A"},{"$error":"#N/A"},{"$error":"#N/A"}]
["2020-11-11",{"$f":"VLOOKUP($A91,Data!$A$2:$E$150,2,FALSE)","v":{"$error":"#N/A"}},{"$f":"VLOOKUP($A91,Data!$A$2:$E$150,3,FALSE)","v":{"$error":"#N/A"}},{"$f":"VLOOKUP($A91,Data!$A$2:$E$150,4,FALSE)","v":{"$error":"#N/A"}},{"$f":"VLOOKUP($A91,Data!$A$2:$E$150,5,FALSE)","v":{"$error":"#N/A"}},null,null,0.5,{"$f":"+M79","v":"2021-09-29"},null,null,null,null,"2021-06-11","2021-02-08",0.375,null,null,null,null,null,null,null,null,null,null,null,null,null,null,null,null,null,null,null,null,null,null,null,null,"2020-11-11",{"$error":"#N/A"},{"$error":"#N/A"},{"$error":"#N/A"},{"$error":"#N/A"},{"$error":"#N/A"},{"$error":"#N/A"},{"$error":"#N/A"},{"$error":"#N/A"},{"$error":"#N/A"},{"$error":"#N/A"},{"$error":"#N/A"},{"$error":"#N/A"},{"$error":"#N/A"},0,1,0.33333333333333331,0.66666666666666663,{"$error":"#N/A"},{"$error":"#N/A"},{"$error":"#N/A"},{"$error":"#N/A"},{"$error":"#N/A"},{"$error":"#N/A"},{"$error":"#N/A"},{"$error":"#N/A"},{"$error":"#N/A"},{"$error":"#N/A"},{"$error":"#N/A"},{"$error":"#N/A"},{"$error":"#N/A"},{"$error":"#N/A"},{"$error":"#N/A"},{"$error":"#N/A"},{"$error":"#N/A"},{"$error":"#N/A"},{"$error":"#N/A"},{"$error":"#N/A"},{"$error":"#N/A"},{"$error":"#N/A"},{"$error":"#N/A"},{"$error":"#N/A"},{"$error":"#N/A"},{"$error":"#N/A"},{"$error":"#N/A"},{"$error":"#N/A"},{"$error":"#N/A"},{"$error":"#N/A"},{"$error":"#N/A"},{"$error":"#N/A"},{"$error":"#N/A"},{"$error":"#N/A"},{"$error":"#N/A"},{"$error":"#N/A"},{"$error":"#N/A"},{"$error":"#N/A"},{"$error":"#N/A"},{"$error":"#N/A"},{"$error":"#N/A"},{"$error":"#N/A"},{"$error":"#N/A"},{"$error":"#N/A"},{"$error":"#N/A"},{"$error":"#N/A"},{"$error":"#N/A"},{"$error":"#N/A"},{"$error":"#N/A"},{"$error":"#N/A"},{"$error":"#N/A"},{"$error":"#N/A"},{"$error":"#N/A"},{"$error":"#N/A"},{"$error":"#N/A"},{"$error":"#N/A"},{"$error":"#N/A"},{"$error":"#N/A"},{"$error":"#N/A"},{"$error":"#N/A"},{"$error":"#N/A"},{"$error":"#N/A"},{"$error":"#N/A"},{"$error":"#N/A"},{"$error":"#N/A"},{"$error":"#N/A"},{"$error":"#N/A"},{"$error":"#N/A"},{"$error":"#N/A"},{"$error":"#N/A"},{"$error":"#N/A"},{"$error":"#N/A"},{"$error":"#N/A"},{"$error":"#N/A"},{"$error":"#N/A"},{"$error":"#N/A"},{"$error":"#N/A"},{"$error":"#N/A"},{"$error":"#N/A"},{"$error":"#N/A"},{"$error":"#N/A"},{"$error":"#N/A"},{"$error":"#N/A"},{"$error":"#N/A"},{"$error":"#N/A"},{"$error":"#N/A"},{"$error":"#N/A"},{"$error":"#N/A"}]
["2020-11-12",{"$f":"VLOOKUP($A92,Data!$A$2:$E$150,2,FALSE)","v":{"$error":"#N/A"}},{"$f":"VLOOKUP($A92,Data!$A$2:$E$150,3,FALSE)","v":{"$error":"#N/A"}},{"$f":"VLOOKUP($A92,Data!$A$2:$E$150,4,FALSE)","v":{"$error":"#N/A"}},{"$f":"VLOOKUP($A92,Data!$A$2:$E$150,5,FALSE)","v":{"$error":"#N/A"}},null,null,0.5,null,null,null,null,null,"2021-06-17","2021-02-10",0.5,null,null,null,null,null,null,null,null,null,null,null,null,null,null,null,null,null,null,null,null,null,null,null,null,"2020-11-12",{"$error":"#N/A"},{"$error":"#N/A"},{"$error":"#N/A"},{"$error":"#N/A"},{"$error":"#N/A"},{"$error":"#N/A"},{"$error":"#N/A"},{"$error":"#N/A"},{"$error":"#N/A"},{"$error":"#N/A"},{"$error":"#N/A"},{"$error":"#N/A"},{"$error":"#N/A"},0,1,0.33333333333333331,0.66666666666666663,{"$error":"#N/A"},{"$error":"#N/A"},{"$error":"#N/A"},{"$error":"#N/A"},{"$error":"#N/A"},{"$error":"#N/A"},{"$error":"#N/A"},{"$error":"#N/A"},{"$error":"#N/A"},{"$error":"#N/A"},{"$error":"#N/A"},{"$error":"#N/A"},{"$error":"#N/A"},{"$error":"#N/A"},{"$error":"#N/A"},{"$error":"#N/A"},{"$error":"#N/A"},{"$error":"#N/A"},{"$error":"#N/A"},{"$error":"#N/A"},{"$error":"#N/A"},{"$error":"#N/A"},{"$error":"#N/A"},{"$error":"#N/A"},{"$error":"#N/A"},{"$error":"#N/A"},{"$error":"#N/A"},{"$error":"#N/A"},{"$error":"#N/A"},{"$error":"#N/A"},{"$error":"#N/A"},{"$error":"#N/A"},{"$error":"#N/A"},{"$error":"#N/A"},{"$error":"#N/A"},{"$error":"#N/A"},{"$error":"#N/A"},{"$error":"#N/A"},{"$error":"#N/A"},{"$error":"#N/A"},{"$error":"#N/A"},{"$error":"#N/A"},{"$error":"#N/A"},{"$error":"#N/A"},{"$error":"#N/A"},{"$error":"#N/A"},{"$error":"#N/A"},{"$error":"#N/A"},{"$error":"#N/A"},{"$error":"#N/A"},{"$error":"#N/A"},{"$error":"#N/A"},{"$error":"#N/A"},{"$error":"#N/A"},{"$error":"#N/A"},{"$error":"#N/A"},{"$error":"#N/A"},{"$error":"#N/A"},{"$error":"#N/A"},{"$error":"#N/A"},{"$error":"#N/A"},{"$error":"#N/A"},{"$error":"#N/A"},{"$error":"#N/A"},{"$error":"#N/A"},{"$error":"#N/A"},{"$error":"#N/A"},{"$error":"#N/A"},{"$error":"#N/A"},{"$error":"#N/A"},{"$error":"#N/A"},{"$error":"#N/A"},{"$error":"#N/A"},{"$error":"#N/A"},{"$error":"#N/A"},{"$error":"#N/A"},{"$error":"#N/A"},{"$error":"#N/A"},{"$error":"#N/A"},{"$error":"#N/A"},{"$error":"#N/A"},{"$error":"#N/A"},{"$error":"#N/A"},{"$error":"#N/A"},{"$error":"#N/A"},{"$error":"#N/A"},{"$error":"#N/A"},{"$error":"#N/A"}]
["2020-11-13",{"$f":"VLOOKUP($A93,Data!$A$2:$E$150,2,FALSE)","v":{"$error":"#N/A"}},{"$f":"VLOOKUP($A93,Data!$A$2:$E$150,3,FALSE)","v":{"$error":"#N/A"}},{"$f":"VLOOKUP($A93,Data!$A$2:$E$150,4,FALSE)","v":{"$error":"#N/A"}},{"$f":"VLOOKUP($A93,Data!$A$2:$E$150,5,FALSE)","v":{"$error":"#N/A"}},null,null,0.5,null,null,null,null,null,"2021-06-23","2021-02-12",0.625,null,null,null,null,null,null,null,null,null,null,null,null,null,null,null,null,null,null,null,null,null,null,null,null,"2020-11-13",{"$error":"#N/A"},{"$error":"#N/A"},{"$error":"#N/A"},{"$error":"#N/A"},{"$error":"#N/A"},{"$error":"#N/A"},{"$error":"#N/A"},{"$error":"#N/A"},{"$error":"#N/A"},{"$error":"#N/A"},{"$error":"#N/A"},{"$error":"#N/A"},{"$error":"#N/A"},0,1,0.33333333333333331,0.66666666666666663,{"$error":"#N/A"},{"$error":"#N/A"},{"$error":"#N/A"},{"$error":"#N/A"},{"$error":"#N/A"},{"$error":"#N/A"},{"$error":"#N/A"},{"$error":"#N/A"},{"$error":"#N/A"},{"$error":"#N/A"},{"$error":"#N/A"},{"$error":"#N/A"},{"$error":"#N/A"},{"$error":"#N/A"},{"$error":"#N/A"},{"$error":"#N/A"},{"$error":"#N/A"},{"$error":"#N/A"},{"$error":"#N/A"},{"$error":"#N/A"},{"$error":"#N/A"},{"$error":"#N/A"},{"$error":"#N/A"},{"$error":"#N/A"},{"$error":"#N/A"},{"$error":"#N/A"},{"$error":"#N/A"},{"$error":"#N/A"},{"$error":"#N/A"},{"$error":"#N/A"},{"$error":"#N/A"},{"$error":"#N/A"},{"$error":"#N/A"},{"$error":"#N/A"},{"$error":"#N/A"},{"$error":"#N/A"},{"$error":"#N/A"},{"$error":"#N/A"},{"$error":"#N/A"},{"$error":"#N/A"},{"$error":"#N/A"},{"$error":"#N/A"},{"$error":"#N/A"},{"$error":"#N/A"},{"$error":"#N/A"},{"$error":"#N/A"},{"$error":"#N/A"},{"$error":"#N/A"},{"$error":"#N/A"},{"$error":"#N/A"},{"$error":"#N/A"},{"$error":"#N/A"},{"$error":"#N/A"},{"$error":"#N/A"},{"$error":"#N/A"},{"$error":"#N/A"},{"$error":"#N/A"},{"$error":"#N/A"},{"$error":"#N/A"},{"$error":"#N/A"},{"$error":"#N/A"},{"$error":"#N/A"},{"$error":"#N/A"},{"$error":"#N/A"},{"$error":"#N/A"},{"$error":"#N/A"},{"$error":"#N/A"},{"$error":"#N/A"},{"$error":"#N/A"},{"$error":"#N/A"},{"$error":"#N/A"},{"$error":"#N/A"},{"$error":"#N/A"},{"$error":"#N/A"},{"$error":"#N/A"},{"$error":"#N/A"},{"$error":"#N/A"},{"$error":"#N/A"},{"$error":"#N/A"},{"$error":"#N/A"},{"$error":"#N/A"},{"$error":"#N/A"},{"$error":"#N/A"},{"$error":"#N/A"},{"$error":"#N/A"},{"$error":"#N/A"},{"$error":"#N/A"},{"$error":"#N/A"}]
["2020-11-16",{"$f":"VLOOKUP($A94,Data!$A$2:$E$150,2,FALSE)","v":{"$error":"#N/A"}},{"$f":"VLOOKUP($A94,Data!$A$2:$E$150,3,FALSE)","v":{"$error":"#N/A"}},{"$f":"VLOOKUP($A94,Data!$A$2:$E$150,4,FALSE)","v":{"$error":"#N/A"}},{"$f":"VLOOKUP($A94,Data!$A$2:$E$150,5,FALSE)","v":{"$error":"#N/A"}},null,null,0.5,null,null,null,null,null,"2021-06-29","2021-02-17",0.75,null,null,null,null,null,null,null,null,null,null,null,null,null,null,null,null,null,null,null,null,null,null,null,null,"2020-11-16",{"$error":"#N/A"},{"$error":"#N/A"},{"$error":"#N/A"},{"$error":"#N/A"},{"$error":"#N/A"},{"$error":"#N/A"},{"$error":"#N/A"},{"$error":"#N/A"},{"$error":"#N/A"},{"$error":"#N/A"},{"$error":"#N/A"},{"$error":"#N/A"},{"$error":"#N/A"},0,1,0.33333333333333331,0.66666666666666663,{"$error":"#N/A"},{"$error":"#N/A"},{"$error":"#N/A"},{"$error":"#N/A"},{"$error":"#N/A"},{"$error":"#N/A"},{"$error":"#N/A"},{"$error":"#N/A"},{"$error":"#N/A"},{"$error":"#N/A"},{"$error":"#N/A"},{"$error":"#N/A"},{"$error":"#N/A"},{"$error":"#N/A"},{"$error":"#N/A"},{"$error":"#N/A"},{"$error":"#N/A"},{"$error":"#N/A"},{"$error":"#N/A"},{"$error":"#N/A"},{"$error":"#N/A"},{"$error":"#N/A"},{"$error":"#N/A"},{"$error":"#N/A"},{"$error":"#N/A"},{"$error":"#N/A"},{"$error":"#N/A"},{"$error":"#N/A"},{"$error":"#N/A"},{"$error":"#N/A"},{"$error":"#N/A"},{"$error":"#N/A"},{"$error":"#N/A"},{"$error":"#N/A"},{"$error":"#N/A"},{"$error":"#N/A"},{"$error":"#N/A"},{"$error":"#N/A"},{"$error":"#N/A"},{"$error":"#N/A"},{"$error":"#N/A"},{"$error":"#N/A"},{"$error":"#N/A"},{"$error":"#N/A"},{"$error":"#N/A"},{"$error":"#N/A"},{"$error":"#N/A"},{"$error":"#N/A"},{"$error":"#N/A"},{"$error":"#N/A"},{"$error":"#N/A"},{"$error":"#N/A"},{"$error":"#N/A"},{"$error":"#N/A"},{"$error":"#N/A"},{"$error":"#N/A"},{"$error":"#N/A"},{"$error":"#N/A"},{"$error":"#N/A"},{"$error":"#N/A"},{"$error":"#N/A"},{"$error":"#N/A"},{"$error":"#N/A"},{"$error":"#N/A"},{"$error":"#N/A"},{"$error":"#N/A"},{"$error":"#N/A"},{"$error":"#N/A"},{"$error":"#N/A"},{"$error":"#N/A"},{"$error":"#N/A"},{"$error":"#N/A"},{"$error":"#N/A"},{"$error":"#N/A"},{"$error":"#N/A"},{"$error":"#N/A"},{"$error":"#N/A"},{"$error":"#N/A"},{"$error":"#N/A"},{"$error":"#N/A"},{"$error":"#N/A"},{"$error":"#N/A"},{"$error":"#N/A"},{"$error":"#N/A"},{"$error":"#N/A"},{"$error":"#N/A"},{"$error":"#N/A"},{"$error":"#N/A"}]
["2020-11-17",{"$f":"VLOOKUP($A95,Data!$A$2:$E$150,2,FALSE)","v":{"$error":"#N/A"}},{"$f":"VLOOKUP($A95,Data!$A$2:$E$150,3,FALSE)","v":{"$error":"#N/A"}},{"$f":"VLOOKUP($A95,Data!$A$2:$E$150,4,FALSE)","v":{"$error":"#N/A"}},{"$f":"VLOOKUP($A95,Data!$A$2:$E$150,5,FALSE)","v":{"$error":"#N/A"}},null,null,0.5,null,null,null,null,null,"2021-07-06","2021-02-19",0.875,null,null,null,null,null,null,null,null,null,null,null,null,null,null,null,null,null,null,null,null,null,null,null,null,"2020-11-17",{"$error":"#N/A"},{"$error":"#N/A"},{"$error":"#N/A"},{"$error":"#N/A"},{"$error":"#N/A"},{"$error":"#N/A"},{"$error":"#N/A"},{"$error":"#N/A"},{"$error":"#N/A"},{"$error":"#N/A"},{"$error":"#N/A"},{"$error":"#N/A"},{"$error":"#N/A"},0,1,0.33333333333333331,0.66666666666666663,{"$error":"#N/A"},{"$error":"#N/A"},{"$error":"#N/A"},{"$error":"#N/A"},{"$error":"#N/A"},{"$error":"#N/A"},{"$error":"#N/A"},{"$error":"#N/A"},{"$error":"#N/A"},{"$error":"#N/A"},{"$error":"#N/A"},{"$error":"#N/A"},{"$error":"#N/A"},{"$error":"#N/A"},{"$error":"#N/A"},{"$error":"#N/A"},{"$error":"#N/A"},{"$error":"#N/A"},{"$error":"#N/A"},{"$error":"#N/A"},{"$error":"#N/A"},{"$error":"#N/A"},{"$error":"#N/A"},{"$error":"#N/A"},{"$error":"#N/A"},{"$error":"#N/A"},{"$error":"#N/A"},{"$error":"#N/A"},{"$error":"#N/A"},{"$error":"#N/A"},{"$error":"#N/A"},{"$error":"#N/A"},{"$error":"#N/A"},{"$error":"#N/A"},{"$error":"#N/A"},{"$error":"#N/A"},{"$error":"#N/A"},{"$error":"#N/A"},{"$error":"#N/A"},{"$error":"#N/A"},{"$error":"#N/A"},{"$error":"#N/A"},{"$error":"#N/A"},{"$error":"#N/A"},{"$error":"#N/A"},{"$error":"#N/A"},{"$error":"#N/A"},{"$error":"#N/A"},{"$error":"#N/A"},{"$error":"#N/A"},{"$error":"#N/A"},{"$error":"#N/A"},{"$error":"#N/A"},{"$error":"#N/A"},{"$error":"#N/A"},{"$error":"#N/A"},{"$error":"#N/A"},{"$error":"#N/A"},{"$error":"#N/A"},{"$error":"#N/A"},{"$error":"#N/A"},{"$error":"#N/A"},{"$error":"#N/A"},{"$error":"#N/A"},{"$error":"#N/A"},{"$error":"#N/A"},{"$error":"#N/A"},{"$error":"#N/A"},{"$error":"#N/A"},{"$error":"#N/A"},{"$error":"#N/A"},{"$error":"#N/A"},{"$error":"#N/A"},{"$error":"#N/A"},{"$error":"#N/A"},{"$error":"#N/A"},{"$error":"#N/A"},{"$error":"#N/A"},{"$error":"#N/A"},{"$error":"#N/A"},{"$error":"#N/A"},{"$error":"#N/A"},{"$error":"#N/A"},{"$error":"#N/A"},{"$error":"#N/A"},{"$error":"#N/A"},{"$error":"#N/A"},{"$error":"#N/A"}]
["2020-11-18",{"$f":"VLOOKUP($A96,Data!$A$2:$E$150,2,FALSE)","v":{"$error":"#N/A"}},{"$f":"VLOOKUP($A96,Data!$A$2:$E$150,3,FALSE)","v":{"$error":"#N/A"}},{"$f":"VLOOKUP($A96,Data!$A$2:$E$150,4,FALSE)","v":{"$error":"#N/A"}},{"$f":"VLOOKUP($A96,Data!$A$2:$E$150,5,FALSE)","v":{"$error":"#N/A"}},null,null,0.5,null,null,null,null,null,"2021-07-12","2021-02-23",1,null,null,null,null,null,null,null,null,null,null,null,null,null,null,null,null,null,null,null,null,null,null,null,null,"2020-11-18",{"$error":"#N/A"},{"$error":"#N/A"},{"$error":"#N/A"},{"$error":"#N/A"},{"$error":"#N/A"},{"$error":"#N/A"},{"$error":"#N/A"},{"$error":"#N/A"},0.5,0.5,{"$error":"#N/A"},1.125,1,0,1,0.33333333333333331,0.66666666666666663,{"$error":"#N/A"},{"$error":"#N/A"},{"$error":"#N/A"},{"$error":"#N/A"},{"$error":"#N/A"},{"$error":"#N/A"},{"$error":"#N/A"},{"$error":"#N/A"},1,{"$error":"#N/A"},{"$error":"#N/A"},{"$error":"#N/A"},{"$error":"#N/A"},{"$error":"#N/A"},{"$error":"#N/A"},{"$error":"#N/A"},{"$error":"#N/A"},{"$error":"#N/A"},{"$error":"#N/A"},{"$error":"#N/A"},{"$error":"#N/A"},{"$error":"#N/A"},{"$error":"#N/A"},{"$error":"#N/A"},{"$error":"#N/A"},{"$error":"#N/A"},{"$error":"#N/A"},{"$error":"#N/A"},{"$error":"#N/A"},{"$error":"#N/A"},{"$error":"#N/A"},{"$error":"#N/A"},{"$error":"#N/A"},{"$error":"#N/A"},{"$error":"#N/A"},{"$error":"#N/A"},{"$error":"#N/A"},{"$error":"#N/A"},{"$error":"#N/A"},{"$error":"#N/A"},{"$error":"#N/A"},{"$error":"#N/A"},{"$error":"#N/A"},{"$error":"#N/A"},{"$error":"#N/A"},{"$error":"#N/A"},0,{"$error":"#N/A"},{"$error":"#N/A"},{"$error":"#N/A"},{"$error":"#N/A"},{"$error":"#N/A"},{"$error":"#N/A"},{"$error":"#N/A"},1,{"$error":"#N/A"},{"$error":"#N/A"},{"$error":"#N/A"},{"$error":"#N/A"},{"$error":"#N/A"},{"$error":"#N/A"},{"$error":"#N/A"},{"$error":"#N/A"},{"$error":"#N/A"},{"$error":"#N/A"},{"$error":"#N/A"},{"$error":"#N/A"},{"$error":"#N/A"},{"$error":"#N/A"},{"$error":"#N/A"},{"$error":"#N/A"},{"$error":"#N/A"},{"$error":"#N/A"},{"$error":"#N/A"},{"$error":"#N/A"},{"$error":"#N/A"},{"$error":"#N/A"},{"$error":"#N/A"},{"$error":"#N/A"},{"$error":"#N/A"},{"$error":"#N/A"},{"$error":"#N/A"},{"$error":"#N/A"},{"$error":"#N/A"},{"$error":"#N/A"},{"$error":"#N/A"},{"$error":"#N/A"},{"$error":"#N/A"}]
["2020-11-19",{"$f":"VLOOKUP($A97,Data!$A$2:$E$150,2,FALSE)","v":{"$error":"#N/A"}},{"$f":"VLOOKUP($A97,Data!$A$2:$E$150,3,FALSE)","v":{"$error":"#N/A"}},{"$f":"VLOOKUP($A97,Data!$A$2:$E$150,4,FALSE)","v":{"$error":"#N/A"}},{"$f":"VLOOKUP($A97,Data!$A$2:$E$150,5,FALSE)","v":{"$error":"#N/A"}},null,null,0.5,null,null,null,null,null,"2021-07-16","2021-02-25",0.125,null,null,null,null,null,null,null,null,null,null,null,null,null,null,null,null,null,null,null,null,null,null,null,null,"2020-11-19",{"$error":"#N/A"},{"$error":"#N/A"},{"$error":"#N/A"},{"$error":"#N/A"},{"$error":"#N/A"},{"$error":"#N/A"},{"$error":"#N/A"},{"$error":"#N/A"},{"$error":"#N/A"},{"$error":"#N/A"},{"$error":"#N/A"},{"$error":"#N/A"},{"$error":"#N/A"},0,1,0.33333333333333331,0.66666666666666663,{"$error":"#N/A"},{"$error":"#N/A"},{"$error":"#N/A"},{"$error":"#N/A"},{"$error":"#N/A"},{"$error":"#N/A"},{"$error":"#N/A"},{"$error":"#N/A"},{"$error":"#N/A"},{"$error":"#N/A"},{"$error":"#N/A"},{"$error":"#N/A"},{"$error":"#N/A"},{"$error":"#N/A"},{"$error":"#N/A"},{"$error":"#N/A"},{"$error":"#N/A"},{"$error":"#N/A"},{"$error":"#N/A"},{"$error":"#N/A"},{"$error":"#N/A"},{"$error":"#N/A"},{"$error":"#N/A"},{"$error":"#N/A"},{"$error":"#N/A"},{"$error":"#N/A"},{"$error":"#N/A"},{"$error":"#N/A"},{"$error":"#N/A"},{"$error":"#N/A"},{"$error":"#N/A"},{"$error":"#N/A"},{"$error":"#N/A"},{"$error":"#N/A"},{"$error":"#N/A"},{"$error":"#N/A"},{"$error":"#N/A"},{"$error":"#N/A"},{"$error":"#N/A"},{"$error":"#N/A"},{"$error":"#N/A"},{"$error":"#N/A"},{"$error":"#N/A"},{"$error":"#N/A"},{"$error":"#N/A"},{"$error":"#N/A"},{"$error":"#N/A"},{"$error":"#N/A"},{"$error":"#N/A"},{"$error":"#N/A"},{"$error":"#N/A"},{"$error":"#N/A"},{"$error":"#N/A"},{"$error":"#N/A"},{"$error":"#N/A"},{"$error":"#N/A"},{"$error":"#N/A"},{"$error":"#N/A"},{"$error":"#N/A"},{"$error":"#N/A"},{"$error":"#N/A"},{"$error":"#N/A"},{"$error":"#N/A"},{"$error":"#N/A"},{"$error":"#N/A"},{"$error":"#N/A"},{"$error":"#N/A"},{"$error":"#N/A"},{"$error":"#N/A"},{"$error":"#N/A"},{"$error":"#N/A"},{"$error":"#N/A"},{"$error":"#N/A"},{"$error":"#N/A"},{"$error":"#N/A"},{"$error":"#N/A"},{"$error":"#N/A"},{"$error":"#N/A"},{"$error":"#N/A"},{"$error":"#N/A"},{"$error":"#N/A"},{"$error":"#N/A"},{"$error":"#N/A"},{"$error":"#N/A"},{"$error":"#N/A"},{"$error":"#N/A"},{"$error":"#N/A"},{"$error":"#N/A"}]
["2020-11-20",{"$f":"VLOOKUP($A98,Data!$A$2:$E$150,2,FALSE)","v":{"$error":"#N/A"}},{"$f":"VLOOKUP($A98,Data!$A$2:$E$150,3,FALSE)","v":{"$error":"#N/A"}},{"$f":"VLOOKUP($A98,Data!$A$2:$E$150,4,FALSE)","v":{"$error":"#N/A"}},{"$f":"VLOOKUP($A98,Data!$A$2:$E$150,5,FALSE)","v":{"$error":"#N/A"}},null,null,0.5,null,null,null,null,null,"2021-07-22","2021-03-01",0.25,null,null,null,null,null,null,null,null,null,null,null,null,null,null,null,null,null,null,null,null,null,null,null,null,"2020-11-20",{"$error":"#N/A"},{"$error":"#N/A"},{"$error":"#N/A"},{"$error":"#N/A"},{"$error":"#N/A"},{"$error":"#N/A"},{"$error":"#N/A"},{"$error":"#N/A"},{"$error":"#N/A"},{"$error":"#N/A"},{"$error":"#N/A"},{"$error":"#N/A"},{"$error":"#N/A"},0,1,0.33333333333333331,0.66666666666666663,{"$error":"#N/A"},{"$error":"#N/A"},{"$error":"#N/A"},{"$error":"#N/A"},{"$error":"#N/A"},{"$error":"#N/A"},{"$error":"#N/A"},{"$error":"#N/A"},{"$error":"#N/A"},{"$error":"#N/A"},{"$error":"#N/A"},{"$error":"#N/A"},{"$error":"#N/A"},{"$error":"#N/A"},{"$error":"#N/A"},{"$error":"#N/A"},{"$error":"#N/A"},{"$error":"#N/A"},{"$error":"#N/A"},{"$error":"#N/A"},{"$error":"#N/A"},{"$error":"#N/A"},{"$error":"#N/A"},{"$error":"#N/A"},{"$error":"#N/A"},{"$error":"#N/A"},{"$error":"#N/A"},{"$error":"#N/A"},{"$error":"#N/A"},{"$error":"#N/A"},{"$error":"#N/A"},{"$error":"#N/A"},{"$error":"#N/A"},{"$error":"#N/A"},{"$error":"#N/A"},{"$error":"#N/A"},{"$error":"#N/A"},{"$error":"#N/A"},{"$error":"#N/A"},{"$error":"#N/A"},{"$error":"#N/A"},{"$error":"#N/A"},{"$error":"#N/A"},{"$error":"#N/A"},{"$error":"#N/A"},{"$error":"#N/A"},{"$error":"#N/A"},{"$error":"#N/A"},{"$error":"#N/A"},{"$error":"#N/A"},{"$error":"#N/A"},{"$error":"#N/A"},{"$error":"#N/A"},{"$error":"#N/A"},{"$error":"#N/A"},{"$error":"#N/A"},{"$error":"#N/A"},{"$error":"#N/A"},{"$error":"#N/A"},{"$error":"#N/A"},{"$error":"#N/A"},{"$error":"#N/A"},{"$error":"#N/A"},{"$error":"#N/A"},{"$error":"#N/A"},{"$error":"#N/A"},{"$error":"#N/A"},{"$error":"#N/A"},{"$error":"#N/A"},{"$error":"#N/A"},{"$error":"#N/A"},{"$error":"#N/A"},{"$error":"#N/A"},{"$error":"#N/A"},{"$error":"#N/A"},{"$error":"#N/A"},{"$error":"#N/A"},{"$error":"#N/A"},{"$error":"#N/A"},{"$error":"#N/A"},{"$error":"#N/A"},{"$error":"#N/A"},{"$error":"#N/A"},{"$error":"#N/A"},{"$error":"#N/A"},{"$error":"#N/A"},{"$error":"#N/A"},{"$error":"#N/A"}]
["2020-11-23",{"$f":"VLOOKUP($A99,Data!$A$2:$E$150,2,FALSE)","v":{"$error":"#N/A"}},{"$f":"VLOOKUP($A99,Data!$A$2:$E$150,3,FALSE)","v":{"$error":"#N/A"}},{"$f":"VLOOKUP($A99,Data!$A$2:$E$150,4,FALSE)","v":{"$error":"#N/A"}},{"$f":"VLOOKUP($A99,Data!$A$2:$E$150,5,FALSE)","v":{"$error":"#N/A"}},null,null,0.5,null,null,null,null,null,"2021-07-28","2021-03-03",0.375,null,null,null,null,null,null,null,null,null,null,null,null,null,null,null,null,null,null,null,null,null,null,null,null,"2020-11-23",{"$error":"#N/A"},{"$error":"#N/A"},{"$error":"#N/A"},{"$error":"#N/A"},{"$error":"#N/A"},{"$error":"#N/A"},{"$error":"#N/A"},{"$error":"#N/A"},{"$error":"#N/A"},{"$error":"#N/A"},{"$error":"#N/A"},{"$error":"#N/A"},{"$error":"#N/A"},0,1,0.33333333333333331,0.66666666666666663,{"$error":"#N/A"},{"$error":"#N/A"},{"$error":"#N/A"},{"$error":"#N/A"},{"$error":"#N/A"},{"$error":"#N/A"},{"$error":"#N/A"},{"$error":"#N/A"},{"$error":"#N/A"},{"$error":"#N/A"},{"$error":"#N/A"},{"$error":"#N/A"},{"$error":"#N/A"},{"$error":"#N/A"},{"$error":"#N/A"},{"$error":"#N/A"},{"$error":"#N/A"},{"$error":"#N/A"},{"$error":"#N/A"},{"$error":"#N/A"},{"$error":"#N/A"},{"$error":"#N/A"},{"$error":"#N/A"},{"$error":"#N/A"},{"$error":"#N/A"},{"$error":"#N/A"},{"$error":"#N/A"},{"$error":"#N/A"},{"$error":"#N/A"},{"$error":"#N/A"},{"$error":"#N/A"},{"$error":"#N/A"},{"$error":"#N/A"},{"$error":"#N/A"},{"$error":"#N/A"},{"$error":"#N/A"},{"$error":"#N/A"},{"$error":"#N/A"},{"$error":"#N/A"},{"$error":"#N/A"},{"$error":"#N/A"},{"$error":"#N/A"},{"$error":"#N/A"},{"$error":"#N/A"},{"$error":"#N/A"},{"$error":"#N/A"},{"$error":"#N/A"},{"$error":"#N/A"},{"$error":"#N/A"},{"$error":"#N/A"},{"$error":"#N/A"},{"$error":"#N/A"},{"$error":"#N/A"},{"$error":"#N/A"},{"$error":"#N/A"},{"$error":"#N/A"},{"$error":"#N/A"},{"$error":"#N/A"},{"$error":"#N/A"},{"$error":"#N/A"},{"$error":"#N/A"},{"$error":"#N/A"},{"$error":"#N/A"},{"$error":"#N/A"},{"$error":"#N/A"},{"$error":"#N/A"},{"$error":"#N/A"},{"$error":"#N/A"},{"$error":"#N/A"},{"$error":"#N/A"},{"$error":"#N/A"},{"$error":"#N/A"},{"$error":"#N/A"},{"$error":"#N/A"},{"$error":"#N/A"},{"$error":"#N/A"},{"$error":"#N/A"},{"$error":"#N/A"},{"$error":"#N/A"},{"$error":"#N/A"},{"$error":"#N/A"},{"$error":"#N/A"},{"$error":"#N/A"},{"$error":"#N/A"},{"$error":"#N/A"},{"$error":"#N/A"},{"$error":"#N/A"},{"$error":"#N/A"}]
["2020-11-24",{"$f":"VLOOKUP($A100,Data!$A$2:$E$150,2,FALSE)","v":{"$error":"#N/A"}},{"$f":"VLOOKUP($A100,Data!$A$2:$E$150,3,FALSE)","v":{"$error":"#N/A"}},{"$f":"VLOOKUP($A100,Data!$A$2:$E$150,4,FALSE)","v":{"$error":"#N/A"}},{"$f":"VLOOKUP($A100,Data!$A$2:$E$150,5,FALSE)","v":{"$error":"#N/A"}},null,null,0.5,null,null,null,null,null,"2021-08-03","2021-03-05",0.5,null,null,null,null,null,null,null,null,null,null,null,null,null,null,null,null,null,null,null,null,null,null,null,null,"2020-11-24",{"$error":"#N/A"},{"$error":"#N/A"},{"$error":"#N/A"},{"$error":"#N/A"},{"$error":"#N/A"},{"$error":"#N/A"},{"$error":"#N/A"},{"$error":"#N/A"},{"$error":"#N/A"},{"$error":"#N/A"},{"$error":"#N/A"},{"$error":"#N/A"},{"$error":"#N/A"},0,1,0.33333333333333331,0.66666666666666663,{"$error":"#N/A"},{"$error":"#N/A"},{"$error":"#N/A"},{"$error":"#N/A"},{"$error":"#N/A"},{"$error":"#N/A"},{"$error":"#N/A"},{"$error":"#N/A"},{"$error":"#N/A"},{"$error":"#N/A"},{"$error":"#N/A"},{"$error":"#N/A"},{"$error":"#N/A"},{"$error":"#N/A"},{"$error":"#N/A"},{"$error":"#N/A"},{"$error":"#N/A"},{"$error":"#N/A"},{"$error":"#N/A"},{"$error":"#N/A"},{"$error":"#N/A"},{"$error":"#N/A"},{"$error":"#N/A"},{"$error":"#N/A"},{"$error":"#N/A"},{"$error":"#N/A"},{"$error":"#N/A"},{"$error":"#N/A"},{"$error":"#N/A"},{"$error":"#N/A"},{"$error":"#N/A"},{"$error":"#N/A"},{"$error":"#N/A"},{"$error":"#N/A"},{"$error":"#N/A"},{"$error":"#N/A"},{"$error":"#N/A"},{"$error":"#N/A"},{"$error":"#N/A"},{"$error":"#N/A"},{"$error":"#N/A"},{"$error":"#N/A"},{"$error":"#N/A"},{"$error":"#N/A"},{"$error":"#N/A"},{"$error":"#N/A"},{"$error":"#N/A"},{"$error":"#N/A"},{"$error":"#N/A"},{"$error":"#N/A"},{"$error":"#N/A"},{"$error":"#N/A"},{"$error":"#N/A"},{"$error":"#N/A"},{"$error":"#N/A"},{"$error":"#N/A"},{"$error":"#N/A"},{"$error":"#N/A"},{"$error":"#N/A"},{"$error":"#N/A"},{"$error":"#N/A"},{"$error":"#N/A"},{"$error":"#N/A"},{"$error":"#N/A"},{"$error":"#N/A"},{"$error":"#N/A"},{"$error":"#N/A"},{"$error":"#N/A"},{"$error":"#N/A"},{"$error":"#N/A"},{"$error":"#N/A"},{"$error":"#N/A"},{"$error":"#N/A"},{"$error":"#N/A"},{"$error":"#N/A"},{"$error":"#N/A"},{"$error":"#N/A"},{"$error":"#N/A"},{"$error":"#N/A"},{"$error":"#N/A"},{"$error":"#N/A"},{"$error":"#N/A"},{"$error":"#N/A"},{"$error":"#N/A"},{"$error":"#N/A"},{"$error":"#N/A"},{"$error":"#N/A"},{"$error":"#N/A"}]
["2020-11-25",{"$f":"VLOOKUP($A101,Data!$A$2:$E$150,2,FALSE)","v":{"$error":"#N/A"}},{"$f":"VLOOKUP($A101,Data!$A$2:$E$150,3,FALSE)","v":{"$error":"#N/A"}},{"$f":"VLOOKUP($A101,Data!$A$2:$E$150,4,FALSE)","v":{"$error":"#N/A"}},{"$f":"VLOOKUP($A101,Data!$A$2:$E$150,5,FALSE)","v":{"$error":"#N/A"}},null,null,null,null,null,null,null,null,"2021-08-09","2021-03-09",0.625,null,null,null,null,null,null,null,null,null,null,null,null,null,null,null,null,null,null,null,null,null,null,null,null,"2020-11-25",{"$f":"IF($W$11,IF(VLOOKUP($AO101,$R$37:$R$46,1,),-2/8,NA()),NA())","v":{"$error":"#N/A"}},{"$error":"#N/A"},{"$f":"IF($W$11,IF(VLOOKUP($AO101,$R$37:$R$46,1,),2/8,NA()),NA())","v":{"$error":"#N/A"}},{"$error":"#N/A"},{"$f":"IF($W$11,IF(VLOOKUP($AO101,$R$37:$R$46,1,),6/8,NA()),NA())","v":{"$error":"#N/A"}},{"$error":"#N/A"},{"$f":"IF($W$11,IF(VLOOKUP($AO101,$R$37:$R$46,1,),10/8,NA()),NA())","v":{"$error":"#N/A"}},{"$error":"#N/A"},{"$f":"IF($W$11,IF(VLOOKUP($AO101,$R$72:$R$76,1,),4/8,NA()),NA())","v":{"$error":"#N/A"}},{"$error":"#N/A"},{"$error":"#N/A"},{"$error":"#N/A"},{"$error":"#N/A"},0,1,0.33333333333333331,0.66666666666666663,{"$error":"#N/A"},{"$error":"#N/A"},{"$error":"#N/A"},{"$error":"#N/A"},{"$error":"#N/A"},{"$error":"#N/A"},{"$error":"#N/A"},{"$error":"#N/A"},{"$error":"#N/A"},{"$error":"#N/A"},{"$error":"#N/A"},{"$error":"#N/A"},{"$error":"#N/A"},{"$error":"#N/A"},{"$error":"#N/A"},{"$error":"#N/A"},{"$error":"#N/A"},{"$error":"#N/A"},{"$error":"#N/A"},{"$error":"#N/A"},{"$error":"#N/A"},{"$error":"#N/A"},{"$error":"#N/A"},{"$error":"#N/A"},{"$error":"#N/A"},{"$error":"#N/A"},{"$error":"#N/A"},{"$error":"#N/A"},{"$error":"#N/A"},{"$error":"#N/A"},{"$error":"#N/A"},{"$error":"#N/A"},{"$error":"#N/A"},{"$error":"#N/A"},{"$error":"#N/A"},{"$error":"#N/A"},{"$error":"#N/A"},{"$error":"#N/A"},{"$error":"#N/A"},{"$error":"#N/A"},{"$error":"#N/A"},{"$error":"#N/A"},{"$error":"#N/A"},{"$error":"#N/A"},{"$error":"#N/A"},{"$error":"#N/A"},{"$error":"#N/A"},{"$error":"#N/A"},{"$error":"#N/A"},{"$error":"#N/A"},{"$error":"#N/A"},{"$error":"#N/A"},{"$error":"#N/A"},{"$error":"#N/A"},{"$error":"#N/A"},{"$error":"#N/A"},{"$error":"#N/A"},{"$error":"#N/A"},{"$error":"#N/A"},{"$error":"#N/A"},{"$error":"#N/A"},{"$error":"#N/A"},{"$error":"#N/A"},{"$error":"#N/A"},{"$error":"#N/A"},{"$error":"#N/A"},{"$error":"#N/A"},{"$error":"#N/A"},{"$error":"#N/A"},{"$error":"#N/A"},{"$error":"#N/A"},{"$error":"#N/A"},{"$error":"#N/A"},{"$error":"#N/A"},{"$error":"#N/A"},{"$error":"#N/A"},{"$error":"#N/A"},{"$error":"#N/A"},{"$error":"#N/A"},{"$error":"#N/A"},{"$error":"#N/A"},{"$error":"#N/A"},{"$error":"#N/A"},{"$error":"#N/A"},{"$error":"#N/A"},{"$error":"#N/A"},{"$error":"#N/A"},{"$error":"#N/A"}]
["2020-11-27",{"$f":"VLOOKUP($A102,Data!$A$2:$E$150,2,FALSE)","v":{"$error":"#N/A"}},{"$f":"VLOOKUP($A102,Data!$A$2:$E$150,3,FALSE)","v":{"$error":"#N/A"}},{"$f":"VLOOKUP($A102,Data!$A$2:$E$150,4,FALSE)","v":{"$error":"#N/A"}},{"$f":"VLOOKUP($A102,Data!$A$2:$E$150,5,FALSE)","v":{"$error":"#N/A"}},null,null,0.75,null,null,null,null,null,"2021-08-13","2021-03-11",0.75,null,null,null,null,null,null,null,null,null,null,null,null,null,null,null,null,null,null,null,null,null,null,null,null,"2020-11-27",{"$error":"#N/A"},{"$error":"#N/A"},{"$error":"#N/A"},{"$error":"#N/A"},{"$error":"#N/A"},{"$error":"#N/A"},{"$error":"#N/A"},{"$error":"#N/A"},{"$error":"#N/A"},{"$error":"#N/A"},{"$error":"#N/A"},{"$error":"#N/A"},{"$error":"#N/A"},0,1,0.33333333333333331,0.66666666666666663,{"$error":"#N/A"},{"$error":"#N/A"},{"$error":"#N/A"},{"$error":"#N/A"},{"$error":"#N/A"},{"$error":"#N/A"},{"$error":"#N/A"},{"$error":"#N/A"},{"$error":"#N/A"},{"$error":"#N/A"},{"$error":"#N/A"},{"$error":"#N/A"},{"$error":"#N/A"},{"$error":"#N/A"},{"$error":"#N/A"},{"$error":"#N/A"},{"$error":"#N/A"},{"$error":"#N/A"},{"$error":"#N/A"},{"$error":"#N/A"},{"$error":"#N/A"},{"$error":"#N/A"},{"$error":"#N/A"},{"$error":"#N/A"},{"$error":"#N/A"},{"$error":"#N/A"},{"$error":"#N/A"},{"$error":"#N/A"},{"$error":"#N/A"},{"$error":"#N/A"},{"$error":"#N/A"},{"$error":"#N/A"},{"$error":"#N/A"},{"$error":"#N/A"},{"$error":"#N/A"},{"$error":"#N/A"},{"$error":"#N/A"},{"$error":"#N/A"},{"$error":"#N/A"},{"$error":"#N/A"},{"$error":"#N/A"},{"$error":"#N/A"},{"$error":"#N/A"},{"$error":"#N/A"},{"$error":"#N/A"},{"$error":"#N/A"},{"$error":"#N/A"},{"$error":"#N/A"},{"$error":"#N/A"},{"$error":"#N/A"},{"$error":"#N/A"},{"$error":"#N/A"},{"$error":"#N/A"},{"$error":"#N/A"},{"$error":"#N/A"},{"$error":"#N/A"},{"$error":"#N/A"},{"$error":"#N/A"},{"$error":"#N/A"},{"$error":"#N/A"},{"$error":"#N/A"},{"$error":"#N/A"},{"$error":"#N/A"},{"$error":"#N/A"},{"$error":"#N/A"},{"$error":"#N/A"},{"$error":"#N/A"},{"$error":"#N/A"},{"$error":"#N/A"},{"$error":"#N/A"},{"$error":"#N/A"},{"$error":"#N/A"},{"$error":"#N/A"},{"$error":"#N/A"},{"$error":"#N/A"},{"$error":"#N/A"},{"$error":"#N/A"},{"$error":"#N/A"},{"$error":"#N/A"},{"$error":"#N/A"},{"$error":"#N/A"},{"$error":"#N/A"},{"$error":"#N/A"},{"$error":"#N/A"},{"$error":"#N/A"},{"$error":"#N/A"},{"$error":"#N/A"},{"$error":"#N/A"}]
["2020-11-30",{"$f":"VLOOKUP($A103,Data!$A$2:$E$150,2,FALSE)","v":{"$error":"#N/A"}},{"$f":"VLOOKUP($A103,Data!$A$2:$E$150,3,FALSE)","v":{"$error":"#N/A"}},{"$f":"VLOOKUP($A103,Data!$A$2:$E$150,4,FALSE)","v":{"$error":"#N/A"}},{"$f":"VLOOKUP($A103,Data!$A$2:$E$150,5,FALSE)","v":{"$error":"#N/A"}},null,null,0.75,null,null,null,null,null,"2021-08-19","2021-03-15",0.875,null,null,null,null,null,null,null,null,null,null,null,null,null,null,null,null,null,null,null,null,null,null,null,null,"2020-11-30",{"$error":"#N/A"},{"$error":"#N/A"},{"$error":"#N/A"},{"$error":"#N/A"},{"$error":"#N/A"},{"$error":"#N/A"},{"$error":"#N/A"},{"$error":"#N/A"},{"$error":"#N/A"},{"$error":"#N/A"},{"$error":"#N/A"},{"$error":"#N/A"},{"$error":"#N/A"},0,1,0.33333333333333331,0.66666666666666663,{"$error":"#N/A"},{"$error":"#N/A"},{"$error":"#N/A"},{"$error":"#N/A"},{"$error":"#N/A"},{"$error":"#N/A"},{"$error":"#N/A"},{"$error":"#N/A"},{"$error":"#N/A"},{"$error":"#N/A"},{"$error":"#N/A"},{"$error":"#N/A"},{"$error":"#N/A"},{"$error":"#N/A"},{"$error":"#N/A"},{"$error":"#N/A"},{"$error":"#N/A"},{"$error":"#N/A"},{"$error":"#N/A"},{"$error":"#N/A"},{"$error":"#N/A"},{"$error":"#N/A"},{"$error":"#N/A"},{"$error":"#N/A"},{"$error":"#N/A"},{"$error":"#N/A"},{"$error":"#N/A"},{"$error":"#N/A"},{"$error":"#N/A"},{"$error":"#N/A"},{"$error":"#N/A"},{"$error":"#N/A"},{"$error":"#N/A"},{"$error":"#N/A"},{"$error":"#N/A"},{"$error":"#N/A"},{"$error":"#N/A"},{"$error":"#N/A"},{"$error":"#N/A"},{"$error":"#N/A"},{"$error":"#N/A"},{"$error":"#N/A"},{"$error":"#N/A"},{"$error":"#N/A"},{"$error":"#N/A"},{"$error":"#N/A"},{"$error":"#N/A"},{"$error":"#N/A"},{"$error":"#N/A"},{"$error":"#N/A"},{"$error":"#N/A"},{"$error":"#N/A"},{"$error":"#N/A"},{"$error":"#N/A"},{"$error":"#N/A"},{"$error":"#N/A"},{"$error":"#N/A"},{"$error":"#N/A"},{"$error":"#N/A"},{"$error":"#N/A"},{"$error":"#N/A"},{"$error":"#N/A"},{"$error":"#N/A"},{"$error":"#N/A"},{"$error":"#N/A"},{"$error":"#N/A"},{"$error":"#N/A"},{"$error":"#N/A"},{"$error":"#N/A"},{"$error":"#N/A"},{"$error":"#N/A"},{"$error":"#N/A"},{"$error":"#N/A"},{"$error":"#N/A"},{"$error":"#N/A"},{"$error":"#N/A"},{"$error":"#N/A"},{"$error":"#N/A"},{"$error":"#N/A"},{"$error":"#N/A"},{"$error":"#N/A"},{"$error":"#N/A"},{"$error":"#N/A"},{"$error":"#N/A"},{"$error":"#N/A"},{"$error":"#N/A"},{"$error":"#N/A"},{"$error":"#N/A"}]
["2020-12-01",{"$f":"VLOOKUP($A104,Data!$A$2:$E$150,2,FALSE)","v":{"$error":"#N/A"}},{"$f":"VLOOKUP($A104,Data!$A$2:$E$150,3,FALSE)","v":{"$error":"#N/A"}},{"$f":"VLOOKUP($A104,Data!$A$2:$E$150,4,FALSE)","v":{"$error":"#N/A"}},{"$f":"VLOOKUP($A104,Data!$A$2:$E$150,5,FALSE)","v":{"$error":"#N/A"}},null,null,0.75,null,null,null,null,null,"2021-08-25","2021-03-17",1,null,null,null,null,null,null,null,null,null,null,null,null,null,null,null,null,null,null,null,null,null,null,null,null,"2020-12-01",{"$error":"#N/A"},{"$error":"#N/A"},{"$error":"#N/A"},{"$error":"#N/A"},{"$error":"#N/A"},{"$error":"#N/A"},{"$error":"#N/A"},{"$error":"#N/A"},{"$error":"#N/A"},{"$error":"#N/A"},{"$error":"#N/A"},{"$error":"#N/A"},1,0,1,0.33333333333333331,0.66666666666666663,{"$error":"#N/A"},{"$error":"#N/A"},{"$error":"#N/A"},{"$error":"#N/A"},{"$error":"#N/A"},{"$error":"#N/A"},{"$error":"#N/A"},{"$error":"#N/A"},{"$error":"#N/A"},{"$error":"#N/A"},{"$error":"#N/A"},{"$error":"#N/A"},{"$error":"#N/A"},{"$error":"#N/A"},{"$error":"#N/A"},{"$error":"#N/A"},{"$error":"#N/A"},{"$error":"#N/A"},{"$error":"#N/A"},{"$error":"#N/A"},{"$error":"#N/A"},{"$error":"#N/A"},{"$error":"#N/A"},{"$error":"#N/A"},{"$error":"#N/A"},{"$error":"#N/A"},{"$error":"#N/A"},{"$error":"#N/A"},{"$error":"#N/A"},{"$error":"#N/A"},{"$error":"#N/A"},{"$error":"#N/A"},{"$error":"#N/A"},{"$error":"#N/A"},{"$error":"#N/A"},{"$error":"#N/A"},{"$error":"#N/A"},{"$error":"#N/A"},{"$error":"#N/A"},{"$error":"#N/A"},{"$error":"#N/A"},{"$error":"#N/A"},{"$error":"#N/A"},{"$error":"#N/A"},{"$error":"#N/A"},0,{"$error":"#N/A"},{"$error":"#N/A"},{"$error":"#N/A"},{"$error":"#N/A"},{"$error":"#N/A"},{"$error":"#N/A"},{"$error":"#N/A"},1,{"$error":"#N/A"},{"$error":"#N/A"},{"$error":"#N/A"},{"$error":"#N/A"},{"$error":"#N/A"},{"$error":"#N/A"},{"$error":"#N/A"},{"$error":"#N/A"},{"$error":"#N/A"},{"$error":"#N/A"},{"$error":"#N/A"},{"$error":"#N/A"},{"$error":"#N/A"},{"$error":"#N/A"},{"$error":"#N/A"},{"$error":"#N/A"},{"$error":"#N/A"},{"$error":"#N/A"},{"$error":"#N/A"},{"$error":"#N/A"},{"$error":"#N/A"},{"$error":"#N/A"},{"$error":"#N/A"},{"$error":"#N/A"},{"$error":"#N/A"},{"$error":"#N/A"},{"$error":"#N/A"},{"$error":"#N/A"},{"$error":"#N/A"},{"$error":"#N/A"},{"$error":"#N/A"},{"$error":"#N/A"},{"$error":"#N/A"},{"$error":"#N/A"}]
["2020-12-02",{"$f":"VLOOKUP($A105,Data!$A$2:$E$150,2,FALSE)","v":{"$error":"#N/A"}},{"$f":"VLOOKUP($A105,Data!$A$2:$E$150,3,FALSE)","v":{"$error":"#N/A"}},{"$f":"VLOOKUP($A105,Data!$A$2:$E$150,4,FALSE)","v":{"$error":"#N/A"}},{"$f":"VLOOKUP($A105,Data!$A$2:$E$150,5,FALSE)","v":{"$error":"#N/A"}},null,null,0.75,null,null,null,null,null,"2021-08-31","2021-03-19",0.125,null,null,null,null,null,null,null,null,null,null,null,null,null,null,null,null,null,null,null,null,null,null,null,null,"2020-12-02",{"$error":"#N/A"},{"$error":"#N/A"},{"$error":"#N/A"},{"$error":"#N/A"},{"$error":"#N/A"},{"$error":"#N/A"},{"$error":"#N/A"},{"$error":"#N/A"},{"$error":"#N/A"},{"$error":"#N/A"},{"$error":"#N/A"},{"$error":"#N/A"},{"$error":"#N/A"},0,1,0.33333333333333331,0.66666666666666663,{"$error":"#N/A"},{"$error":"#N/A"},{"$error":"#N/A"},{"$error":"#N/A"},{"$error":"#N/A"},{"$error":"#N/A"},{"$error":"#N/A"},{"$error":"#N/A"},{"$error":"#N/A"},{"$error":"#N/A"},{"$error":"#N/A"},{"$error":"#N/A"},{"$error":"#N/A"},{"$error":"#N/A"},{"$error":"#N/A"},{"$error":"#N/A"},{"$error":"#N/A"},{"$error":"#N/A"},{"$error":"#N/A"},{"$error":"#N/A"},{"$error":"#N/A"},{"$error":"#N/A"},{"$error":"#N/A"},{"$error":"#N/A"},{"$error":"#N/A"},{"$error":"#N/A"},{"$error":"#N/A"},{"$error":"#N/A"},{"$error":"#N/A"},{"$error":"#N/A"},{"$error":"#N/A"},{"$error":"#N/A"},{"$error":"#N/A"},{"$error":"#N/A"},{"$error":"#N/A"},{"$error":"#N/A"},{"$error":"#N/A"},{"$error":"#N/A"},{"$error":"#N/A"},{"$error":"#N/A"},{"$error":"#N/A"},{"$error":"#N/A"},{"$error":"#N/A"},{"$error":"#N/A"},{"$error":"#N/A"},{"$error":"#N/A"},{"$error":"#N/A"},{"$error":"#N/A"},{"$error":"#N/A"},{"$error":"#N/A"},{"$error":"#N/A"},{"$error":"#N/A"},{"$error":"#N/A"},{"$error":"#N/A"},{"$error":"#N/A"},{"$error":"#N/A"},{"$error":"#N/A"},{"$error":"#N/A"},{"$error":"#N/A"},{"$error":"#N/A"},{"$error":"#N/A"},{"$error":"#N/A"},{"$error":"#N/A"},{"$error":"#N/A"},{"$error":"#N/A"},{"$error":"#N/A"},{"$error":"#N/A"},{"$error":"#N/A"},{"$error":"#N/A"},{"$error":"#N/A"},{"$error":"#N/A"},{"$error":"#N/A"},{"$error":"#N/A"},{"$error":"#N/A"},{"$error":"#N/A"},{"$error":"#N/A"},{"$error":"#N/A"},{"$error":"#N/A"},{"$error":"#N/A"},{"$error":"#N/A"},{"$error":"#N/A"},{"$error":"#N/A"},{"$error":"#N/A"},{"$error":"#N/A"},{"$error":"#N/A"},{"$error":"#N/A"},{"$error":"#N/A"},{"$error":"#N/A"}]
["2020-12-03",{"$f":"VLOOKUP($A106,Data!$A$2:$E$150,2,FALSE)","v":{"$error":"#N/A"}},{"$f":"VLOOKUP($A106,Data!$A$2:$E$150,3,FALSE)","v":{"$error":"#N/A"}},{"$f":"VLOOKUP($A106,Data!$A$2:$E$150,4,FALSE)","v":{"$error":"#N/A"}},{"$f":"VLOOKUP($A106,Data!$A$2:$E$150,5,FALSE)","v":{"$error":"#N/A"}},null,null,0.75,null,null,null,null,null,"2021-09-07","2021-03-23",0.25,null,null,null,null,null,null,null,null,null,null,null,null,null,null,null,null,null,null,null,null,null,null,null,null,"2020-12-03",{"$error":"#N/A"},{"$error":"#N/A"},{"$error":"#N/A"},{"$error":"#N/A"},{"$error":"#N/A"},{"$error":"#N/A"},{"$error":"#N/A"},{"$error":"#N/A"},{"$error":"#N/A"},{"$error":"#N/A"},{"$error":"#N/A"},{"$error":"#N/A"},{"$error":"#N/A"},0,1,0.33333333333333331,0.66666666666666663,{"$error":"#N/A"},{"$error":"#N/A"},{"$error":"#N/A"},{"$error":"#N/A"},{"$error":"#N/A"},{"$error":"#N/A"},{"$error":"#N/A"},{"$error":"#N/A"},{"$error":"#N/A"},{"$error":"#N/A"},{"$error":"#N/A"},{"$error":"#N/A"},{"$error":"#N/A"},{"$error":"#N/A"},{"$error":"#N/A"},{"$error":"#N/A"},{"$error":"#N/A"},{"$error":"#N/A"},{"$error":"#N/A"},{"$error":"#N/A"},{"$error":"#N/A"},{"$error":"#N/A"},{"$error":"#N/A"},{"$error":"#N/A"},{"$error":"#N/A"},{"$error":"#N/A"},{"$error":"#N/A"},{"$error":"#N/A"},{"$error":"#N/A"},{"$error":"#N/A"},{"$error":"#N/A"},{"$error":"#N/A"},{"$error":"#N/A"},{"$error":"#N/A"},{"$error":"#N/A"},{"$error":"#N/A"},{"$error":"#N/A"},{"$error":"#N/A"},{"$error":"#N/A"},{"$error":"#N/A"},{"$error":"#N/A"},{"$error":"#N/A"},{"$error":"#N/A"},{"$error":"#N/A"},{"$error":"#N/A"},{"$error":"#N/A"},{"$error":"#N/A"},{"$error":"#N/A"},{"$error":"#N/A"},{"$error":"#N/A"},{"$error":"#N/A"},{"$error":"#N/A"},{"$error":"#N/A"},{"$error":"#N/A"},{"$error":"#N/A"},{"$error":"#N/A"},{"$error":"#N/A"},{"$error":"#N/A"},{"$error":"#N/A"},{"$error":"#N/A"},{"$error":"#N/A"},{"$error":"#N/A"},{"$error":"#N/A"},{"$error":"#N/A"},{"$error":"#N/A"},{"$error":"#N/A"},{"$error":"#N/A"},{"$error":"#N/A"},{"$error":"#N/A"},{"$error":"#N/A"},{"$error":"#N/A"},{"$error":"#N/A"},{"$error":"#N/A"},{"$error":"#N/A"},{"$error":"#N/A"},{"$error":"#N/A"},{"$error":"#N/A"},{"$error":"#N/A"},{"$error":"#N/A"},{"$error":"#N/A"},{"$error":"#N/A"},{"$error":"#N/A"},{"$error":"#N/A"},{"$error":"#N/A"},{"$error":"#N/A"},{"$error":"#N/A"},{"$error":"#N/A"},{"$error":"#N/A"}]
["2020-12-04",{"$f":"VLOOKUP($A107,Data!$A$2:$E$150,2,FALSE)","v":{"$error":"#N/A"}},{"$f":"VLOOKUP($A107,Data!$A$2:$E$150,3,FALSE)","v":{"$error":"#N/A"}},{"$f":"VLOOKUP($A107,Data!$A$2:$E$150,4,FALSE)","v":{"$error":"#N/A"}},{"$f":"VLOOKUP($A107,Data!$A$2:$E$150,5,FALSE)","v":{"$error":"#N/A"}},null,null,0.75,null,null,null,null,null,"2021-09-13","2021-03-25",0.375,null,null,null,null,null,null,null,null,null,null,null,null,null,null,null,null,null,null,null,null,null,null,null,null,"2020-12-04",{"$error":"#N/A"},{"$error":"#N/A"},{"$error":"#N/A"},{"$error":"#N/A"},{"$error":"#N/A"},{"$error":"#N/A"},{"$error":"#N/A"},{"$error":"#N/A"},{"$error":"#N/A"},{"$error":"#N/A"},{"$error":"#N/A"},{"$error":"#N/A"},{"$error":"#N/A"},0,1,0.33333333333333331,0.66666666666666663,{"$error":"#N/A"},{"$error":"#N/A"},{"$error":"#N/A"},{"$error":"#N/A"},{"$error":"#N/A"},{"$error":"#N/A"},{"$error":"#N/A"},{"$error":"#N/A"},{"$error":"#N/A"},{"$error":"#N/A"},{"$error":"#N/A"},{"$error":"#N/A"},{"$error":"#N/A"},{"$error":"#N/A"},{"$error":"#N/A"},{"$error":"#N/A"},{"$error":"#N/A"},{"$error":"#N/A"},{"$error":"#N/A"},{"$error":"#N/A"},{"$error":"#N/A"},{"$error":"#N/A"},{"$error":"#N/A"},{"$error":"#N/A"},{"$error":"#N/A"},{"$error":"#N/A"},{"$error":"#N/A"},{"$error":"#N/A"},{"$error":"#N/A"},{"$error":"#N/A"},{"$error":"#N/A"},{"$error":"#N/A"},{"$error":"#N/A"},{"$error":"#N/A"},{"$error":"#N/A"},{"$error":"#N/A"},{"$error":"#N/A"},{"$error":"#N/A"},{"$error":"#N/A"},{"$error":"#N/A"},{"$error":"#N/A"},{"$error":"#N/A"},{"$error":"#N/A"},{"$error":"#N/A"},{"$error":"#N/A"},{"$error":"#N/A"},{"$error":"#N/A"},{"$error":"#N/A"},{"$error":"#N/A"},{"$error":"#N/A"},{"$error":"#N/A"},{"$error":"#N/A"},{"$error":"#N/A"},{"$error":"#N/A"},{"$error":"#N/A"},{"$error":"#N/A"},{"$error":"#N/A"},{"$error":"#N/A"},{"$error":"#N/A"},{"$error":"#N/A"},{"$error":"#N/A"},{"$error":"#N/A"},{"$error":"#N/A"},{"$error":"#N/A"},{"$error":"#N/A"},{"$error":"#N/A"},{"$error":"#N/A"},{"$error":"#N/A"},{"$error":"#N/A"},{"$error":"#N/A"},{"$error":"#N/A"},{"$error":"#N/A"},{"$error":"#N/A"},{"$error":"#N/A"},{"$error":"#N/A"},{"$error":"#N/A"},{"$error":"#N/A"},{"$error":"#N/A"},{"$error":"#N/A"},{"$error":"#N/A"},{"$error":"#N/A"},{"$error":"#N/A"},{"$error":"#N/A"},{"$error":"#N/A"},{"$error":"#N/A"},{"$error":"#N/A"},{"$error":"#N/A"},{"$error":"#N/A"}]
["2020-12-07",{"$f":"VLOOKUP($A108,Data!$A$2:$E$150,2,FALSE)","v":{"$error":"#N/A"}},{"$f":"VLOOKUP($A108,Data!$A$2:$E$150,3,FALSE)","v":{"$error":"#N/A"}},{"$f":"VLOOKUP($A108,Data!$A$2:$E$150,4,FALSE)","v":{"$error":"#N/A"}},{"$f":"VLOOKUP($A108,Data!$A$2:$E$150,5,FALSE)","v":{"$error":"#N/A"}},null,null,0.75,null,null,null,null,null,"2021-09-17","2021-03-29",0.5,null,null,null,null,null,null,null,null,null,null,null,null,null,null,null,null,null,null,null,null,null,null,null,null,"2020-12-07",{"$error":"#N/A"},{"$error":"#N/A"},{"$error":"#N/A"},{"$error":"#N/A"},{"$error":"#N/A"},{"$error":"#N/A"},{"$error":"#N/A"},{"$error":"#N/A"},{"$error":"#N/A"},{"$error":"#N/A"},{"$error":"#N/A"},{"$error":"#N/A"},{"$error":"#N/A"},0,1,0.33333333333333331,0.66666666666666663,{"$error":"#N/A"},{"$error":"#N/A"},{"$error":"#N/A"},{"$error":"#N/A"},{"$error":"#N/A"},{"$error":"#N/A"},{"$error":"#N/A"},{"$error":"#N/A"},{"$error":"#N/A"},{"$error":"#N/A"},{"$error":"#N/A"},{"$error":"#N/A"},{"$error":"#N/A"},{"$error":"#N/A"},{"$error":"#N/A"},{"$error":"#N/A"},{"$error":"#N/A"},{"$error":"#N/A"},{"$error":"#N/A"},{"$error":"#N/A"},{"$error":"#N/A"},{"$error":"#N/A"},{"$error":"#N/A"},{"$error":"#N/A"},{"$error":"#N/A"},{"$error":"#N/A"},{"$error":"#N/A"},{"$error":"#N/A"},{"$error":"#N/A"},{"$error":"#N/A"},{"$error":"#N/A"},{"$error":"#N/A"},{"$error":"#N/A"},{"$error":"#N/A"},{"$error":"#N/A"},{"$error":"#N/A"},{"$error":"#N/A"},{"$error":"#N/A"},{"$error":"#N/A"},{"$error":"#N/A"},{"$error":"#N/A"},{"$error":"#N/A"},{"$error":"#N/A"},{"$error":"#N/A"},{"$error":"#N/A"},{"$error":"#N/A"},{"$error":"#N/A"},{"$error":"#N/A"},{"$error":"#N/A"},{"$error":"#N/A"},{"$error":"#N/A"},{"$error":"#N/A"},{"$error":"#N/A"},{"$error":"#N/A"},{"$error":"#N/A"},{"$error":"#N/A"},{"$error":"#N/A"},{"$error":"#N/A"},{"$error":"#N/A"},{"$error":"#N/A"},{"$error":"#N/A"},{"$error":"#N/A"},{"$error":"#N/A"},{"$error":"#N/A"},{"$error":"#N/A"},{"$error":"#N/A"},{"$error":"#N/A"},{"$error":"#N/A"},{"$error":"#N/A"},{"$error":"#N/A"},{"$error":"#N/A"},{"$error":"#N/A"},{"$error":"#N/A"},{"$error":"#N/A"},{"$error":"#N/A"},{"$error":"#N/A"},{"$error":"#N/A"},{"$error":"#N/A"},{"$error":"#N/A"},{"$error":"#N/A"},{"$error":"#N/A"},{"$error":"#N/A"},{"$error":"#N/A"},{"$error":"#N/A"},{"$error":"#N/A"},{"$error":"#N/A"},{"$error":"#N/A"},{"$error":"#N/A"}]
["2020-12-08",{"$f":"VLOOKUP($A109,Data!$A$2:$E$150,2,FALSE)","v":{"$error":"#N/A"}},{"$f":"VLOOKUP($A109,Data!$A$2:$E$150,3,FALSE)","v":{"$error":"#N/A"}},{"$f":"VLOOKUP($A109,Data!$A$2:$E$150,4,FALSE)","v":{"$error":"#N/A"}},{"$f":"VLOOKUP($A109,Data!$A$2:$E$150,5,FALSE)","v":{"$error":"#N/A"}},null,null,0.75,null,null,null,null,null,"2021-09-23","2021-03-31",0.625,null,null,null,null,null,null,null,null,null,null,null,null,null,null,null,null,null,null,null,null,null,null,null,null,"2020-12-08",{"$error":"#N/A"},{"$error":"#N/A"},{"$error":"#N/A"},{"$error":"#N/A"},{"$error":"#N/A"},{"$error":"#N/A"},{"$error":"#N/A"},{"$error":"#N/A"},{"$error":"#N/A"},{"$error":"#N/A"},{"$error":"#N/A"},{"$error":"#N/A"},{"$error":"#N/A"},0,1,0.33333333333333331,0.66666666666666663,{"$error":"#N/A"},{"$error":"#N/A"},{"$error":"#N/A"},{"$error":"#N/A"},{"$error":"#N/A"},{"$error":"#N/A"},{"$error":"#N/A"},{"$error":"#N/A"},{"$error":"#N/A"},{"$error":"#N/A"},{"$error":"#N/A"},{"$error":"#N/A"},{"$error":"#N/A"},{"$error":"#N/A"},{"$error":"#N/A"},{"$error":"#N/A"},{"$error":"#N/A"},{"$error":"#N/A"},{"$error":"#N/A"},{"$error":"#N/A"},{"$error":"#N/A"},{"$error":"#N/A"},{"$error":"#N/A"},{"$error":"#N/A"},{"$error":"#N/A"},{"$error":"#N/A"},{"$error":"#N/A"},{"$error":"#N/A"},{"$error":"#N/A"},{"$error":"#N/A"},{"$error":"#N/A"},{"$error":"#N/A"},{"$error":"#N/A"},{"$error":"#N/A"},{"$error":"#N/A"},{"$error":"#N/A"},{"$error":"#N/A"},{"$error":"#N/A"},{"$error":"#N/A"},{"$error":"#N/A"},{"$error":"#N/A"},{"$error":"#N/A"},{"$error":"#N/A"},{"$error":"#N/A"},{"$error":"#N/A"},{"$error":"#N/A"},{"$error":"#N/A"},{"$error":"#N/A"},{"$error":"#N/A"},{"$error":"#N/A"},{"$error":"#N/A"},{"$error":"#N/A"},{"$error":"#N/A"},{"$error":"#N/A"},{"$error":"#N/A"},{"$error":"#N/A"},{"$error":"#N/A"},{"$error":"#N/A"},{"$error":"#N/A"},{"$error":"#N/A"},{"$error":"#N/A"},{"$error":"#N/A"},{"$error":"#N/A"},{"$error":"#N/A"},{"$error":"#N/A"},{"$error":"#N/A"},{"$error":"#N/A"},{"$error":"#N/A"},{"$error":"#N/A"},{"$error":"#N/A"},{"$error":"#N/A"},{"$error":"#N/A"},{"$error":"#N/A"},{"$error":"#N/A"},{"$error":"#N/A"},{"$error":"#N/A"},{"$error":"#N/A"},{"$error":"#N/A"},{"$error":"#N/A"},{"$error":"#N/A"},{"$error":"#N/A"},{"$error":"#N/A"},{"$error":"#N/A"},{"$error":"#N/A"},{"$error":"#N/A"},{"$error":"#N/A"},{"$error":"#N/A"},{"$error":"#N/A"}]
["2020-12-09",{"$f":"VLOOKUP($A110,Data!$A$2:$E$150,2,FALSE)","v":{"$error":"#N/A"}},{"$f":"VLOOKUP($A110,Data!$A$2:$E$150,3,FALSE)","v":{"$error":"#N/A"}},{"$f":"VLOOKUP($A110,Data!$A$2:$E$150,4,FALSE)","v":{"$error":"#N/A"}},{"$f":"VLOOKUP($A110,Data!$A$2:$E$150,5,FALSE)","v":{"$error":"#N/A"}},null,null,0.75,null,null,null,null,null,"2021-09-29","2021-04-05",0.75,null,null,null,null,null,null,null,null,null,null,null,null,null,null,null,null,null,null,null,null,null,null,null,null,"2020-12-09",{"$error":"#N/A"},{"$error":"#N/A"},{"$error":"#N/A"},{"$error":"#N/A"},{"$error":"#N/A"},{"$error":"#N/A"},{"$error":"#N/A"},{"$error":"#N/A"},{"$error":"#N/A"},{"$error":"#N/A"},{"$error":"#N/A"},{"$error":"#N/A"},{"$error":"#N/A"},0,1,0.33333333333333331,0.66666666666666663,{"$error":"#N/A"},{"$error":"#N/A"},{"$error":"#N/A"},{"$error":"#N/A"},{"$error":"#N/A"},{"$error":"#N/A"},{"$error":"#N/A"},{"$error":"#N/A"},{"$error":"#N/A"},{"$error":"#N/A"},{"$error":"#N/A"},{"$error":"#N/A"},{"$error":"#N/A"},{"$error":"#N/A"},{"$error":"#N/A"},{"$error":"#N/A"},{"$error":"#N/A"},{"$error":"#N/A"},{"$error":"#N/A"},{"$error":"#N/A"},{"$error":"#N/A"},{"$error":"#N/A"},{"$error":"#N/A"},{"$error":"#N/A"},{"$error":"#N/A"},{"$error":"#N/A"},{"$error":"#N/A"},{"$error":"#N/A"},{"$error":"#N/A"},{"$error":"#N/A"},{"$error":"#N/A"},{"$error":"#N/A"},{"$error":"#N/A"},{"$error":"#N/A"},{"$error":"#N/A"},{"$error":"#N/A"},{"$error":"#N/A"},{"$error":"#N/A"},{"$error":"#N/A"},{"$error":"#N/A"},{"$error":"#N/A"},{"$error":"#N/A"},{"$error":"#N/A"},{"$error":"#N/A"},{"$error":"#N/A"},{"$error":"#N/A"},{"$error":"#N/A"},{"$error":"#N/A"},{"$error":"#N/A"},{"$error":"#N/A"},{"$error":"#N/A"},{"$error":"#N/A"},{"$error":"#N/A"},{"$error":"#N/A"},{"$error":"#N/A"},{"$error":"#N/A"},{"$error":"#N/A"},{"$error":"#N/A"},{"$error":"#N/A"},{"$error":"#N/A"},{"$error":"#N/A"},{"$error":"#N/A"},{"$error":"#N/A"},{"$error":"#N/A"},{"$error":"#N/A"},{"$error":"#N/A"},{"$error":"#N/A"},{"$error":"#N/A"},{"$error":"#N/A"},{"$error":"#N/A"},{"$error":"#N/A"},{"$error":"#N/A"},{"$error":"#N/A"},{"$error":"#N/A"},{"$error":"#N/A"},{"$error":"#N/A"},{"$error":"#N/A"},{"$error":"#N/A"},{"$error":"#N/A"},{"$error":"#N/A"},{"$error":"#N/A"},{"$error":"#N/A"},{"$error":"#N/A"},{"$error":"#N/A"},{"$error":"#N/A"},{"$error":"#N/A"},{"$error":"#N/A"},{"$error":"#N/A"}]
["2020-12-10",{"$f":"VLOOKUP($A111,Data!$A$2:$E$150,2,FALSE)","v":{"$error":"#N/A"}},{"$f":"VLOOKUP($A111,Data!$A$2:$E$150,3,FALSE)","v":{"$error":"#N/A"}},{"$f":"VLOOKUP($A111,Data!$A$2:$E$150,4,FALSE)","v":{"$error":"#N/A"}},{"$f":"VLOOKUP($A111,Data!$A$2:$E$150,5,FALSE)","v":{"$error":"#N/A"}},null,null,0.75,null,null,null,null,null,"2021-10-05","2021-04-07",0.875,null,null,null,null,null,null,null,null,null,null,null,null,null,null,null,null,null,null,null,null,null,null,null,null,"2020-12-10",{"$error":"#N/A"},{"$error":"#N/A"},{"$error":"#N/A"},{"$error":"#N/A"},{"$error":"#N/A"},{"$error":"#N/A"},{"$error":"#N/A"},{"$error":"#N/A"},{"$error":"#N/A"},{"$error":"#N/A"},{"$error":"#N/A"},{"$error":"#N/A"},{"$error":"#N/A"},0,1,0.33333333333333331,0.66666666666666663,{"$error":"#N/A"},{"$error":"#N/A"},{"$error":"#N/A"},{"$error":"#N/A"},{"$error":"#N/A"},{"$error":"#N/A"},{"$error":"#N/A"},{"$error":"#N/A"},{"$error":"#N/A"},{"$error":"#N/A"},{"$error":"#N/A"},{"$error":"#N/A"},{"$error":"#N/A"},{"$error":"#N/A"},{"$error":"#N/A"},{"$error":"#N/A"},{"$error":"#N/A"},{"$error":"#N/A"},{"$error":"#N/A"},{"$error":"#N/A"},{"$error":"#N/A"},{"$error":"#N/A"},{"$error":"#N/A"},{"$error":"#N/A"},{"$error":"#N/A"},{"$error":"#N/A"},{"$error":"#N/A"},{"$error":"#N/A"},{"$error":"#N/A"},{"$error":"#N/A"},{"$error":"#N/A"},{"$error":"#N/A"},{"$error":"#N/A"},{"$error":"#N/A"},{"$error":"#N/A"},{"$error":"#N/A"},{"$error":"#N/A"},{"$error":"#N/A"},{"$error":"#N/A"},{"$error":"#N/A"},{"$error":"#N/A"},{"$error":"#N/A"},{"$error":"#N/A"},{"$error":"#N/A"},{"$error":"#N/A"},{"$error":"#N/A"},{"$error":"#N/A"},{"$error":"#N/A"},{"$error":"#N/A"},{"$error":"#N/A"},{"$error":"#N/A"},{"$error":"#N/A"},{"$error":"#N/A"},{"$error":"#N/A"},{"$error":"#N/A"},{"$error":"#N/A"},{"$error":"#N/A"},{"$error":"#N/A"},{"$error":"#N/A"},{"$error":"#N/A"},{"$error":"#N/A"},{"$error":"#N/A"},{"$error":"#N/A"},{"$error":"#N/A"},{"$error":"#N/A"},{"$error":"#N/A"},{"$error":"#N/A"},{"$error":"#N/A"},{"$error":"#N/A"},{"$error":"#N/A"},{"$error":"#N/A"},{"$error":"#N/A"},{"$error":"#N/A"},{"$error":"#N/A"},{"$error":"#N/A"},{"$error":"#N/A"},{"$error":"#N/A"},{"$error":"#N/A"},{"$error":"#N/A"},{"$error":"#N/A"},{"$error":"#N/A"},{"$error":"#N/A"},{"$error":"#N/A"},{"$error":"#N/A"},{"$error":"#N/A"},{"$error":"#N/A"},{"$error":"#N/A"},{"$error":"#N/A"}]
["2020-12-11",{"$f":"VLOOKUP($A112,Data!$A$2:$E$150,2,FALSE)","v":{"$error":"#N/A"}},{"$f":"VLOOKUP($A112,Data!$A$2:$E$150,3,FALSE)","v":{"$error":"#N/A"}},{"$f":"VLOOKUP($A112,Data!$A$2:$E$150,4,FALSE)","v":{"$error":"#N/A"}},{"$f":"VLOOKUP($A112,Data!$A$2:$E$150,5,FALSE)","v":{"$error":"#N/A"}},null,null,0.75,null,null,null,null,null,null,"2021-04-09",1,null,null,null,null,null,null,null,null,null,null,null,null,null,null,null,null,null,null,null,null,null,null,null,null,"2020-12-11",-0.25,-0.25,0.25,0.25,0.75,0.75,1.25,1.25,{"$error":"#N/A"},{"$error":"#N/A"},{"$error":"#N/A"},1.125,1,0,1,0.33333333333333331,0.66666666666666663,{"$error":"#N/A"},{"$error":"#N/A"},{"$error":"#N/A"},{"$error":"#N/A"},{"$error":"#N/A"},{"$error":"#N/A"},{"$error":"#N/A"},{"$error":"#N/A"},{"$error":"#N/A"},1,{"$error":"#N/A"},{"$error":"#N/A"},{"$error":"#N/A"},{"$error":"#N/A"},{"$error":"#N/A"},{"$error":"#N/A"},{"$error":"#N/A"},{"$error":"#N/A"},{"$error":"#N/A"},{"$error":"#N/A"},{"$error":"#N/A"},{"$error":"#N/A"},{"$error":"#N/A"},{"$error":"#N/A"},{"$error":"#N/A"},{"$error":"#N/A"},{"$error":"#N/A"},{"$error":"#N/A"},{"$error":"#N/A"},{"$error":"#N/A"},{"$error":"#N/A"},{"$error":"#N/A"},{"$error":"#N/A"},{"$error":"#N/A"},{"$error":"#N/A"},{"$error":"#N/A"},{"$error":"#N/A"},{"$error":"#N/A"},{"$error":"#N/A"},{"$error":"#N/A"},{"$error":"#N/A"},{"$error":"#N/A"},{"$error":"#N/A"},{"$error":"#N/A"},0,{"$error":"#N/A"},{"$error":"#N/A"},{"$error":"#N/A"},{"$error":"#N/A"},{"$error":"#N/A"},{"$error":"#N/A"},{"$error":"#N/A"},1,{"$error":"#N/A"},{"$error":"#N/A"},{"$error":"#N/A"},{"$error":"#N/A"},{"$error":"#N/A"},{"$error":"#N/A"},{"$error":"#N/A"},{"$error":"#N/A"},{"$error":"#N/A"},{"$error":"#N/A"},{"$error":"#N/A"},{"$error":"#N/A"},{"$error":"#N/A"},{"$error":"#N/A"},{"$error":"#N/A"},{"$error":"#N/A"},{"$error":"#N/A"},{"$error":"#N/A"},{"$error":"#N/A"},{"$error":"#N/A"},{"$error":"#N/A"},{"$error":"#N/A"},{"$error":"#N/A"},{"$error":"#N/A"},{"$error":"#N/A"},{"$error":"#N/A"},{"$error":"#N/A"},{"$error":"#N/A"},{"$error":"#N/A"},{"$error":"#N/A"},{"$error":"#N/A"},{"$error":"#N/A"},{"$error":"#N/A"},{"$error":"#N/A"},{"$error":"#N/A"}]
["2020-12-14",{"$f":"VLOOKUP($A113,Data!$A$2:$E$150,2,FALSE)","v":{"$error":"#N/A"}},{"$f":"VLOOKUP($A113,Data!$A$2:$E$150,3,FALSE)","v":{"$error":"#N/A"}},{"$f":"VLOOKUP($A113,Data!$A$2:$E$150,4,FALSE)","v":{"$error":"#N/A"}},{"$f":"VLOOKUP($A113,Data!$A$2:$E$150,5,FALSE)","v":{"$error":"#N/A"}},null,null,0.75,null,null,null,null,null,null,{"$f":"IF((WORKDAY(O112,O$31,$G$32:$G$71)-$O$48)*0.7/2>127,INDEX(I$30:M$30,1,MATCH(O$48,I$30:M$30,1)+1),WORKDAY(O112,O$31,$G$32:$G$71))","v":"2021-04-13"},0.125,null,null,null,null,null,null,null,null,null,null,null,null,null,null,null,null,null,null,null,null,null,null,null,null,"2020-12-14",{"$error":"#N/A"},{"$error":"#N/A"},{"$error":"#N/A"},{"$error":"#N/A"},{"$error":"#N/A"},{"$error":"#N/A"},{"$error":"#N/A"},{"$error":"#N/A"},{"$error":"#N/A"},{"$error":"#N/A"},{"$error":"#N/A"},{"$error":"#N/A"},{"$error":"#N/A"},0,1,0.33333333333333331,0.66666666666666663,{"$error":"#N/A"},{"$error":"#N/A"},{"$error":"#N/A"},{"$error":"#N/A"},{"$error":"#N/A"},{"$error":"#N/A"},{"$error":"#N/A"},{"$error":"#N/A"},{"$error":"#N/A"},{"$error":"#N/A"},{"$error":"#N/A"},{"$error":"#N/A"},{"$error":"#N/A"},{"$error":"#N/A"},{"$error":"#N/A"},{"$error":"#N/A"},{"$error":"#N/A"},{"$error":"#N/A"},{"$error":"#N/A"},{"$error":"#N/A"},{"$error":"#N/A"},{"$error":"#N/A"},{"$error":"#N/A"},{"$error":"#N/A"},{"$error":"#N/A"},{"$error":"#N/A"},{"$error":"#N/A"},{"$error":"#N/A"},{"$error":"#N/A"},{"$error":"#N/A"},{"$error":"#N/A"},{"$error":"#N/A"},{"$error":"#N/A"},{"$error":"#N/A"},{"$error":"#N/A"},{"$error":"#N/A"},{"$error":"#N/A"},{"$error":"#N/A"},{"$error":"#N/A"},{"$error":"#N/A"},{"$error":"#N/A"},{"$error":"#N/A"},{"$error":"#N/A"},{"$error":"#N/A"},{"$error":"#N/A"},{"$error":"#N/A"},{"$error":"#N/A"},{"$error":"#N/A"},{"$error":"#N/A"},{"$error":"#N/A"},{"$error":"#N/A"},{"$error":"#N/A"},{"$error":"#N/A"},{"$error":"#N/A"},{"$error":"#N/A"},{"$error":"#N/A"},{"$error":"#N/A"},{"$error":"#N/A"},{"$error":"#N/A"},{"$error":"#N/A"},{"$error":"#N/A"},{"$error":"#N/A"},{"$error":"#N/A"},{"$error":"#N/A"},{"$error":"#N/A"},{"$error":"#N/A"},{"$error":"#N/A"},{"$error":"#N/A"},{"$error":"#N/A"},{"$error":"#N/A"},{"$error":"#N/A"},{"$error":"#N/A"},{"$error":"#N/A"},{"$error":"#N/A"},{"$error":"#N/A"},{"$error":"#N/A"},{"$error":"#N/A"},{"$error":"#N/A"},{"$error":"#N/A"},{"$error":"#N/A"},{"$error":"#N/A"},{"$error":"#N/A"},{"$error":"#N/A"},{"$error":"#N/A"},{"$error":"#N/A"},{"$error":"#N/A"},{"$error":"#N/A"},{"$error":"#N/A"}]
["2020-12-15",{"$f":"VLOOKUP($A114,Data!$A$2:$E$150,2,FALSE)","v":{"$error":"#N/A"}},{"$f":"VLOOKUP($A114,Data!$A$2:$E$150,3,FALSE)","v":{"$error":"#N/A"}},{"$f":"VLOOKUP($A114,Data!$A$2:$E$150,4,FALSE)","v":{"$error":"#N/A"}},{"$f":"VLOOKUP($A114,Data!$A$2:$E$150,5,FALSE)","v":{"$error":"#N/A"}},null,null,0.75,null,null,null,null,null,null,"2021-04-15",0.25,null,null,null,null,null,null,null,null,null,null,null,null,null,null,null,null,null,null,null,null,null,null,null,null,"2020-12-15",{"$error":"#N/A"},{"$error":"#N/A"},{"$error":"#N/A"},{"$error":"#N/A"},{"$error":"#N/A"},{"$error":"#N/A"},{"$error":"#N/A"},{"$error":"#N/A"},{"$error":"#N/A"},{"$error":"#N/A"},{"$error":"#N/A"},{"$error":"#N/A"},{"$error":"#N/A"},0,1,0.33333333333333331,0.66666666666666663,{"$error":"#N/A"},{"$error":"#N/A"},{"$error":"#N/A"},{"$error":"#N/A"},{"$error":"#N/A"},{"$error":"#N/A"},{"$error":"#N/A"},{"$error":"#N/A"},{"$error":"#N/A"},{"$error":"#N/A"},{"$error":"#N/A"},{"$error":"#N/A"},{"$error":"#N/A"},{"$error":"#N/A"},{"$error":"#N/A"},{"$error":"#N/A"},{"$error":"#N/A"},{"$error":"#N/A"},{"$error":"#N/A"},{"$error":"#N/A"},{"$error":"#N/A"},{"$error":"#N/A"},{"$error":"#N/A"},{"$error":"#N/A"},{"$error":"#N/A"},{"$error":"#N/A"},{"$error":"#N/A"},{"$error":"#N/A"},{"$error":"#N/A"},{"$error":"#N/A"},{"$error":"#N/A"},{"$error":"#N/A"},{"$error":"#N/A"},{"$error":"#N/A"},{"$error":"#N/A"},{"$error":"#N/A"},{"$error":"#N/A"},{"$error":"#N/A"},{"$error":"#N/A"},{"$error":"#N/A"},{"$error":"#N/A"},{"$error":"#N/A"},{"$error":"#N/A"},{"$error":"#N/A"},{"$error":"#N/A"},{"$error":"#N/A"},{"$error":"#N/A"},{"$error":"#N/A"},{"$error":"#N/A"},{"$error":"#N/A"},{"$error":"#N/A"},{"$error":"#N/A"},{"$error":"#N/A"},{"$error":"#N/A"},{"$error":"#N/A"},{"$error":"#N/A"},{"$error":"#N/A"},{"$error":"#N/A"},{"$error":"#N/A"},{"$error":"#N/A"},{"$error":"#N/A"},{"$error":"#N/A"},{"$error":"#N/A"},{"$error":"#N/A"},{"$error":"#N/A"},{"$error":"#N/A"},{"$error":"#N/A"},{"$error":"#N/A"},{"$error":"#N/A"},{"$error":"#N/A"},{"$error":"#N/A"},{"$error":"#N/A"},{"$error":"#N/A"},{"$error":"#N/A"},{"$error":"#N/A"},{"$error":"#N/A"},{"$error":"#N/A"},{"$error":"#N/A"},{"$error":"#N/A"},{"$error":"#N/A"},{"$error":"#N/A"},{"$error":"#N/A"},{"$error":"#N/A"},{"$error":"#N/A"},{"$error":"#N/A"},{"$error":"#N/A"},{"$error":"#N/A"},{"$error":"#N/A"}]
["2020-12-16",{"$f":"VLOOKUP($A115,Data!$A$2:$E$150,2,FALSE)","v":{"$error":"#N/A"}},{"$f":"VLOOKUP($A115,Data!$A$2:$E$150,3,FALSE)","v":{"$error":"#N/A"}},{"$f":"VLOOKUP($A115,Data!$A$2:$E$150,4,FALSE)","v":{"$error":"#N/A"}},{"$f":"VLOOKUP($A115,Data!$A$2:$E$150,5,FALSE)","v":{"$error":"#N/A"}},null,null,0.75,null,null,null,null,null,null,"2021-04-19",0.375,null,null,null,null,null,null,null,null,null,null,null,null,null,null,null,null,null,null,null,null,null,null,null,null,"2020-12-16",{"$error":"#N/A"},{"$error":"#N/A"},{"$error":"#N/A"},{"$error":"#N/A"},{"$error":"#N/A"},{"$error":"#N/A"},{"$error":"#N/A"},{"$error":"#N/A"},{"$error":"#N/A"},{"$error":"#N/A"},{"$error":"#N/A"},{"$error":"#N/A"},{"$error":"#N/A"},0,1,0.33333333333333331,0.66666666666666663,{"$error":"#N/A"},{"$error":"#N/A"},{"$error":"#N/A"},{"$error":"#N/A"},{"$error":"#N/A"},{"$error":"#N/A"},{"$error":"#N/A"},{"$error":"#N/A"},{"$error":"#N/A"},{"$error":"#N/A"},{"$error":"#N/A"},{"$error":"#N/A"},{"$error":"#N/A"},{"$error":"#N/A"},{"$error":"#N/A"},{"$error":"#N/A"},{"$error":"#N/A"},{"$error":"#N/A"},{"$error":"#N/A"},{"$error":"#N/A"},{"$error":"#N/A"},{"$error":"#N/A"},{"$error":"#N/A"},{"$error":"#N/A"},{"$error":"#N/A"},{"$error":"#N/A"},{"$error":"#N/A"},{"$error":"#N/A"},{"$error":"#N/A"},{"$error":"#N/A"},{"$error":"#N/A"},{"$error":"#N/A"},{"$error":"#N/A"},{"$error":"#N/A"},{"$error":"#N/A"},{"$error":"#N/A"},{"$error":"#N/A"},{"$error":"#N/A"},{"$error":"#N/A"},{"$error":"#N/A"},{"$error":"#N/A"},{"$error":"#N/A"},{"$error":"#N/A"},{"$error":"#N/A"},{"$error":"#N/A"},{"$error":"#N/A"},{"$error":"#N/A"},{"$error":"#N/A"},{"$error":"#N/A"},{"$error":"#N/A"},{"$error":"#N/A"},{"$error":"#N/A"},{"$error":"#N/A"},{"$error":"#N/A"},{"$error":"#N/A"},{"$error":"#N/A"},{"$error":"#N/A"},{"$error":"#N/A"},{"$error":"#N/A"},{"$error":"#N/A"},{"$error":"#N/A"},{"$error":"#N/A"},{"$error":"#N/A"},{"$error":"#N/A"},{"$error":"#N/A"},{"$error":"#N/A"},{"$error":"#N/A"},{"$error":"#N/A"},{"$error":"#N/A"},{"$error":"#N/A"},{"$error":"#N/A"},{"$error":"#N/A"},{"$error":"#N/A"},{"$error":"#N/A"},{"$error":"#N/A"},{"$error":"#N/A"},{"$error":"#N/A"},{"$error":"#N/A"},{"$error":"#N/A"},{"$error":"#N/A"},{"$error":"#N/A"},{"$error":"#N/A"},{"$error":"#N/A"},{"$error":"#N/A"},{"$error":"#N/A"},{"$error":"#N/A"},{"$error":"#N/A"},{"$error":"#N/A"}]
["2020-12-17",{"$f":"VLOOKUP($A116,Data!$A$2:$E$150,2,FALSE)","v":{"$error":"#N/A"}},{"$f":"VLOOKUP($A116,Data!$A$2:$E$150,3,FALSE)","v":{"$error":"#N/A"}},{"$f":"VLOOKUP($A116,Data!$A$2:$E$150,4,FALSE)","v":{"$error":"#N/A"}},{"$f":"VLOOKUP($A116,Data!$A$2:$E$150,5,FALSE)","v":{"$error":"#N/A"}},null,null,0.75,null,null,null,null,null,null,"2021-04-21",0.5,null,null,null,null,null,null,null,null,null,null,null,null,null,null,null,null,null,null,null,null,null,null,null,null,"2020-12-17",{"$error":"#N/A"},{"$error":"#N/A"},{"$error":"#N/A"},{"$error":"#N/A"},{"$error":"#N/A"},{"$error":"#N/A"},{"$error":"#N/A"},{"$error":"#N/A"},{"$error":"#N/A"},{"$error":"#N/A"},{"$error":"#N/A"},{"$error":"#N/A"},{"$error":"#N/A"},0,1,0.33333333333333331,0.66666666666666663,{"$error":"#N/A"},{"$error":"#N/A"},{"$error":"#N/A"},{"$error":"#N/A"},{"$error":"#N/A"},{"$error":"#N/A"},{"$error":"#N/A"},{"$error":"#N/A"},{"$error":"#N/A"},{"$error":"#N/A"},{"$error":"#N/A"},{"$error":"#N/A"},{"$error":"#N/A"},{"$error":"#N/A"},{"$error":"#N/A"},{"$error":"#N/A"},{"$error":"#N/A"},{"$error":"#N/A"},{"$error":"#N/A"},{"$error":"#N/A"},{"$error":"#N/A"},{"$error":"#N/A"},{"$error":"#N/A"},{"$error":"#N/A"},{"$error":"#N/A"},{"$error":"#N/A"},{"$error":"#N/A"},{"$error":"#N/A"},{"$error":"#N/A"},{"$error":"#N/A"},{"$error":"#N/A"},{"$error":"#N/A"},{"$error":"#N/A"},{"$error":"#N/A"},{"$error":"#N/A"},{"$error":"#N/A"},{"$error":"#N/A"},{"$error":"#N/A"},{"$error":"#N/A"},{"$error":"#N/A"},{"$error":"#N/A"},{"$error":"#N/A"},{"$error":"#N/A"},{"$error":"#N/A"},{"$error":"#N/A"},{"$error":"#N/A"},{"$error":"#N/A"},{"$error":"#N/A"},{"$error":"#N/A"},{"$error":"#N/A"},{"$error":"#N/A"},{"$error":"#N/A"},{"$error":"#N/A"},{"$error":"#N/A"},{"$error":"#N/A"},{"$error":"#N/A"},{"$error":"#N/A"},{"$error":"#N/A"},{"$error":"#N/A"},{"$error":"#N/A"},{"$error":"#N/A"},{"$error":"#N/A"},{"$error":"#N/A"},{"$error":"#N/A"},{"$error":"#N/A"},{"$error":"#N/A"},{"$error":"#N/A"},{"$error":"#N/A"},{"$error":"#N/A"},{"$error":"#N/A"},{"$error":"#N/A"},{"$error":"#N/A"},{"$error":"#N/A"},{"$error":"#N/A"},{"$error":"#N/A"},{"$error":"#N/A"},{"$error":"#N/A"},{"$error":"#N/A"},{"$error":"#N/A"},{"$error":"#N/A"},{"$error":"#N/A"},{"$error":"#N/A"},{"$error":"#N/A"},{"$error":"#N/A"},{"$error":"#N/A"},{"$error":"#N/A"},{"$error":"#N/A"},{"$error":"#N/A"}]
["2020-12-18",{"$f":"VLOOKUP($A117,Data!$A$2:$E$150,2,FALSE)","v":{"$error":"#N/A"}},{"$f":"VLOOKUP($A117,Data!$A$2:$E$150,3,FALSE)","v":{"$error":"#N/A"}},{"$f":"VLOOKUP($A117,Data!$A$2:$E$150,4,FALSE)","v":{"$error":"#N/A"}},{"$f":"VLOOKUP($A117,Data!$A$2:$E$150,5,FALSE)","v":{"$error":"#N/A"}},null,null,null,null,null,null,null,null,null,"2021-04-23",0.625,null,null,null,null,null,null,null,null,null,null,null,null,null,null,null,null,null,null,null,null,null,null,null,null,"2020-12-18",{"$error":"#N/A"},{"$error":"#N/A"},{"$error":"#N/A"},{"$error":"#N/A"},{"$error":"#N/A"},{"$error":"#N/A"},{"$error":"#N/A"},{"$error":"#N/A"},{"$error":"#N/A"},{"$error":"#N/A"},{"$error":"#N/A"},{"$error":"#N/A"},{"$error":"#N/A"},0,1,0.33333333333333331,0.66666666666666663,{"$error":"#N/A"},{"$error":"#N/A"},{"$error":"#N/A"},{"$error":"#N/A"},{"$error":"#N/A"},{"$error":"#N/A"},{"$error":"#N/A"},{"$error":"#N/A"},{"$error":"#N/A"},{"$error":"#N/A"},{"$error":"#N/A"},{"$error":"#N/A"},{"$error":"#N/A"},{"$error":"#N/A"},{"$error":"#N/A"},{"$error":"#N/A"},{"$error":"#N/A"},{"$error":"#N/A"},{"$error":"#N/A"},{"$error":"#N/A"},{"$error":"#N/A"},{"$error":"#N/A"},{"$error":"#N/A"},{"$error":"#N/A"},{"$error":"#N/A"},{"$error":"#N/A"},{"$error":"#N/A"},{"$error":"#N/A"},{"$error":"#N/A"},{"$error":"#N/A"},{"$error":"#N/A"},{"$error":"#N/A"},{"$error":"#N/A"},{"$error":"#N/A"},{"$error":"#N/A"},{"$error":"#N/A"},{"$error":"#N/A"},{"$error":"#N/A"},{"$error":"#N/A"},{"$error":"#N/A"},{"$error":"#N/A"},{"$error":"#N/A"},{"$error":"#N/A"},{"$error":"#N/A"},{"$error":"#N/A"},{"$error":"#N/A"},{"$error":"#N/A"},{"$error":"#N/A"},{"$error":"#N/A"},{"$error":"#N/A"},{"$error":"#N/A"},{"$error":"#N/A"},{"$error":"#N/A"},{"$error":"#N/A"},{"$error":"#N/A"},{"$error":"#N/A"},{"$error":"#N/A"},{"$error":"#N/A"},{"$error":"#N/A"},{"$error":"#N/A"},{"$error":"#N/A"},{"$error":"#N/A"},{"$error":"#N/A"},{"$error":"#N/A"},{"$error":"#N/A"},{"$error":"#N/A"},{"$error":"#N/A"},{"$error":"#N/A"},{"$error":"#N/A"},{"$error":"#N/A"},{"$error":"#N/A"},{"$error":"#N/A"},{"$error":"#N/A"},{"$error":"#N/A"},{"$error":"#N/A"},{"$error":"#N/A"},{"$error":"#N/A"},{"$error":"#N/A"},{"$error":"#N/A"},{"$error":"#N/A"},{"$error":"#N/A"},{"$error":"#N/A"},{"$error":"#N/A"},{"$error":"#N/A"},{"$error":"#N/A"},{"$error":"#N/A"},{"$error":"#N/A"},{"$error":"#N/A"}]
["2020-12-21",{"$f":"VLOOKUP($A118,Data!$A$2:$E$150,2,FALSE)","v":{"$error":"#N/A"}},{"$f":"VLOOKUP($A118,Data!$A$2:$E$150,3,FALSE)","v":{"$error":"#N/A"}},{"$f":"VLOOKUP($A118,Data!$A$2:$E$150,4,FALSE)","v":{"$error":"#N/A"}},{"$f":"VLOOKUP($A118,Data!$A$2:$E$150,5,FALSE)","v":{"$error":"#N/A"}},null,null,null,null,null,null,null,null,null,"2021-04-27",0.75,null,null,null,null,null,null,null,null,null,null,null,null,null,null,null,null,null,null,null,null,null,null,null,null,"2020-12-21",{"$error":"#N/A"},{"$error":"#N/A"},{"$error":"#N/A"},{"$error":"#N/A"},{"$error":"#N/A"},{"$error":"#N/A"},{"$error":"#N/A"},{"$error":"#N/A"},{"$error":"#N/A"},{"$error":"#N/A"},{"$error":"#N/A"},{"$error":"#N/A"},{"$error":"#N/A"},0,1,0.33333333333333331,0.66666666666666663,{"$error":"#N/A"},{"$error":"#N/A"},{"$error":"#N/A"},{"$error":"#N/A"},{"$error":"#N/A"},{"$error":"#N/A"},{"$error":"#N/A"},{"$error":"#N/A"},{"$error":"#N/A"},{"$error":"#N/A"},{"$error":"#N/A"},{"$error":"#N/A"},{"$error":"#N/A"},{"$error":"#N/A"},{"$error":"#N/A"},{"$error":"#N/A"},{"$error":"#N/A"},{"$error":"#N/A"},{"$error":"#N/A"},{"$error":"#N/A"},{"$error":"#N/A"},{"$error":"#N/A"},{"$error":"#N/A"},{"$error":"#N/A"},{"$error":"#N/A"},{"$error":"#N/A"},{"$error":"#N/A"},{"$error":"#N/A"},{"$error":"#N/A"},{"$error":"#N/A"},{"$error":"#N/A"},{"$error":"#N/A"},{"$error":"#N/A"},{"$error":"#N/A"},{"$error":"#N/A"},{"$error":"#N/A"},{"$error":"#N/A"},{"$error":"#N/A"},{"$error":"#N/A"},{"$error":"#N/A"},{"$error":"#N/A"},{"$error":"#N/A"},{"$error":"#N/A"},{"$error":"#N/A"},{"$error":"#N/A"},{"$error":"#N/A"},{"$error":"#N/A"},{"$error":"#N/A"},{"$error":"#N/A"},{"$error":"#N/A"},{"$error":"#N/A"},{"$error":"#N/A"},{"$error":"#N/A"},{"$error":"#N/A"},{"$error":"#N/A"},{"$error":"#N/A"},{"$error":"#N/A"},{"$error":"#N/A"},{"$error":"#N/A"},{"$error":"#N/A"},{"$error":"#N/A"},{"$error":"#N/A"},{"$error":"#N/A"},{"$error":"#N/A"},{"$error":"#N/A"},{"$error":"#N/A"},{"$error":"#N/A"},{"$error":"#N/A"},{"$error":"#N/A"},{"$error":"#N/A"},{"$error":"#N/A"},{"$error":"#N/A"},{"$error":"#N/A"},{"$error":"#N/A"},{"$error":"#N/A"},{"$error":"#N/A"},{"$error":"#N/A"},{"$error":"#N/A"},{"$error":"#N/A"},{"$error":"#N/A"},{"$error":"#N/A"},{"$error":"#N/A"},{"$error":"#N/A"},{"$error":"#N/A"},{"$error":"#N/A"},{"$error":"#N/A"},{"$error":"#N/A"},{"$error":"#N/A"}]
["2020-12-22",{"$f":"VLOOKUP($A119,Data!$A$2:$E$150,2,FALSE)","v":{"$error":"#N/A"}},{"$f":"VLOOKUP($A119,Data!$A$2:$E$150,3,FALSE)","v":{"$error":"#N/A"}},{"$f":"VLOOKUP($A119,Data!$A$2:$E$150,4,FALSE)","v":{"$error":"#N/A"}},{"$f":"VLOOKUP($A119,Data!$A$2:$E$150,5,FALSE)","v":{"$error":"#N/A"}},null,null,null,null,null,null,null,null,null,"2021-04-29",0.875,null,null,null,null,null,null,null,null,null,null,null,null,null,null,null,null,null,null,null,null,null,null,null,null,"2020-12-22",{"$error":"#N/A"},{"$error":"#N/A"},{"$error":"#N/A"},{"$error":"#N/A"},{"$error":"#N/A"},{"$error":"#N/A"},{"$error":"#N/A"},{"$error":"#N/A"},{"$error":"#N/A"},{"$error":"#N/A"},{"$error":"#N/A"},{"$error":"#N/A"},{"$error":"#N/A"},0,1,0.33333333333333331,0.66666666666666663,{"$error":"#N/A"},{"$error":"#N/A"},{"$error":"#N/A"},{"$error":"#N/A"},{"$error":"#N/A"},{"$error":"#N/A"},{"$error":"#N/A"},{"$error":"#N/A"},{"$error":"#N/A"},{"$error":"#N/A"},{"$error":"#N/A"},{"$error":"#N/A"},{"$error":"#N/A"},{"$error":"#N/A"},{"$error":"#N/A"},{"$error":"#N/A"},{"$error":"#N/A"},{"$error":"#N/A"},{"$error":"#N/A"},{"$error":"#N/A"},{"$error":"#N/A"},{"$error":"#N/A"},{"$error":"#N/A"},{"$error":"#N/A"},{"$error":"#N/A"},{"$error":"#N/A"},{"$error":"#N/A"},{"$error":"#N/A"},{"$error":"#N/A"},{"$error":"#N/A"},{"$error":"#N/A"},{"$error":"#N/A"},{"$error":"#N/A"},{"$error":"#N/A"},{"$error":"#N/A"},{"$error":"#N/A"},{"$error":"#N/A"},{"$error":"#N/A"},{"$error":"#N/A"},{"$error":"#N/A"},{"$error":"#N/A"},{"$error":"#N/A"},{"$error":"#N/A"},{"$error":"#N/A"},{"$error":"#N/A"},{"$error":"#N/A"},{"$error":"#N/A"},{"$error":"#N/A"},{"$error":"#N/A"},{"$error":"#N/A"},{"$error":"#N/A"},{"$error":"#N/A"},{"$error":"#N/A"},{"$error":"#N/A"},{"$error":"#N/A"},{"$error":"#N/A"},{"$error":"#N/A"},{"$error":"#N/A"},{"$error":"#N/A"},{"$error":"#N/A"},{"$error":"#N/A"},{"$error":"#N/A"},{"$error":"#N/A"},{"$error":"#N/A"},{"$error":"#N/A"},{"$error":"#N/A"},{"$error":"#N/A"},{"$error":"#N/A"},{"$error":"#N/A"},{"$error":"#N/A"},{"$error":"#N/A"},{"$error":"#N/A"},{"$error":"#N/A"},{"$error":"#N/A"},{"$error":"#N/A"},{"$error":"#N/A"},{"$error":"#N/A"},{"$error":"#N/A"},{"$error":"#N/A"},{"$error":"#N/A"},{"$error":"#N/A"},{"$error":"#N/A"},{"$error":"#N/A"},{"$error":"#N/A"},{"$error":"#N/A"},{"$error":"#N/A"},{"$error":"#N/A"},{"$error":"#N/A"}]
["2020-12-23",{"$f":"VLOOKUP($A120,Data!$A$2:$E$150,2,FALSE)","v":{"$error":"#N/A"}},{"$f":"VLOOKUP($A120,Data!$A$2:$E$150,3,FALSE)","v":{"$error":"#N/A"}},{"$f":"VLOOKUP($A120,Data!$A$2:$E$150,4,FALSE)","v":{"$error":"#N/A"}},{"$f":"VLOOKUP($A120,Data!$A$2:$E$150,5,FALSE)","v":{"$error":"#N/A"}},null,null,null,null,null,null,null,null,null,"2021-05-03",1,null,null,null,null,null,null,null,null,null,null,null,null,null,null,null,null,null,null,null,null,null,null,null,null,"2020-12-23",{"$error":"#N/A"},{"$error":"#N/A"},{"$error":"#N/A"},{"$error":"#N/A"},{"$error":"#N/A"},{"$error":"#N/A"},{"$error":"#N/A"},{"$error":"#N/A"},{"$error":"#N/A"},{"$error":"#N/A"},{"$error":"#N/A"},{"$error":"#N/A"},1,0,1,0.33333333333333331,0.66666666666666663,{"$error":"#N/A"},{"$error":"#N/A"},{"$error":"#N/A"},{"$error":"#N/A"},{"$error":"#N/A"},{"$error":"#N/A"},{"$error":"#N/A"},{"$error":"#N/A"},{"$error":"#N/A"},{"$error":"#N/A"},{"$error":"#N/A"},{"$error":"#N/A"},{"$error":"#N/A"},{"$error":"#N/A"},{"$error":"#N/A"},{"$error":"#N/A"},{"$error":"#N/A"},{"$error":"#N/A"},{"$error":"#N/A"},{"$error":"#N/A"},{"$error":"#N/A"},{"$error":"#N/A"},{"$error":"#N/A"},{"$error":"#N/A"},{"$error":"#N/A"},{"$error":"#N/A"},{"$error":"#N/A"},{"$error":"#N/A"},{"$error":"#N/A"},{"$error":"#N/A"},{"$error":"#N/A"},{"$error":"#N/A"},{"$error":"#N/A"},{"$error":"#N/A"},{"$error":"#N/A"},{"$error":"#N/A"},{"$error":"#N/A"},{"$error":"#N/A"},{"$error":"#N/A"},{"$error":"#N/A"},{"$error":"#N/A"},{"$error":"#N/A"},{"$error":"#N/A"},0,{"$error":"#N/A"},{"$error":"#N/A"},{"$error":"#N/A"},{"$error":"#N/A"},{"$error":"#N/A"},{"$error":"#N/A"},{"$error":"#N/A"},1,{"$error":"#N/A"},{"$error":"#N/A"},{"$error":"#N/A"},{"$error":"#N/A"},{"$error":"#N/A"},{"$error":"#N/A"},{"$error":"#N/A"},{"$error":"#N/A"},{"$error":"#N/A"},{"$error":"#N/A"},{"$error":"#N/A"},{"$error":"#N/A"},{"$error":"#N/A"},{"$error":"#N/A"},{"$error":"#N/A"},{"$error":"#N/A"},{"$error":"#N/A"},{"$error":"#N/A"},{"$error":"#N/A"},{"$error":"#N/A"},{"$error":"#N/A"},{"$error":"#N/A"},{"$error":"#N/A"},{"$error":"#N/A"},{"$error":"#N/A"},{"$error":"#N/A"},{"$error":"#N/A"},{"$error":"#N/A"},{"$error":"#N/A"},{"$error":"#N/A"},{"$error":"#N/A"},{"$error":"#N/A"},{"$error":"#N/A"},{"$error":"#N/A"},{"$error":"#N/A"},{"$error":"#N/A"}]
["2020-12-24",{"$f":"VLOOKUP($A121,Data!$A$2:$E$150,2,FALSE)","v":{"$error":"#N/A"}},{"$f":"VLOOKUP($A121,Data!$A$2:$E$150,3,FALSE)","v":{"$error":"#N/A"}},{"$f":"VLOOKUP($A121,Data!$A$2:$E$150,4,FALSE)","v":{"$error":"#N/A"}},{"$f":"VLOOKUP($A121,Data!$A$2:$E$150,5,FALSE)","v":{"$error":"#N/A"}},null,null,null,null,null,null,null,null,null,"2021-05-05",0.125,null,null,null,null,null,null,null,null,null,null,null,null,null,null,null,null,null,null,null,null,null,null,null,null,"2020-12-24",{"$error":"#N/A"},{"$error":"#N/A"},{"$error":"#N/A"},{"$error":"#N/A"},{"$error":"#N/A"},{"$error":"#N/A"},{"$error":"#N/A"},{"$error":"#N/A"},{"$error":"#N/A"},{"$error":"#N/A"},{"$error":"#N/A"},{"$error":"#N/A"},{"$error":"#N/A"},0,1,0.33333333333333331,0.66666666666666663,{"$error":"#N/A"},{"$error":"#N/A"},{"$error":"#N/A"},{"$error":"#N/A"},{"$error":"#N/A"},{"$error":"#N/A"},{"$error":"#N/A"},{"$error":"#N/A"},{"$error":"#N/A"},{"$error":"#N/A"},{"$error":"#N/A"},{"$error":"#N/A"},{"$error":"#N/A"},{"$error":"#N/A"},{"$error":"#N/A"},{"$error":"#N/A"},{"$error":"#N/A"},{"$error":"#N/A"},{"$error":"#N/A"},{"$error":"#N/A"},{"$error":"#N/A"},{"$error":"#N/A"},{"$error":"#N/A"},{"$error":"#N/A"},{"$error":"#N/A"},{"$error":"#N/A"},{"$error":"#N/A"},{"$error":"#N/A"},{"$error":"#N/A"},{"$error":"#N/A"},{"$error":"#N/A"},{"$error":"#N/A"},{"$error":"#N/A"},{"$error":"#N/A"},{"$error":"#N/A"},{"$error":"#N/A"},{"$error":"#N/A"},{"$error":"#N/A"},{"$error":"#N/A"},{"$error":"#N/A"},{"$error":"#N/A"},{"$error":"#N/A"},{"$error":"#N/A"},{"$error":"#N/A"},{"$error":"#N/A"},{"$error":"#N/A"},{"$error":"#N/A"},{"$error":"#N/A"},{"$error":"#N/A"},{"$error":"#N/A"},{"$error":"#N/A"},{"$error":"#N/A"},{"$error":"#N/A"},{"$error":"#N/A"},{"$error":"#N/A"},{"$error":"#N/A"},{"$error":"#N/A"},{"$error":"#N/A"},{"$error":"#N/A"},{"$error":"#N/A"},{"$error":"#N/A"},{"$error":"#N/A"},{"$error":"#N/A"},{"$error":"#N/A"},{"$error":"#N/A"},{"$error":"#N/A"},{"$error":"#N/A"},{"$error":"#N/A"},{"$error":"#N/A"},{"$error":"#N/A"},{"$error":"#N/A"},{"$error":"#N/A"},{"$error":"#N/A"},{"$error":"#N/A"},{"$error":"#N/A"},{"$error":"#N/A"},{"$error":"#N/A"},{"$error":"#N/A"},{"$error":"#N/A"},{"$error":"#N/A"},{"$error":"#N/A"},{"$error":"#N/A"},{"$error":"#N/A"},{"$error":"#N/A"},{"$error":"#N/A"},{"$error":"#N/A"},{"$error":"#N/A"},{"$error":"#N/A"}]
["2020-12-28",{"$f":"VLOOKUP($A122,Data!$A$2:$E$150,2,FALSE)","v":{"$error":"#N/A"}},{"$f":"VLOOKUP($A122,Data!$A$2:$E$150,3,FALSE)","v":{"$error":"#N/A"}},{"$f":"VLOOKUP($A122,Data!$A$2:$E$150,4,FALSE)","v":{"$error":"#N/A"}},{"$f":"VLOOKUP($A122,Data!$A$2:$E$150,5,FALSE)","v":{"$error":"#N/A"}},null,null,null,null,null,null,null,null,null,"2021-05-07",0.25,null,null,null,null,null,null,null,null,null,null,null,null,null,null,null,null,null,null,null,null,null,null,null,null,"2020-12-28",{"$error":"#N/A"},{"$error":"#N/A"},{"$error":"#N/A"},{"$error":"#N/A"},{"$error":"#N/A"},{"$error":"#N/A"},{"$error":"#N/A"},{"$error":"#N/A"},{"$error":"#N/A"},{"$error":"#N/A"},{"$error":"#N/A"},{"$error":"#N/A"},{"$error":"#N/A"},0,1,0.33333333333333331,0.66666666666666663,{"$error":"#N/A"},{"$error":"#N/A"},{"$error":"#N/A"},{"$error":"#N/A"},{"$error":"#N/A"},{"$error":"#N/A"},{"$error":"#N/A"},{"$error":"#N/A"},{"$error":"#N/A"},{"$error":"#N/A"},{"$error":"#N/A"},{"$error":"#N/A"},{"$error":"#N/A"},{"$error":"#N/A"},{"$error":"#N/A"},{"$error":"#N/A"},{"$error":"#N/A"},{"$error":"#N/A"},{"$error":"#N/A"},{"$error":"#N/A"},{"$error":"#N/A"},{"$error":"#N/A"},{"$error":"#N/A"},{"$error":"#N/A"},{"$error":"#N/A"},{"$error":"#N/A"},{"$error":"#N/A"},{"$error":"#N/A"},{"$error":"#N/A"},{"$error":"#N/A"},{"$error":"#N/A"},{"$error":"#N/A"},{"$error":"#N/A"},{"$error":"#N/A"},{"$error":"#N/A"},{"$error":"#N/A"},{"$error":"#N/A"},{"$error":"#N/A"},{"$error":"#N/A"},{"$error":"#N/A"},{"$error":"#N/A"},{"$error":"#N/A"},{"$error":"#N/A"},{"$error":"#N/A"},{"$error":"#N/A"},{"$error":"#N/A"},{"$error":"#N/A"},{"$error":"#N/A"},{"$error":"#N/A"},{"$error":"#N/A"},{"$error":"#N/A"},{"$error":"#N/A"},{"$error":"#N/A"},{"$error":"#N/A"},{"$error":"#N/A"},{"$error":"#N/A"},{"$error":"#N/A"},{"$error":"#N/A"},{"$error":"#N/A"},{"$error":"#N/A"},{"$error":"#N/A"},{"$error":"#N/A"},{"$error":"#N/A"},{"$error":"#N/A"},{"$error":"#N/A"},{"$error":"#N/A"},{"$error":"#N/A"},{"$error":"#N/A"},{"$error":"#N/A"},{"$error":"#N/A"},{"$error":"#N/A"},{"$error":"#N/A"},{"$error":"#N/A"},{"$error":"#N/A"},{"$error":"#N/A"},{"$error":"#N/A"},{"$error":"#N/A"},{"$error":"#N/A"},{"$error":"#N/A"},{"$error":"#N/A"},{"$error":"#N/A"},{"$error":"#N/A"},{"$error":"#N/A"},{"$error":"#N/A"},{"$error":"#N/A"},{"$error":"#N/A"},{"$error":"#N/A"},{"$error":"#N/A"}]
["2020-12-29",{"$f":"VLOOKUP($A123,Data!$A$2:$E$150,2,FALSE)","v":{"$error":"#N/A"}},{"$f":"VLOOKUP($A123,Data!$A$2:$E$150,3,FALSE)","v":{"$error":"#N/A"}},{"$f":"VLOOKUP($A123,Data!$A$2:$E$150,4,FALSE)","v":{"$error":"#N/A"}},{"$f":"VLOOKUP($A123,Data!$A$2:$E$150,5,FALSE)","v":{"$error":"#N/A"}},null,null,null,null,null,null,null,null,null,"2021-05-11",0.375,null,null,null,null,null,null,null,null,null,null,null,null,null,null,null,null,null,null,null,null,null,null,null,null,"2020-12-29",{"$error":"#N/A"},{"$error":"#N/A"},{"$error":"#N/A"},{"$error":"#N/A"},{"$error":"#N/A"},{"$error":"#N/A"},{"$error":"#N/A"},{"$error":"#N/A"},{"$error":"#N/A"},{"$error":"#N/A"},{"$error":"#N/A"},{"$error":"#N/A"},{"$error":"#N/A"},0,1,0.33333333333333331,0.66666666666666663,{"$error":"#N/A"},{"$error":"#N/A"},{"$error":"#N/A"},{"$error":"#N/A"},{"$error":"#N/A"},{"$error":"#N/A"},{"$error":"#N/A"},{"$error":"#N/A"},{"$error":"#N/A"},{"$error":"#N/A"},{"$error":"#N/A"},{"$error":"#N/A"},{"$error":"#N/A"},{"$error":"#N/A"},{"$error":"#N/A"},{"$error":"#N/A"},{"$error":"#N/A"},{"$error":"#N/A"},{"$error":"#N/A"},{"$error":"#N/A"},{"$error":"#N/A"},{"$error":"#N/A"},{"$error":"#N/A"},{"$error":"#N/A"},{"$error":"#N/A"},{"$error":"#N/A"},{"$error":"#N/A"},{"$error":"#N/A"},{"$error":"#N/A"},{"$error":"#N/A"},{"$error":"#N/A"},{"$error":"#N/A"},{"$error":"#N/A"},{"$error":"#N/A"},{"$error":"#N/A"},{"$error":"#N/A"},{"$error":"#N/A"},{"$error":"#N/A"},{"$error":"#N/A"},{"$error":"#N/A"},{"$error":"#N/A"},{"$error":"#N/A"},{"$error":"#N/A"},{"$error":"#N/A"},{"$error":"#N/A"},{"$error":"#N/A"},{"$error":"#N/A"},{"$error":"#N/A"},{"$error":"#N/A"},{"$error":"#N/A"},{"$error":"#N/A"},{"$error":"#N/A"},{"$error":"#N/A"},{"$error":"#N/A"},{"$error":"#N/A"},{"$error":"#N/A"},{"$error":"#N/A"},{"$error":"#N/A"},{"$error":"#N/A"},{"$error":"#N/A"},{"$error":"#N/A"},{"$error":"#N/A"},{"$error":"#N/A"},{"$error":"#N/A"},{"$error":"#N/A"},{"$error":"#N/A"},{"$error":"#N/A"},{"$error":"#N/A"},{"$error":"#N/A"},{"$error":"#N/A"},{"$error":"#N/A"},{"$error":"#N/A"},{"$error":"#N/A"},{"$error":"#N/A"},{"$error":"#N/A"},{"$error":"#N/A"},{"$error":"#N/A"},{"$error":"#N/A"},{"$error":"#N/A"},{"$error":"#N/A"},{"$error":"#N/A"},{"$error":"#N/A"},{"$error":"#N/A"},{"$error":"#N/A"},{"$error":"#N/A"},{"$error":"#N/A"},{"$error":"#N/A"},{"$error":"#N/A"}]
["2020-12-30",{"$f":"VLOOKUP($A124,Data!$A$2:$E$150,2,FALSE)","v":{"$error":"#N/A"}},{"$f":"VLOOKUP($A124,Data!$A$2:$E$150,3,FALSE)","v":{"$error":"#N/A"}},{"$f":"VLOOKUP($A124,Data!$A$2:$E$150,4,FALSE)","v":{"$error":"#N/A"}},{"$f":"VLOOKUP($A124,Data!$A$2:$E$150,5,FALSE)","v":{"$error":"#N/A"}},null,null,null,null,null,null,null,null,null,"2021-05-13",0.5,null,null,null,null,null,null,null,null,null,null,null,null,null,null,null,null,null,null,null,null,null,null,null,null,"2020-12-30",{"$error":"#N/A"},{"$error":"#N/A"},{"$error":"#N/A"},{"$error":"#N/A"},{"$error":"#N/A"},{"$error":"#N/A"},{"$error":"#N/A"},{"$error":"#N/A"},{"$error":"#N/A"},{"$error":"#N/A"},{"$error":"#N/A"},{"$error":"#N/A"},{"$error":"#N/A"},0,1,0.33333333333333331,0.66666666666666663,{"$error":"#N/A"},{"$error":"#N/A"},{"$error":"#N/A"},{"$error":"#N/A"},{"$error":"#N/A"},{"$error":"#N/A"},{"$error":"#N/A"},{"$error":"#N/A"},{"$error":"#N/A"},{"$error":"#N/A"},{"$error":"#N/A"},{"$error":"#N/A"},{"$error":"#N/A"},{"$error":"#N/A"},{"$error":"#N/A"},{"$error":"#N/A"},{"$error":"#N/A"},{"$error":"#N/A"},{"$error":"#N/A"},{"$error":"#N/A"},{"$error":"#N/A"},{"$error":"#N/A"},{"$error":"#N/A"},{"$error":"#N/A"},{"$error":"#N/A"},{"$error":"#N/A"},{"$error":"#N/A"},{"$error":"#N/A"},{"$error":"#N/A"},{"$error":"#N/A"},{"$error":"#N/A"},{"$error":"#N/A"},{"$error":"#N/A"},{"$error":"#N/A"},{"$error":"#N/A"},{"$error":"#N/A"},{"$error":"#N/A"},{"$error":"#N/A"},{"$error":"#N/A"},{"$error":"#N/A"},{"$error":"#N/A"},{"$error":"#N/A"},{"$error":"#N/A"},{"$error":"#N/A"},{"$error":"#N/A"},{"$error":"#N/A"},{"$error":"#N/A"},{"$error":"#N/A"},{"$error":"#N/A"},{"$error":"#N/A"},{"$error":"#N/A"},{"$error":"#N/A"},{"$error":"#N/A"},{"$error":"#N/A"},{"$error":"#N/A"},{"$error":"#N/A"},{"$error":"#N/A"},{"$error":"#N/A"},{"$error":"#N/A"},{"$error":"#N/A"},{"$error":"#N/A"},{"$error":"#N/A"},{"$error":"#N/A"},{"$error":"#N/A"},{"$error":"#N/A"},{"$error":"#N/A"},{"$error":"#N/A"},{"$error":"#N/A"},{"$error":"#N/A"},{"$error":"#N/A"},{"$error":"#N/A"},{"$error":"#N/A"},{"$error":"#N/A"},{"$error":"#N/A"},{"$error":"#N/A"},{"$error":"#N/A"},{"$error":"#N/A"},{"$error":"#N/A"},{"$error":"#N/A"},{"$error":"#N/A"},{"$error":"#N/A"},{"$error":"#N/A"},{"$error":"#N/A"},{"$error":"#N/A"},{"$error":"#N/A"},{"$error":"#N/A"},{"$error":"#N/A"},{"$error":"#N/A"}]
["2020-12-31",{"$f":"VLOOKUP($A125,Data!$A$2:$E$150,2,FALSE)","v":{"$error":"#N/A"}},{"$f":"VLOOKUP($A125,Data!$A$2:$E$150,3,FALSE)","v":{"$error":"#N/A"}},{"$f":"VLOOKUP($A125,Data!$A$2:$E$150,4,FALSE)","v":{"$error":"#N/A"}},{"$f":"VLOOKUP($A125,Data!$A$2:$E$150,5,FALSE)","v":{"$error":"#N/A"}},null,null,null,null,null,null,null,null,null,"2021-05-17",0.625,null,null,null,null,null,null,null,null,null,null,null,null,null,null,null,null,null,null,null,null,null,null,null,null,"2020-12-31",{"$error":"#N/A"},{"$error":"#N/A"},{"$error":"#N/A"},{"$error":"#N/A"},{"$error":"#N/A"},{"$error":"#N/A"},{"$error":"#N/A"},{"$error":"#N/A"},{"$error":"#N/A"},{"$error":"#N/A"},{"$error":"#N/A"},{"$error":"#N/A"},{"$error":"#N/A"},0,1,0.33333333333333331,0.66666666666666663,{"$error":"#N/A"},{"$error":"#N/A"},{"$error":"#N/A"},{"$error":"#N/A"},{"$error":"#N/A"},{"$error":"#N/A"},{"$error":"#N/A"},{"$error":"#N/A"},{"$error":"#N/A"},{"$error":"#N/A"},{"$error":"#N/A"},{"$error":"#N/A"},{"$error":"#N/A"},{"$error":"#N/A"},{"$error":"#N/A"},{"$error":"#N/A"},{"$error":"#N/A"},{"$error":"#N/A"},{"$error":"#N/A"},{"$error":"#N/A"},{"$error":"#N/A"},{"$error":"#N/A"},{"$error":"#N/A"},{"$error":"#N/A"},{"$error":"#N/A"},{"$error":"#N/A"},{"$error":"#N/A"},{"$error":"#N/A"},{"$error":"#N/A"},{"$error":"#N/A"},{"$error":"#N/A"},{"$error":"#N/A"},{"$error":"#N/A"},{"$error":"#N/A"},{"$error":"#N/A"},{"$error":"#N/A"},{"$error":"#N/A"},{"$error":"#N/A"},{"$error":"#N/A"},{"$error":"#N/A"},{"$error":"#N/A"},{"$error":"#N/A"},{"$error":"#N/A"},{"$error":"#N/A"},{"$error":"#N/A"},{"$error":"#N/A"},{"$error":"#N/A"},{"$error":"#N/A"},{"$error":"#N/A"},{"$error":"#N/A"},{"$error":"#N/A"},{"$error":"#N/A"},{"$error":"#N/A"},{"$error":"#N/A"},{"$error":"#N/A"},{"$error":"#N/A"},{"$error":"#N/A"},{"$error":"#N/A"},{"$error":"#N/A"},{"$error":"#N/A"},{"$error":"#N/A"},{"$error":"#N/A"},{"$error":"#N/A"},{"$error":"#N/A"},{"$error":"#N/A"},{"$error":"#N/A"},{"$error":"#N/A"},{"$error":"#N/A"},{"$error":"#N/A"},{"$error":"#N/A"},{"$error":"#N/A"},{"$error":"#N/A"},{"$error":"#N/A"},{"$error":"#N/A"},{"$error":"#N/A"},{"$error":"#N/A"},{"$error":"#N/A"},{"$error":"#N/A"},{"$error":"#N/A"},{"$error":"#N/A"},{"$error":"#N/A"},{"$error":"#N/A"},{"$error":"#N/A"},{"$error":"#N/A"},{"$error":"#N/A"},{"$error":"#N/A"},{"$error":"#N/A"},{"$error":"#N/A"}]
["2021-01-04",{"$f":"VLOOKUP($A126,Data!$A$2:$E$150,2,FALSE)","v":{"$error":"#N/A"}},{"$f":"VLOOKUP($A126,Data!$A$2:$E$150,3,FALSE)","v":{"$error":"#N/A"}},{"$f":"VLOOKUP($A126,Data!$A$2:$E$150,4,FALSE)","v":{"$error":"#N/A"}},{"$f":"VLOOKUP($A126,Data!$A$2:$E$150,5,FALSE)","v":{"$error":"#N/A"}},null,null,null,null,null,null,null,null,null,"2021-05-19",0.75,null,null,null,null,null,null,null,null,null,null,null,null,null,null,null,null,null,null,null,null,null,null,null,null,"2021-01-04",{"$error":"#N/A"},{"$error":"#N/A"},{"$error":"#N/A"},{"$error":"#N/A"},{"$error":"#N/A"},{"$error":"#N/A"},{"$error":"#N/A"},{"$error":"#N/A"},{"$error":"#N/A"},{"$error":"#N/A"},{"$error":"#N/A"},{"$error":"#N/A"},{"$error":"#N/A"},0,1,0.33333333333333331,0.66666666666666663,{"$error":"#N/A"},{"$error":"#N/A"},{"$error":"#N/A"},{"$error":"#N/A"},{"$error":"#N/A"},{"$error":"#N/A"},{"$error":"#N/A"},{"$error":"#N/A"},{"$error":"#N/A"},{"$error":"#N/A"},{"$error":"#N/A"},{"$error":"#N/A"},{"$error":"#N/A"},{"$error":"#N/A"},{"$error":"#N/A"},{"$error":"#N/A"},{"$error":"#N/A"},{"$error":"#N/A"},{"$error":"#N/A"},{"$error":"#N/A"},{"$error":"#N/A"},{"$error":"#N/A"},{"$error":"#N/A"},{"$error":"#N/A"},{"$error":"#N/A"},{"$error":"#N/A"},{"$error":"#N/A"},{"$error":"#N/A"},{"$error":"#N/A"},{"$error":"#N/A"},{"$error":"#N/A"},{"$error":"#N/A"},{"$error":"#N/A"},{"$error":"#N/A"},{"$error":"#N/A"},{"$error":"#N/A"},{"$error":"#N/A"},{"$error":"#N/A"},{"$error":"#N/A"},{"$error":"#N/A"},{"$error":"#N/A"},{"$error":"#N/A"},{"$error":"#N/A"},{"$error":"#N/A"},{"$error":"#N/A"},{"$error":"#N/A"},{"$error":"#N/A"},{"$error":"#N/A"},{"$error":"#N/A"},{"$error":"#N/A"},{"$error":"#N/A"},{"$error":"#N/A"},{"$error":"#N/A"},{"$error":"#N/A"},{"$error":"#N/A"},{"$error":"#N/A"},{"$error":"#N/A"},{"$error":"#N/A"},{"$error":"#N/A"},{"$error":"#N/A"},{"$error":"#N/A"},{"$error":"#N/A"},{"$error":"#N/A"},{"$error":"#N/A"},{"$error":"#N/A"},{"$error":"#N/A"},{"$error":"#N/A"},{"$error":"#N/A"},{"$error":"#N/A"},{"$error":"#N/A"},{"$error":"#N/A"},{"$error":"#N/A"},{"$error":"#N/A"},{"$error":"#N/A"},{"$error":"#N/A"},{"$error":"#N/A"},{"$error":"#N/A"},{"$error":"#N/A"},{"$error":"#N/A"},{"$error":"#N/A"},{"$error":"#N/A"},{"$error":"#N/A"},{"$error":"#N/A"},{"$error":"#N/A"},{"$error":"#N/A"},{"$error":"#N/A"},{"$error":"#N/A"},{"$error":"#N/A"}]
["2021-01-05",{"$f":"VLOOKUP($A127,Data!$A$2:$E$150,2,FALSE)","v":{"$error":"#N/A"}},{"$f":"VLOOKUP($A127,Data!$A$2:$E$150,3,FALSE)","v":{"$error":"#N/A"}},{"$f":"VLOOKUP($A127,Data!$A$2:$E$150,4,FALSE)","v":{"$error":"#N/A"}},{"$f":"VLOOKUP($A127,Data!$A$2:$E$150,5,FALSE)","v":{"$error":"#N/A"}},null,null,null,null,null,null,null,null,null,"2021-05-21",0.875,null,null,null,null,null,null,null,null,null,null,null,null,null,null,null,null,null,null,null,null,null,null,null,null,"2021-01-05",{"$error":"#N/A"},{"$error":"#N/A"},{"$error":"#N/A"},{"$error":"#N/A"},{"$error":"#N/A"},{"$error":"#N/A"},{"$error":"#N/A"},{"$error":"#N/A"},{"$error":"#N/A"},{"$error":"#N/A"},{"$error":"#N/A"},{"$error":"#N/A"},{"$error":"#N/A"},0,1,0.33333333333333331,0.66666666666666663,{"$error":"#N/A"},{"$error":"#N/A"},{"$error":"#N/A"},{"$error":"#N/A"},{"$error":"#N/A"},{"$error":"#N/A"},{"$error":"#N/A"},{"$error":"#N/A"},{"$error":"#N/A"},{"$error":"#N/A"},{"$error":"#N/A"},{"$error":"#N/A"},{"$error":"#N/A"},{"$error":"#N/A"},{"$error":"#N/A"},{"$error":"#N/A"},{"$error":"#N/A"},{"$error":"#N/A"},{"$error":"#N/A"},{"$error":"#N/A"},{"$error":"#N/A"},{"$error":"#N/A"},{"$error":"#N/A"},{"$error":"#N/A"},{"$error":"#N/A"},{"$error":"#N/A"},{"$error":"#N/A"},{"$error":"#N/A"},{"$error":"#N/A"},{"$error":"#N/A"},{"$error":"#N/A"},{"$error":"#N/A"},{"$error":"#N/A"},{"$error":"#N/A"},{"$error":"#N/A"},{"$error":"#N/A"},{"$error":"#N/A"},{"$error":"#N/A"},{"$error":"#N/A"},{"$error":"#N/A"},{"$error":"#N/A"},{"$error":"#N/A"},{"$error":"#N/A"},{"$error":"#N/A"},{"$error":"#N/A"},{"$error":"#N/A"},{"$error":"#N/A"},{"$error":"#N/A"},{"$error":"#N/A"},{"$error":"#N/A"},{"$error":"#N/A"},{"$error":"#N/A"},{"$error":"#N/A"},{"$error":"#N/A"},{"$error":"#N/A"},{"$error":"#N/A"},{"$error":"#N/A"},{"$error":"#N/A"},{"$error":"#N/A"},{"$error":"#N/A"},{"$error":"#N/A"},{"$error":"#N/A"},{"$error":"#N/A"},{"$error":"#N/A"},{"$error":"#N/A"},{"$error":"#N/A"},{"$error":"#N/A"},{"$error":"#N/A"},{"$error":"#N/A"},{"$error":"#N/A"},{"$error":"#N/A"},{"$error":"#N/A"},{"$error":"#N/A"},{"$error":"#N/A"},{"$error":"#N/A"},{"$error":"#N/A"},{"$error":"#N/A"},{"$error":"#N/A"},{"$error":"#N/A"},{"$error":"#N/A"},{"$error":"#N/A"},{"$error":"#N/A"},{"$error":"#N/A"},{"$error":"#N/A"},{"$error":"#N/A"},{"$error":"#N/A"},{"$error":"#N/A"},{"$error":"#N/A"}]
["2021-01-06",{"$f":"VLOOKUP($A128,Data!$A$2:$E$150,2,FALSE)","v":{"$error":"#N/A"}},{"$f":"VLOOKUP($A128,Data!$A$2:$E$150,3,FALSE)","v":{"$error":"#N/A"}},{"$f":"VLOOKUP($A128,Data!$A$2:$E$150,4,FALSE)","v":{"$error":"#N/A"}},{"$f":"VLOOKUP($A128,Data!$A$2:$E$150,5,FALSE)","v":{"$error":"#N/A"}},null,null,null,null,null,null,null,null,null,"2021-05-25",1,null,null,null,null,null,null,null,null,null,null,null,null,null,null,null,null,null,null,null,null,null,null,null,null,"2021-01-06",{"$error":"#N/A"},{"$error":"#N/A"},{"$error":"#N/A"},{"$error":"#N/A"},{"$error":"#N/A"},{"$error":"#N/A"},{"$error":"#N/A"},{"$error":"#N/A"},{"$error":"#N/A"},{"$error":"#N/A"},1.25,1.125,1,0,1,0.33333333333333331,0.66666666666666663,{"$error":"#N/A"},{"$error":"#N/A"},{"$error":"#N/A"},{"$error":"#N/A"},{"$error":"#N/A"},{"$error":"#N/A"},{"$error":"#N/A"},{"$error":"#N/A"},{"$error":"#N/A"},{"$error":"#N/A"},1,0.75,0.5,0.25,{"$error":"#N/A"},{"$error":"#N/A"},{"$error":"#N/A"},{"$error":"#N/A"},{"$error":"#N/A"},{"$error":"#N/A"},{"$error":"#N/A"},{"$error":"#N/A"},{"$error":"#N/A"},{"$error":"#N/A"},{"$error":"#N/A"},{"$error":"#N/A"},{"$error":"#N/A"},{"$error":"#N/A"},{"$error":"#N/A"},{"$error":"#N/A"},{"$error":"#N/A"},{"$error":"#N/A"},{"$error":"#N/A"},{"$error":"#N/A"},{"$error":"#N/A"},{"$error":"#N/A"},{"$error":"#N/A"},{"$error":"#N/A"},{"$error":"#N/A"},{"$error":"#N/A"},{"$error":"#N/A"},{"$error":"#N/A"},{"$error":"#N/A"},0.125,0.25,0.375,0.5,0.625,0.75,0.875,1,{"$error":"#N/A"},{"$error":"#N/A"},{"$error":"#N/A"},{"$error":"#N/A"},{"$error":"#N/A"},{"$error":"#N/A"},{"$error":"#N/A"},{"$error":"#N/A"},{"$error":"#N/A"},{"$error":"#N/A"},{"$error":"#N/A"},{"$error":"#N/A"},{"$error":"#N/A"},{"$error":"#N/A"},{"$error":"#N/A"},{"$error":"#N/A"},{"$error":"#N/A"},{"$error":"#N/A"},{"$error":"#N/A"},{"$error":"#N/A"},{"$error":"#N/A"},{"$error":"#N/A"},{"$error":"#N/A"},{"$error":"#N/A"},{"$error":"#N/A"},{"$error":"#N/A"},{"$error":"#N/A"},{"$error":"#N/A"},{"$error":"#N/A"},{"$error":"#N/A"},{"$error":"#N/A"},{"$error":"#N/A"},{"$error":"#N/A"},{"$error":"#N/A"},{"$error":"#N/A"},{"$error":"#N/A"},{"$error":"#N/A"}]
[{"$error":"#N/A"},{"$f":"VLOOKUP($A129,Data!$A$2:$E$150,2,FALSE)","v":{"$error":"#N/A"}},{"$f":"VLOOKUP($A129,Data!$A$2:$E$150,3,FALSE)","v":{"$error":"#N/A"}},{"$f":"VLOOKUP($A129,Data!$A$2:$E$150,4,FALSE)","v":{"$error":"#N/A"}},{"$f":"VLOOKUP($A129,Data!$A$2:$E$150,5,FALSE)","v":{"$error":"#N/A"}},null,null,null,null,null,null,null,null,null,"2021-05-27",0.125,null,null,null,null,null,null,null,null,null,null,null,null,null,null,null,null,null,null,null,null,null,null,null,null,{"$error":"#N/A"},{"$error":"#N/A"},{"$error":"#N/A"},{"$error":"#N/A"},{"$error":"#N/A"},{"$error":"#N/A"},{"$error":"#N/A"},{"$error":"#N/A"},{"$error":"#N/A"},{"$error":"#N/A"},{"$error":"#N/A"},{"$error":"#N/A"},{"$error":"#N/A"},{"$error":"#N/A"},0,1,0.33333333333333331,0.66666666666666663,{"$error":"#N/A"},{"$error":"#N/A"},{"$error":"#N/A"},{"$error":"#N/A"},{"$error":"#N/A"},{"$error":"#N/A"},{"$error":"#N/A"},{"$error":"#N/A"},{"$error":"#N/A"},{"$error":"#N/A"},{"$error":"#N/A"},{"$error":"#N/A"},{"$error":"#N/A"},{"$error":"#N/A"},{"$error":"#N/A"},{"$error":"#N/A"},{"$error":"#N/A"},{"$error":"#N/A"},{"$error":"#N/A"},{"$error":"#N/A"},{"$error":"#N/A"},{"$error":"#N/A"},{"$error":"#N/A"},{"$error":"#N/A"},{"$error":"#N/A"},{"$error":"#N/A"},{"$error":"#N/A"},{"$error":"#N/A"},{"$error":"#N/A"},{"$error":"#N/A"},{"$error":"#N/A"},{"$error":"#N/A"},{"$error":"#N/A"},{"$error":"#N/A"},{"$error":"#N/A"},{"$error":"#N/A"},{"$error":"#N/A"},{"$error":"#N/A"},{"$error":"#N/A"},{"$error":"#N/A"},{"$error":"#N/A"},{"$error":"#N/A"},{"$error":"#N/A"},{"$error":"#N/A"},{"$error":"#N/A"},{"$error":"#N/A"},{"$error":"#N/A"},{"$error":"#N/A"},{"$error":"#N/A"},{"$error":"#N/A"},{"$error":"#N/A"},{"$error":"#N/A"},{"$error":"#N/A"},{"$error":"#N/A"},{"$error":"#N/A"},{"$error":"#N/A"},{"$error":"#N/A"},{"$error":"#N/A"},{"$error":"#N/A"},{"$error":"#N/A"},{"$error":"#N/A"},{"$error":"#N/A"},{"$error":"#N/A"},{"$error":"#N/A"},{"$error":"#N/A"},{"$error":"#N/A"},{"$error":"#N/A"},{"$error":"#N/A"},{"$error":"#N/A"},{"$error":"#N/A"},{"$error":"#N/A"},{"$error":"#N/A"},{"$error":"#N/A"},{"$error":"#N/A"},{"$error":"#N/A"},{"$error":"#N/A"},{"$error":"#N/A"},{"$error":"#N/A"},{"$error":"#N/A"},{"$error":"#N/A"},{"$error":"#N/A"},{"$error":"#N/A"},{"$error":"#N/A"},{"$error":"#N/A"},{"$error":"#N/A"},{"$error":"#N/A"},{"$error":"#N/A"},{"$error":"#N/A"}]
[{"$error":"#N/A"},{"$f":"VLOOKUP($A130,Data!$A$2:$E$150,2,FALSE)","v":{"$error":"#N/A"}},{"$f":"VLOOKUP($A130,Data!$A$2:$E$150,3,FALSE)","v":{"$error":"#N/A"}},{"$f":"VLOOKUP($A130,Data!$A$2:$E$150,4,FALSE)","v":{"$error":"#N/A"}},{"$f":"VLOOKUP($A130,Data!$A$2:$E$150,5,FALSE)","v":{"$error":"#N/A"}},null,null,null,null,null,null,null,null,null,"2021-06-01",0.25,null,null,null,null,null,null,null,null,null,null,null,null,null,null,null,null,null,null,null,null,null,null,null,null,{"$error":"#N/A"},{"$error":"#N/A"},{"$error":"#N/A"},{"$error":"#N/A"},{"$error":"#N/A"},{"$error":"#N/A"},{"$error":"#N/A"},{"$error":"#N/A"},{"$error":"#N/A"},{"$error":"#N/A"},{"$error":"#N/A"},{"$error":"#N/A"},{"$error":"#N/A"},{"$error":"#N/A"},0,1,0.33333333333333331,0.66666666666666663,{"$error":"#N/A"},{"$error":"#N/A"},{"$error":"#N/A"},{"$error":"#N/A"},{"$error":"#N/A"},{"$error":"#N/A"},{"$error":"#N/A"},{"$error":"#N/A"},{"$error":"#N/A"},{"$error":"#N/A"},{"$error":"#N/A"},{"$error":"#N/A"},{"$error":"#N/A"},{"$error":"#N/A"},{"$error":"#N/A"},{"$error":"#N/A"},{"$error":"#N/A"},{"$error":"#N/A"},{"$error":"#N/A"},{"$error":"#N/A"},{"$error":"#N/A"},{"$error":"#N/A"},{"$error":"#N/A"},{"$error":"#N/A"},{"$error":"#N/A"},{"$error":"#N/A"},{"$error":"#N/A"},{"$error":"#N/A"},{"$error":"#N/A"},{"$error":"#N/A"},{"$error":"#N/A"},{"$error":"#N/A"},{"$error":"#N/A"},{"$error":"#N/A"},{"$error":"#N/A"},{"$error":"#N/A"},{"$error":"#N/A"},{"$error":"#N/A"},{"$error":"#N/A"},{"$error":"#N/A"},{"$error":"#N/A"},{"$error":"#N/A"},{"$error":"#N/A"},{"$error":"#N/A"},{"$error":"#N/A"},{"$error":"#N/A"},{"$error":"#N/A"},{"$error":"#N/A"},{"$error":"#N/A"},{"$error":"#N/A"},{"$error":"#N/A"},{"$error":"#N/A"},{"$error":"#N/A"},{"$error":"#N/A"},{"$error":"#N/A"},{"$error":"#N/A"},{"$error":"#N/A"},{"$error":"#N/A"},{"$error":"#N/A"},{"$error":"#N/A"},{"$error":"#N/A"},{"$error":"#N/A"},{"$error":"#N/A"},{"$error":"#N/A"},{"$error":"#N/A"},{"$error":"#N/A"},{"$error":"#N/A"},{"$error":"#N/A"},{"$error":"#N/A"},{"$error":"#N/A"},{"$error":"#N/A"},{"$error":"#N/A"},{"$error":"#N/A"},{"$error":"#N/A"},{"$error":"#N/A"},{"$error":"#N/A"},{"$error":"#N/A"},{"$error":"#N/A"},{"$error":"#N/A"},{"$error":"#N/A"},{"$error":"#N/A"},{"$error":"#N/A"},{"$error":"#N/A"},{"$error":"#N/A"},{"$error":"#N/A"},{"$error":"#N/A"},{"$error":"#N/A"},{"$error":"#N/A"}]
[{"$error":"#N/A"},{"$f":"VLOOKUP($A131,Data!$A$2:$E$150,2,FALSE)","v":{"$error":"#N/A"}},{"$f":"VLOOKUP($A131,Data!$A$2:$E$150,3,FALSE)","v":{"$error":"#N/A"}},{"$f":"VLOOKUP($A131,Data!$A$2:$E$150,4,FALSE)","v":{"$error":"#N/A"}},{"$f":"VLOOKUP($A131,Data!$A$2:$E$150,5,FALSE)","v":{"$error":"#N/A"}},null,null,null,null,null,null,null,null,null,"2021-06-03",0.375,null,null,null,null,null,null,null,null,null,null,null,null,null,null,null,null,null,null,null,null,null,null,null,null,{"$error":"#N/A"},{"$error":"#N/A"},{"$error":"#N/A"},{"$error":"#N/A"},{"$error":"#N/A"},{"$error":"#N/A"},{"$error":"#N/A"},{"$error":"#N/A"},{"$error":"#N/A"},{"$error":"#N/A"},{"$error":"#N/A"},{"$error":"#N/A"},{"$error":"#N/A"},{"$error":"#N/A"},0,1,0.33333333333333331,0.66666666666666663,{"$error":"#N/A"},{"$error":"#N/A"},{"$error":"#N/A"},{"$error":"#N/A"},{"$error":"#N/A"},{"$error":"#N/A"},{"$error":"#N/A"},{"$error":"#N/A"},{"$error":"#N/A"},{"$error":"#N/A"},{"$error":"#N/A"},{"$error":"#N/A"},{"$error":"#N/A"},{"$error":"#N/A"},{"$error":"#N/A"},{"$error":"#N/A"},{"$error":"#N/A"},{"$error":"#N/A"},{"$error":"#N/A"},{"$error":"#N/A"},{"$error":"#N/A"},{"$error":"#N/A"},{"$error":"#N/A"},{"$error":"#N/A"},{"$error":"#N/A"},{"$error":"#N/A"},{"$error":"#N/A"},{"$error":"#N/A"},{"$error":"#N/A"},{"$error":"#N/A"},{"$error":"#N/A"},{"$error":"#N/A"},{"$error":"#N/A"},{"$error":"#N/A"},{"$error":"#N/A"},{"$error":"#N/A"},{"$error":"#N/A"},{"$error":"#N/A"},{"$error":"#N/A"},{"$error":"#N/A"},{"$error":"#N/A"},{"$error":"#N/A"},{"$error":"#N/A"},{"$error":"#N/A"},{"$error":"#N/A"},{"$error":"#N/A"},{"$error":"#N/A"},{"$error":"#N/A"},{"$error":"#N/A"},{"$error":"#N/A"},{"$error":"#N/A"},{"$error":"#N/A"},{"$error":"#N/A"},{"$error":"#N/A"},{"$error":"#N/A"},{"$error":"#N/A"},{"$error":"#N/A"},{"$error":"#N/A"},{"$error":"#N/A"},{"$error":"#N/A"},{"$error":"#N/A"},{"$error":"#N/A"},{"$error":"#N/A"},{"$error":"#N/A"},{"$error":"#N/A"},{"$error":"#N/A"},{"$error":"#N/A"},{"$error":"#N/A"},{"$error":"#N/A"},{"$error":"#N/A"},{"$error":"#N/A"},{"$error":"#N/A"},{"$error":"#N/A"},{"$error":"#N/A"},{"$error":"#N/A"},{"$error":"#N/A"},{"$error":"#N/A"},{"$error":"#N/A"},{"$error":"#N/A"},{"$error":"#N/A"},{"$error":"#N/A"},{"$error":"#N/A"},{"$error":"#N/A"},{"$error":"#N/A"},{"$error":"#N/A"},{"$error":"#N/A"},{"$error":"#N/A"},{"$error":"#N/A"}]
[{"$error":"#N/A"},{"$f":"VLOOKUP($A132,Data!$A$2:$E$150,2,FALSE)","v":{"$error":"#N/A"}},{"$f":"VLOOKUP($A132,Data!$A$2:$E$150,3,FALSE)","v":{"$error":"#N/A"}},{"$f":"VLOOKUP($A132,Data!$A$2:$E$150,4,FALSE)","v":{"$error":"#N/A"}},{"$f":"VLOOKUP($A132,Data!$A$2:$E$150,5,FALSE)","v":{"$error":"#N/A"}},null,null,null,null,null,null,null,null,null,"2021-06-07",0.5,null,null,null,null,null,null,null,null,null,null,null,null,null,null,null,null,null,null,null,null,null,null,null,null,{"$error":"#N/A"},{"$error":"#N/A"},{"$error":"#N/A"},{"$error":"#N/A"},{"$error":"#N/A"},{"$error":"#N/A"},{"$error":"#N/A"},{"$error":"#N/A"},{"$error":"#N/A"},{"$error":"#N/A"},{"$error":"#N/A"},{"$error":"#N/A"},{"$error":"#N/A"},{"$error":"#N/A"},0,1,0.33333333333333331,0.66666666666666663,{"$f":"IF($W$5,IF(AO132=$H$21,0,IF(AO132=$G$26,1,NA())),NA())","v":{"$error":"#N/A"}},{"$f":"IF($W$5,IF(AO132=$H$21,0,IF(AO132=$G$27,1,NA())),NA())","v":{"$error":"#N/A"}},{"$f":"IF($W$5,IF(AO132=$H$21,0,IF(AO132=$G$28,1,NA())),NA())","v":{"$error":"#N/A"}},{"$error":"#N/A"},{"$error":"#N/A"},{"$error":"#N/A"},{"$error":"#N/A"},{"$f":"IF($W$5,IF(AO132=$H$22,0,IF(AO132=$H$26,1,NA())),NA())","v":{"$error":"#N/A"}},{"$f":"IF($W$5,IF(AO132=$H$22,0,IF(AO132=$H$27,1,NA())),NA())","v":{"$error":"#N/A"}},{"$f":"IF($W$5,IF(AO132=$H$22,0,IF(AO132=$H$28,1,NA())),NA())","v":{"$error":"#N/A"}},{"$error":"#N/A"},{"$error":"#N/A"},{"$error":"#N/A"},{"$error":"#N/A"},{"$f":"IF($W$8,IF(AO132=$H$21,1,IF(AO132=$G$26,0,NA())),NA())","v":{"$error":"#N/A"}},{"$f":"IF($W$8,IF(AO132=$H$21,1,IF(AO132=$G$27,0,NA())),NA())","v":{"$error":"#N/A"}},{"$f":"IF($W$8,IF(AO132=$H$21,1,IF(AO132=$G$28,0,NA())),NA())","v":{"$error":"#N/A"}},{"$f":"IF($W$8,IF(AO132=$H$21,1,IF(AO132=$H$22,0,NA())),NA())","v":{"$error":"#N/A"}},{"$f":"IF($W$8,IF(AO132=$H$21,1,IF(AO132=$H$22,2/8,NA())),NA())","v":{"$error":"#N/A"}},{"$f":"IF($W$8,IF(AO132=$H$21,1,IF(AO132=$H$22,4/8,NA())),NA())","v":{"$error":"#N/A"}},{"$f":"IF($W$8,IF(AO132=$H$21,1,IF(AO132=$H$22,6/8,NA())),NA())","v":{"$error":"#N/A"}},{"$f":"IF($W$8,IF(AO132=$H$22,1,IF(AO132=$H$26,0,NA())),NA())","v":{"$error":"#N/A"}},{"$f":"IF($W$8,IF(AO132=$H$22,1,IF(AO132=$H$27,0,NA())),NA())","v":{"$error":"#N/A"}},{"$f":"IF($W$8,IF(AO132=$H$22,1,IF(AO132=$H$28,0,NA())),NA())","v":{"$error":"#N/A"}},{"$f":"IF($W$8,IF(AO132=$H$22,1,IF(AO132=$H$23,0,NA())),NA())","v":{"$error":"#N/A"}},{"$f":"IF($W$8,IF(AO132=$H$22,1,IF(AO132=$H$23,2/8,NA())),NA())","v":{"$error":"#N/A"}},{"$f":"IF($W$8,IF(AO132=$H$22,1,IF(AO132=$H$23,4/8,NA())),NA())","v":{"$error":"#N/A"}},{"$f":"IF($W$8,IF(AO132=$H$22,1,IF(AO132=$H$23,6/8,NA())),NA())","v":{"$error":"#N/A"}},{"$f":"IF($W$17,IF(AO132=$M$26,0,IF(AO132=$H$22,1/8,NA())),NA())","v":{"$error":"#N/A"}},{"$f":"IF($W$17,IF(AO132=$G$28,0,IF(AO132=$H$22,2/8,NA())),NA())","v":{"$error":"#N/A"}},{"$f":"IF($W$17,IF(AO132=$J$28,0,IF(AO132=$H$22,3/8,NA())),NA())","v":{"$error":"#N/A"}},{"$error":"#N/A"},{"$f":"IF($W$17,IF(AO132=$J$27,0,IF(AO132=$H$22,5/8,NA())),NA())","v":{"$error":"#N/A"}},{"$f":"IF($W$17,IF(AO132=$G$26,0,IF(AO132=$H$22,6/8,NA())),NA())","v":{"$error":"#N/A"}},{"$f":"IF($W$17,IF(AO132=$J$26,0,IF(AO132=$H$22,7/8,NA())),NA())","v":{"$error":"#N/A"}},{"$f":"IF($W$17,IF(AO132=$H$21,0,IF(AO132=$H$22,1,NA())),NA())","v":{"$error":"#N/A"}},{"$error":"#N/A"},{"$error":"#N/A"},{"$error":"#N/A"},{"$error":"#N/A"},{"$error":"#N/A"},{"$error":"#N/A"},{"$error":"#N/A"},{"$f":"IF($W$17,IF(AO132=$N$26,0,IF(AO132=$H$23,1/8,NA())),NA())","v":{"$error":"#N/A"}},{"$f":"IF($W$17,IF(AO132=$H$28,0,IF(AO132=$H$23,2/8,NA())),NA())","v":{"$error":"#N/A"}},{"$f":"IF($W$17,IF(AO132=$K$28,0,IF(AO132=$H$23,3/8,NA())),NA())","v":{"$error":"#N/A"}},{"$error":"#N/A"},{"$f":"IF($W$17,IF(AO132=$K$27,0,IF(AO132=$H$23,5/8,NA())),NA())","v":{"$error":"#N/A"}},{"$f":"IF($W$17,IF(AO132=$H$26,0,IF(AO132=$H$23,6/8,NA())),NA())","v":{"$error":"#N/A"}},{"$f":"IF($W$17,IF(AO132=$K$26,0,IF(AO132=$H$23,7/8,NA())),NA())","v":{"$error":"#N/A"}},{"$f":"IF($W$17,IF(AO132=$H$22,0,IF(AO132=$H$23,1,NA())),NA())","v":{"$error":"#N/A"}},{"$error":"#N/A"},{"$error":"#N/A"},{"$error":"#N/A"},{"$error":"#N/A"},{"$error":"#N/A"},{"$error":"#N/A"},{"$error":"#N/A"},{"$error":"#N/A"},{"$error":"#N/A"},{"$error":"#N/A"},{"$error":"#N/A"},{"$error":"#N/A"},{"$error":"#N/A"},{"$error":"#N/A"},{"$f":"IF($W$20,IF(AO132=$H$21,1,IF(AO132=$H$22,0,NA())),NA())","v":{"$error":"#N/A"}},{"$f":"IF($W$20,IF(AO132=$J$26,1,IF(AO132=$H$22,1/8,NA())),NA())","v":{"$error":"#N/A"}},{"$f":"IF($W$20,IF(AO132=$G$26,1,IF(AO132=$H$22,2/8,NA())),NA())","v":{"$error":"#N/A"}},{"$f":"IF($W$20,IF(AO132=$J$27,1,IF(AO132=$H$22,3/8,NA())),NA())","v":{"$error":"#N/A"}},{"$error":"#N/A"},{"$f":"IF($W$20,IF(AO132=$J$28,1,IF(AO132=$H$22,5/8,NA())),NA())","v":{"$error":"#N/A"}},{"$f":"IF($W$20,IF(AO132=$G$28,1,IF(AO132=$H$22,6/8,NA())),NA())","v":{"$error":"#N/A"}},{"$f":"IF($W$20,IF(AO132=$M$26,1,IF(AO132=$H$22,7/8,NA())),NA())","v":{"$error":"#N/A"}},{"$error":"#N/A"},{"$error":"#N/A"},{"$error":"#N/A"},{"$error":"#N/A"},{"$error":"#N/A"},{"$error":"#N/A"},{"$error":"#N/A"},{"$f":"IF($W$20,IF(AO132=$H$22,1,IF(AO132=$H$23,0,NA())),NA())","v":{"$error":"#N/A"}},{"$f":"IF($W$20,IF(AO132=$K$26,1,IF(AO132=$H$23,1/8,NA())),NA())","v":{"$error":"#N/A"}},{"$f":"IF($W$20,IF(AO132=$H$26,1,IF(AO132=$H$23,2/8,NA())),NA())","v":{"$error":"#N/A"}},{"$f":"IF($W$20,IF(AO132=$K$27,1,IF(AO132=$H$23,3/8,NA())),NA())","v":{"$error":"#N/A"}},{"$error":"#N/A"},{"$f":"IF($W$20,IF(AO132=$K$28,1,IF(AO132=$H$23,5/8,NA())),NA())","v":{"$error":"#N/A"}},{"$f":"IF($W$20,IF(AO132=$H$28,1,IF(AO132=$H$23,6/8,NA())),NA())","v":{"$error":"#N/A"}},{"$f":"IF($W$20,IF(AO132=$N$26,1,IF(AO132=$H$23,7/8,NA())),NA())","v":{"$error":"#N/A"}}]
[null,null,null,null,null,null,null,null,null,null,null,null,null,null,"2021-06-09",0.625]
[null,null,null,null,null,null,null,null,null,null,null,null,null,null,"2021-06-11",0.75]
[null,null,null,null,null,null,null,null,null,null,null,null,null,null,"2021-06-15",0.875]
[null,null,null,null,null,null,null,null,null,null,null,null,null,null,"2021-06-17",1]
[null,null,null,null,null,null,null,null,null,null,null,null,null,null,"2021-06-21",0.125]
[null,null,null,null,null,null,null,null,null,null,null,null,null,null,"2021-06-23",0.25]
[null,null,null,null,null,null,null,null,null,null,null,null,null,null,"2021-06-25",0.375]
[null,null,null,null,null,null,null,null,null,null,null,null,null,null,"2021-06-29",0.5]
[null,null,null,null,null,null,null,null,null,null,null,null,null,null,"2021-07-01",0.625]
[null,null,null,null,null,null,null,null,null,null,null,null,null,null,"2021-07-06",0.75]
[null,null,null,null,null,null,null,null,null,null,null,null,null,null,"2021-07-08",0.875]
[null,null,null,null,null,null,null,null,null,null,null,null,null,null,"2021-07-12",1]
[null,null,null,null,null,null,null,null,null,null,null,null,null,null,"2021-07-14",0.125]
[null,null,null,null,null,null,null,null,null,null,null,null,null,null,"2021-07-16",0.25]
[null,null,null,null,null,null,null,null,null,null,null,null,null,null,"2021-07-20",0.375]
[null,null,null,null,null,null,null,null,null,null,null,null,null,null,"2021-07-22",0.5]
[null,null,null,null,null,null,null,null,null,null,null,null,null,null,"2021-07-26",0.625]
[null,null,null,null,null,null,null,null,null,null,null,null,null,null,"2021-07-28",0.75]
[null,null,null,null,null,null,null,null,null,null,null,null,null,null,"2021-07-30",0.875]
[null,null,null,null,null,null,null,null,null,null,null,null,null,null,"2021-08-03",1]
[null,null,null,null,null,null,null,null,null,null,null,null,null,null,"2021-08-05",0.125]
[null,null,null,null,null,null,null,null,null,null,null,null,null,null,"2021-08-09",0.25]
[null,null,null,null,null,null,null,null,null,null,null,null,null,null,"2021-08-11",0.375]
[null,null,null,null,null,null,null,null,null,null,null,null,null,null,"2021-08-13",0.5]
[null,null,null,null,null,null,null,null,null,null,null,null,null,null,"2021-08-17",0.625]
[null,null,null,null,null,null,null,null,null,null,null,null,null,null,"2021-08-19",0.75]
[null,null,null,null,null,null,null,null,null,null,null,null,null,null,"2021-08-23",0.875]
[null,null,null,null,null,null,null,null,null,null,null,null,null,null,"2021-08-25",1]
[null,null,null,null,null,null,null,null,null,null,null,null,null,null,"2021-08-27",0.125]
[null,null,null,null,null,null,null,null,null,null,null,null,null,null,"2021-08-31",0.25]
[null,null,null,null,null,null,null,null,null,null,null,null,null,null,"2021-09-02",0.375]
[null,null,null,null,null,null,null,null,null,null,null,null,null,null,"2021-09-07",0.5]
[null,null,null,null,null,null,null,null,null,null,null,null,null,null,"2021-09-09",0.625]
[null,null,null,null,null,null,null,null,null,null,null,null,null,null,"2021-09-13",0.75]
[null,null,null,null,null,null,null,null,null,null,null,null,null,null,"2021-09-15",0.875]
[null,null,null,null,null,null,null,null,null,null,null,null,null,null,"2021-09-17",1]
[null,null,null,null,null,null,null,null,null,null,null,null,null,null,"2021-09-21",0.125]
[null,null,null,null,null,null,null,null,null,null,null,null,null,null,"2021-09-23",0.25]
[null,null,null,null,null,null,null,null,null,null,null,null,null,null,"2021-09-27",0.375]
[null,null,null,null,null,null,null,null,null,null,null,null,null,null,"2021-09-29",0.5]
[null,null,null,null,null,null,null,null,null,null,null,null,null,null,"2021-10-01",0.625]
[null,null,null,null,null,null,null,null,null,null,null,null,null,null,null,0.75]
[null,null,null,null,null,null,null,null,null,null,null,null,null,null,null,0.875]

{"sheet":"32 MM","index":3,"n_rows":175,"n_cols":146,"rows_kept":175,"cut":false,"hidden":false,"merged":[[14,6,14,7],[14,37,14,38],[20,37,20,38],[9,37,9,38],[10,37,10,38],[11,37,11,38],[12,37,12,38],[13,37,13,38],[15,37,15,38],[16,37,16,38],[17,37,17,38],[18,37,18,38],[19,37,19,38],[21,37,21,38],[22,37,22,38],[23,37,23,38],[24,31,24,34],[24,36,24,38]]}
[null,{"$f":"+K4","v":13.28125},{"$f":"+K18","v":8.59375},{"$f":"+K16","v":0.390625},null,null,null,null,null,null,null,null,null,null,null,null,null,null,null,null,null,null,null,null,null,null,null,null,null,null,null,null,null,null,null,null,null,null,null,null,null,null,null,null,null,null,null,null,null,null,null,null,null,null,null,null,null,null,null,null,null,null,null,null,null,null,null,null,null,null,null,null,null,null,null,null,"1MS-33 D"]
[{"$f":"COUNT(A4:A68)+3","v":64},null,null,null,null,null,null,null,null,null,null,null,null,"Trading the Markets using Fractal Squares set inside a Cube",null,null,null,null,null,null,null,null,null,null,null,null,null,null,null,null,null,null,null,null,"ALGORITHM",null,null,null,null,null,{"$f":"COUNT(B4:B43)","v":40},{"$f":"\"A\"&COUNT(B4:B43)+3","v":"A43"},null,null,null,null,null,null,null,null,null,null,null,null,null,null,null,null,"2MS-33 D",null,null,"0-8/8-U","0-6/8-U","0-4/8-U","0-2/8-U",null,null,null,"0-8/8-U","0-6/8-U","0-4/8-U","0-2/8-U",null,null,null,"0-8/8-D","0-2/8-D","0-4/8-D","0-6/8-D",null,null,null,"0-8/8-D","0-2/8-D","0-6/8-D","0-4/8-D",null,null,null,null,null,null,null,null,null,null,null,null,null,null,null,null,null,null,null,null,null,null,null,null,null,null,null,null,null,null,null,null,null,null,null,null,null,"0-1 U",0.125,0.25,0.375,0.5,0.625,0.75,0.875]
["Date","Open","High","Low","Close",null,null,null,null,null,null,null,null,null,null,null,null,null,null,null,null,null,null,null,"SELECTING OUR MASTER SQUARE",null,null,null,null,null,null,null,null,null,"Trunc(Log(Square/Range,2))",null,null,null,null,null,"Date","-2/8 Inner","-2/8 Outer","2/8 Inner","2/8 Outer","6/8 Inner","6/8 Outer","10/8 Inner","10/8 Outer","4/8 Inner","4/8 Outer","Mlines","mlines","blines","0/8 line","8/8 line","1/3 line","2/3 line","1MS-78 U","1MS-67 U","1MS-56 U","1MS-45 U","1MS-33 U","1MS-22.5 U","1MS-11.25 U","2MS-78 U","2MS-67 U","2MS-56 U","2MS-45 U","2MS-33 U","2MS-22.5 U","2MS-11.25 U","1MS-78 D","1MS-67 D","1MS-56 D","1MS-45 D","1MS-33 D","1MS-22.5 D","1MS-11.25 D","2MS-78 D","2MS-67 D","2MS-56 D","2MS-45 D","2MS-33 D","2MS-11.25 D","2MS-22.5 D","1MMLU-1","1MMLU-2","1MMLU-3","1MMLU-4","1MMLU-5","1MMLU-6","1MMLU-7","1MMLU-8","1MMLU-9","1MMLU-10","1MMLU-11","1MMLU-12","1MMLU-13","1MMLU-14","1MMLU-15","2MMLU-1","2MMLU-2","2MMLU-3","2MMLU-4","2MMLU-5","2MMLU-6","2MMLU-7","2MMLU-8","2MMLU-9","2MMLU-10","2MMLU-11","2MMLU-12","2MMLU-13","2MMLU-14","2MMLU-15","1MMLD-1","1MMLD-2","1MMLD-3","1MMLD-4","1MMLD-5","1MMLD-6","1MMLD-7","1MMLD-8","1MMLD-9","1MMLD-10","1MMLD-11","1MMLD-12","1MMLD-13","1MMLD-14","1MMLD-15","2MMLD-1","2MMLD-2","2MMLD-3","2MMLD-4","2MMLD-5","2MMLD-6","2MMLD-7","2MMLD-8","2MMLD-9","2MMLD-10","2MMLD-11","2MMLD-12","2MMLD-13","2MMLD-14","2MMLD-15"]
[{"$f":"+AO4","v":"2020-08-25"},{"$f":"VLOOKUP($A4,Data!$A$2:$E$100,2,FALSE)","v":11.319999694824221},{"$f":"VLOOKUP($A4,Data!$A$2:$E$100,3,FALSE)","v":11.420000076293944},{"$f":"VLOOKUP($A4,Data!$A$2:$E$100,4,FALSE)","v":10.909999847412109},{"$f":"VLOOKUP($A4,Data!$A$2:$E$100,5,FALSE)","v":11.329999923706056},null,32,1,null,"+2",{"$f":"K5+1/8*(K$7-K$15)","v":13.28125},{"$f":"IF(AND($H$11>=K4,$H$11<=K6),$H$11,\"\")","v":""},"+2",{"$f":"N5+1/8*(N$7-N$15)","v":15.625},null,"+2",{"$f":"Q5+1/8*(Q$7-Q$15)","v":11.328125},{"$f":"IF(AND($H$11>=Q4,$H$11<=Q6),$H$11,\"\")","v":""},"+2",{"$f":"T5+1/8*(T$7-T$15)","v":10.986328125},{"$f":"IF(AND($H$11>=T4,$H$11<=T6),$H$11,\"\")","v":""},null,"Settings",null,null,null,null,"Price","Time",null,null,null,null,{"$f":"\"= Whole No.LOG of \"&TRUNC(LOG(Z29/Z32,2))","v":"= Whole No.LOG of 1"},null,null,null,null,null,null,{"$f":"+H21","v":"2020-08-25"},{"$f":"IF($W$11,IF(VLOOKUP($AO4,$S$37:$S$54,1,),-2/8,NA()),NA())","v":{"$error":"#N/A"}},{"$f":"IF($W$11,IF(VLOOKUP($AO4,$S$37:$S$54,1,),-2/8,NA()),NA())","v":{"$error":"#N/A"}},{"$f":"IF($W$11,IF(VLOOKUP($AO4,$S$37:$S$54,1,),2/8,NA()),NA())","v":{"$error":"#N/A"}},{"$error":"#N/A"},{"$f":"IF($W$11,IF(VLOOKUP($AO4,$S$37:$S$54,1,),6/8,NA()),NA())","v":{"$error":"#N/A"}},{"$error":"#N/A"},{"$f":"IF($W$11,IF(VLOOKUP($AO4,$S$37:$S$54,1,),10/8,NA()),NA())","v":{"$error":"#N/A"}},{"$error":"#N/A"},{"$f":"IF($W$11,IF(VLOOKUP($AO4,$S$72:$S$80,1,),4/8,NA()),NA())","v":{"$error":"#N/A"}},{"$error":"#N/A"},{"$f":"IF(VLOOKUP(AO4,K$46:K$64,1,),10/8,NA())","v":1.25},{"$f":"IF($W$14,IF(VLOOKUP(AO4,M$40:M$79,1,),9/8,NA()))","v":1.125},{"$f":"IF($W$14,IF(VLOOKUP(AO4,N$40:N$110,1,),8/8,NA()))","v":1},0,1,0.33333333333333331,0.66666666666666663,{"$f":"IF($W$5,IF(AO4=$H$21,0,IF(AO4=$G$26,1,NA())),NA())","v":0},{"$f":"IF($W$5,IF(AO4=$H$21,0,IF(AO4=$G$27,1,NA())),NA())","v":0},{"$f":"IF($W$5,IF(AO4=$H$21,0,IF(AO4=$G$28,1,NA())),NA())","v":0},{"$f":"IF($W$5,IF(AO4=$H$21,0,IF(AO4=$H$22,1,NA())),NA())","v":0},{"$f":"IF($W$5,IF(AO4=$H$21,0,IF(AO4=$H$22,6/8,NA())),NA())","v":0},{"$f":"IF($W$5,IF(AO4=$H$21,0,IF(AO4=$H$22,4/8,NA())),NA())","v":0},{"$f":"IF($W$5,IF(AO4=$H$21,0,IF(AO4=$H$22,2/8,NA())),NA())","v":0},{"$f":"IF($W$5,IF(AO4=$H$22,0,IF(AO4=$H$26,1,NA())),NA())","v":{"$error":"#N/A"}},{"$f":"IF($W$5,IF(AO4=$H$22,0,IF(AO4=$H$27,1,NA())),NA())","v":{"$error":"#N/A"}},{"$f":"IF($W$5,IF(AO4=$H$22,0,IF(AO4=$H$28,1,NA())),NA())","v":{"$error":"#N/A"}},{"$f":"IF($W$5,IF(AO4=$H$22,0,IF(AO4=$H$23,1,NA())),NA())","v":{"$error":"#N/A"}},{"$f":"IF($W$5,IF(AO4=$H$22,0,IF(AO4=$H$23,6/8,NA())),NA())","v":{"$error":"#N/A"}},{"$f":"IF($W$5,IF(AO4=$H$22,0,IF(AO4=$H$23,4/8,NA())),NA())","v":{"$error":"#N/A"}},{"$f":"IF($W$5,IF(AO4=$H$22,0,IF(AO4=$H$23,2/8,NA())),NA())","v":{"$error":"#N/A"}},{"$f":"IF($W$8,IF(AO4=$H$21,1,IF(AO4=$G$26,0,NA())),NA())","v":{"$error":"#N/A"}},{"$f":"IF($W$8,IF(AO4=$H$21,1,IF(AO4=$G$27,0,NA())),NA())","v":{"$error":"#N/A"}},{"$f":"IF($W$8,IF(AO4=$H$21,1,IF(AO4=$G$28,0,NA())),NA())","v":{"$error":"#N/A"}},{"$f":"IF($W$8,IF(AO4=$H$21,1,IF(AO4=$H$22,0,NA())),NA())","v":{"$error":"#N/A"}},{"$f":"IF($W$8,IF(AO4=$H$21,1,IF(AO4=$H$22,2/8,NA())),NA())","v":{"$error":"#N/A"}},{"$f":"IF($W$8,IF(AO4=$H$21,1,IF(AO4=$H$22,4/8,NA())),NA())","v":{"$error":"#N/A"}},{"$f":"IF($W$8,IF(AO4=$H$21,1,IF(AO4=$H$22,6/8,NA())),NA())","v":{"$error":"#N/A"}},{"$f":"IF($W$8,IF(AO4=$H$22,1,IF(AO4=$H$26,0,NA())),NA())","v":{"$error":"#N/A"}},{"$f":"IF($W$8,IF(AO4=$H$22,1,IF(AO4=$H$27,0,NA())),NA())","v":{"$error":"#N/A"}},{"$f":"IF($W$8,IF(AO4=$H$22,1,IF(AO4=$H$28,0,NA())),NA())","v":{"$error":"#N/A"}},{"$f":"IF($W$8,IF(AO4=$H$22,1,IF(AO4=$H$23,0,NA())),NA())","v":{"$error":"#N/A"}},{"$f":"IF($W$8,IF(AO4=$H$22,1,IF(AO4=$H$23,2/8,NA())),NA())","v":{"$error":"#N/A"}},{"$f":"IF($W$8,IF(AO4=$H$22,1,IF(AO4=$H$23,6/8,NA())),NA())","v":{"$error":"#N/A"}},{"$f":"IF($W$8,IF(AO4=$H$22,1,IF(AO4=$H$23,4/8,NA())),NA())","v":{"$error":"#N/A"}},{"$f":"IF($W$17,IF(AO4=$M$26,0,IF(AO4=$H$22,1/8,NA())),NA())","v":{"$error":"#N/A"}},{"$f":"IF($W$17,IF(AO4=$G$28,0,IF(AO4=$H$22,2/8,NA())),NA())","v":{"$error":"#N/A"}},{"$f":"IF($W$17,IF(AO4=$J$28,0,IF(AO4=$H$22,3/8,NA())),NA())","v":{"$error":"#N/A"}},{"$f":"IF($W$17,IF(AO4=$G$27,0,IF(AO4=$H$22,4/8,NA())),NA())","v":{"$error":"#N/A"}},{"$f":"IF($W$17,IF(AO4=$J$27,0,IF(AO4=$H$22,5/8,NA())),NA())","v":{"$error":"#N/A"}},{"$f":"IF($W$17,IF(AO4=$G$26,0,IF(AO4=$H$22,6/8,NA())),NA())","v":{"$error":"#N/A"}},{"$f":"IF($W$17,IF(AO4=$J$26,0,IF(AO4=$H$22,7/8,NA())),NA())","v":{"$error":"#N/A"}},{"$f":"IF($W$17,IF(AO4=$H$21,0,IF(AO4=$H$22,1,NA())),NA())","v":0},{"$f":"IF($W$17,IF(AO4=$M$26,1,IF(AO4=$H$21,1/8,NA())),NA())","v":0.125},{"$f":"IF($W$17,IF(AO4=$G$28,1,IF(AO4=$H$21,2/8,NA())),NA())","v":0.25},{"$f":"IF($W$17,IF(AO4=$J$28,1,IF(AO4=$H$21,3/8,NA())),NA())","v":0.375},{"$f":"IF($W$17,IF(AO4=$G$27,1,IF(AO4=$H$21,4/8,NA())),NA())","v":0.5},{"$f":"IF($W$17,IF(AO4=$J$27,1,IF(AO4=$H$21,5/8,NA())),NA())","v":0.625},{"$f":"IF($W$17,IF(AO4=$G$26,1,IF(AO4=$H$21,6/8,NA())),NA())","v":0.75},{"$f":"IF($W$17,IF(AO4=$J$26,1,IF(AO4=$H$21,7/8,NA())),NA())","v":0.875},{"$f":"IF($W$17,IF(AO4=$N$26,0,IF(AO4=$H$23,1/8,NA())),NA())","v":{"$error":"#N/A"}},{"$f":"IF($W$17,IF(AO4=$H$28,0,IF(AO4=$H$23,2/8,NA())),NA())","v":{"$error":"#N/A"}},{"$f":"IF($W$17,IF(AO4=$K$28,0,IF(AO4=$H$23,3/8,NA())),NA())","v":{"$error":"#N/A"}},{"$f":"IF($W$17,IF(AO4=$H$27,0,IF(AO4=$H$23,4/8,NA())),NA())","v":{"$error":"#N/A"}},{"$f":"IF($W$17,IF(AO4=$K$27,0,IF(AO4=$H$23,5/8,NA())),NA())","v":{"$error":"#N/A"}},{"$f":"IF($W$17,IF(AO4=$H$26,0,IF(AO4=$H$23,6/8,NA())),NA())","v":{"$error":"#N/A"}},{"$f":"IF($W$17,IF(AO4=$K$26,0,IF(AO4=$H$23,7/8,NA())),NA())","v":{"$error":"#N/A"}},{"$f":"IF($W$17,IF(AO4=$H$22,0,IF(AO4=$H$23,1,NA())),NA())","v":{"$error":"#N/A"}},{"$f":"IF($W$17,IF(AO4=$N$26,1,IF(AO4=$H$22,1/8,NA())),NA())","v":{"$error":"#N/A"}},{"$f":"IF($W$17,IF(AO4=$H$28,1,IF(AO4=$H$22,2/8,NA())),NA())","v":{"$error":"#N/A"}},{"$f":"IF($W$17,IF(AO4=$K$28,1,IF(AO4=$H$22,3/8,NA())),NA())","v":{"$error":"#N/A"}},{"$f":"IF($W$17,IF(AO4=$H$27,1,IF(AO4=$H$22,4/8,NA())),NA())","v":{"$error":"#N/A"}},{"$f":"IF($W$17,IF(AO4=$K$27,1,IF(AO4=$H$22,5/8,NA())),NA())","v":{"$error":"#N/A"}},{"$f":"IF($W$17,IF(AO4=$H$26,1,IF(AO4=$H$22,6/8,NA())),NA())","v":{"$error":"#N/A"}},{"$f":"IF($W$17,IF(AO4=$K$26,1,IF(AO4=$H$22,7/8,NA())),NA())","v":{"$error":"#N/A"}},{"$f":"IF($W$20,IF(AO4=$J$26,0,IF(AO4=$H$21,1/8,NA())),NA())","v":{"$error":"#N/A"}},{"$f":"IF($W$20,IF(AO4=$G$26,0,IF(AO4=$H$21,2/8,NA())),NA())","v":{"$error":"#N/A"}},{"$f":"IF($W$20,IF(AO4=$J$27,0,IF(AO4=$H$21,3/8,NA())),NA())","v":{"$error":"#N/A"}},{"$f":"IF($W$20,IF(AO4=$G$27,0,IF(AO4=$H$21,4/8,NA())),NA())","v":{"$error":"#N/A"}},{"$f":"IF($W$20,IF(AO4=$J$28,0,IF(AO4=$H$21,5/8,NA())),NA())","v":{"$error":"#N/A"}},{"$f":"IF($W$20,IF(AO4=$G$28,0,IF(AO4=$H$21,6/8,NA())),NA())","v":{"$error":"#N/A"}},{"$f":"IF($W$20,IF(AO4=$M$26,0,IF(AO4=$H$21,7/8,NA())),NA())","v":{"$error":"#N/A"}},{"$f":"IF($W$20,IF(AO4=$H$21,1,IF(AO4=$H$22,0,NA())),NA())","v":{"$error":"#N/A"}},{"$f":"IF($W$20,IF(AO4=$J$26,1,IF(AO4=$H$22,1/8,NA())),NA())","v":{"$error":"#N/A"}},{"$f":"IF($W$20,IF(AO4=$G$26,1,IF(AO4=$H$22,2/8,NA())),NA())","v":{"$error":"#N/A"}},{"$f":"IF($W$20,IF(AO4=$J$27,1,IF(AO4=$H$22,3/8,NA())),NA())","v":{"$error":"#N/A"}},{"$f":"IF($W$20,IF(AO4=$G$27,1,IF(AO4=$H$22,4/8,NA())),NA())","v":{"$error":"#N/A"}},{"$f":"IF($W$20,IF(AO4=$J$28,1,IF(AO4=$H$22,5/8,NA())),NA())","v":{"$error":"#N/A"}},{"$f":"IF($W$20,IF(AO4=$G$28,1,IF(AO4=$H$22,6/8,NA())),NA())","v":{"$error":"#N/A"}},{"$f":"IF($W$20,IF(AO4=$M$26,1,IF(AO4=$H$22,7/8,NA())),NA())","v":{"$error":"#N/A"}},{"$f":"IF($W$20,IF(AO4=$K$26,0,IF(AO4=$H$22,1/8,NA())),NA())","v":{"$error":"#N/A"}},{"$f":"IF($W$20,IF(AO4=$H$26,0,IF(AO4=$H$22,2/8,NA())),NA())","v":{"$error":"#N/A"}},{"$f":"IF($W$20,IF(AO4=$K$27,0,IF(AO4=$H$22,3/8,NA())),NA())","v":{"$error":"#N/A"}},{"$f":"IF($W$20,IF(AO4=$H$27,0,IF(AO4=$H$22,4/8,NA())),NA())","v":{"$error":"#N/A"}},{"$f":"IF($W$20,IF(AO4=$K$28,0,IF(AO4=$H$22,5/8,NA())),NA())","v":{"$error":"#N/A"}},{"$f":"IF($W$20,IF(AO4=$H$28,0,IF(AO4=$H$22,6/8,NA())),NA())","v":{"$error":"#N/A"}},{"$f":"IF($W$20,IF(AO4=$N$26,0,IF(AO4=$H$22,7/8,NA())),NA())","v":{"$error":"#N/A"}},{"$f":"IF($W$20,IF(AO4=$H$22,1,IF(AO4=$H$23,0,NA())),NA())","v":{"$error":"#N/A"}},{"$f":"IF($W$20,IF(AO4=$K$26,1,IF(AO4=$H$23,1/8,NA())),NA())","v":{"$error":"#N/A"}},{"$f":"IF($W$20,IF(AO4=$H$26,1,IF(AO4=$H$23,2/8,NA())),NA())","v":{"$error":"#N/A"}},{"$f":"IF($W$20,IF(AO4=$K$27,1,IF(AO4=$H$23,3/8,NA())),NA())","v":{"$error":"#N/A"}},{"$f":"IF($W$20,IF(AO4=$H$27,1,IF(AO4=$H$23,4/8,NA())),NA())","v":{"$error":"#N/A"}},{"$f":"IF($W$20,IF(AO4=$K$28,1,IF(AO4=$H$23,5/8,NA())),NA())","v":{"$error":"#N/A"}},{"$f":"IF($W$20,IF(AO4=$H$28,1,IF(AO4=$H$23,6/8,NA())),NA())","v":{"$error":"#N/A"}},{"$f":"IF($W$20,IF(AO4=$N$26,1,IF(AO4=$H$23,7/8,NA())),NA())","v":{"$error":"#N/A"}}]
[{"$f":"+AO5","v":"2020-08-26"},{"$f":"VLOOKUP($A5,Data!$A$2:$E$100,2,FALSE)","v":11.270000457763672},{"$f":"VLOOKUP($A5,Data!$A$2:$E$100,3,FALSE)","v":11.869999885559082},{"$f":"VLOOKUP($A5,Data!$A$2:$E$100,4,FALSE)","v":11.25},{"$f":"VLOOKUP($A5,Data!$A$2:$E$100,5,FALSE)","v":11.829999923706056},null,{"$f":"+AB15","v":12.5},null,null,"+1",{"$f":"K7+1/8*(K$7-K$15)","v":12.890625},{"$f":"IF(AND($H$11>=K5,$H$11<=K4),$H$11,\"\")","v":""},"+1",{"$f":"N7+1/8*(N$7-N$15)","v":14.0625},null,"+1",{"$f":"Q7+1/8*(Q$7-Q$15)","v":11.1328125},{"$f":"IF(AND($H$11>=Q5,$H$11<=Q4),$H$11,\"\")","v":""},"+1",{"$f":"T7+1/8*(T$7-T$15)","v":10.9619140625},{"$f":"IF(AND($H$11>=T5,$H$11<=T4),$H$11,\"\")","v":""},null,true,null,250000,25000,100000,{"$f":"IF(AND($H$11<=Y5,$H$11>Z5),AA5,\"X\")","v":"X"},{"$f":"IF(AND($H$12<=Y5,$H$12>Z5),AA5,\"X\")","v":"X"},null,null,null,null,{"$f":"\"Divide our Square of \"&Z29&\" in 1/2 \"&\"(\"&Z33&\") times\"","v":"Divide our Square of 12.5 in 1/2 (1) times"},null,null,null,null,null,null,{"$f":"IF(WORKDAY(AO4,1,$G$32:$G$71)>$H$23,NA(),WORKDAY(AO4,1,$G$32:$G$71))","v":"2020-08-26"},{"$error":"#N/A"},{"$error":"#N/A"},{"$error":"#N/A"},{"$error":"#N/A"},{"$error":"#N/A"},{"$error":"#N/A"},{"$error":"#N/A"},{"$error":"#N/A"},{"$error":"#N/A"},{"$error":"#N/A"},{"$f":"IF(VLOOKUP(AO5,K$46:K$64,1,),10/8,NA())","v":{"$error":"#N/A"}},{"$f":"IF($W$14,IF(VLOOKUP(AO5,M$40:M$79,1,),9/8,NA()))","v":{"$error":"#N/A"}},{"$f":"IF($W$14,IF(VLOOKUP(AO5,N$40:N$110,1,),8/8,NA()))","v":{"$error":"#N/A"}},0,1,0.33333333333333331,0.66666666666666663,{"$error":"#N/A"},{"$error":"#N/A"},{"$error":"#N/A"},{"$error":"#N/A"},{"$error":"#N/A"},{"$error":"#N/A"},{"$error":"#N/A"},{"$error":"#N/A"},{"$error":"#N/A"},{"$error":"#N/A"},{"$error":"#N/A"},{"$error":"#N/A"},{"$error":"#N/A"},{"$error":"#N/A"},{"$error":"#N/A"},{"$error":"#N/A"},{"$error":"#N/A"},{"$error":"#N/A"},{"$error":"#N/A"},{"$error":"#N/A"},{"$error":"#N/A"},{"$error":"#N/A"},{"$error":"#N/A"},{"$error":"#N/A"},{"$error":"#N/A"},{"$error":"#N/A"},{"$error":"#N/A"},{"$error":"#N/A"},{"$f":"IF($W$17,IF(AO5=$M$26,0,IF(AO5=$H$22,1/8,NA())),NA())","v":{"$error":"#N/A"}},{"$f":"IF($W$17,IF(AO5=$G$28,0,IF(AO5=$H$22,2/8,NA())),NA())","v":{"$error":"#N/A"}},{"$f":"IF($W$17,IF(AO5=$J$28,0,IF(AO5=$H$22,3/8,NA())),NA())","v":{"$error":"#N/A"}},{"$f":"IF($W$17,IF(AO5=$G$27,0,IF(AO5=$H$22,4/8,NA())),NA())","v":{"$error":"#N/A"}},{"$f":"IF($W$17,IF(AO5=$J$27,0,IF(AO5=$H$22,5/8,NA())),NA())","v":{"$error":"#N/A"}},{"$f":"IF($W$17,IF(AO5=$G$26,0,IF(AO5=$H$22,6/8,NA())),NA())","v":{"$error":"#N/A"}},{"$f":"IF($W$17,IF(AO5=$J$26,0,IF(AO5=$H$22,7/8,NA())),NA())","v":{"$error":"#N/A"}},{"$f":"IF($W$17,IF(AO5=$H$21,0,IF(AO5=$H$22,1,NA())),NA())","v":{"$error":"#N/A"}},{"$f":"IF($W$17,IF(AO5=$M$26,1,IF(AO5=$H$21,1/8,NA())),NA())","v":{"$error":"#N/A"}},{"$f":"IF($W$17,IF(AO5=$G$28,1,IF(AO5=$H$21,2/8,NA())),NA())","v":{"$error":"#N/A"}},{"$f":"IF($W$17,IF(AO5=$J$28,1,IF(AO5=$H$21,3/8,NA())),NA())","v":{"$error":"#N/A"}},{"$f":"IF($W$17,IF(AO5=$G$27,1,IF(AO5=$H$21,4/8,NA())),NA())","v":{"$error":"#N/A"}},{"$f":"IF($W$17,IF(AO5=$J$27,1,IF(AO5=$H$21,5/8,NA())),NA())","v":{"$error":"#N/A"}},{"$f":"IF($W$17,IF(AO5=$G$26,1,IF(AO5=$H$21,6/8,NA())),NA())","v":{"$error":"#N/A"}},{"$f":"IF($W$17,IF(AO5=$J$26,1,IF(AO5=$H$21,7/8,NA())),NA())","v":{"$error":"#N/A"}},{"$f":"IF($W$17,IF(AO5=$N$26,0,IF(AO5=$H$23,1/8,NA())),NA())","v":{"$error":"#N/A"}},{"$f":"IF($W$17,IF(AO5=$H$28,0,IF(AO5=$H$23,2/8,NA())),NA())","v":{"$error":"#N/A"}},{"$f":"IF($W$17,IF(AO5=$K$28,0,IF(AO5=$H$23,3/8,NA())),NA())","v":{"$error":"#N/A"}},{"$f":"IF($W$17,IF(AO5=$H$27,0,IF(AO5=$H$23,4/8,NA())),NA())","v":{"$error":"#N/A"}},{"$f":"IF($W$17,IF(AO5=$K$27,0,IF(AO5=$H$23,5/8,NA())),NA())","v":{"$error":"#N/A"}},{"$f":"IF($W$17,IF(AO5=$H$26,0,IF(AO5=$H$23,6/8,NA())),NA())","v":{"$error":"#N/A"}},{"$f":"IF($W$17,IF(AO5=$K$26,0,IF(AO5=$H$23,7/8,NA())),NA())","v":{"$error":"#N/A"}},{"$f":"IF($W$17,IF(AO5=$H$22,0,IF(AO5=$H$23,1,NA())),NA())","v":{"$error":"#N/A"}},{"$f":"IF($W$17,IF(AO5=$N$26,1,IF(AO5=$H$22,1/8,NA())),NA())","v":{"$error":"#N/A"}},{"$f":"IF($W$17,IF(AO5=$H$28,1,IF(AO5=$H$22,2/8,NA())),NA())","v":{"$error":"#N/A"}},{"$f":"IF($W$17,IF(AO5=$K$28,1,IF(AO5=$H$22,3/8,NA())),NA())","v":{"$error":"#N/A"}},{"$f":"IF($W$17,IF(AO5=$H$27,1,IF(AO5=$H$22,4/8,NA())),NA())","v":{"$error":"#N/A"}},{"$f":"IF($W$17,IF(AO5=$K$27,1,IF(AO5=$H$22,5/8,NA())),NA())","v":{"$error":"#N/A"}},{"$f":"IF($W$17,IF(AO5=$H$26,1,IF(AO5=$H$22,6/8,NA())),NA())","v":{"$error":"#N/A"}},{"$f":"IF($W$17,IF(AO5=$K$26,1,IF(AO5=$H$22,7/8,NA())),NA())","v":{"$error":"#N/A"}},{"$f":"IF($W$20,IF(AO5=$J$26,0,IF(AO5=$H$21,1/8,NA())),NA())","v":{"$error":"#N/A"}},{"$f":"IF($W$20,IF(AO5=$G$26,0,IF(AO5=$H$21,2/8,NA())),NA())","v":{"$error":"#N/A"}},{"$f":"IF($W$20,IF(AO5=$J$27,0,IF(AO5=$H$21,3/8,NA())),NA())","v":{"$error":"#N/A"}},{"$f":"IF($W$20,IF(AO5=$G$27,0,IF(AO5=$H$21,4/8,NA())),NA())","v":{"$error":"#N/A"}},{"$f":"IF($W$20,IF(AO5=$J$28,0,IF(AO5=$H$21,5/8,NA())),NA())","v":{"$error":"#N/A"}},{"$f":"IF($W$20,IF(AO5=$G$28,0,IF(AO5=$H$21,6/8,NA())),NA())","v":{"$error":"#N/A"}},{"$f":"IF($W$20,IF(AO5=$M$26,0,IF(AO5=$H$21,7/8,NA())),NA())","v":{"$error":"#N/A"}},{"$f":"IF($W$20,IF(AO5=$H$21,1,IF(AO5=$H$22,0,NA())),NA())","v":{"$error":"#N/A"}},{"$f":"IF($W$20,IF(AO5=$J$26,1,IF(AO5=$H$22,1/8,NA())),NA())","v":{"$error":"#N/A"}},{"$f":"IF($W$20,IF(AO5=$G$26,1,IF(AO5=$H$22,2/8,NA())),NA())","v":{"$error":"#N/A"}},{"$f":"IF($W$20,IF(AO5=$J$27,1,IF(AO5=$H$22,3/8,NA())),NA())","v":{"$error":"#N/A"}},{"$f":"IF($W$20,IF(AO5=$G$27,1,IF(AO5=$H$22,4/8,NA())),NA())","v":{"$error":"#N/A"}},{"$f":"IF($W$20,IF(AO5=$J$28,1,IF(AO5=$H$22,5/8,NA())),NA())","v":{"$error":"#N/A"}},{"$f":"IF($W$20,IF(AO5=$G$28,1,IF(AO5=$H$22,6/8,NA())),NA())","v":{"$error":"#N/A"}},{"$f":"IF($W$20,IF(AO5=$M$26,1,IF(AO5=$H$22,7/8,NA())),NA())","v":{"$error":"#N/A"}},{"$f":"IF($W$20,IF(AO5=$K$26,0,IF(AO5=$H$22,1/8,NA())),NA())","v":{"$error":"#N/A"}},{"$f":"IF($W$20,IF(AO5=$H$26,0,IF(AO5=$H$22,2/8,NA())),NA())","v":{"$error":"#N/A"}},{"$f":"IF($W$20,IF(AO5=$K$27,0,IF(AO5=$H$22,3/8,NA())),NA())","v":{"$error":"#N/A"}},{"$f":"IF($W$20,IF(AO5=$H$27,0,IF(AO5=$H$22,4/8,NA())),NA())","v":{"$error":"#N/A"}},{"$f":"IF($W$20,IF(AO5=$K$28,0,IF(AO5=$H$22,5/8,NA())),NA())","v":{"$error":"#N/A"}},{"$f":"IF($W$20,IF(AO5=$H$28,0,IF(AO5=$H$22,6/8,NA())),NA())","v":{"$error":"#N/A"}},{"$f":"IF($W$20,IF(AO5=$N$26,0,IF(AO5=$H$22,7/8,NA())),NA())","v":{"$error":"#N/A"}},{"$f":"IF($W$20,IF(AO5=$H$22,1,IF(AO5=$H$23,0,NA())),NA())","v":{"$error":"#N/A"}},{"$f":"IF($W$20,IF(AO5=$K$26,1,IF(AO5=$H$23,1/8,NA())),NA())","v":{"$error":"#N/A"}},{"$f":"IF($W$20,IF(AO5=$H$26,1,IF(AO5=$H$23,2/8,NA())),NA())","v":{"$error":"#N/A"}},{"$f":"IF($W$20,IF(AO5=$K$27,1,IF(AO5=$H$23,3/8,NA())),NA())","v":{"$error":"#N/A"}},{"$f":"IF($W$20,IF(AO5=$H$27,1,IF(AO5=$H$23,4/8,NA())),NA())","v":{"$error":"#N/A"}},{"$f":"IF($W$20,IF(AO5=$K$28,1,IF(AO5=$H$23,5/8,NA())),NA())","v":{"$error":"#N/A"}},{"$f":"IF($W$20,IF(AO5=$H$28,1,IF(AO5=$H$23,6/8,NA())),NA())","v":{"$error":"#N/A"}},{"$f":"IF($W$20,IF(AO5=$N$26,1,IF(AO5=$H$23,7/8,NA())),NA())","v":{"$error":"#N/A"}}]
["2020-08-27",{"$f":"VLOOKUP($A6,Data!$A$2:$E$100,2,FALSE)","v":12.039999961853027},{"$f":"VLOOKUP($A6,Data!$A$2:$E$100,3,FALSE)","v":12.149999618530272},{"$f":"VLOOKUP($A6,Data!$A$2:$E$100,4,FALSE)","v":11.329999923706056},{"$f":"VLOOKUP($A6,Data!$A$2:$E$100,5,FALSE)","v":11.600000381469728},null,"Squares",null,null,null,"SQUARE IN TIME",null,null,"MAJOR SQUARE",null,null,{"$f":"\"MINOR SQUARE\"","v":"MINOR SQUARE"},null,null,{"$f":"\"OCTAVE \"&$T$7/($H$8/2)","v":"OCTAVE 112"},null,null,null,null,25000,{"$f":"Y6/10","v":2500},{"$f":"AA5/10","v":10000},"X","X",null,null,null,null,null,{"$f":"\"Our Octave = \"&Z29/(2^TRUNC(LOG(Z29/Z32,2)))","v":"Our Octave = 6.25"},null,null,null,null,null,"2020-08-27",{"$error":"#N/A"},{"$error":"#N/A"},{"$error":"#N/A"},{"$error":"#N/A"},{"$error":"#N/A"},{"$error":"#N/A"},{"$error":"#N/A"},{"$error":"#N/A"},{"$error":"#N/A"},{"$error":"#N/A"},{"$error":"#N/A"},{"$error":"#N/A"},{"$error":"#N/A"},0,1,0.33333333333333331,0.66666666666666663,{"$error":"#N/A"},{"$error":"#N/A"},{"$error":"#N/A"},{"$error":"#N/A"},{"$error":"#N/A"},{"$error":"#N/A"},{"$error":"#N/A"},{"$error":"#N/A"},{"$error":"#N/A"},{"$error":"#N/A"},{"$error":"#N/A"},{"$error":"#N/A"},{"$error":"#N/A"},{"$error":"#N/A"},{"$error":"#N/A"},{"$error":"#N/A"},{"$error":"#N/A"},{"$error":"#N/A"},{"$error":"#N/A"},{"$error":"#N/A"},{"$error":"#N/A"},{"$error":"#N/A"},{"$error":"#N/A"},{"$error":"#N/A"},{"$error":"#N/A"},{"$error":"#N/A"},{"$error":"#N/A"},{"$error":"#N/A"},{"$error":"#N/A"},{"$error":"#N/A"},{"$error":"#N/A"},{"$error":"#N/A"},{"$error":"#N/A"},{"$error":"#N/A"},{"$error":"#N/A"},{"$error":"#N/A"},{"$error":"#N/A"},{"$error":"#N/A"},{"$error":"#N/A"},{"$error":"#N/A"},{"$error":"#N/A"},{"$error":"#N/A"},{"$error":"#N/A"},{"$error":"#N/A"},{"$error":"#N/A"},{"$error":"#N/A"},{"$error":"#N/A"},{"$error":"#N/A"},{"$error":"#N/A"},{"$error":"#N/A"},{"$error":"#N/A"},{"$error":"#N/A"},{"$error":"#N/A"},{"$error":"#N/A"},{"$error":"#N/A"},{"$error":"#N/A"},{"$error":"#N/A"},{"$error":"#N/A"},{"$error":"#N/A"},{"$error":"#N/A"},{"$error":"#N/A"},{"$error":"#N/A"},{"$error":"#N/A"},{"$error":"#N/A"},{"$error":"#N/A"},{"$error":"#N/A"},{"$error":"#N/A"},{"$error":"#N/A"},{"$error":"#N/A"},{"$error":"#N/A"},{"$error":"#N/A"},{"$error":"#N/A"},{"$error":"#N/A"},{"$error":"#N/A"},{"$error":"#N/A"},{"$error":"#N/A"},{"$error":"#N/A"},{"$error":"#N/A"},{"$error":"#N/A"},{"$error":"#N/A"},{"$error":"#N/A"},{"$error":"#N/A"},{"$error":"#N/A"},{"$error":"#N/A"},{"$error":"#N/A"},{"$error":"#N/A"},{"$error":"#N/A"},{"$error":"#N/A"}]
["2020-08-28",{"$f":"VLOOKUP($A7,Data!$A$2:$E$100,2,FALSE)","v":11.75},{"$f":"VLOOKUP($A7,Data!$A$2:$E$100,3,FALSE)","v":12.239999771118164},{"$f":"VLOOKUP($A7,Data!$A$2:$E$100,4,FALSE)","v":11.720000267028809},{"$f":"VLOOKUP($A7,Data!$A$2:$E$100,5,FALSE)","v":12.210000038146973},null,"MMML",{"$f":"G5/8","v":1.5625},null,{"$f":"($AI$12-$AF$20)/$AF$21&\"/8\"","v":"4/8"},{"$f":"SUM(AJ29:AJ39)","v":12.5},{"$f":"IF(AND($H$11>=K7,$H$11<=K5),$H$11,\"\")","v":""},{"$f":"N7/H7&\"/8\"","v":"8/8"},{"$f":"G5","v":12.5},{"$f":"IF(AND($H$11>=N7,$H$11<=N5),$H$11,\"\")","v":""},{"$f":"Q7/H7&\"/8\"","v":"7/8"},{"$f":"Q15+H7","v":10.9375},{"$f":"IF(AND($H$11>=Q7,$H$11<=Q5),$H$11,\"\")","v":""},{"$f":"(T7-TRUNC($H$11/($G$5/8))*($G$5/8))/$H$8&\"/8\"","v":"8/8"},{"$f":"T15+H8","v":10.9375},{"$f":"IF(AND($H$11>=T7,$H$11<=T5),$H$11,\"\")","v":""},null,null,null,2500,{"$f":"Y7/10","v":250},{"$f":"AA6/10","v":1000},"X","X",null,null,null,null,null,null,null,null,"SQUARE",null,null,"2020-08-28",{"$error":"#N/A"},{"$error":"#N/A"},{"$error":"#N/A"},{"$error":"#N/A"},{"$error":"#N/A"},{"$error":"#N/A"},{"$error":"#N/A"},{"$error":"#N/A"},{"$error":"#N/A"},{"$error":"#N/A"},{"$error":"#N/A"},{"$error":"#N/A"},{"$error":"#N/A"},0,1,0.33333333333333331,0.66666666666666663,{"$error":"#N/A"},{"$error":"#N/A"},{"$error":"#N/A"},{"$error":"#N/A"},{"$error":"#N/A"},{"$error":"#N/A"},{"$error":"#N/A"},{"$error":"#N/A"},{"$error":"#N/A"},{"$error":"#N/A"},{"$error":"#N/A"},{"$error":"#N/A"},{"$error":"#N/A"},{"$error":"#N/A"},{"$error":"#N/A"},{"$error":"#N/A"},{"$error":"#N/A"},{"$error":"#N/A"},{"$error":"#N/A"},{"$error":"#N/A"},{"$error":"#N/A"},{"$error":"#N/A"},{"$error":"#N/A"},{"$error":"#N/A"},{"$error":"#N/A"},{"$error":"#N/A"},{"$error":"#N/A"},{"$error":"#N/A"},{"$error":"#N/A"},{"$error":"#N/A"},{"$error":"#N/A"},{"$error":"#N/A"},{"$error":"#N/A"},{"$error":"#N/A"},{"$error":"#N/A"},{"$error":"#N/A"},{"$error":"#N/A"},{"$error":"#N/A"},{"$error":"#N/A"},{"$error":"#N/A"},{"$error":"#N/A"},{"$error":"#N/A"},{"$error":"#N/A"},{"$error":"#N/A"},{"$error":"#N/A"},{"$error":"#N/A"},{"$error":"#N/A"},{"$error":"#N/A"},{"$error":"#N/A"},{"$error":"#N/A"},{"$error":"#N/A"},{"$error":"#N/A"},{"$error":"#N/A"},{"$error":"#N/A"},{"$error":"#N/A"},{"$error":"#N/A"},{"$error":"#N/A"},{"$error":"#N/A"},{"$error":"#N/A"},{"$error":"#N/A"},{"$error":"#N/A"},{"$error":"#N/A"},{"$error":"#N/A"},{"$error":"#N/A"},{"$error":"#N/A"},{"$error":"#N/A"},{"$error":"#N/A"},{"$error":"#N/A"},{"$error":"#N/A"},{"$error":"#N/A"},{"$error":"#N/A"},{"$error":"#N/A"},{"$error":"#N/A"},{"$error":"#N/A"},{"$error":"#N/A"},{"$error":"#N/A"},{"$error":"#N/A"},{"$error":"#N/A"},{"$error":"#N/A"},{"$error":"#N/A"},{"$error":"#N/A"},{"$error":"#N/A"},{"$error":"#N/A"},{"$error":"#N/A"},{"$error":"#N/A"},{"$error":"#N/A"},{"$error":"#N/A"},{"$error":"#N/A"}]
["2020-08-31",{"$f":"VLOOKUP($A8,Data!$A$2:$E$100,2,FALSE)","v":12.369999885559082},{"$f":"VLOOKUP($A8,Data!$A$2:$E$100,3,FALSE)","v":12.609999656677246},{"$f":"VLOOKUP($A8,Data!$A$2:$E$100,4,FALSE)","v":12.199999809265137},{"$f":"VLOOKUP($A8,Data!$A$2:$E$100,5,FALSE)","v":12.449999809265137},null,"mMML",{"$f":"H7/8","v":0.1953125},null,"7",{"$f":"K9+1/8*(K$7-K$15)","v":12.109375},{"$f":"IF(AND($H$11>=K8,$H$11<=K7),$H$11,\"\")","v":""},"7",{"$f":"N9+1/8*(N$7-N$15)","v":10.9375},{"$f":"IF(AND($H$11>=N8,$H$11<=N7),$H$11,\"\")","v":""},"7",{"$f":"Q9+1/8*(Q$7-Q$15)","v":10.7421875},{"$f":"IF(AND($H$11>=Q8,$H$11<=Q7),$H$11,\"\")","v":10.899999618530272},"7",{"$f":"T9+1/8*(T$7-T$15)","v":10.9130859375},{"$f":"IF(AND($H$11>=T8,$H$11<=T7),$H$11,\"\")","v":""},null,false,null,250,{"$f":"Y8/10","v":25},{"$f":"AA7/10","v":100},"X","X",null,null,null,null,null,null,null,"LOG",{"$f":"Z29","v":12.5},null,null,"2020-08-31",{"$error":"#N/A"},{"$error":"#N/A"},{"$error":"#N/A"},{"$error":"#N/A"},{"$error":"#N/A"},{"$error":"#N/A"},{"$error":"#N/A"},{"$error":"#N/A"},{"$error":"#N/A"},{"$error":"#N/A"},{"$error":"#N/A"},{"$error":"#N/A"},1,0,1,0.33333333333333331,0.66666666666666663,{"$error":"#N/A"},{"$error":"#N/A"},{"$error":"#N/A"},{"$error":"#N/A"},{"$error":"#N/A"},{"$error":"#N/A"},{"$error":"#N/A"},{"$error":"#N/A"},{"$error":"#N/A"},{"$error":"#N/A"},{"$error":"#N/A"},{"$error":"#N/A"},{"$error":"#N/A"},{"$error":"#N/A"},{"$error":"#N/A"},{"$error":"#N/A"},{"$error":"#N/A"},{"$error":"#N/A"},{"$error":"#N/A"},{"$error":"#N/A"},{"$error":"#N/A"},{"$error":"#N/A"},{"$error":"#N/A"},{"$error":"#N/A"},{"$error":"#N/A"},{"$error":"#N/A"},{"$error":"#N/A"},{"$error":"#N/A"},{"$error":"#N/A"},{"$error":"#N/A"},{"$error":"#N/A"},{"$error":"#N/A"},{"$error":"#N/A"},{"$error":"#N/A"},0,{"$error":"#N/A"},{"$error":"#N/A"},{"$error":"#N/A"},{"$error":"#N/A"},{"$error":"#N/A"},{"$error":"#N/A"},{"$error":"#N/A"},1,{"$error":"#N/A"},{"$error":"#N/A"},{"$error":"#N/A"},{"$error":"#N/A"},{"$error":"#N/A"},{"$error":"#N/A"},{"$error":"#N/A"},{"$error":"#N/A"},{"$error":"#N/A"},{"$error":"#N/A"},{"$error":"#N/A"},{"$error":"#N/A"},{"$error":"#N/A"},{"$error":"#N/A"},{"$error":"#N/A"},{"$error":"#N/A"},{"$error":"#N/A"},{"$error":"#N/A"},{"$error":"#N/A"},{"$error":"#N/A"},{"$error":"#N/A"},{"$error":"#N/A"},{"$error":"#N/A"},{"$error":"#N/A"},{"$error":"#N/A"},{"$error":"#N/A"},{"$error":"#N/A"},{"$error":"#N/A"},{"$error":"#N/A"},{"$error":"#N/A"},{"$error":"#N/A"},{"$error":"#N/A"},{"$error":"#N/A"},{"$error":"#N/A"},{"$error":"#N/A"},{"$error":"#N/A"},{"$error":"#N/A"},{"$error":"#N/A"},{"$error":"#N/A"},{"$error":"#N/A"},{"$error":"#N/A"},{"$error":"#N/A"},{"$error":"#N/A"},{"$error":"#N/A"},{"$error":"#N/A"}]
["2020-09-01",{"$f":"VLOOKUP($A9,Data!$A$2:$E$100,2,FALSE)","v":12.800000190734863},{"$f":"VLOOKUP($A9,Data!$A$2:$E$100,3,FALSE)","v":12.800000190734863},{"$f":"VLOOKUP($A9,Data!$A$2:$E$100,4,FALSE)","v":11.789999961853027},{"$f":"VLOOKUP($A9,Data!$A$2:$E$100,5,FALSE)","v":12.060000419616699},null,"bMML",{"$f":"H8/8","v":2.44140625E-2},null,"6",11.71875,"","6",9.375,10.899999618530272,"6",10.546875,"","6",10.888671875,10.899999618530272,null,null,null,25,12.5,12.5,"X",12.5,null,"+2",{"$f":"AF10+1/8*(AF$12-AF$20)","v":21.875},{"$f":"IF(AND($H$11>=AF9,$H$11<=AF11),$H$11,\"\")","v":""},"+2",{"$f":"AI10+1/8*(AI$12-AI$20)","v":13.28125},{"$f":"IF(AND($H$11>=AI9,$H$11<=AI11),$H$11,\"\")","v":""},1,{"$f":"AL8/2","v":6.25},null,null,"2020-09-01",{"$error":"#N/A"},{"$error":"#N/A"},{"$error":"#N/A"},{"$error":"#N/A"},{"$error":"#N/A"},{"$error":"#N/A"},{"$error":"#N/A"},{"$error":"#N/A"},{"$error":"#N/A"},{"$error":"#N/A"},{"$error":"#N/A"},{"$error":"#N/A"},{"$error":"#N/A"},0,1,0.33333333333333331,0.66666666666666663,{"$error":"#N/A"},{"$error":"#N/A"},{"$error":"#N/A"},{"$error":"#N/A"},{"$error":"#N/A"},{"$error":"#N/A"},{"$error":"#N/A"},{"$error":"#N/A"},{"$error":"#N/A"},{"$error":"#N/A"},{"$error":"#N/A"},{"$error":"#N/A"},{"$error":"#N/A"},{"$error":"#N/A"},{"$error":"#N/A"},{"$error":"#N/A"},{"$error":"#N/A"},{"$error":"#N/A"},{"$error":"#N/A"},{"$error":"#N/A"},{"$error":"#N/A"},{"$error":"#N/A"},{"$error":"#N/A"},{"$error":"#N/A"},{"$error":"#N/A"},{"$error":"#N/A"},{"$error":"#N/A"},{"$error":"#N/A"},{"$error":"#N/A"},{"$error":"#N/A"},{"$error":"#N/A"},{"$error":"#N/A"},{"$error":"#N/A"},{"$error":"#N/A"},{"$error":"#N/A"},{"$error":"#N/A"},{"$error":"#N/A"},{"$error":"#N/A"},{"$error":"#N/A"},{"$error":"#N/A"},{"$error":"#N/A"},{"$error":"#N/A"},{"$error":"#N/A"},{"$error":"#N/A"},{"$error":"#N/A"},{"$error":"#N/A"},{"$error":"#N/A"},{"$error":"#N/A"},{"$error":"#N/A"},{"$error":"#N/A"},{"$error":"#N/A"},{"$error":"#N/A"},{"$error":"#N/A"},{"$error":"#N/A"},{"$error":"#N/A"},{"$error":"#N/A"},{"$error":"#N/A"},{"$error":"#N/A"},{"$error":"#N/A"},{"$error":"#N/A"},{"$error":"#N/A"},{"$error":"#N/A"},{"$error":"#N/A"},{"$error":"#N/A"},{"$error":"#N/A"},{"$error":"#N/A"},{"$error":"#N/A"},{"$error":"#N/A"},{"$error":"#N/A"},{"$error":"#N/A"},{"$error":"#N/A"},{"$error":"#N/A"},{"$error":"#N/A"},{"$error":"#N/A"},{"$error":"#N/A"},{"$error":"#N/A"},{"$error":"#N/A"},{"$error":"#N/A"},{"$error":"#N/A"},{"$error":"#N/A"},{"$error":"#N/A"},{"$error":"#N/A"},{"$error":"#N/A"},{"$error":"#N/A"},{"$error":"#N/A"},{"$error":"#N/A"},{"$error":"#N/A"},{"$error":"#N/A"}]
["2020-09-02",{"$f":"VLOOKUP($A10,Data!$A$2:$E$100,2,FALSE)","v":11.859999656677246},{"$f":"VLOOKUP($A10,Data!$A$2:$E$100,3,FALSE)","v":11.899999618530272},{"$f":"VLOOKUP($A10,Data!$A$2:$E$100,4,FALSE)","v":11.069999694824221},{"$f":"VLOOKUP($A10,Data!$A$2:$E$100,5,FALSE)","v":11.550000190734863},null,{"$f":"+H4*G4","v":32},"bar",null,"5",11.328125,"","5",7.8125,"","5",10.3515625,"","5",10.8642578125,"",null,null,null,12.5,{"$f":"Y10/2","v":6.25},12.5,12.5,"X",null,"+1",{"$f":"AF12+1/8*(AF$12-AF$20)","v":20.3125},{"$f":"IF(AND($H$11>=AF10,$H$11<=AF9),$H$11,\"\")","v":""},"+1",{"$f":"AI12+1/8*(AI$12-AI$20)","v":12.890625},{"$f":"IF(AND($H$11>=AI10,$H$11<=AI9),$H$11,\"\")","v":""},2,3.125,null,null,"2020-09-02",{"$error":"#N/A"},{"$error":"#N/A"},{"$error":"#N/A"},{"$error":"#N/A"},{"$error":"#N/A"},{"$error":"#N/A"},{"$error":"#N/A"},{"$error":"#N/A"},{"$error":"#N/A"},{"$error":"#N/A"},{"$error":"#N/A"},{"$error":"#N/A"},{"$error":"#N/A"},0,1,0.33333333333333331,0.66666666666666663,{"$error":"#N/A"},{"$error":"#N/A"},{"$error":"#N/A"},{"$error":"#N/A"},{"$error":"#N/A"},{"$error":"#N/A"},{"$error":"#N/A"},{"$error":"#N/A"},{"$error":"#N/A"},{"$error":"#N/A"},{"$error":"#N/A"},{"$error":"#N/A"},{"$error":"#N/A"},{"$error":"#N/A"},{"$error":"#N/A"},{"$error":"#N/A"},{"$error":"#N/A"},{"$error":"#N/A"},{"$error":"#N/A"},{"$error":"#N/A"},{"$error":"#N/A"},{"$error":"#N/A"},{"$error":"#N/A"},{"$error":"#N/A"},{"$error":"#N/A"},{"$error":"#N/A"},{"$error":"#N/A"},{"$error":"#N/A"},{"$error":"#N/A"},{"$error":"#N/A"},{"$error":"#N/A"},{"$error":"#N/A"},{"$error":"#N/A"},{"$error":"#N/A"},{"$error":"#N/A"},{"$error":"#N/A"},{"$error":"#N/A"},{"$error":"#N/A"},{"$error":"#N/A"},{"$error":"#N/A"},{"$error":"#N/A"},{"$error":"#N/A"},{"$error":"#N/A"},{"$error":"#N/A"},{"$error":"#N/A"},{"$error":"#N/A"},{"$error":"#N/A"},{"$error":"#N/A"},{"$error":"#N/A"},{"$error":"#N/A"},{"$error":"#N/A"},{"$error":"#N/A"},{"$error":"#N/A"},{"$error":"#N/A"},{"$error":"#N/A"},{"$error":"#N/A"},{"$error":"#N/A"},{"$error":"#N/A"},{"$error":"#N/A"},{"$error":"#N/A"},{"$error":"#N/A"},{"$error":"#N/A"},{"$error":"#N/A"},{"$error":"#N/A"},{"$error":"#N/A"},{"$error":"#N/A"},{"$error":"#N/A"},{"$error":"#N/A"},{"$error":"#N/A"},{"$error":"#N/A"},{"$error":"#N/A"},{"$error":"#N/A"},{"$error":"#N/A"},{"$error":"#N/A"},{"$error":"#N/A"},{"$error":"#N/A"},{"$error":"#N/A"},{"$error":"#N/A"},{"$error":"#N/A"},{"$error":"#N/A"},{"$error":"#N/A"},{"$error":"#N/A"},{"$error":"#N/A"},{"$error":"#N/A"},{"$error":"#N/A"},{"$error":"#N/A"},{"$error":"#N/A"},{"$error":"#N/A"}]
["2020-09-03",{"$f":"VLOOKUP($A11,Data!$A$2:$E$100,2,FALSE)","v":11.420000076293944},{"$f":"VLOOKUP($A11,Data!$A$2:$E$100,3,FALSE)","v":11.630000114440918},{"$f":"VLOOKUP($A11,Data!$A$2:$E$100,4,FALSE)","v":11.090000152587891},{"$f":"VLOOKUP($A11,Data!$A$2:$E$100,5,FALSE)","v":11.529999732971191},null,"Current",{"$f":"+Data!E2","v":10.899999618530272},null,"4",10.9375,"","4",6.25,"","4",10.15625,"","4",10.83984375,"",null,true,null,6.25,{"$f":"Y11/2","v":3.125},{"$f":"Z10","v":6.25},"X","X",null,null,"MAX TIMEFRAME",null,null,"BEST TIMEFRAME",null,3,1.5625,null,null,"2020-09-03",{"$error":"#N/A"},{"$error":"#N/A"},{"$error":"#N/A"},{"$error":"#N/A"},{"$error":"#N/A"},{"$error":"#N/A"},{"$error":"#N/A"},{"$error":"#N/A"},{"$error":"#N/A"},{"$error":"#N/A"},{"$error":"#N/A"},{"$error":"#N/A"},{"$error":"#N/A"},0,1,0.33333333333333331,0.66666666666666663,{"$error":"#N/A"},{"$error":"#N/A"},{"$error":"#N/A"},{"$error":"#N/A"},{"$error":"#N/A"},{"$error":"#N/A"},{"$error":"#N/A"},{"$error":"#N/A"},{"$error":"#N/A"},{"$error":"#N/A"},{"$error":"#N/A"},{"$error":"#N/A"},{"$error":"#N/A"},{"$error":"#N/A"},{"$error":"#N/A"},{"$error":"#N/A"},{"$error":"#N/A"},{"$error":"#N/A"},{"$error":"#N/A"},{"$error":"#N/A"},{"$error":"#N/A"},{"$error":"#N/A"},{"$error":"#N/A"},{"$error":"#N/A"},{"$error":"#N/A"},{"$error":"#N/A"},{"$error":"#N/A"},{"$error":"#N/A"},{"$error":"#N/A"},{"$error":"#N/A"},{"$error":"#N/A"},{"$error":"#N/A"},{"$error":"#N/A"},{"$error":"#N/A"},{"$error":"#N/A"},{"$error":"#N/A"},{"$error":"#N/A"},{"$error":"#N/A"},{"$error":"#N/A"},{"$error":"#N/A"},{"$error":"#N/A"},{"$error":"#N/A"},{"$error":"#N/A"},{"$error":"#N/A"},{"$error":"#N/A"},{"$error":"#N/A"},{"$error":"#N/A"},{"$error":"#N/A"},{"$error":"#N/A"},{"$error":"#N/A"},{"$error":"#N/A"},{"$error":"#N/A"},{"$error":"#N/A"},{"$error":"#N/A"},{"$error":"#N/A"},{"$error":"#N/A"},{"$error":"#N/A"},{"$error":"#N/A"},{"$error":"#N/A"},{"$error":"#N/A"},{"$error":"#N/A"},{"$error":"#N/A"},{"$error":"#N/A"},{"$error":"#N/A"},{"$error":"#N/A"},{"$error":"#N/A"},{"$error":"#N/A"},{"$error":"#N/A"},{"$error":"#N/A"},{"$error":"#N/A"},{"$error":"#N/A"},{"$error":"#N/A"},{"$error":"#N/A"},{"$error":"#N/A"},{"$error":"#N/A"},{"$error":"#N/A"},{"$error":"#N/A"},{"$error":"#N/A"},{"$error":"#N/A"},{"$error":"#N/A"},{"$error":"#N/A"},{"$error":"#N/A"},{"$error":"#N/A"},{"$error":"#N/A"},{"$error":"#N/A"},{"$error":"#N/A"},{"$error":"#N/A"},{"$error":"#N/A"}]
["2020-09-04",{"$f":"VLOOKUP($A12,Data!$A$2:$E$100,2,FALSE)","v":11.489999771118164},{"$f":"VLOOKUP($A12,Data!$A$2:$E$100,3,FALSE)","v":11.590000152587891},{"$f":"VLOOKUP($A12,Data!$A$2:$E$100,4,FALSE)","v":10.909999847412109},{"$f":"VLOOKUP($A12,Data!$A$2:$E$100,5,FALSE)","v":11.5},null,"High",{"$f":"MAX(OFFSET(Data!C2,0,0,G10))","v":12.630000114440918},null,"3",10.546875,10.899999618530272,"3",4.6875,"","3",9.9609375,"","3",10.8154296875,"",null,null,null,3.125,{"$f":"Y12/2","v":1.5625},{"$f":"Z11","v":3.125},"X","X",null,"MAX 8/8",{"$f":"Z35","v":18.75},{"$f":"IF(AND($H$11>=AF12,$H$11<=AF10),$H$11,\"\")","v":""},{"$f":"($AI$12-$AF$20)/$AF$21&\"/8\"","v":"4/8"},{"$f":"SUM(AJ29:AJ39)","v":12.5},{"$f":"IF(AND($H$11>=AI12,$H$11<=AI10),$H$11,\"\")","v":""},4,0.78125,null,null,"2020-09-04",-0.25,-0.25,0.25,0.25,0.75,0.75,1.25,1.25,{"$error":"#N/A"},{"$error":"#N/A"},{"$error":"#N/A"},1.125,1,0,1,0.33333333333333331,0.66666666666666663,1,{"$error":"#N/A"},{"$error":"#N/A"},{"$error":"#N/A"},{"$error":"#N/A"},{"$error":"#N/A"},{"$error":"#N/A"},{"$error":"#N/A"},{"$error":"#N/A"},{"$error":"#N/A"},{"$error":"#N/A"},{"$error":"#N/A"},{"$error":"#N/A"},{"$error":"#N/A"},{"$error":"#N/A"},{"$error":"#N/A"},{"$error":"#N/A"},{"$error":"#N/A"},{"$error":"#N/A"},{"$error":"#N/A"},{"$error":"#N/A"},{"$error":"#N/A"},{"$error":"#N/A"},{"$error":"#N/A"},{"$error":"#N/A"},{"$error":"#N/A"},{"$error":"#N/A"},{"$error":"#N/A"},{"$error":"#N/A"},{"$error":"#N/A"},{"$error":"#N/A"},{"$error":"#N/A"},{"$error":"#N/A"},0,{"$error":"#N/A"},{"$error":"#N/A"},{"$error":"#N/A"},{"$error":"#N/A"},{"$error":"#N/A"},{"$error":"#N/A"},{"$error":"#N/A"},1,{"$error":"#N/A"},{"$error":"#N/A"},{"$error":"#N/A"},{"$error":"#N/A"},{"$error":"#N/A"},{"$error":"#N/A"},{"$error":"#N/A"},{"$error":"#N/A"},{"$error":"#N/A"},{"$error":"#N/A"},{"$error":"#N/A"},{"$error":"#N/A"},{"$error":"#N/A"},{"$error":"#N/A"},{"$error":"#N/A"},{"$error":"#N/A"},{"$error":"#N/A"},{"$error":"#N/A"},{"$error":"#N/A"},{"$error":"#N/A"},{"$error":"#N/A"},{"$error":"#N/A"},{"$error":"#N/A"},{"$error":"#N/A"},{"$error":"#N/A"},{"$error":"#N/A"},{"$error":"#N/A"},{"$error":"#N/A"},{"$error":"#N/A"},{"$error":"#N/A"},{"$error":"#N/A"},{"$error":"#N/A"},{"$error":"#N/A"},{"$error":"#N/A"},{"$error":"#N/A"},{"$error":"#N/A"},{"$error":"#N/A"},{"$error":"#N/A"},{"$error":"#N/A"},{"$error":"#N/A"},{"$error":"#N/A"},{"$error":"#N/A"},{"$error":"#N/A"},{"$error":"#N/A"},{"$error":"#N/A"},{"$error":"#N/A"}]
["2020-09-08",{"$f":"VLOOKUP($A13,Data!$A$2:$E$100,2,FALSE)","v":11.100000381469728},{"$f":"VLOOKUP($A13,Data!$A$2:$E$100,3,FALSE)","v":11.659999847412109},{"$f":"VLOOKUP($A13,Data!$A$2:$E$100,4,FALSE)","v":10.899999618530272},{"$f":"VLOOKUP($A13,Data!$A$2:$E$100,5,FALSE)","v":11.380000114440918},null,"Low",{"$f":"MIN(OFFSET(Data!D2,0,0,G10))","v":9.3299999237060565},null,"2",10.15625,"","2",3.125,"","2",9.765625,"","2",10.791015625,"",null,null,null,1.5625,0.390625,{"$f":"Z12","v":1.5625},"X","X",null,"7",{"$f":"AF14+1/8*(AF$12-AF$20)","v":17.1875},{"$f":"IF(AND($H$11>=AF13,$H$11<=AF12),$H$11,\"\")","v":""},"7",{"$f":"AI14+1/8*(AI$12-AI$20)","v":12.109375},{"$f":"IF(AND($H$11>=AI13,$H$11<=AI12),$H$11,\"\")","v":""},5,0.390625,null,null,"2020-09-08",{"$error":"#N/A"},{"$error":"#N/A"},{"$error":"#N/A"},{"$error":"#N/A"},{"$error":"#N/A"},{"$error":"#N/A"},{"$error":"#N/A"},{"$error":"#N/A"},{"$error":"#N/A"},{"$error":"#N/A"},{"$error":"#N/A"},{"$error":"#N/A"},{"$error":"#N/A"},0,1,0.33333333333333331,0.66666666666666663,{"$error":"#N/A"},{"$error":"#N/A"},{"$error":"#N/A"},{"$error":"#N/A"},{"$error":"#N/A"},{"$error":"#N/A"},{"$error":"#N/A"},{"$error":"#N/A"},{"$error":"#N/A"},{"$error":"#N/A"},{"$error":"#N/A"},{"$error":"#N/A"},{"$error":"#N/A"},{"$error":"#N/A"},{"$error":"#N/A"},{"$error":"#N/A"},{"$error":"#N/A"},{"$error":"#N/A"},{"$error":"#N/A"},{"$error":"#N/A"},{"$error":"#N/A"},{"$error":"#N/A"},{"$error":"#N/A"},{"$error":"#N/A"},{"$error":"#N/A"},{"$error":"#N/A"},{"$error":"#N/A"},{"$error":"#N/A"},{"$error":"#N/A"},{"$error":"#N/A"},{"$error":"#N/A"},{"$error":"#N/A"},{"$error":"#N/A"},{"$error":"#N/A"},{"$error":"#N/A"},{"$error":"#N/A"},{"$error":"#N/A"},{"$error":"#N/A"},{"$error":"#N/A"},{"$error":"#N/A"},{"$error":"#N/A"},{"$error":"#N/A"},{"$error":"#N/A"},{"$error":"#N/A"},{"$error":"#N/A"},{"$error":"#N/A"},{"$error":"#N/A"},{"$error":"#N/A"},{"$error":"#N/A"},{"$error":"#N/A"},{"$error":"#N/A"},{"$error":"#N/A"},{"$error":"#N/A"},{"$error":"#N/A"},{"$error":"#N/A"},{"$error":"#N/A"},{"$error":"#N/A"},{"$error":"#N/A"},{"$error":"#N/A"},{"$error":"#N/A"},{"$error":"#N/A"},{"$error":"#N/A"},{"$error":"#N/A"},{"$error":"#N/A"},{"$error":"#N/A"},{"$error":"#N/A"},{"$error":"#N/A"},{"$error":"#N/A"},{"$error":"#N/A"},{"$error":"#N/A"},{"$error":"#N/A"},{"$error":"#N/A"},{"$error":"#N/A"},{"$error":"#N/A"},{"$error":"#N/A"},{"$error":"#N/A"},{"$error":"#N/A"},{"$error":"#N/A"},{"$error":"#N/A"},{"$error":"#N/A"},{"$error":"#N/A"},{"$error":"#N/A"},{"$error":"#N/A"},{"$error":"#N/A"},{"$error":"#N/A"},{"$error":"#N/A"},{"$error":"#N/A"},{"$error":"#N/A"}]
["2020-09-09",{"$f":"VLOOKUP($A14,Data!$A$2:$E$100,2,FALSE)","v":11.539999961853027},{"$f":"VLOOKUP($A14,Data!$A$2:$E$100,3,FALSE)","v":11.869999885559082},{"$f":"VLOOKUP($A14,Data!$A$2:$E$100,4,FALSE)","v":11.489999771118164},{"$f":"VLOOKUP($A14,Data!$A$2:$E$100,5,FALSE)","v":11.850000381469728},null,0.33333333333333331,{"$f":"(K7-K15)/3+K15","v":10.416666666666666},null,"1",9.765625,"","1",1.5625,"","1",9.5703125,"","1",10.7666015625,"",null,true,null,{"$f":"Z13","v":0.390625},0,0.1953125,"X","X",null,"6",15.625,"","6",11.71875,"",6,0.1953125,null,null,"2020-09-09",{"$error":"#N/A"},{"$error":"#N/A"},{"$error":"#N/A"},{"$error":"#N/A"},{"$error":"#N/A"},{"$error":"#N/A"},{"$error":"#N/A"},{"$error":"#N/A"},{"$error":"#N/A"},{"$error":"#N/A"},{"$error":"#N/A"},{"$error":"#N/A"},{"$error":"#N/A"},0,1,0.33333333333333331,0.66666666666666663,{"$error":"#N/A"},{"$error":"#N/A"},{"$error":"#N/A"},{"$error":"#N/A"},{"$error":"#N/A"},{"$error":"#N/A"},{"$error":"#N/A"},{"$error":"#N/A"},{"$error":"#N/A"},{"$error":"#N/A"},{"$error":"#N/A"},{"$error":"#N/A"},{"$error":"#N/A"},{"$error":"#N/A"},{"$error":"#N/A"},{"$error":"#N/A"},{"$error":"#N/A"},{"$error":"#N/A"},{"$error":"#N/A"},{"$error":"#N/A"},{"$error":"#N/A"},{"$error":"#N/A"},{"$error":"#N/A"},{"$error":"#N/A"},{"$error":"#N/A"},{"$error":"#N/A"},{"$error":"#N/A"},{"$error":"#N/A"},{"$error":"#N/A"},{"$error":"#N/A"},{"$error":"#N/A"},{"$error":"#N/A"},{"$error":"#N/A"},{"$error":"#N/A"},{"$error":"#N/A"},{"$error":"#N/A"},{"$error":"#N/A"},{"$error":"#N/A"},{"$error":"#N/A"},{"$error":"#N/A"},{"$error":"#N/A"},{"$error":"#N/A"},{"$error":"#N/A"},{"$error":"#N/A"},{"$error":"#N/A"},{"$error":"#N/A"},{"$error":"#N/A"},{"$error":"#N/A"},{"$error":"#N/A"},{"$error":"#N/A"},{"$error":"#N/A"},{"$error":"#N/A"},{"$error":"#N/A"},{"$error":"#N/A"},{"$error":"#N/A"},{"$error":"#N/A"},{"$error":"#N/A"},{"$error":"#N/A"},{"$error":"#N/A"},{"$error":"#N/A"},{"$error":"#N/A"},{"$error":"#N/A"},{"$error":"#N/A"},{"$error":"#N/A"},{"$error":"#N/A"},{"$error":"#N/A"},{"$error":"#N/A"},{"$error":"#N/A"},{"$error":"#N/A"},{"$error":"#N/A"},{"$error":"#N/A"},{"$error":"#N/A"},{"$error":"#N/A"},{"$error":"#N/A"},{"$error":"#N/A"},{"$error":"#N/A"},{"$error":"#N/A"},{"$error":"#N/A"},{"$error":"#N/A"},{"$error":"#N/A"},{"$error":"#N/A"},{"$error":"#N/A"},{"$error":"#N/A"},{"$error":"#N/A"},{"$error":"#N/A"},{"$error":"#N/A"},{"$error":"#N/A"},{"$error":"#N/A"}]
["2020-09-10",{"$f":"VLOOKUP($A15,Data!$A$2:$E$100,2,FALSE)","v":12.050000190734863},{"$f":"VLOOKUP($A15,Data!$A$2:$E$100,3,FALSE)","v":12.210000038146973},{"$f":"VLOOKUP($A15,Data!$A$2:$E$100,4,FALSE)","v":11.520000457763672},{"$f":"VLOOKUP($A15,Data!$A$2:$E$100,5,FALSE)","v":11.670000076293944},null,"wants to reverse off",null,null,{"$f":"($AI$20-$AF$20)/$AF$21&\"/8\"","v":"2/8"},{"$f":"SUM(AH29:AH39)","v":9.375},"",{"$f":"N15/H7&\"/8\"","v":"0/8"},0,"",{"$f":"Q15/H7&\"/8\"","v":"6/8"},{"$f":"(TRUNC(H11/(G5/8))*(G5/8))","v":9.375},"",{"$f":"(T15-TRUNC($H$11/($G$5/8))*($G$5/8))/$H$8&\"/8\"","v":"7/8"},{"$f":"(TRUNC(H11/(G5/64))*(G5/64))+(O18*(H8/2))","v":10.7421875},"",null,null,null,null,null,null,{"$f":"MAX(AB5:AB14)","v":12.5},{"$f":"MAX(AC5:AC14)","v":12.5},{"$f":"Z30","v":12.630000114440918},"5",14.0625,"","5",11.328125,"",7,9.765625E-2,null,null,"2020-09-10",{"$error":"#N/A"},{"$error":"#N/A"},{"$error":"#N/A"},{"$error":"#N/A"},{"$error":"#N/A"},{"$error":"#N/A"},{"$error":"#N/A"},{"$error":"#N/A"},{"$error":"#N/A"},{"$error":"#N/A"},{"$error":"#N/A"},{"$error":"#N/A"},{"$error":"#N/A"},0,1,0.33333333333333331,0.66666666666666663,{"$error":"#N/A"},{"$error":"#N/A"},{"$error":"#N/A"},{"$error":"#N/A"},{"$error":"#N/A"},{"$error":"#N/A"},{"$error":"#N/A"},{"$error":"#N/A"},{"$error":"#N/A"},{"$error":"#N/A"},{"$error":"#N/A"},{"$error":"#N/A"},{"$error":"#N/A"},{"$error":"#N/A"},{"$error":"#N/A"},{"$error":"#N/A"},{"$error":"#N/A"},{"$error":"#N/A"},{"$error":"#N/A"},{"$error":"#N/A"},{"$error":"#N/A"},{"$error":"#N/A"},{"$error":"#N/A"},{"$error":"#N/A"},{"$error":"#N/A"},{"$error":"#N/A"},{"$error":"#N/A"},{"$error":"#N/A"},{"$error":"#N/A"},{"$error":"#N/A"},{"$error":"#N/A"},{"$error":"#N/A"},{"$error":"#N/A"},{"$error":"#N/A"},{"$error":"#N/A"},{"$error":"#N/A"},{"$error":"#N/A"},{"$error":"#N/A"},{"$error":"#N/A"},{"$error":"#N/A"},{"$error":"#N/A"},{"$error":"#N/A"},{"$error":"#N/A"},{"$error":"#N/A"},{"$error":"#N/A"},{"$error":"#N/A"},{"$error":"#N/A"},{"$error":"#N/A"},{"$error":"#N/A"},{"$error":"#N/A"},{"$error":"#N/A"},{"$error":"#N/A"},{"$error":"#N/A"},{"$error":"#N/A"},{"$error":"#N/A"},{"$error":"#N/A"},{"$error":"#N/A"},{"$error":"#N/A"},{"$error":"#N/A"},{"$error":"#N/A"},{"$error":"#N/A"},{"$error":"#N/A"},{"$error":"#N/A"},{"$error":"#N/A"},{"$error":"#N/A"},{"$error":"#N/A"},{"$error":"#N/A"},{"$error":"#N/A"},{"$error":"#N/A"},{"$error":"#N/A"},{"$error":"#N/A"},{"$error":"#N/A"},{"$error":"#N/A"},{"$error":"#N/A"},{"$error":"#N/A"},{"$error":"#N/A"},{"$error":"#N/A"},{"$error":"#N/A"},{"$error":"#N/A"},{"$error":"#N/A"},{"$error":"#N/A"},{"$error":"#N/A"},{"$error":"#N/A"},{"$error":"#N/A"},{"$error":"#N/A"},{"$error":"#N/A"},{"$error":"#N/A"},{"$error":"#N/A"}]
["2020-09-11",{"$f":"VLOOKUP($A16,Data!$A$2:$E$100,2,FALSE)","v":11.829999923706056},{"$f":"VLOOKUP($A16,Data!$A$2:$E$100,3,FALSE)","v":12.270000457763672},{"$f":"VLOOKUP($A16,Data!$A$2:$E$100,4,FALSE)","v":11.550000190734863},{"$f":"VLOOKUP($A16,Data!$A$2:$E$100,5,FALSE)","v":11.649999618530272},null,{"$f":"G5/128","v":9.765625E-2},null,null,null,{"$f":"K14-K15","v":0.390625},null,null,{"$f":"H7","v":1.5625},null,null,{"$f":"H8","v":0.1953125},null,null,{"$f":"H9","v":2.44140625E-2},null,null,null,null,null,null,null,null,null,"HI/LO","4",12.5,"","4",10.9375,"",8,4.8828125E-2,null,null,"2020-09-11",{"$error":"#N/A"},{"$error":"#N/A"},{"$error":"#N/A"},{"$error":"#N/A"},{"$error":"#N/A"},{"$error":"#N/A"},{"$error":"#N/A"},{"$error":"#N/A"},{"$error":"#N/A"},{"$error":"#N/A"},{"$error":"#N/A"},{"$error":"#N/A"},1,0,1,0.33333333333333331,0.66666666666666663,{"$error":"#N/A"},{"$error":"#N/A"},{"$error":"#N/A"},{"$error":"#N/A"},{"$error":"#N/A"},{"$error":"#N/A"},{"$error":"#N/A"},{"$error":"#N/A"},{"$error":"#N/A"},{"$error":"#N/A"},{"$error":"#N/A"},{"$error":"#N/A"},{"$error":"#N/A"},{"$error":"#N/A"},{"$error":"#N/A"},{"$error":"#N/A"},{"$error":"#N/A"},{"$error":"#N/A"},{"$error":"#N/A"},{"$error":"#N/A"},{"$error":"#N/A"},{"$error":"#N/A"},{"$error":"#N/A"},{"$error":"#N/A"},{"$error":"#N/A"},{"$error":"#N/A"},{"$error":"#N/A"},{"$error":"#N/A"},{"$error":"#N/A"},{"$error":"#N/A"},{"$error":"#N/A"},{"$error":"#N/A"},0,{"$error":"#N/A"},{"$error":"#N/A"},{"$error":"#N/A"},{"$error":"#N/A"},{"$error":"#N/A"},{"$error":"#N/A"},{"$error":"#N/A"},1,{"$error":"#N/A"},{"$error":"#N/A"},{"$error":"#N/A"},{"$error":"#N/A"},{"$error":"#N/A"},{"$error":"#N/A"},{"$error":"#N/A"},{"$error":"#N/A"},{"$error":"#N/A"},{"$error":"#N/A"},{"$error":"#N/A"},{"$error":"#N/A"},{"$error":"#N/A"},{"$error":"#N/A"},{"$error":"#N/A"},{"$error":"#N/A"},{"$error":"#N/A"},{"$error":"#N/A"},{"$error":"#N/A"},{"$error":"#N/A"},{"$error":"#N/A"},{"$error":"#N/A"},{"$error":"#N/A"},{"$error":"#N/A"},{"$error":"#N/A"},{"$error":"#N/A"},{"$error":"#N/A"},{"$error":"#N/A"},{"$error":"#N/A"},{"$error":"#N/A"},{"$error":"#N/A"},{"$error":"#N/A"},{"$error":"#N/A"},{"$error":"#N/A"},{"$error":"#N/A"},{"$error":"#N/A"},{"$error":"#N/A"},{"$error":"#N/A"},{"$error":"#N/A"},{"$error":"#N/A"},{"$error":"#N/A"},{"$error":"#N/A"},{"$error":"#N/A"},{"$error":"#N/A"},{"$error":"#N/A"},{"$error":"#N/A"},{"$error":"#N/A"}]
["2020-09-14",{"$f":"VLOOKUP($A17,Data!$A$2:$E$100,2,FALSE)","v":11.899999618530272},{"$f":"VLOOKUP($A17,Data!$A$2:$E$100,3,FALSE)","v":12.560000419616699},{"$f":"VLOOKUP($A17,Data!$A$2:$E$100,4,FALSE)","v":11.850000381469728},{"$f":"VLOOKUP($A17,Data!$A$2:$E$100,5,FALSE)","v":12.460000038146973},null,0.66666666666666663,{"$f":"2*(K7-K15)/3+K15","v":11.458333333333334},null,"-1",{"$f":"K15-1/8*(K$7-K$15)","v":8.984375},{"$f":"IF(AND($H$11>=K17,$H$11<=K15),$H$11,\"\")","v":""},"-1",{"$f":"N15-1/8*(N$7-N$15)","v":-1.5625},"±1, 2, or 3","-1",{"$f":"Q15-1/8*(Q$7-Q$15)","v":9.1796875},{"$f":"IF(AND($H$11>=Q17,$H$11<=Q15),$H$11,\"\")","v":""},"-1",{"$f":"T15-1/8*(T$7-T$15)","v":10.7177734375},{"$f":"IF(AND($H$11>=T17,$H$11<=T15),$H$11,\"\")","v":""},null,true,null,null,null,null,null,null,{"$f":"Z31","v":9.3299999237060565},"3",10.9375,"","3",10.546875,10.899999618530272,9,2.44140625E-2,null,null,"2020-09-14",{"$error":"#N/A"},{"$error":"#N/A"},{"$error":"#N/A"},{"$error":"#N/A"},{"$error":"#N/A"},{"$error":"#N/A"},{"$error":"#N/A"},{"$error":"#N/A"},{"$error":"#N/A"},{"$error":"#N/A"},{"$error":"#N/A"},{"$error":"#N/A"},{"$error":"#N/A"},0,1,0.33333333333333331,0.66666666666666663,{"$error":"#N/A"},{"$error":"#N/A"},{"$error":"#N/A"},{"$error":"#N/A"},{"$error":"#N/A"},{"$error":"#N/A"},{"$error":"#N/A"},{"$error":"#N/A"},{"$error":"#N/A"},{"$error":"#N/A"},{"$error":"#N/A"},{"$error":"#N/A"},{"$error":"#N/A"},{"$error":"#N/A"},{"$error":"#N/A"},{"$error":"#N/A"},{"$error":"#N/A"},{"$error":"#N/A"},{"$error":"#N/A"},{"$error":"#N/A"},{"$error":"#N/A"},{"$error":"#N/A"},{"$error":"#N/A"},{"$error":"#N/A"},{"$error":"#N/A"},{"$error":"#N/A"},{"$error":"#N/A"},{"$error":"#N/A"},{"$error":"#N/A"},{"$error":"#N/A"},{"$error":"#N/A"},{"$error":"#N/A"},{"$error":"#N/A"},{"$error":"#N/A"},{"$error":"#N/A"},{"$error":"#N/A"},{"$error":"#N/A"},{"$error":"#N/A"},{"$error":"#N/A"},{"$error":"#N/A"},{"$error":"#N/A"},{"$error":"#N/A"},{"$error":"#N/A"},{"$error":"#N/A"},{"$error":"#N/A"},{"$error":"#N/A"},{"$error":"#N/A"},{"$error":"#N/A"},{"$error":"#N/A"},{"$error":"#N/A"},{"$error":"#N/A"},{"$error":"#N/A"},{"$error":"#N/A"},{"$error":"#N/A"},{"$error":"#N/A"},{"$error":"#N/A"},{"$error":"#N/A"},{"$error":"#N/A"},{"$error":"#N/A"},{"$error":"#N/A"},{"$error":"#N/A"},{"$error":"#N/A"},{"$error":"#N/A"},{"$error":"#N/A"},{"$error":"#N/A"},{"$error":"#N/A"},{"$error":"#N/A"},{"$error":"#N/A"},{"$error":"#N/A"},{"$error":"#N/A"},{"$error":"#N/A"},{"$error":"#N/A"},{"$error":"#N/A"},{"$error":"#N/A"},{"$error":"#N/A"},{"$error":"#N/A"},{"$error":"#N/A"},{"$error":"#N/A"},{"$error":"#N/A"},{"$error":"#N/A"},{"$error":"#N/A"},{"$error":"#N/A"},{"$error":"#N/A"},{"$error":"#N/A"},{"$error":"#N/A"},{"$error":"#N/A"},{"$error":"#N/A"},{"$error":"#N/A"}]
["2020-09-15",{"$f":"VLOOKUP($A18,Data!$A$2:$E$100,2,FALSE)","v":12.579999923706056},{"$f":"VLOOKUP($A18,Data!$A$2:$E$100,3,FALSE)","v":12.630000114440918},{"$f":"VLOOKUP($A18,Data!$A$2:$E$100,4,FALSE)","v":12.020000457763672},{"$f":"VLOOKUP($A18,Data!$A$2:$E$100,5,FALSE)","v":12.310000419616699},null,32,"bar",null,"-2",{"$f":"K17-1/8*(K$7-K$15)","v":8.59375},{"$f":"IF(AND($H$11>=K18,$H$11<=K17),$H$11,\"\")","v":""},"-2",{"$f":"N17-1/8*(N$7-N$15)","v":-3.125},0,"-2",{"$f":"Q17-1/8*(Q$7-Q$15)","v":8.984375},{"$f":"IF(AND($H$11>=Q18,$H$11<=Q17),$H$11,\"\")","v":""},"-2",{"$f":"T17-1/8*(T$7-T$15)","v":10.693359375},{"$f":"IF(AND($H$11>=T18,$H$11<=T17),$H$11,\"\")","v":""},null,null,null,null,null,null,null,null,null,"2",9.375,10.899999618530272,"2",10.15625,"",10,1.220703125E-2,null,null,"2020-09-15",{"$error":"#N/A"},{"$error":"#N/A"},{"$error":"#N/A"},{"$error":"#N/A"},{"$error":"#N/A"},{"$error":"#N/A"},{"$error":"#N/A"},{"$error":"#N/A"},{"$error":"#N/A"},{"$error":"#N/A"},{"$error":"#N/A"},{"$error":"#N/A"},{"$error":"#N/A"},0,1,0.33333333333333331,0.66666666666666663,{"$error":"#N/A"},{"$error":"#N/A"},{"$error":"#N/A"},{"$error":"#N/A"},{"$error":"#N/A"},{"$error":"#N/A"},{"$error":"#N/A"},{"$error":"#N/A"},{"$error":"#N/A"},{"$error":"#N/A"},{"$error":"#N/A"},{"$error":"#N/A"},{"$error":"#N/A"},{"$error":"#N/A"},{"$error":"#N/A"},{"$error":"#N/A"},{"$error":"#N/A"},{"$error":"#N/A"},{"$error":"#N/A"},{"$error":"#N/A"},{"$error":"#N/A"},{"$error":"#N/A"},{"$error":"#N/A"},{"$error":"#N/A"},{"$error":"#N/A"},{"$error":"#N/A"},{"$error":"#N/A"},{"$error":"#N/A"},{"$error":"#N/A"},{"$error":"#N/A"},{"$error":"#N/A"},{"$error":"#N/A"},{"$error":"#N/A"},{"$error":"#N/A"},{"$error":"#N/A"},{"$error":"#N/A"},{"$error":"#N/A"},{"$error":"#N/A"},{"$error":"#N/A"},{"$error":"#N/A"},{"$error":"#N/A"},{"$error":"#N/A"},{"$error":"#N/A"},{"$error":"#N/A"},{"$error":"#N/A"},{"$error":"#N/A"},{"$error":"#N/A"},{"$error":"#N/A"},{"$error":"#N/A"},{"$error":"#N/A"},{"$error":"#N/A"},{"$error":"#N/A"},{"$error":"#N/A"},{"$error":"#N/A"},{"$error":"#N/A"},{"$error":"#N/A"},{"$error":"#N/A"},{"$error":"#N/A"},{"$error":"#N/A"},{"$error":"#N/A"},{"$error":"#N/A"},{"$error":"#N/A"},{"$error":"#N/A"},{"$error":"#N/A"},{"$error":"#N/A"},{"$error":"#N/A"},{"$error":"#N/A"},{"$error":"#N/A"},{"$error":"#N/A"},{"$error":"#N/A"},{"$error":"#N/A"},{"$error":"#N/A"},{"$error":"#N/A"},{"$error":"#N/A"},{"$error":"#N/A"},{"$error":"#N/A"},{"$error":"#N/A"},{"$error":"#N/A"},{"$error":"#N/A"},{"$error":"#N/A"},{"$error":"#N/A"},{"$error":"#N/A"},{"$error":"#N/A"},{"$error":"#N/A"},{"$error":"#N/A"},{"$error":"#N/A"},{"$error":"#N/A"},{"$error":"#N/A"}]
["2020-09-16",{"$f":"VLOOKUP($A19,Data!$A$2:$E$100,2,FALSE)","v":12.479999542236328},{"$f":"VLOOKUP($A19,Data!$A$2:$E$100,3,FALSE)","v":12.479999542236328},{"$f":"VLOOKUP($A19,Data!$A$2:$E$100,4,FALSE)","v":12.159999847412109},{"$f":"VLOOKUP($A19,Data!$A$2:$E$100,5,FALSE)","v":12.199999809265137},null,"min date",{"$f":"+H21","v":"2020-08-25"},null,null,null,null,null,null,null,null,null,null,null,null,null,null,null,null,null,null,null,null,null,null,"1",7.8125,"","1",9.765625,"",11,6.103515625E-3,null,null,"2020-09-16",{"$error":"#N/A"},{"$error":"#N/A"},{"$error":"#N/A"},{"$error":"#N/A"},{"$error":"#N/A"},{"$error":"#N/A"},{"$error":"#N/A"},{"$error":"#N/A"},{"$error":"#N/A"},{"$error":"#N/A"},{"$error":"#N/A"},{"$error":"#N/A"},{"$error":"#N/A"},0,1,0.33333333333333331,0.66666666666666663,{"$error":"#N/A"},{"$error":"#N/A"},{"$error":"#N/A"},{"$error":"#N/A"},{"$error":"#N/A"},{"$error":"#N/A"},{"$error":"#N/A"},{"$error":"#N/A"},{"$error":"#N/A"},{"$error":"#N/A"},{"$error":"#N/A"},{"$error":"#N/A"},{"$error":"#N/A"},{"$error":"#N/A"},{"$error":"#N/A"},{"$error":"#N/A"},{"$error":"#N/A"},{"$error":"#N/A"},{"$error":"#N/A"},{"$error":"#N/A"},{"$error":"#N/A"},{"$error":"#N/A"},{"$error":"#N/A"},{"$error":"#N/A"},{"$error":"#N/A"},{"$error":"#N/A"},{"$error":"#N/A"},{"$error":"#N/A"},{"$error":"#N/A"},{"$error":"#N/A"},{"$error":"#N/A"},{"$error":"#N/A"},{"$error":"#N/A"},{"$error":"#N/A"},{"$error":"#N/A"},{"$error":"#N/A"},{"$error":"#N/A"},{"$error":"#N/A"},{"$error":"#N/A"},{"$error":"#N/A"},{"$error":"#N/A"},{"$error":"#N/A"},{"$error":"#N/A"},{"$error":"#N/A"},{"$error":"#N/A"},{"$error":"#N/A"},{"$error":"#N/A"},{"$error":"#N/A"},{"$error":"#N/A"},{"$error":"#N/A"},{"$error":"#N/A"},{"$error":"#N/A"},{"$error":"#N/A"},{"$error":"#N/A"},{"$error":"#N/A"},{"$error":"#N/A"},{"$error":"#N/A"},{"$error":"#N/A"},{"$error":"#N/A"},{"$error":"#N/A"},{"$error":"#N/A"},{"$error":"#N/A"},{"$error":"#N/A"},{"$error":"#N/A"},{"$error":"#N/A"},{"$error":"#N/A"},{"$error":"#N/A"},{"$error":"#N/A"},{"$error":"#N/A"},{"$error":"#N/A"},{"$error":"#N/A"},{"$error":"#N/A"},{"$error":"#N/A"},{"$error":"#N/A"},{"$error":"#N/A"},{"$error":"#N/A"},{"$error":"#N/A"},{"$error":"#N/A"},{"$error":"#N/A"},{"$error":"#N/A"},{"$error":"#N/A"},{"$error":"#N/A"},{"$error":"#N/A"},{"$error":"#N/A"},{"$error":"#N/A"},{"$error":"#N/A"},{"$error":"#N/A"},{"$error":"#N/A"}]
["2020-09-17",{"$f":"VLOOKUP($A20,Data!$A$2:$E$100,2,FALSE)","v":11.859999656677246},{"$f":"VLOOKUP($A20,Data!$A$2:$E$100,3,FALSE)","v":12.189999580383301},{"$f":"VLOOKUP($A20,Data!$A$2:$E$100,4,FALSE)","v":11.670000076293944},{"$f":"VLOOKUP($A20,Data!$A$2:$E$100,5,FALSE)","v":12.159999847412109},null,"Curr date",{"$f":"+Data!A2","v":"2020-10-27"},null,null,null,null,null,null,null,null,null,null,null,null,null,null,false,null,null,null,null,null,null,null,"MIN 0/8",{"$f":"Z36","v":6.25},"",{"$f":"($AI$20-$AF$20)/$AF$21&\"/8\"","v":"2/8"},{"$f":"SUM(AH29:AH39)","v":9.375},"",12,3.0517578125E-3,null,null,"2020-09-17",{"$error":"#N/A"},{"$error":"#N/A"},{"$error":"#N/A"},{"$error":"#N/A"},{"$error":"#N/A"},{"$error":"#N/A"},{"$error":"#N/A"},{"$error":"#N/A"},0.5,0.5,{"$error":"#N/A"},1.125,1,0,1,0.33333333333333331,0.66666666666666663,{"$error":"#N/A"},1,{"$error":"#N/A"},{"$error":"#N/A"},{"$error":"#N/A"},{"$error":"#N/A"},{"$error":"#N/A"},{"$error":"#N/A"},{"$error":"#N/A"},{"$error":"#N/A"},{"$error":"#N/A"},{"$error":"#N/A"},{"$error":"#N/A"},{"$error":"#N/A"},{"$error":"#N/A"},{"$error":"#N/A"},{"$error":"#N/A"},{"$error":"#N/A"},{"$error":"#N/A"},{"$error":"#N/A"},{"$error":"#N/A"},{"$error":"#N/A"},{"$error":"#N/A"},{"$error":"#N/A"},{"$error":"#N/A"},{"$error":"#N/A"},{"$error":"#N/A"},{"$error":"#N/A"},{"$error":"#N/A"},{"$error":"#N/A"},{"$error":"#N/A"},0,{"$error":"#N/A"},{"$error":"#N/A"},{"$error":"#N/A"},{"$error":"#N/A"},{"$error":"#N/A"},{"$error":"#N/A"},{"$error":"#N/A"},1,{"$error":"#N/A"},{"$error":"#N/A"},{"$error":"#N/A"},{"$error":"#N/A"},{"$error":"#N/A"},{"$error":"#N/A"},{"$error":"#N/A"},{"$error":"#N/A"},{"$error":"#N/A"},{"$error":"#N/A"},{"$error":"#N/A"},{"$error":"#N/A"},{"$error":"#N/A"},{"$error":"#N/A"},{"$error":"#N/A"},{"$error":"#N/A"},{"$error":"#N/A"},{"$error":"#N/A"},{"$error":"#N/A"},{"$error":"#N/A"},{"$error":"#N/A"},{"$error":"#N/A"},{"$error":"#N/A"},{"$error":"#N/A"},{"$error":"#N/A"},{"$error":"#N/A"},{"$error":"#N/A"},{"$error":"#N/A"},{"$error":"#N/A"},{"$error":"#N/A"},{"$error":"#N/A"},{"$error":"#N/A"},{"$error":"#N/A"},{"$error":"#N/A"},{"$error":"#N/A"},{"$error":"#N/A"},{"$error":"#N/A"},{"$error":"#N/A"},{"$error":"#N/A"},{"$error":"#N/A"},{"$error":"#N/A"},{"$error":"#N/A"},{"$error":"#N/A"},{"$error":"#N/A"},{"$error":"#N/A"},{"$error":"#N/A"},{"$error":"#N/A"},{"$error":"#N/A"}]
["2020-09-18",{"$f":"VLOOKUP($A21,Data!$A$2:$E$100,2,FALSE)","v":12.220000267028809},{"$f":"VLOOKUP($A21,Data!$A$2:$E$100,3,FALSE)","v":12.310000419616699},{"$f":"VLOOKUP($A21,Data!$A$2:$E$100,4,FALSE)","v":11.899999618530272},{"$f":"VLOOKUP($A21,Data!$A$2:$E$100,5,FALSE)","v":11.909999847412109},null,"1st Square",{"$f":"INDEX(K46:K56,MATCH(+Data!A2,K46:K56,1)-1)","v":"2020-08-25"},null,null,null,null,null,null,null,null,null,null,null,null,null,null,null,null,null,null,null,null,null,null,null,{"$f":"AF19-AF20","v":1.5625},null,null,{"$f":"AI19-AI20","v":0.390625},null,13,1.52587890625E-3,null,null,"2020-09-18",{"$error":"#N/A"},{"$error":"#N/A"},{"$error":"#N/A"},{"$error":"#N/A"},{"$error":"#N/A"},{"$error":"#N/A"},{"$error":"#N/A"},{"$error":"#N/A"},{"$error":"#N/A"},{"$error":"#N/A"},{"$error":"#N/A"},{"$error":"#N/A"},{"$error":"#N/A"},0,1,0.33333333333333331,0.66666666666666663,{"$error":"#N/A"},{"$error":"#N/A"},{"$error":"#N/A"},{"$error":"#N/A"},{"$error":"#N/A"},{"$error":"#N/A"},{"$error":"#N/A"},{"$error":"#N/A"},{"$error":"#N/A"},{"$error":"#N/A"},{"$error":"#N/A"},{"$error":"#N/A"},{"$error":"#N/A"},{"$error":"#N/A"},{"$error":"#N/A"},{"$error":"#N/A"},{"$error":"#N/A"},{"$error":"#N/A"},{"$error":"#N/A"},{"$error":"#N/A"},{"$error":"#N/A"},{"$error":"#N/A"},{"$error":"#N/A"},{"$error":"#N/A"},{"$error":"#N/A"},{"$error":"#N/A"},{"$error":"#N/A"},{"$error":"#N/A"},{"$error":"#N/A"},{"$error":"#N/A"},{"$error":"#N/A"},{"$error":"#N/A"},{"$error":"#N/A"},{"$error":"#N/A"},{"$error":"#N/A"},{"$error":"#N/A"},{"$error":"#N/A"},{"$error":"#N/A"},{"$error":"#N/A"},{"$error":"#N/A"},{"$error":"#N/A"},{"$error":"#N/A"},{"$error":"#N/A"},{"$error":"#N/A"},{"$error":"#N/A"},{"$error":"#N/A"},{"$error":"#N/A"},{"$error":"#N/A"},{"$error":"#N/A"},{"$error":"#N/A"},{"$error":"#N/A"},{"$error":"#N/A"},{"$error":"#N/A"},{"$error":"#N/A"},{"$error":"#N/A"},{"$error":"#N/A"},{"$error":"#N/A"},{"$error":"#N/A"},{"$error":"#N/A"},{"$error":"#N/A"},{"$error":"#N/A"},{"$error":"#N/A"},{"$error":"#N/A"},{"$error":"#N/A"},{"$error":"#N/A"},{"$error":"#N/A"},{"$error":"#N/A"},{"$error":"#N/A"},{"$error":"#N/A"},{"$error":"#N/A"},{"$error":"#N/A"},{"$error":"#N/A"},{"$error":"#N/A"},{"$error":"#N/A"},{"$error":"#N/A"},{"$error":"#N/A"},{"$error":"#N/A"},{"$error":"#N/A"},{"$error":"#N/A"},{"$error":"#N/A"},{"$error":"#N/A"},{"$error":"#N/A"},{"$error":"#N/A"},{"$error":"#N/A"},{"$error":"#N/A"},{"$error":"#N/A"},{"$error":"#N/A"},{"$error":"#N/A"}]
["2020-09-21",{"$f":"VLOOKUP($A22,Data!$A$2:$E$100,2,FALSE)","v":11.470000267028809},{"$f":"VLOOKUP($A22,Data!$A$2:$E$100,3,FALSE)","v":11.689999580383301},{"$f":"VLOOKUP($A22,Data!$A$2:$E$100,4,FALSE)","v":10.680000305175779},{"$f":"VLOOKUP($A22,Data!$A$2:$E$100,5,FALSE)","v":10.689999580383301},null,"Middle",{"$f":"INDEX(K46:K56,MATCH(+Data!A2,K46:K56,1))","v":"2020-10-05"},null,null,null,null,null,null,null,null,null,null,null,null,null,null,null,null,null,null,null,null,null,null,"-1",{"$f":"AF20-1/8*(AF$12-AF$20)","v":4.6875},{"$f":"IF(AND($H$11>=AF22,$H$11<=AF20),$H$11,\"\")","v":""},"-1",{"$f":"AI20-1/8*(AI$12-AI$20)","v":8.984375},{"$f":"IF(AND($H$11>=AI22,$H$11<=AI20),$H$11,\"\")","v":""},14,7.62939453125E-4,null,null,"2020-09-21",{"$error":"#N/A"},{"$error":"#N/A"},{"$error":"#N/A"},{"$error":"#N/A"},{"$error":"#N/A"},{"$error":"#N/A"},{"$error":"#N/A"},{"$error":"#N/A"},{"$error":"#N/A"},{"$error":"#N/A"},{"$error":"#N/A"},{"$error":"#N/A"},{"$error":"#N/A"},0,1,0.33333333333333331,0.66666666666666663,{"$error":"#N/A"},{"$error":"#N/A"},{"$error":"#N/A"},{"$error":"#N/A"},{"$error":"#N/A"},{"$error":"#N/A"},{"$error":"#N/A"},{"$error":"#N/A"},{"$error":"#N/A"},{"$error":"#N/A"},{"$error":"#N/A"},{"$error":"#N/A"},{"$error":"#N/A"},{"$error":"#N/A"},{"$error":"#N/A"},{"$error":"#N/A"},{"$error":"#N/A"},{"$error":"#N/A"},{"$error":"#N/A"},{"$error":"#N/A"},{"$error":"#N/A"},{"$error":"#N/A"},{"$error":"#N/A"},{"$error":"#N/A"},{"$error":"#N/A"},{"$error":"#N/A"},{"$error":"#N/A"},{"$error":"#N/A"},{"$error":"#N/A"},{"$error":"#N/A"},{"$error":"#N/A"},{"$error":"#N/A"},{"$error":"#N/A"},{"$error":"#N/A"},{"$error":"#N/A"},{"$error":"#N/A"},{"$error":"#N/A"},{"$error":"#N/A"},{"$error":"#N/A"},{"$error":"#N/A"},{"$error":"#N/A"},{"$error":"#N/A"},{"$error":"#N/A"},{"$error":"#N/A"},{"$error":"#N/A"},{"$error":"#N/A"},{"$error":"#N/A"},{"$error":"#N/A"},{"$error":"#N/A"},{"$error":"#N/A"},{"$error":"#N/A"},{"$error":"#N/A"},{"$error":"#N/A"},{"$error":"#N/A"},{"$error":"#N/A"},{"$error":"#N/A"},{"$error":"#N/A"},{"$error":"#N/A"},{"$error":"#N/A"},{"$error":"#N/A"},{"$error":"#N/A"},{"$error":"#N/A"},{"$error":"#N/A"},{"$error":"#N/A"},{"$error":"#N/A"},{"$error":"#N/A"},{"$error":"#N/A"},{"$error":"#N/A"},{"$error":"#N/A"},{"$error":"#N/A"},{"$error":"#N/A"},{"$error":"#N/A"},{"$error":"#N/A"},{"$error":"#N/A"},{"$error":"#N/A"},{"$error":"#N/A"},{"$error":"#N/A"},{"$error":"#N/A"},{"$error":"#N/A"},{"$error":"#N/A"},{"$error":"#N/A"},{"$error":"#N/A"},{"$error":"#N/A"},{"$error":"#N/A"},{"$error":"#N/A"},{"$error":"#N/A"},{"$error":"#N/A"},{"$error":"#N/A"}]
["2020-09-22",{"$f":"VLOOKUP($A23,Data!$A$2:$E$100,2,FALSE)","v":10.770000457763672},{"$f":"VLOOKUP($A23,Data!$A$2:$E$100,3,FALSE)","v":11.060000419616699},{"$f":"VLOOKUP($A23,Data!$A$2:$E$100,4,FALSE)","v":10.609999656677246},{"$f":"VLOOKUP($A23,Data!$A$2:$E$100,5,FALSE)","v":10.680000305175779},null,"2nd Square",{"$f":"IF(INDEX(K46:K56,MATCH(+Data!A2,K46:K56,1))=K55,WORKDAY(H22,G$18,$G$32:$G$71),INDEX(K46:K56,MATCH(+Data!A2,K46:K56,1)+1))","v":"2020-11-18"},null,null,null,null,null,null,null,null,null,null,null,null,null,null,null,null,null,null,null,null,null,null,"-2",{"$f":"AF22-1/8*(AF$12-AF$20)","v":3.125},{"$f":"IF(AND($H$11>=AF23,$H$11<=AF22),$H$11,\"\")","v":""},"-2",{"$f":"AI22-1/8*(AI$12-AI$20)","v":8.59375},{"$f":"IF(AND($H$11>=AI23,$H$11<=AI22),$H$11,\"\")","v":""},15,3.814697265625E-4,null,null,"2020-09-22",{"$error":"#N/A"},{"$error":"#N/A"},{"$error":"#N/A"},{"$error":"#N/A"},{"$error":"#N/A"},{"$error":"#N/A"},{"$error":"#N/A"},{"$error":"#N/A"},{"$error":"#N/A"},{"$error":"#N/A"},{"$error":"#N/A"},{"$error":"#N/A"},{"$error":"#N/A"},0,1,0.33333333333333331,0.66666666666666663,{"$error":"#N/A"},{"$error":"#N/A"},{"$error":"#N/A"},{"$error":"#N/A"},{"$error":"#N/A"},{"$error":"#N/A"},{"$error":"#N/A"},{"$error":"#N/A"},{"$error":"#N/A"},{"$error":"#N/A"},{"$error":"#N/A"},{"$error":"#N/A"},{"$error":"#N/A"},{"$error":"#N/A"},{"$error":"#N/A"},{"$error":"#N/A"},{"$error":"#N/A"},{"$error":"#N/A"},{"$error":"#N/A"},{"$error":"#N/A"},{"$error":"#N/A"},{"$error":"#N/A"},{"$error":"#N/A"},{"$error":"#N/A"},{"$error":"#N/A"},{"$error":"#N/A"},{"$error":"#N/A"},{"$error":"#N/A"},{"$error":"#N/A"},{"$error":"#N/A"},{"$error":"#N/A"},{"$error":"#N/A"},{"$error":"#N/A"},{"$error":"#N/A"},{"$error":"#N/A"},{"$error":"#N/A"},{"$error":"#N/A"},{"$error":"#N/A"},{"$error":"#N/A"},{"$error":"#N/A"},{"$error":"#N/A"},{"$error":"#N/A"},{"$error":"#N/A"},{"$error":"#N/A"},{"$error":"#N/A"},{"$error":"#N/A"},{"$error":"#N/A"},{"$error":"#N/A"},{"$error":"#N/A"},{"$error":"#N/A"},{"$error":"#N/A"},{"$error":"#N/A"},{"$error":"#N/A"},{"$error":"#N/A"},{"$error":"#N/A"},{"$error":"#N/A"},{"$error":"#N/A"},{"$error":"#N/A"},{"$error":"#N/A"},{"$error":"#N/A"},{"$error":"#N/A"},{"$error":"#N/A"},{"$error":"#N/A"},{"$error":"#N/A"},{"$error":"#N/A"},{"$error":"#N/A"},{"$error":"#N/A"},{"$error":"#N/A"},{"$error":"#N/A"},{"$error":"#N/A"},{"$error":"#N/A"},{"$error":"#N/A"},{"$error":"#N/A"},{"$error":"#N/A"},{"$error":"#N/A"},{"$error":"#N/A"},{"$error":"#N/A"},{"$error":"#N/A"},{"$error":"#N/A"},{"$error":"#N/A"},{"$error":"#N/A"},{"$error":"#N/A"},{"$error":"#N/A"},{"$error":"#N/A"},{"$error":"#N/A"},{"$error":"#N/A"},{"$error":"#N/A"},{"$error":"#N/A"}]
["2020-09-23",{"$f":"VLOOKUP($A24,Data!$A$2:$E$100,2,FALSE)","v":10.479999542236328},{"$f":"VLOOKUP($A24,Data!$A$2:$E$100,3,FALSE)","v":10.489999771118164},{"$f":"VLOOKUP($A24,Data!$A$2:$E$100,4,FALSE)","v":9.6499996185302717},{"$f":"VLOOKUP($A24,Data!$A$2:$E$100,5,FALSE)","v":9.7399997711181641},null,null,null,null,null,null,null,null,null,null,null,null,null,null,null,null,null,null,null,null,null,null,null,null,null,null,null,null,null,null,null,16,1.9073486328125E-4,null,null,"2020-09-23",{"$f":"IF($W$11,IF(VLOOKUP($AO24,$S$37:$S$54,1,),-2/8,NA()),NA())","v":{"$error":"#N/A"}},{"$error":"#N/A"},{"$f":"IF($W$11,IF(VLOOKUP($AO24,$S$37:$S$54,1,),2/8,NA()),NA())","v":{"$error":"#N/A"}},{"$error":"#N/A"},{"$f":"IF($W$11,IF(VLOOKUP($AO24,$S$37:$S$54,1,),6/8,NA()),NA())","v":{"$error":"#N/A"}},{"$error":"#N/A"},{"$f":"IF($W$11,IF(VLOOKUP($AO24,$S$37:$S$54,1,),10/8,NA()),NA())","v":{"$error":"#N/A"}},{"$error":"#N/A"},{"$f":"IF($W$11,IF(VLOOKUP($AO24,$S$72:$S$80,1,),4/8,NA()),NA())","v":{"$error":"#N/A"}},{"$error":"#N/A"},{"$error":"#N/A"},{"$error":"#N/A"},1,0,1,0.33333333333333331,0.66666666666666663,{"$error":"#N/A"},{"$error":"#N/A"},{"$error":"#N/A"},{"$error":"#N/A"},{"$error":"#N/A"},{"$error":"#N/A"},{"$error":"#N/A"},{"$error":"#N/A"},{"$error":"#N/A"},{"$error":"#N/A"},{"$error":"#N/A"},{"$error":"#N/A"},{"$error":"#N/A"},{"$error":"#N/A"},{"$error":"#N/A"},{"$error":"#N/A"},{"$error":"#N/A"},{"$error":"#N/A"},{"$error":"#N/A"},{"$error":"#N/A"},{"$error":"#N/A"},{"$error":"#N/A"},{"$error":"#N/A"},{"$error":"#N/A"},{"$error":"#N/A"},{"$error":"#N/A"},{"$error":"#N/A"},{"$error":"#N/A"},{"$error":"#N/A"},{"$error":"#N/A"},0,{"$error":"#N/A"},{"$error":"#N/A"},{"$error":"#N/A"},{"$error":"#N/A"},{"$error":"#N/A"},{"$error":"#N/A"},{"$error":"#N/A"},1,{"$error":"#N/A"},{"$error":"#N/A"},{"$error":"#N/A"},{"$error":"#N/A"},{"$error":"#N/A"},{"$error":"#N/A"},{"$error":"#N/A"},{"$error":"#N/A"},{"$error":"#N/A"},{"$error":"#N/A"},{"$error":"#N/A"},{"$error":"#N/A"},{"$error":"#N/A"},{"$error":"#N/A"},{"$error":"#N/A"},{"$error":"#N/A"},{"$error":"#N/A"},{"$error":"#N/A"},{"$error":"#N/A"},{"$error":"#N/A"},{"$error":"#N/A"},{"$error":"#N/A"},{"$error":"#N/A"},{"$error":"#N/A"},{"$error":"#N/A"},{"$error":"#N/A"},{"$error":"#N/A"},{"$error":"#N/A"},{"$error":"#N/A"},{"$error":"#N/A"},{"$error":"#N/A"},{"$error":"#N/A"},{"$error":"#N/A"},{"$error":"#N/A"},{"$error":"#N/A"},{"$error":"#N/A"},{"$error":"#N/A"},{"$error":"#N/A"},{"$error":"#N/A"},{"$error":"#N/A"},{"$error":"#N/A"},{"$error":"#N/A"},{"$error":"#N/A"},{"$error":"#N/A"},{"$error":"#N/A"},{"$error":"#N/A"},{"$error":"#N/A"},{"$error":"#N/A"},{"$error":"#N/A"}]
["2020-09-24",{"$f":"VLOOKUP($A25,Data!$A$2:$E$100,2,FALSE)","v":9.5900001525878906},{"$f":"VLOOKUP($A25,Data!$A$2:$E$100,3,FALSE)","v":10.359999656677246},{"$f":"VLOOKUP($A25,Data!$A$2:$E$100,4,FALSE)","v":9.5},{"$f":"VLOOKUP($A25,Data!$A$2:$E$100,5,FALSE)","v":10.260000228881836},null,null,null,null,null,null,null,null,null,null,null,null,null,null,null,null,null,null,null,null,null,null,null,null,null,null,"Can You See It!...",null,null,null,null,null,null,null,null,"2020-09-24",{"$error":"#N/A"},{"$error":"#N/A"},{"$error":"#N/A"},{"$error":"#N/A"},{"$error":"#N/A"},{"$error":"#N/A"},{"$error":"#N/A"},{"$error":"#N/A"},{"$error":"#N/A"},{"$error":"#N/A"},{"$error":"#N/A"},{"$error":"#N/A"},{"$error":"#N/A"},0,1,0.33333333333333331,0.66666666666666663,{"$error":"#N/A"},{"$error":"#N/A"},{"$error":"#N/A"},{"$error":"#N/A"},{"$error":"#N/A"},{"$error":"#N/A"},{"$error":"#N/A"},{"$error":"#N/A"},{"$error":"#N/A"},{"$error":"#N/A"},{"$error":"#N/A"},{"$error":"#N/A"},{"$error":"#N/A"},{"$error":"#N/A"},{"$error":"#N/A"},{"$error":"#N/A"},{"$error":"#N/A"},{"$error":"#N/A"},{"$error":"#N/A"},{"$error":"#N/A"},{"$error":"#N/A"},{"$error":"#N/A"},{"$error":"#N/A"},{"$error":"#N/A"},{"$error":"#N/A"},{"$error":"#N/A"},{"$error":"#N/A"},{"$error":"#N/A"},{"$error":"#N/A"},{"$error":"#N/A"},{"$error":"#N/A"},{"$error":"#N/A"},{"$error":"#N/A"},{"$error":"#N/A"},{"$error":"#N/A"},{"$error":"#N/A"},{"$error":"#N/A"},{"$error":"#N/A"},{"$error":"#N/A"},{"$error":"#N/A"},{"$error":"#N/A"},{"$error":"#N/A"},{"$error":"#N/A"},{"$error":"#N/A"},{"$error":"#N/A"},{"$error":"#N/A"},{"$error":"#N/A"},{"$error":"#N/A"},{"$error":"#N/A"},{"$error":"#N/A"},{"$error":"#N/A"},{"$error":"#N/A"},{"$error":"#N/A"},{"$error":"#N/A"},{"$error":"#N/A"},{"$error":"#N/A"},{"$error":"#N/A"},{"$error":"#N/A"},{"$error":"#N/A"},{"$error":"#N/A"},{"$error":"#N/A"},{"$error":"#N/A"},{"$error":"#N/A"},{"$error":"#N/A"},{"$error":"#N/A"},{"$error":"#N/A"},{"$error":"#N/A"},{"$error":"#N/A"},{"$error":"#N/A"},{"$error":"#N/A"},{"$error":"#N/A"},{"$error":"#N/A"},{"$error":"#N/A"},{"$error":"#N/A"},{"$error":"#N/A"},{"$error":"#N/A"},{"$error":"#N/A"},{"$error":"#N/A"},{"$error":"#N/A"},{"$error":"#N/A"},{"$error":"#N/A"},{"$error":"#N/A"},{"$error":"#N/A"},{"$error":"#N/A"},{"$error":"#N/A"},{"$error":"#N/A"},{"$error":"#N/A"},{"$error":"#N/A"}]
["2020-09-25",{"$f":"VLOOKUP($A26,Data!$A$2:$E$100,2,FALSE)","v":10.050000190734863},{"$f":"VLOOKUP($A26,Data!$A$2:$E$100,3,FALSE)","v":10.069999694824221},{"$f":"VLOOKUP($A26,Data!$A$2:$E$100,4,FALSE)","v":9.4600000381469727},{"$f":"VLOOKUP($A26,Data!$A$2:$E$100,5,FALSE)","v":9.5200004577636719},0.25,{"$f":"INDEX($I$68:$I$77,MATCH($H$21,$I$68:$I$77,1)+1)","v":"2020-09-04"},{"$f":"INDEX($I$69:$I$77,MATCH($H$22,$I$69:$I$77,1)+1)","v":"2020-10-15"},0.125,{"$f":"INDEX($I$81:$I$90,MATCH($H$21,$I$81:$I$90,1)+1)","v":"2020-08-31"},{"$f":"INDEX($I$82:$I$90,MATCH($H$22,$I$82:$I$90,1)+1)","v":"2020-10-09"},0.875,{"$f":"INDEX($I$94:$I$103,MATCH($H$21,$I$94:$I$103,1)+1)","v":"2020-10-05"},{"$f":"INDEX($I$95:$I$103,MATCH($H$22,$I$95:$I$103,1)+1)","v":"2020-11-12"},null,null,null,null,null,null,null,null,null,null,null,null,null,null,null,null,null,null,null,null,null,null,null,null,null,null,"2020-09-25",{"$error":"#N/A"},{"$error":"#N/A"},{"$error":"#N/A"},{"$error":"#N/A"},{"$error":"#N/A"},{"$error":"#N/A"},{"$error":"#N/A"},{"$error":"#N/A"},{"$error":"#N/A"},{"$error":"#N/A"},{"$error":"#N/A"},{"$error":"#N/A"},{"$error":"#N/A"},0,1,0.33333333333333331,0.66666666666666663,{"$error":"#N/A"},{"$error":"#N/A"},{"$error":"#N/A"},{"$error":"#N/A"},{"$error":"#N/A"},{"$error":"#N/A"},{"$error":"#N/A"},{"$error":"#N/A"},{"$error":"#N/A"},{"$error":"#N/A"},{"$error":"#N/A"},{"$error":"#N/A"},{"$error":"#N/A"},{"$error":"#N/A"},{"$error":"#N/A"},{"$error":"#N/A"},{"$error":"#N/A"},{"$error":"#N/A"},{"$error":"#N/A"},{"$error":"#N/A"},{"$error":"#N/A"},{"$error":"#N/A"},{"$error":"#N/A"},{"$error":"#N/A"},{"$error":"#N/A"},{"$error":"#N/A"},{"$error":"#N/A"},{"$error":"#N/A"},{"$error":"#N/A"},{"$error":"#N/A"},{"$error":"#N/A"},{"$error":"#N/A"},{"$error":"#N/A"},{"$error":"#N/A"},{"$error":"#N/A"},{"$error":"#N/A"},{"$error":"#N/A"},{"$error":"#N/A"},{"$error":"#N/A"},{"$error":"#N/A"},{"$error":"#N/A"},{"$error":"#N/A"},{"$error":"#N/A"},{"$error":"#N/A"},{"$error":"#N/A"},{"$error":"#N/A"},{"$error":"#N/A"},{"$error":"#N/A"},{"$error":"#N/A"},{"$error":"#N/A"},{"$error":"#N/A"},{"$error":"#N/A"},{"$error":"#N/A"},{"$error":"#N/A"},{"$error":"#N/A"},{"$error":"#N/A"},{"$error":"#N/A"},{"$error":"#N/A"},{"$error":"#N/A"},{"$error":"#N/A"},{"$error":"#N/A"},{"$error":"#N/A"},{"$error":"#N/A"},{"$error":"#N/A"},{"$error":"#N/A"},{"$error":"#N/A"},{"$error":"#N/A"},{"$error":"#N/A"},{"$error":"#N/A"},{"$error":"#N/A"},{"$error":"#N/A"},{"$error":"#N/A"},{"$error":"#N/A"},{"$error":"#N/A"},{"$error":"#N/A"},{"$error":"#N/A"},{"$error":"#N/A"},{"$error":"#N/A"},{"$error":"#N/A"},{"$error":"#N/A"},{"$error":"#N/A"},{"$error":"#N/A"},{"$error":"#N/A"},{"$error":"#N/A"},{"$error":"#N/A"},{"$error":"#N/A"},{"$error":"#N/A"},{"$error":"#N/A"}]
["2020-09-28",{"$f":"VLOOKUP($A27,Data!$A$2:$E$100,2,FALSE)","v":9.8500003814697283},{"$f":"VLOOKUP($A27,Data!$A$2:$E$100,3,FALSE)","v":9.8999996185302717},{"$f":"VLOOKUP($A27,Data!$A$2:$E$100,4,FALSE)","v":9.3299999237060565},{"$f":"VLOOKUP($A27,Data!$A$2:$E$100,5,FALSE)","v":9.5699996948242205},0.5,{"$f":"INDEX($J$68:$J$77,MATCH($H$21,$J$68:$J$77,1)+1)","v":"2020-09-17"},{"$f":"INDEX($J$69:$J$77,MATCH($H$22,$J$69:$J$77,1)+1)","v":"2020-10-27"},0.375,{"$f":"INDEX($J$81:$J$90,MATCH($H$21,$J$81:$J$90,1)+1)","v":"2020-09-11"},{"$f":"INDEX($J$82:$J$90,MATCH($H$22,$J$82:$J$90,1)+1)","v":"2020-10-21"},null,null,null,null,null,null,null,null,null,null,null,null,null,null,null,null,null,null,null,null,null,null,null,null,null,null,null,null,null,"2020-09-28",{"$error":"#N/A"},{"$error":"#N/A"},{"$error":"#N/A"},{"$error":"#N/A"},{"$error":"#N/A"},{"$error":"#N/A"},{"$error":"#N/A"},{"$error":"#N/A"},{"$error":"#N/A"},{"$error":"#N/A"},{"$error":"#N/A"},{"$error":"#N/A"},{"$error":"#N/A"},0,1,0.33333333333333331,0.66666666666666663,{"$error":"#N/A"},{"$error":"#N/A"},{"$error":"#N/A"},{"$error":"#N/A"},{"$error":"#N/A"},{"$error":"#N/A"},{"$error":"#N/A"},{"$error":"#N/A"},{"$error":"#N/A"},{"$error":"#N/A"},{"$error":"#N/A"},{"$error":"#N/A"},{"$error":"#N/A"},{"$error":"#N/A"},{"$error":"#N/A"},{"$error":"#N/A"},{"$error":"#N/A"},{"$error":"#N/A"},{"$error":"#N/A"},{"$error":"#N/A"},{"$error":"#N/A"},{"$error":"#N/A"},{"$error":"#N/A"},{"$error":"#N/A"},{"$error":"#N/A"},{"$error":"#N/A"},{"$error":"#N/A"},{"$error":"#N/A"},{"$error":"#N/A"},{"$error":"#N/A"},{"$error":"#N/A"},{"$error":"#N/A"},{"$error":"#N/A"},{"$error":"#N/A"},{"$error":"#N/A"},{"$error":"#N/A"},{"$error":"#N/A"},{"$error":"#N/A"},{"$error":"#N/A"},{"$error":"#N/A"},{"$error":"#N/A"},{"$error":"#N/A"},{"$error":"#N/A"},{"$error":"#N/A"},{"$error":"#N/A"},{"$error":"#N/A"},{"$error":"#N/A"},{"$error":"#N/A"},{"$error":"#N/A"},{"$error":"#N/A"},{"$error":"#N/A"},{"$error":"#N/A"},{"$error":"#N/A"},{"$error":"#N/A"},{"$error":"#N/A"},{"$error":"#N/A"},{"$error":"#N/A"},{"$error":"#N/A"},{"$error":"#N/A"},{"$error":"#N/A"},{"$error":"#N/A"},{"$error":"#N/A"},{"$error":"#N/A"},{"$error":"#N/A"},{"$error":"#N/A"},{"$error":"#N/A"},{"$error":"#N/A"},{"$error":"#N/A"},{"$error":"#N/A"},{"$error":"#N/A"},{"$error":"#N/A"},{"$error":"#N/A"},{"$error":"#N/A"},{"$error":"#N/A"},{"$error":"#N/A"},{"$error":"#N/A"},{"$error":"#N/A"},{"$error":"#N/A"},{"$error":"#N/A"},{"$error":"#N/A"},{"$error":"#N/A"},{"$error":"#N/A"},{"$error":"#N/A"},{"$error":"#N/A"},{"$error":"#N/A"},{"$error":"#N/A"},{"$error":"#N/A"},{"$error":"#N/A"}]
["2020-09-29",{"$f":"VLOOKUP($A28,Data!$A$2:$E$100,2,FALSE)","v":9.630000114440918},{"$f":"VLOOKUP($A28,Data!$A$2:$E$100,3,FALSE)","v":9.7899999618530273},{"$f":"VLOOKUP($A28,Data!$A$2:$E$100,4,FALSE)","v":9.4899997711181641},{"$f":"VLOOKUP($A28,Data!$A$2:$E$100,5,FALSE)","v":9.5500001907348633},0.75,{"$f":"INDEX($K$68:$K$77,MATCH($H$21,$K$68:$K$77,1)+1)","v":"2020-09-29"},{"$f":"INDEX($K$69:$K$77,MATCH($H$22,$K$69:$K$77,1)+1)","v":"2020-11-06"},0.625,{"$f":"INDEX($K$81:$K$90,MATCH($H$21,$K$81:$K$90,1)+1)","v":"2020-09-23"},{"$f":"INDEX($K$82:$K$90,MATCH($H$22,$K$82:$K$90,1)+1)","v":"2020-11-02"},null,null,null,null,null,null,null,null,null,null,null,null,null,"Creating Our TimeFrame",null,null,null,null,"Available TimeFrames",null,null,null,null,"Best fit for Time",null,null,null,null,null,"2020-09-29",-0.25,-0.25,0.25,0.25,0.75,0.75,1.25,1.25,{"$error":"#N/A"},{"$error":"#N/A"},{"$error":"#N/A"},1.125,1,0,1,0.33333333333333331,0.66666666666666663,{"$error":"#N/A"},{"$error":"#N/A"},1,{"$error":"#N/A"},{"$error":"#N/A"},{"$error":"#N/A"},{"$error":"#N/A"},{"$error":"#N/A"},{"$error":"#N/A"},{"$error":"#N/A"},{"$error":"#N/A"},{"$error":"#N/A"},{"$error":"#N/A"},{"$error":"#N/A"},{"$error":"#N/A"},{"$error":"#N/A"},{"$error":"#N/A"},{"$error":"#N/A"},{"$error":"#N/A"},{"$error":"#N/A"},{"$error":"#N/A"},{"$error":"#N/A"},{"$error":"#N/A"},{"$error":"#N/A"},{"$error":"#N/A"},{"$error":"#N/A"},{"$error":"#N/A"},{"$error":"#N/A"},{"$error":"#N/A"},0,{"$error":"#N/A"},{"$error":"#N/A"},{"$error":"#N/A"},{"$error":"#N/A"},{"$error":"#N/A"},{"$error":"#N/A"},{"$error":"#N/A"},1,{"$error":"#N/A"},{"$error":"#N/A"},{"$error":"#N/A"},{"$error":"#N/A"},{"$error":"#N/A"},{"$error":"#N/A"},{"$error":"#N/A"},{"$error":"#N/A"},{"$error":"#N/A"},{"$error":"#N/A"},{"$error":"#N/A"},{"$error":"#N/A"},{"$error":"#N/A"},{"$error":"#N/A"},{"$error":"#N/A"},{"$error":"#N/A"},{"$error":"#N/A"},{"$error":"#N/A"},{"$error":"#N/A"},{"$error":"#N/A"},{"$error":"#N/A"},{"$error":"#N/A"},{"$error":"#N/A"},{"$error":"#N/A"},{"$error":"#N/A"},{"$error":"#N/A"},{"$error":"#N/A"},{"$error":"#N/A"},{"$error":"#N/A"},{"$error":"#N/A"},{"$error":"#N/A"},{"$error":"#N/A"},{"$error":"#N/A"},{"$error":"#N/A"},{"$error":"#N/A"},{"$error":"#N/A"},{"$error":"#N/A"},{"$error":"#N/A"},{"$error":"#N/A"},{"$error":"#N/A"},{"$error":"#N/A"},{"$error":"#N/A"},{"$error":"#N/A"},{"$error":"#N/A"},{"$error":"#N/A"},{"$error":"#N/A"},{"$error":"#N/A"},{"$error":"#N/A"},{"$error":"#N/A"},{"$error":"#N/A"}]
["2020-09-30",{"$f":"VLOOKUP($A29,Data!$A$2:$E$100,2,FALSE)","v":9.5},{"$f":"VLOOKUP($A29,Data!$A$2:$E$100,3,FALSE)","v":9.6599998474121094},{"$f":"VLOOKUP($A29,Data!$A$2:$E$100,4,FALSE)","v":9.3299999237060565},{"$f":"VLOOKUP($A29,Data!$A$2:$E$100,5,FALSE)","v":9.5200004577636719},null,null,null,null,{"$f":"NETWORKDAYS(I30,J30,$G$32:$G$71)","v":252},{"$f":"NETWORKDAYS(J30,K30,$G$32:$G$71)","v":253},253,253,null,null,null,{"$f":"NETWORKDAYS(K30,L30,G32:G71)","v":253},{"$f":"+Q29/2","v":126.5},null,null,null,null,null,null,"SQUARE",{"$f":"MAX(AB15:AC15)","v":12.5},null,{"$f":"(AE29-AC29)/8","v":0.78125},{"$f":"+Z36","v":6.25},"0/8:4/8",{"$f":"+Z36+4*Z37","v":12.5},{"$f":"IF(AND(AE29+2*AB29>Z$30,AC29-2*AB29<Z$31),ABS(Z$30-AE29) + ABS(Z$31-AC29),\"x\")","v":3.2100000381469744},null,{"$f":"IF(AJ29>0,AC29,0)","v":0},{"$f":"IF(AH29>0,AD29,\" \")","v":" "},{"$f":"IF(AF29=AF$41,AE29,0)","v":0},null,null,null,null,"2020-09-30",{"$error":"#N/A"},{"$error":"#N/A"},{"$error":"#N/A"},{"$error":"#N/A"},{"$error":"#N/A"},{"$error":"#N/A"},{"$error":"#N/A"},{"$error":"#N/A"},{"$error":"#N/A"},{"$error":"#N/A"},{"$error":"#N/A"},{"$error":"#N/A"},{"$error":"#N/A"},0,1,0.33333333333333331,0.66666666666666663,{"$error":"#N/A"},{"$error":"#N/A"},{"$error":"#N/A"},{"$error":"#N/A"},{"$error":"#N/A"},{"$error":"#N/A"},{"$error":"#N/A"},{"$error":"#N/A"},{"$error":"#N/A"},{"$error":"#N/A"},{"$error":"#N/A"},{"$error":"#N/A"},{"$error":"#N/A"},{"$error":"#N/A"},{"$error":"#N/A"},{"$error":"#N/A"},{"$error":"#N/A"},{"$error":"#N/A"},{"$error":"#N/A"},{"$error":"#N/A"},{"$error":"#N/A"},{"$error":"#N/A"},{"$error":"#N/A"},{"$error":"#N/A"},{"$error":"#N/A"},{"$error":"#N/A"},{"$error":"#N/A"},{"$error":"#N/A"},{"$error":"#N/A"},{"$error":"#N/A"},{"$error":"#N/A"},{"$error":"#N/A"},{"$error":"#N/A"},{"$error":"#N/A"},{"$error":"#N/A"},{"$error":"#N/A"},{"$error":"#N/A"},{"$error":"#N/A"},{"$error":"#N/A"},{"$error":"#N/A"},{"$error":"#N/A"},{"$error":"#N/A"},{"$error":"#N/A"},{"$error":"#N/A"},{"$error":"#N/A"},{"$error":"#N/A"},{"$error":"#N/A"},{"$error":"#N/A"},{"$error":"#N/A"},{"$error":"#N/A"},{"$error":"#N/A"},{"$error":"#N/A"},{"$error":"#N/A"},{"$error":"#N/A"},{"$error":"#N/A"},{"$error":"#N/A"},{"$error":"#N/A"},{"$error":"#N/A"},{"$error":"#N/A"},{"$error":"#N/A"},{"$error":"#N/A"},{"$error":"#N/A"},{"$error":"#N/A"},{"$error":"#N/A"},{"$error":"#N/A"},{"$error":"#N/A"},{"$error":"#N/A"},{"$error":"#N/A"},{"$error":"#N/A"},{"$error":"#N/A"},{"$error":"#N/A"},{"$error":"#N/A"},{"$error":"#N/A"},{"$error":"#N/A"},{"$error":"#N/A"},{"$error":"#N/A"},{"$error":"#N/A"},{"$error":"#N/A"},{"$error":"#N/A"},{"$error":"#N/A"},{"$error":"#N/A"},{"$error":"#N/A"},{"$error":"#N/A"},{"$error":"#N/A"},{"$error":"#N/A"},{"$error":"#N/A"},{"$error":"#N/A"},{"$error":"#N/A"}]
["2020-10-01",{"$f":"VLOOKUP($A30,Data!$A$2:$E$100,2,FALSE)","v":9.6000003814697283},{"$f":"VLOOKUP($A30,Data!$A$2:$E$100,3,FALSE)","v":9.8900003433227539},{"$f":"VLOOKUP($A30,Data!$A$2:$E$100,4,FALSE)","v":9.5399999618530273},{"$f":"VLOOKUP($A30,Data!$A$2:$E$100,5,FALSE)","v":9.7600002288818359},null,null,null,"2017-10-06","2018-10-05","2019-10-07","2020-10-05","2021-10-05",null,null,null,null,null,null,null,null,null,null,null,"64 Bar HIGH",{"$f":"H12","v":12.630000114440918},null,0.390625,{"$f":"+Z36+2*Z37","v":9.375},"2/8:4/8",{"$f":"+Z36+4*Z37","v":12.5},0.1750001907348615,null,9.375,"2/8:4/8",12.5,null,null,null,null,"2020-10-01",{"$error":"#N/A"},{"$error":"#N/A"},{"$error":"#N/A"},{"$error":"#N/A"},{"$error":"#N/A"},{"$error":"#N/A"},{"$error":"#N/A"},{"$error":"#N/A"},{"$error":"#N/A"},{"$error":"#N/A"},{"$error":"#N/A"},{"$error":"#N/A"},{"$error":"#N/A"},0,1,0.33333333333333331,0.66666666666666663,{"$error":"#N/A"},{"$error":"#N/A"},{"$error":"#N/A"},{"$error":"#N/A"},{"$error":"#N/A"},{"$error":"#N/A"},{"$error":"#N/A"},{"$error":"#N/A"},{"$error":"#N/A"},{"$error":"#N/A"},{"$error":"#N/A"},{"$error":"#N/A"},{"$error":"#N/A"},{"$error":"#N/A"},{"$error":"#N/A"},{"$error":"#N/A"},{"$error":"#N/A"},{"$error":"#N/A"},{"$error":"#N/A"},{"$error":"#N/A"},{"$error":"#N/A"},{"$error":"#N/A"},{"$error":"#N/A"},{"$error":"#N/A"},{"$error":"#N/A"},{"$error":"#N/A"},{"$error":"#N/A"},{"$error":"#N/A"},{"$error":"#N/A"},{"$error":"#N/A"},{"$error":"#N/A"},{"$error":"#N/A"},{"$error":"#N/A"},{"$error":"#N/A"},{"$error":"#N/A"},{"$error":"#N/A"},{"$error":"#N/A"},{"$error":"#N/A"},{"$error":"#N/A"},{"$error":"#N/A"},{"$error":"#N/A"},{"$error":"#N/A"},{"$error":"#N/A"},{"$error":"#N/A"},{"$error":"#N/A"},{"$error":"#N/A"},{"$error":"#N/A"},{"$error":"#N/A"},{"$error":"#N/A"},{"$error":"#N/A"},{"$error":"#N/A"},{"$error":"#N/A"},{"$error":"#N/A"},{"$error":"#N/A"},{"$error":"#N/A"},{"$error":"#N/A"},{"$error":"#N/A"},{"$error":"#N/A"},{"$error":"#N/A"},{"$error":"#N/A"},{"$error":"#N/A"},{"$error":"#N/A"},{"$error":"#N/A"},{"$error":"#N/A"},{"$error":"#N/A"},{"$error":"#N/A"},{"$error":"#N/A"},{"$error":"#N/A"},{"$error":"#N/A"},{"$error":"#N/A"},{"$error":"#N/A"},{"$error":"#N/A"},{"$error":"#N/A"},{"$error":"#N/A"},{"$error":"#N/A"},{"$error":"#N/A"},{"$error":"#N/A"},{"$error":"#N/A"},{"$error":"#N/A"},{"$error":"#N/A"},{"$error":"#N/A"},{"$error":"#N/A"},{"$error":"#N/A"},{"$error":"#N/A"},{"$error":"#N/A"},{"$error":"#N/A"},{"$error":"#N/A"},{"$error":"#N/A"}]
["2020-10-02",{"$f":"VLOOKUP($A31,Data!$A$2:$E$100,2,FALSE)","v":9.6800003051757795},{"$f":"VLOOKUP($A31,Data!$A$2:$E$100,3,FALSE)","v":9.8599996566772461},{"$f":"VLOOKUP($A31,Data!$A$2:$E$100,4,FALSE)","v":9.5699996948242205},{"$f":"VLOOKUP($A31,Data!$A$2:$E$100,5,FALSE)","v":9.6499996185302717},null,"holidays",null,128,64,32,16,8,4,2,null,null,64,{"$f":"+R31/8","v":8},null,null,null,null,null,"64 Bar LOW",{"$f":"H13","v":9.3299999237060565},null,0.78125,{"$f":"+Z36+2*Z37","v":9.375},"2/8:6/8",{"$f":"+Z36+6*Z37","v":15.625},3.0399999618530256,null,0," ",0,null,null,null,null,"2020-10-02",{"$error":"#N/A"},{"$error":"#N/A"},{"$error":"#N/A"},{"$error":"#N/A"},{"$error":"#N/A"},{"$error":"#N/A"},{"$error":"#N/A"},{"$error":"#N/A"},{"$error":"#N/A"},{"$error":"#N/A"},{"$error":"#N/A"},{"$error":"#N/A"},{"$error":"#N/A"},0,1,0.33333333333333331,0.66666666666666663,{"$error":"#N/A"},{"$error":"#N/A"},{"$error":"#N/A"},{"$error":"#N/A"},{"$error":"#N/A"},{"$error":"#N/A"},{"$error":"#N/A"},{"$error":"#N/A"},{"$error":"#N/A"},{"$error":"#N/A"},{"$error":"#N/A"},{"$error":"#N/A"},{"$error":"#N/A"},{"$error":"#N/A"},{"$error":"#N/A"},{"$error":"#N/A"},{"$error":"#N/A"},{"$error":"#N/A"},{"$error":"#N/A"},{"$error":"#N/A"},{"$error":"#N/A"},{"$error":"#N/A"},{"$error":"#N/A"},{"$error":"#N/A"},{"$error":"#N/A"},{"$error":"#N/A"},{"$error":"#N/A"},{"$error":"#N/A"},{"$error":"#N/A"},{"$error":"#N/A"},{"$error":"#N/A"},{"$error":"#N/A"},{"$error":"#N/A"},{"$error":"#N/A"},{"$error":"#N/A"},{"$error":"#N/A"},{"$error":"#N/A"},{"$error":"#N/A"},{"$error":"#N/A"},{"$error":"#N/A"},{"$error":"#N/A"},{"$error":"#N/A"},{"$error":"#N/A"},{"$error":"#N/A"},{"$error":"#N/A"},{"$error":"#N/A"},{"$error":"#N/A"},{"$error":"#N/A"},{"$error":"#N/A"},{"$error":"#N/A"},{"$error":"#N/A"},{"$error":"#N/A"},{"$error":"#N/A"},{"$error":"#N/A"},{"$error":"#N/A"},{"$error":"#N/A"},{"$error":"#N/A"},{"$error":"#N/A"},{"$error":"#N/A"},{"$error":"#N/A"},{"$error":"#N/A"},{"$error":"#N/A"},{"$error":"#N/A"},{"$error":"#N/A"},{"$error":"#N/A"},{"$error":"#N/A"},{"$error":"#N/A"},{"$error":"#N/A"},{"$error":"#N/A"},{"$error":"#N/A"},{"$error":"#N/A"},{"$error":"#N/A"},{"$error":"#N/A"},{"$error":"#N/A"},{"$error":"#N/A"},{"$error":"#N/A"},{"$error":"#N/A"},{"$error":"#N/A"},{"$error":"#N/A"},{"$error":"#N/A"},{"$error":"#N/A"},{"$error":"#N/A"},{"$error":"#N/A"},{"$error":"#N/A"},{"$error":"#N/A"},{"$error":"#N/A"},{"$error":"#N/A"},{"$error":"#N/A"}]
["2020-10-05",{"$f":"VLOOKUP($A32,Data!$A$2:$E$100,2,FALSE)","v":9.7100000381469727},{"$f":"VLOOKUP($A32,Data!$A$2:$E$100,3,FALSE)","v":10.060000419616699},{"$f":"VLOOKUP($A32,Data!$A$2:$E$100,4,FALSE)","v":9.6899995803833008},{"$f":"VLOOKUP($A32,Data!$A$2:$E$100,5,FALSE)","v":9.9399995803833008},null,"2017-07-04",null,null,null,null,{"$f":"WORKDAY(INDEX(I$30:M$30,1,MATCH(L$48,I$30:M$30,1)-1),0*L$31,$G$32:$G$71)","v":"2019-10-07"},{"$f":"WORKDAY(INDEX(I$30:M$30,1,MATCH(M48,I$30:M$30,1)-1),16*M$31,$G$32:$G$71)","v":"2020-04-09"},{"$f":"WORKDAY(INDEX(I$30:M$30,1,MATCH(N$48,I$30:M$30,1)-1),48*N$31,$G$32:$G$71)","v":"2020-07-10"},{"$f":"WORKDAY(INDEX(I$30:M$30,1,MATCH(O$48,I$30:M$30,1)-1),112*O$31,$G$32:$G$71)","v":"2020-08-25"},null,{"$f":"+Q33-1","v":47},32,{"$f":"+R32/8","v":4},null,null,null,null,null,"RANGE",{"$f":"Z30-Z31","v":3.3000001907348615},null,0.390625,{"$f":"+Z36+4*Z37","v":12.5},"4/8:6/8",{"$f":"+Z36+6*Z37","v":15.625},"x",null,0," ",0,null,null,null,null,"2020-10-05",{"$error":"#N/A"},{"$error":"#N/A"},{"$error":"#N/A"},{"$error":"#N/A"},{"$error":"#N/A"},{"$error":"#N/A"},{"$error":"#N/A"},{"$error":"#N/A"},{"$error":"#N/A"},{"$error":"#N/A"},1.25,1.125,1,0,1,0.33333333333333331,0.66666666666666663,{"$error":"#N/A"},{"$error":"#N/A"},{"$error":"#N/A"},1,0.75,0.5,0.25,0,0,0,0,0,0,0,{"$error":"#N/A"},{"$error":"#N/A"},{"$error":"#N/A"},{"$error":"#N/A"},{"$error":"#N/A"},{"$error":"#N/A"},{"$error":"#N/A"},{"$error":"#N/A"},{"$error":"#N/A"},{"$error":"#N/A"},{"$error":"#N/A"},{"$error":"#N/A"},{"$error":"#N/A"},{"$error":"#N/A"},0,0.25,0.375,0.5,0.625,0.75,0.875,1,1,{"$error":"#N/A"},{"$error":"#N/A"},{"$error":"#N/A"},{"$error":"#N/A"},{"$error":"#N/A"},{"$error":"#N/A"},{"$error":"#N/A"},{"$error":"#N/A"},{"$error":"#N/A"},{"$error":"#N/A"},{"$error":"#N/A"},{"$error":"#N/A"},{"$error":"#N/A"},0,0.125,0.25,0.375,0.5,0.625,0.75,0.875,{"$error":"#N/A"},{"$error":"#N/A"},{"$error":"#N/A"},{"$error":"#N/A"},{"$error":"#N/A"},{"$error":"#N/A"},{"$error":"#N/A"},{"$error":"#N/A"},{"$error":"#N/A"},{"$error":"#N/A"},{"$error":"#N/A"},{"$error":"#N/A"},{"$error":"#N/A"},{"$error":"#N/A"},{"$error":"#N/A"},{"$error":"#N/A"},{"$error":"#N/A"},{"$error":"#N/A"},{"$error":"#N/A"},{"$error":"#N/A"},{"$error":"#N/A"},{"$error":"#N/A"},{"$error":"#N/A"},{"$error":"#N/A"},{"$error":"#N/A"},{"$error":"#N/A"},{"$error":"#N/A"},{"$error":"#N/A"},{"$error":"#N/A"},{"$error":"#N/A"}]
["2020-10-06",{"$f":"VLOOKUP($A33,Data!$A$2:$E$100,2,FALSE)","v":9.9700002670288086},{"$f":"VLOOKUP($A33,Data!$A$2:$E$100,3,FALSE)","v":10.039999961853027},{"$f":"VLOOKUP($A33,Data!$A$2:$E$100,4,FALSE)","v":9.4099998474121094},{"$f":"VLOOKUP($A33,Data!$A$2:$E$100,5,FALSE)","v":9.4300003051757795},null,"2017-09-04",null,null,null,null,{"$f":"WORKDAY(INDEX(I$30:M$30,1,MATCH(L$48,I$30:M$30,1)-1),1*L$31,$G$32:$G$71)","v":"2019-10-29"},{"$f":"WORKDAY(INDEX(I$30:M$30,1,MATCH(M48,I$30:M$30,1)-1),17*M$31,$G$32:$G$71)","v":"2020-04-22"},{"$f":"WORKDAY(INDEX(I$30:M$30,1,MATCH(N$48,I$30:M$30,1)-1),49*N$31,$G$32:$G$71)","v":"2020-07-16"},{"$f":"WORKDAY(INDEX(I$30:M$30,1,MATCH(O$48,I$30:M$30,1)-1),113*O$31,$G$32:$G$71)","v":"2020-08-27"},0.125,48,16,{"$f":"+R33/8","v":2},null,null,null,null,null,"TRUNCLOG(B2)",{"$f":"TRUNC(LOG(Z29/Z32,2))","v":1},null,0.78125,{"$f":"+Z36+4*Z37","v":12.5},"4/8:8/8",{"$f":"+Z35","v":18.75},"x",null,0," ",0,null,null,null,null,"2020-10-06",{"$error":"#N/A"},{"$error":"#N/A"},{"$error":"#N/A"},{"$error":"#N/A"},{"$error":"#N/A"},{"$error":"#N/A"},{"$error":"#N/A"},{"$error":"#N/A"},{"$error":"#N/A"},{"$error":"#N/A"},{"$error":"#N/A"},{"$error":"#N/A"},{"$error":"#N/A"},0,1,0.33333333333333331,0.66666666666666663,{"$error":"#N/A"},{"$error":"#N/A"},{"$error":"#N/A"},{"$error":"#N/A"},{"$error":"#N/A"},{"$error":"#N/A"},{"$error":"#N/A"},{"$error":"#N/A"},{"$error":"#N/A"},{"$error":"#N/A"},{"$error":"#N/A"},{"$error":"#N/A"},{"$error":"#N/A"},{"$error":"#N/A"},{"$error":"#N/A"},{"$error":"#N/A"},{"$error":"#N/A"},{"$error":"#N/A"},{"$error":"#N/A"},{"$error":"#N/A"},{"$error":"#N/A"},{"$error":"#N/A"},{"$error":"#N/A"},{"$error":"#N/A"},{"$error":"#N/A"},{"$error":"#N/A"},{"$error":"#N/A"},{"$error":"#N/A"},{"$error":"#N/A"},{"$error":"#N/A"},{"$error":"#N/A"},{"$error":"#N/A"},{"$error":"#N/A"},{"$error":"#N/A"},{"$error":"#N/A"},{"$error":"#N/A"},{"$error":"#N/A"},{"$error":"#N/A"},{"$error":"#N/A"},{"$error":"#N/A"},{"$error":"#N/A"},{"$error":"#N/A"},{"$error":"#N/A"},{"$error":"#N/A"},{"$error":"#N/A"},{"$error":"#N/A"},{"$error":"#N/A"},{"$error":"#N/A"},{"$error":"#N/A"},{"$error":"#N/A"},{"$error":"#N/A"},{"$error":"#N/A"},{"$error":"#N/A"},{"$error":"#N/A"},{"$error":"#N/A"},{"$error":"#N/A"},{"$error":"#N/A"},{"$error":"#N/A"},{"$error":"#N/A"},{"$error":"#N/A"},{"$error":"#N/A"},{"$error":"#N/A"},{"$error":"#N/A"},{"$error":"#N/A"},{"$error":"#N/A"},{"$error":"#N/A"},{"$error":"#N/A"},{"$error":"#N/A"},{"$error":"#N/A"},{"$error":"#N/A"},{"$error":"#N/A"},{"$error":"#N/A"},{"$error":"#N/A"},{"$error":"#N/A"},{"$error":"#N/A"},{"$error":"#N/A"},{"$error":"#N/A"},{"$error":"#N/A"},{"$error":"#N/A"},{"$error":"#N/A"},{"$error":"#N/A"},{"$error":"#N/A"},{"$error":"#N/A"},{"$error":"#N/A"},{"$error":"#N/A"},{"$error":"#N/A"},{"$error":"#N/A"},{"$error":"#N/A"}]
["2020-10-07",{"$f":"VLOOKUP($A34,Data!$A$2:$E$100,2,FALSE)","v":9.619999885559082},{"$f":"VLOOKUP($A34,Data!$A$2:$E$100,3,FALSE)","v":9.6700000762939435},{"$f":"VLOOKUP($A34,Data!$A$2:$E$100,4,FALSE)","v":9.4600000381469727},{"$f":"VLOOKUP($A34,Data!$A$2:$E$100,5,FALSE)","v":9.5900001525878906},null,"2017-11-23",null,null,null,null,{"$f":"WORKDAY(INDEX(I$30:M$30,1,MATCH(L$48,I$30:M$30,1)-1),2*L$31,$G$32:$G$71)","v":"2019-11-20"},{"$f":"WORKDAY(INDEX(I$30:M$30,1,MATCH(M48,I$30:M$30,1)-1),18*M$31,$G$32:$G$71)","v":"2020-05-04"},{"$f":"WORKDAY(INDEX(I$30:M$30,1,MATCH(N$48,I$30:M$30,1)-1),50*N$31,$G$32:$G$71)","v":"2020-07-22"},{"$f":"WORKDAY(INDEX(I$30:M$30,1,MATCH(O$48,I$30:M$30,1)-1),114*O$31,$G$32:$G$71)","v":"2020-08-31"},0.25,49,null,null,null,null,null,null,null,"OCTAVE",{"$f":"Z29/(2^Z33)","v":6.25},null,1.5625,{"$f":"+Z36","v":6.25},"0/8:8/8",{"$f":"+Z35","v":18.75},9.1999998092651385,null,0," ",0,null,null,null,null,"2020-10-07",{"$error":"#N/A"},{"$error":"#N/A"},{"$error":"#N/A"},{"$error":"#N/A"},{"$error":"#N/A"},{"$error":"#N/A"},{"$error":"#N/A"},{"$error":"#N/A"},{"$error":"#N/A"},{"$error":"#N/A"},{"$error":"#N/A"},{"$error":"#N/A"},{"$error":"#N/A"},0,1,0.33333333333333331,0.66666666666666663,{"$error":"#N/A"},{"$error":"#N/A"},{"$error":"#N/A"},{"$error":"#N/A"},{"$error":"#N/A"},{"$error":"#N/A"},{"$error":"#N/A"},{"$error":"#N/A"},{"$error":"#N/A"},{"$error":"#N/A"},{"$error":"#N/A"},{"$error":"#N/A"},{"$error":"#N/A"},{"$error":"#N/A"},{"$error":"#N/A"},{"$error":"#N/A"},{"$error":"#N/A"},{"$error":"#N/A"},{"$error":"#N/A"},{"$error":"#N/A"},{"$error":"#N/A"},{"$error":"#N/A"},{"$error":"#N/A"},{"$error":"#N/A"},{"$error":"#N/A"},{"$error":"#N/A"},{"$error":"#N/A"},{"$error":"#N/A"},{"$error":"#N/A"},{"$error":"#N/A"},{"$error":"#N/A"},{"$error":"#N/A"},{"$error":"#N/A"},{"$error":"#N/A"},{"$error":"#N/A"},{"$error":"#N/A"},{"$error":"#N/A"},{"$error":"#N/A"},{"$error":"#N/A"},{"$error":"#N/A"},{"$error":"#N/A"},{"$error":"#N/A"},{"$error":"#N/A"},{"$error":"#N/A"},{"$error":"#N/A"},{"$error":"#N/A"},{"$error":"#N/A"},{"$error":"#N/A"},{"$error":"#N/A"},{"$error":"#N/A"},{"$error":"#N/A"},{"$error":"#N/A"},{"$error":"#N/A"},{"$error":"#N/A"},{"$error":"#N/A"},{"$error":"#N/A"},{"$error":"#N/A"},{"$error":"#N/A"},{"$error":"#N/A"},{"$error":"#N/A"},{"$error":"#N/A"},{"$error":"#N/A"},{"$error":"#N/A"},{"$error":"#N/A"},{"$error":"#N/A"},{"$error":"#N/A"},{"$error":"#N/A"},{"$error":"#N/A"},{"$error":"#N/A"},{"$error":"#N/A"},{"$error":"#N/A"},{"$error":"#N/A"},{"$error":"#N/A"},{"$error":"#N/A"},{"$error":"#N/A"},{"$error":"#N/A"},{"$error":"#N/A"},{"$error":"#N/A"},{"$error":"#N/A"},{"$error":"#N/A"},{"$error":"#N/A"},{"$error":"#N/A"},{"$error":"#N/A"},{"$error":"#N/A"},{"$error":"#N/A"},{"$error":"#N/A"},{"$error":"#N/A"},{"$error":"#N/A"}]
["2020-10-08",{"$f":"VLOOKUP($A35,Data!$A$2:$E$100,2,FALSE)","v":9.6999998092651367},{"$f":"VLOOKUP($A35,Data!$A$2:$E$100,3,FALSE)","v":9.869999885559082},{"$f":"VLOOKUP($A35,Data!$A$2:$E$100,4,FALSE)","v":9.630000114440918},{"$f":"VLOOKUP($A35,Data!$A$2:$E$100,5,FALSE)","v":9.8299999237060565},null,"2017-12-25",null,null,null,null,{"$f":"WORKDAY(INDEX(I$30:M$30,1,MATCH(L$48,I$30:M$30,1)-1),3*L$31,$G$32:$G$71)","v":"2019-12-13"},{"$f":"WORKDAY(INDEX(I$30:M$30,1,MATCH(M48,I$30:M$30,1)-1),19*M$31,$G$32:$G$71)","v":"2020-05-14"},{"$f":"WORKDAY(INDEX(I$30:M$30,1,MATCH(N$48,I$30:M$30,1)-1),51*N$31,$G$32:$G$71)","v":"2020-07-28"},{"$f":"WORKDAY(INDEX(I$30:M$30,1,MATCH(O$48,I$30:M$30,1)-1),115*O$31,$G$32:$G$71)","v":"2020-09-02"},0.375,50,null,0.25,null,null,null,null,null,"FRAME(MAX)",{"$f":"IF((Z36+Z34)>Z30,Z36+Z34,Z36+2*Z34)","v":18.75},null,0.390625,{"$f":"+Z36+1*Z37","v":7.8125},"1/8:3/8",{"$f":"+Z36+3*Z37","v":10.9375},"x",null,0," ",{"$f":"IF(AND((AF35=AF$41),AJ$29=0,AJ$30=0,AJ$31=0,AJ$32=0,AJ$33=0,AJ$34=0),AE35,0)","v":0},null,null,null,null,"2020-10-08",{"$error":"#N/A"},{"$error":"#N/A"},{"$error":"#N/A"},{"$error":"#N/A"},{"$error":"#N/A"},{"$error":"#N/A"},{"$error":"#N/A"},{"$error":"#N/A"},{"$error":"#N/A"},{"$error":"#N/A"},{"$error":"#N/A"},{"$error":"#N/A"},{"$error":"#N/A"},0,1,0.33333333333333331,0.66666666666666663,{"$error":"#N/A"},{"$error":"#N/A"},{"$error":"#N/A"},{"$error":"#N/A"},{"$error":"#N/A"},{"$error":"#N/A"},{"$error":"#N/A"},{"$error":"#N/A"},{"$error":"#N/A"},{"$error":"#N/A"},{"$error":"#N/A"},{"$error":"#N/A"},{"$error":"#N/A"},{"$error":"#N/A"},{"$error":"#N/A"},{"$error":"#N/A"},{"$error":"#N/A"},{"$error":"#N/A"},{"$error":"#N/A"},{"$error":"#N/A"},{"$error":"#N/A"},{"$error":"#N/A"},{"$error":"#N/A"},{"$error":"#N/A"},{"$error":"#N/A"},{"$error":"#N/A"},{"$error":"#N/A"},{"$error":"#N/A"},{"$error":"#N/A"},{"$error":"#N/A"},{"$error":"#N/A"},{"$error":"#N/A"},{"$error":"#N/A"},{"$error":"#N/A"},{"$error":"#N/A"},{"$error":"#N/A"},{"$error":"#N/A"},{"$error":"#N/A"},{"$error":"#N/A"},{"$error":"#N/A"},{"$error":"#N/A"},{"$error":"#N/A"},{"$error":"#N/A"},{"$error":"#N/A"},{"$error":"#N/A"},{"$error":"#N/A"},{"$error":"#N/A"},{"$error":"#N/A"},{"$error":"#N/A"},{"$error":"#N/A"},{"$error":"#N/A"},{"$error":"#N/A"},{"$error":"#N/A"},{"$error":"#N/A"},{"$error":"#N/A"},{"$error":"#N/A"},{"$error":"#N/A"},{"$error":"#N/A"},{"$error":"#N/A"},{"$error":"#N/A"},{"$error":"#N/A"},{"$error":"#N/A"},{"$error":"#N/A"},{"$error":"#N/A"},{"$error":"#N/A"},{"$error":"#N/A"},{"$error":"#N/A"},{"$error":"#N/A"},{"$error":"#N/A"},{"$error":"#N/A"},{"$error":"#N/A"},{"$error":"#N/A"},{"$error":"#N/A"},{"$error":"#N/A"},{"$error":"#N/A"},{"$error":"#N/A"},{"$error":"#N/A"},{"$error":"#N/A"},{"$error":"#N/A"},{"$error":"#N/A"},{"$error":"#N/A"},{"$error":"#N/A"},{"$error":"#N/A"},{"$error":"#N/A"},{"$error":"#N/A"},{"$error":"#N/A"},{"$error":"#N/A"},{"$error":"#N/A"}]
["2020-10-09",{"$f":"VLOOKUP($A36,Data!$A$2:$E$100,2,FALSE)","v":10.130000114440918},{"$f":"VLOOKUP($A36,Data!$A$2:$E$100,3,FALSE)","v":10.600000381469728},{"$f":"VLOOKUP($A36,Data!$A$2:$E$100,4,FALSE)","v":10.090000152587891},{"$f":"VLOOKUP($A36,Data!$A$2:$E$100,5,FALSE)","v":10.560000419616699},null,"2018-01-01",null,null,null,null,{"$f":"WORKDAY(INDEX(I$30:M$30,1,MATCH(L$48,I$30:M$30,1)-1),4*L$31,$G$32:$G$71)","v":"2020-01-08"},{"$f":"WORKDAY(INDEX(I$30:M$30,1,MATCH(M48,I$30:M$30,1)-1),20*M$31,$G$32:$G$71)","v":"2020-05-27"},{"$f":"WORKDAY(INDEX(I$30:M$30,1,MATCH(N$48,I$30:M$30,1)-1),52*N$31,$G$32:$G$71)","v":"2020-08-03"},{"$f":"WORKDAY(INDEX(I$30:M$30,1,MATCH(O$48,I$30:M$30,1)-1),116*O$31,$G$32:$G$71)","v":"2020-09-04"},0.5,51,"64 circles","32 circles","16 circles",null,null,null,null,"FRAME(MIN)",{"$f":"TRUNC(Z31/Z$34)*Z$34","v":6.25},null,0.78125,{"$f":"+Z36+1*Z37","v":7.8125},"1/8:5/8",{"$f":"+Z36+5*Z37","v":14.0625},2.9499998092651385,null,0," ",{"$f":"IF(AND((AF36=AF$41),AJ$29=0,AJ$30=0,AJ$31=0,AJ$32=0,AJ$33=0,AJ$34=0),AE36,0)","v":0},null,null,null,null,"2020-10-09",{"$error":"#N/A"},{"$error":"#N/A"},{"$error":"#N/A"},{"$error":"#N/A"},{"$error":"#N/A"},{"$error":"#N/A"},{"$error":"#N/A"},{"$error":"#N/A"},{"$error":"#N/A"},{"$error":"#N/A"},{"$error":"#N/A"},{"$error":"#N/A"},1,0,1,0.33333333333333331,0.66666666666666663,{"$f":"IF($W$5,IF(AO36=$H$21,0,IF(AO36=$G$26,1,NA())),NA())","v":{"$error":"#N/A"}},{"$f":"IF($W$5,IF(AO36=$H$21,0,IF(AO36=$G$27,1,NA())),NA())","v":{"$error":"#N/A"}},{"$f":"IF($W$5,IF(AO36=$H$21,0,IF(AO36=$G$28,1,NA())),NA())","v":{"$error":"#N/A"}},{"$error":"#N/A"},{"$error":"#N/A"},{"$error":"#N/A"},{"$error":"#N/A"},{"$f":"IF($W$5,IF(AO36=$H$22,0,IF(AO36=$H$26,1,NA())),NA())","v":{"$error":"#N/A"}},{"$f":"IF($W$5,IF(AO36=$H$22,0,IF(AO36=$H$27,1,NA())),NA())","v":{"$error":"#N/A"}},{"$f":"IF($W$5,IF(AO36=$H$22,0,IF(AO36=$H$28,1,NA())),NA())","v":{"$error":"#N/A"}},{"$f":"IF($W$5,IF(AO36=$H$22,0,IF(AO36=$H$23,1,NA())),NA())","v":{"$error":"#N/A"}},{"$f":"IF($W$5,IF(AO36=$H$22,0,IF(AO36=$H$23,6/8,NA())),NA())","v":{"$error":"#N/A"}},{"$f":"IF($W$5,IF(AO36=$H$22,0,IF(AO36=$H$23,4/8,NA())),NA())","v":{"$error":"#N/A"}},{"$f":"IF($W$5,IF(AO36=$H$22,0,IF(AO36=$H$23,2/8,NA())),NA())","v":{"$error":"#N/A"}},{"$f":"IF($W$8,IF(AO36=$H$21,1,IF(AO36=$G$26,0,NA())),NA())","v":{"$error":"#N/A"}},{"$f":"IF($W$8,IF(AO36=$H$21,1,IF(AO36=$G$27,0,NA())),NA())","v":{"$error":"#N/A"}},{"$f":"IF($W$8,IF(AO36=$H$21,1,IF(AO36=$G$28,0,NA())),NA())","v":{"$error":"#N/A"}},{"$error":"#N/A"},{"$f":"IF($W$8,IF(AO36=$H$21,1,IF(AO36=$H$22,2/8,NA())),NA())","v":{"$error":"#N/A"}},{"$error":"#N/A"},{"$f":"IF($W$8,IF(AO36=$H$21,1,IF(AO36=$H$22,6/8,NA())),NA())","v":{"$error":"#N/A"}},{"$f":"IF($W$8,IF(AO36=$H$22,1,IF(AO36=$H$26,0,NA())),NA())","v":{"$error":"#N/A"}},{"$f":"IF($W$8,IF(AO36=$H$22,1,IF(AO36=$H$27,0,NA())),NA())","v":{"$error":"#N/A"}},{"$f":"IF($W$8,IF(AO36=$H$22,1,IF(AO36=$H$28,0,NA())),NA())","v":{"$error":"#N/A"}},{"$f":"IF($W$8,IF(AO36=$H$22,1,IF(AO36=$H$23,0,NA())),NA())","v":{"$error":"#N/A"}},{"$f":"IF($W$8,IF(AO36=$H$22,1,IF(AO36=$H$23,2/8,NA())),NA())","v":{"$error":"#N/A"}},{"$error":"#N/A"},{"$error":"#N/A"},{"$error":"#N/A"},{"$error":"#N/A"},{"$error":"#N/A"},{"$error":"#N/A"},{"$error":"#N/A"},{"$error":"#N/A"},{"$error":"#N/A"},{"$error":"#N/A"},{"$error":"#N/A"},{"$error":"#N/A"},{"$error":"#N/A"},{"$error":"#N/A"},{"$error":"#N/A"},{"$error":"#N/A"},{"$error":"#N/A"},{"$error":"#N/A"},{"$error":"#N/A"},{"$error":"#N/A"},{"$error":"#N/A"},{"$error":"#N/A"},{"$error":"#N/A"},0,{"$error":"#N/A"},{"$error":"#N/A"},{"$error":"#N/A"},{"$error":"#N/A"},{"$error":"#N/A"},{"$error":"#N/A"},{"$error":"#N/A"},1,{"$error":"#N/A"},{"$error":"#N/A"},{"$error":"#N/A"},{"$error":"#N/A"},{"$error":"#N/A"},{"$error":"#N/A"},{"$error":"#N/A"},{"$error":"#N/A"},{"$error":"#N/A"},{"$error":"#N/A"},{"$error":"#N/A"},{"$error":"#N/A"},{"$error":"#N/A"},{"$error":"#N/A"},{"$error":"#N/A"},{"$error":"#N/A"},{"$error":"#N/A"},{"$error":"#N/A"},{"$error":"#N/A"},{"$error":"#N/A"},{"$error":"#N/A"},{"$error":"#N/A"},{"$error":"#N/A"},{"$error":"#N/A"},{"$error":"#N/A"},{"$error":"#N/A"},{"$error":"#N/A"},{"$error":"#N/A"},{"$error":"#N/A"},{"$error":"#N/A"}]
["2020-10-12",{"$f":"VLOOKUP($A37,Data!$A$2:$E$100,2,FALSE)","v":10.579999923706056},{"$f":"VLOOKUP($A37,Data!$A$2:$E$100,3,FALSE)","v":10.699999809265137},{"$f":"VLOOKUP($A37,Data!$A$2:$E$100,4,FALSE)","v":10.310000419616699},{"$f":"VLOOKUP($A37,Data!$A$2:$E$100,5,FALSE)","v":10.600000381469728},null,"2018-01-15",null,null,null,null,{"$f":"WORKDAY(INDEX(I$30:M$30,1,MATCH(L$48,I$30:M$30,1)-1),5*L$31,$G$32:$G$71)","v":"2020-01-31"},{"$f":"WORKDAY(INDEX(I$30:M$30,1,MATCH(M48,I$30:M$30,1)-1),21*M$31,$G$32:$G$71)","v":"2020-06-08"},{"$f":"WORKDAY(INDEX(I$30:M$30,1,MATCH(N$48,I$30:M$30,1)-1),53*N$31,$G$32:$G$71)","v":"2020-08-07"},{"$f":"WORKDAY(INDEX(I$30:M$30,1,MATCH(O$48,I$30:M$30,1)-1),117*O$31,$G$32:$G$71)","v":"2020-09-09"},0.625,52,{"$f":"+M42","v":"2020-08-03"},{"$f":"+N42","v":"2020-09-04"},{"$f":"+O42","v":"2020-09-23"},null,null,null,null,"1/8 th",{"$f":"(Z35-Z36)/8","v":1.5625},null,0.390625,{"$f":"+Z36+3*Z37","v":10.9375},"3/8:5/8",{"$f":"+Z36+5*Z37","v":14.0625},"x",null,0," ",{"$f":"IF(AND((AF37=AF$41),AJ$29=0,AJ$30=0,AJ$31=0,AJ$32=0,AJ$33=0,AJ$34=0),AE37,0)","v":0},null,null,null,null,"2020-10-12",{"$error":"#N/A"},{"$error":"#N/A"},{"$error":"#N/A"},{"$error":"#N/A"},{"$error":"#N/A"},{"$error":"#N/A"},{"$error":"#N/A"},{"$error":"#N/A"},{"$error":"#N/A"},{"$error":"#N/A"},{"$error":"#N/A"},{"$error":"#N/A"},{"$error":"#N/A"},0,1,0.33333333333333331,0.66666666666666663,{"$error":"#N/A"},{"$error":"#N/A"},{"$error":"#N/A"},{"$error":"#N/A"},{"$error":"#N/A"},{"$error":"#N/A"},{"$error":"#N/A"},{"$error":"#N/A"},{"$error":"#N/A"},{"$error":"#N/A"},{"$error":"#N/A"},{"$error":"#N/A"},{"$error":"#N/A"},{"$error":"#N/A"},{"$error":"#N/A"},{"$error":"#N/A"},{"$error":"#N/A"},{"$error":"#N/A"},{"$error":"#N/A"},{"$error":"#N/A"},{"$error":"#N/A"},{"$error":"#N/A"},{"$error":"#N/A"},{"$error":"#N/A"},{"$error":"#N/A"},{"$error":"#N/A"},{"$error":"#N/A"},{"$error":"#N/A"},{"$error":"#N/A"},{"$error":"#N/A"},{"$error":"#N/A"},{"$error":"#N/A"},{"$error":"#N/A"},{"$error":"#N/A"},{"$error":"#N/A"},{"$error":"#N/A"},{"$error":"#N/A"},{"$error":"#N/A"},{"$error":"#N/A"},{"$error":"#N/A"},{"$error":"#N/A"},{"$error":"#N/A"},{"$error":"#N/A"},{"$error":"#N/A"},{"$error":"#N/A"},{"$error":"#N/A"},{"$error":"#N/A"},{"$error":"#N/A"},{"$error":"#N/A"},{"$error":"#N/A"},{"$error":"#N/A"},{"$error":"#N/A"},{"$error":"#N/A"},{"$error":"#N/A"},{"$error":"#N/A"},{"$error":"#N/A"},{"$error":"#N/A"},{"$error":"#N/A"},{"$error":"#N/A"},{"$error":"#N/A"},{"$error":"#N/A"},{"$error":"#N/A"},{"$error":"#N/A"},{"$error":"#N/A"},{"$error":"#N/A"},{"$error":"#N/A"},{"$error":"#N/A"},{"$error":"#N/A"},{"$error":"#N/A"},{"$error":"#N/A"},{"$error":"#N/A"},{"$error":"#N/A"},{"$error":"#N/A"},{"$error":"#N/A"},{"$error":"#N/A"},{"$error":"#N/A"},{"$error":"#N/A"},{"$error":"#N/A"},{"$error":"#N/A"},{"$error":"#N/A"},{"$error":"#N/A"},{"$error":"#N/A"},{"$error":"#N/A"},{"$error":"#N/A"},{"$error":"#N/A"},{"$error":"#N/A"},{"$error":"#N/A"},{"$error":"#N/A"}]
["2020-10-13",{"$f":"VLOOKUP($A38,Data!$A$2:$E$100,2,FALSE)","v":10.350000381469728},{"$f":"VLOOKUP($A38,Data!$A$2:$E$100,3,FALSE)","v":10.574999809265137},{"$f":"VLOOKUP($A38,Data!$A$2:$E$100,4,FALSE)","v":10.140000343322754},{"$f":"VLOOKUP($A38,Data!$A$2:$E$100,5,FALSE)","v":10.529999732971191},null,"2018-02-19",null,null,null,null,{"$f":"WORKDAY(INDEX(I$30:M$30,1,MATCH(L$48,I$30:M$30,1)-1),6*L$31,$G$32:$G$71)","v":"2020-02-25"},{"$f":"WORKDAY(INDEX(I$30:M$30,1,MATCH(M48,I$30:M$30,1)-1),22*M$31,$G$32:$G$71)","v":"2020-06-18"},{"$f":"WORKDAY(INDEX(I$30:M$30,1,MATCH(N$48,I$30:M$30,1)-1),54*N$31,$G$32:$G$71)","v":"2020-08-13"},{"$f":"WORKDAY(INDEX(I$30:M$30,1,MATCH(O$48,I$30:M$30,1)-1),118*O$31,$G$32:$G$71)","v":"2020-09-11"},0.75,53,{"$f":"+M46","v":"2020-09-17"},{"$f":"+N46","v":"2020-09-29"},{"$f":"+O46","v":""},null,null,null,null,null,null,null,0.78125,{"$f":"+Z36+3*Z37","v":10.9375},"3/8:7/8",{"$f":"+Z36+7*Z37","v":17.1875},"x",null,0," ",{"$f":"IF(AND((AF38=AF$41),AJ$29=0,AJ$30=0,AJ$31=0,AJ$32=0,AJ$33=0,AJ$34=0),AE38,0)","v":0},null,null,null,null,"2020-10-13",{"$error":"#N/A"},{"$error":"#N/A"},{"$error":"#N/A"},{"$error":"#N/A"},{"$error":"#N/A"},{"$error":"#N/A"},{"$error":"#N/A"},{"$error":"#N/A"},{"$error":"#N/A"},{"$error":"#N/A"},{"$error":"#N/A"},{"$error":"#N/A"},{"$error":"#N/A"},0,1,0.33333333333333331,0.66666666666666663,{"$error":"#N/A"},{"$error":"#N/A"},{"$error":"#N/A"},{"$error":"#N/A"},{"$error":"#N/A"},{"$error":"#N/A"},{"$error":"#N/A"},{"$error":"#N/A"},{"$error":"#N/A"},{"$error":"#N/A"},{"$error":"#N/A"},{"$error":"#N/A"},{"$error":"#N/A"},{"$error":"#N/A"},{"$error":"#N/A"},{"$error":"#N/A"},{"$error":"#N/A"},{"$error":"#N/A"},{"$error":"#N/A"},{"$error":"#N/A"},{"$error":"#N/A"},{"$error":"#N/A"},{"$error":"#N/A"},{"$error":"#N/A"},{"$error":"#N/A"},{"$error":"#N/A"},{"$error":"#N/A"},{"$error":"#N/A"},{"$error":"#N/A"},{"$error":"#N/A"},{"$error":"#N/A"},{"$error":"#N/A"},{"$error":"#N/A"},{"$error":"#N/A"},{"$error":"#N/A"},{"$error":"#N/A"},{"$error":"#N/A"},{"$error":"#N/A"},{"$error":"#N/A"},{"$error":"#N/A"},{"$error":"#N/A"},{"$error":"#N/A"},{"$error":"#N/A"},{"$error":"#N/A"},{"$error":"#N/A"},{"$error":"#N/A"},{"$error":"#N/A"},{"$error":"#N/A"},{"$error":"#N/A"},{"$error":"#N/A"},{"$error":"#N/A"},{"$error":"#N/A"},{"$error":"#N/A"},{"$error":"#N/A"},{"$error":"#N/A"},{"$error":"#N/A"},{"$error":"#N/A"},{"$error":"#N/A"},{"$error":"#N/A"},{"$error":"#N/A"},{"$error":"#N/A"},{"$error":"#N/A"},{"$error":"#N/A"},{"$error":"#N/A"},{"$error":"#N/A"},{"$error":"#N/A"},{"$error":"#N/A"},{"$error":"#N/A"},{"$error":"#N/A"},{"$error":"#N/A"},{"$error":"#N/A"},{"$error":"#N/A"},{"$error":"#N/A"},{"$error":"#N/A"},{"$error":"#N/A"},{"$error":"#N/A"},{"$error":"#N/A"},{"$error":"#N/A"},{"$error":"#N/A"},{"$error":"#N/A"},{"$error":"#N/A"},{"$error":"#N/A"},{"$error":"#N/A"},{"$error":"#N/A"},{"$error":"#N/A"},{"$error":"#N/A"},{"$error":"#N/A"},{"$error":"#N/A"}]
["2020-10-14",{"$f":"VLOOKUP($A39,Data!$A$2:$E$100,2,FALSE)","v":10.789999961853027},{"$f":"VLOOKUP($A39,Data!$A$2:$E$100,3,FALSE)","v":10.970000267028809},{"$f":"VLOOKUP($A39,Data!$A$2:$E$100,4,FALSE)","v":10.619999885559082},{"$f":"VLOOKUP($A39,Data!$A$2:$E$100,5,FALSE)","v":10.810000419616699},null,"2018-03-30",null,null,null,null,{"$f":"WORKDAY(INDEX(I$30:M$30,1,MATCH(L$48,I$30:M$30,1)-1),7*L$31,$G$32:$G$71)","v":"2020-03-18"},{"$f":"WORKDAY(INDEX(I$30:M$30,1,MATCH(M48,I$30:M$30,1)-1),23*M$31,$G$32:$G$71)","v":"2020-06-30"},{"$f":"WORKDAY(INDEX(I$30:M$30,1,MATCH(N$48,I$30:M$30,1)-1),55*N$31,$G$32:$G$71)","v":"2020-08-19"},{"$f":"WORKDAY(INDEX(I$30:M$30,1,MATCH(O$48,I$30:M$30,1)-1),119*O$31,$G$32:$G$71)","v":"2020-09-15"},0.875,54,{"$f":"+M50","v":"2020-10-27"},{"$f":"+N50","v":"2020-10-15"},{"$f":"+O50","v":"2020-10-09"},null,null,null,null,null,null,null,0.390625,{"$f":"+Z36+5*Z37","v":14.0625},"5/8:7/8",{"$f":"+Z36+7*Z37","v":17.1875},"x",null,0," ",{"$f":"IF(AND((AF39=AF$41),AJ$29=0,AJ$30=0,AJ$31=0,AJ$32=0,AJ$33=0,AJ$34=0),AE39,0)","v":0},null,null,null,null,"2020-10-14",{"$error":"#N/A"},{"$error":"#N/A"},{"$error":"#N/A"},{"$error":"#N/A"},{"$error":"#N/A"},{"$error":"#N/A"},{"$error":"#N/A"},{"$error":"#N/A"},{"$error":"#N/A"},{"$error":"#N/A"},{"$error":"#N/A"},{"$error":"#N/A"},{"$error":"#N/A"},0,1,0.33333333333333331,0.66666666666666663,{"$error":"#N/A"},{"$error":"#N/A"},{"$error":"#N/A"},{"$error":"#N/A"},{"$error":"#N/A"},{"$error":"#N/A"},{"$error":"#N/A"},{"$error":"#N/A"},{"$error":"#N/A"},{"$error":"#N/A"},{"$error":"#N/A"},{"$error":"#N/A"},{"$error":"#N/A"},{"$error":"#N/A"},{"$error":"#N/A"},{"$error":"#N/A"},{"$error":"#N/A"},{"$error":"#N/A"},{"$error":"#N/A"},{"$error":"#N/A"},{"$error":"#N/A"},{"$error":"#N/A"},{"$error":"#N/A"},{"$error":"#N/A"},{"$error":"#N/A"},{"$error":"#N/A"},{"$error":"#N/A"},{"$error":"#N/A"},{"$error":"#N/A"},{"$error":"#N/A"},{"$error":"#N/A"},{"$error":"#N/A"},{"$error":"#N/A"},{"$error":"#N/A"},{"$error":"#N/A"},{"$error":"#N/A"},{"$error":"#N/A"},{"$error":"#N/A"},{"$error":"#N/A"},{"$error":"#N/A"},{"$error":"#N/A"},{"$error":"#N/A"},{"$error":"#N/A"},{"$error":"#N/A"},{"$error":"#N/A"},{"$error":"#N/A"},{"$error":"#N/A"},{"$error":"#N/A"},{"$error":"#N/A"},{"$error":"#N/A"},{"$error":"#N/A"},{"$error":"#N/A"},{"$error":"#N/A"},{"$error":"#N/A"},{"$error":"#N/A"},{"$error":"#N/A"},{"$error":"#N/A"},{"$error":"#N/A"},{"$error":"#N/A"},{"$error":"#N/A"},{"$error":"#N/A"},{"$error":"#N/A"},{"$error":"#N/A"},{"$error":"#N/A"},{"$error":"#N/A"},{"$error":"#N/A"},{"$error":"#N/A"},{"$error":"#N/A"},{"$error":"#N/A"},{"$error":"#N/A"},{"$error":"#N/A"},{"$error":"#N/A"},{"$error":"#N/A"},{"$error":"#N/A"},{"$error":"#N/A"},{"$error":"#N/A"},{"$error":"#N/A"},{"$error":"#N/A"},{"$error":"#N/A"},{"$error":"#N/A"},{"$error":"#N/A"},{"$error":"#N/A"},{"$error":"#N/A"},{"$error":"#N/A"},{"$error":"#N/A"},{"$error":"#N/A"},{"$error":"#N/A"},{"$error":"#N/A"}]
["2020-10-15",{"$f":"VLOOKUP($A40,Data!$A$2:$E$100,2,FALSE)","v":10.470000267028809},{"$f":"VLOOKUP($A40,Data!$A$2:$E$100,3,FALSE)","v":10.720000267028809},{"$f":"VLOOKUP($A40,Data!$A$2:$E$100,4,FALSE)","v":10.449999809265137},{"$f":"VLOOKUP($A40,Data!$A$2:$E$100,5,FALSE)","v":10.710000038146973},null,"2018-05-28",null,null,null,{"$f":"WORKDAY(INDEX(I$30:M$30,1,MATCH(K$48,I$30:M$30,1)-1),0*K$31,$G$32:$G$71)","v":"2019-10-07"},{"$f":"WORKDAY(INDEX(I$30:M$30,1,MATCH(L$48,I$30:M$30,1)-1),8*L$31,$G$32:$G$71)","v":"2020-04-09"},{"$f":"WORKDAY(INDEX(I$30:M$30,1,MATCH(M48,I$30:M$30,1)-1),24*M$31,$G$32:$G$71)","v":"2020-07-10"},{"$f":"WORKDAY(INDEX(I$30:M$30,1,MATCH(N$48,I$30:M$30,1)-1),56*N$31,$G$32:$G$71)","v":"2020-08-25"},{"$f":"WORKDAY(INDEX(I$30:M$30,1,MATCH(O$48,I$30:M$30,1)-1),120*O$31,$G$32:$G$71)","v":"2020-09-17"},null,55,{"$f":"+M54","v":"2020-12-11"},{"$f":"+N54","v":"2020-11-06"},{"$f":"+O54","v":"2020-10-21"},null,null,null,null,null,null,null,null,null,null,null,null,null,"0/8th",null,"8/8th",null,null,null,null,"2020-10-15",-0.25,-0.25,0.25,0.25,0.75,0.75,1.25,1.25,{"$error":"#N/A"},{"$error":"#N/A"},{"$error":"#N/A"},1.125,1,0,1,0.33333333333333331,0.66666666666666663,{"$error":"#N/A"},{"$error":"#N/A"},{"$error":"#N/A"},{"$error":"#N/A"},{"$error":"#N/A"},{"$error":"#N/A"},{"$error":"#N/A"},1,{"$error":"#N/A"},{"$error":"#N/A"},{"$error":"#N/A"},{"$error":"#N/A"},{"$error":"#N/A"},{"$error":"#N/A"},{"$error":"#N/A"},{"$error":"#N/A"},{"$error":"#N/A"},{"$error":"#N/A"},{"$error":"#N/A"},{"$error":"#N/A"},{"$error":"#N/A"},{"$error":"#N/A"},{"$error":"#N/A"},{"$error":"#N/A"},{"$error":"#N/A"},{"$error":"#N/A"},{"$error":"#N/A"},{"$error":"#N/A"},{"$error":"#N/A"},{"$error":"#N/A"},{"$error":"#N/A"},{"$error":"#N/A"},{"$error":"#N/A"},{"$error":"#N/A"},{"$error":"#N/A"},{"$error":"#N/A"},{"$error":"#N/A"},{"$error":"#N/A"},{"$error":"#N/A"},{"$error":"#N/A"},{"$error":"#N/A"},{"$error":"#N/A"},{"$error":"#N/A"},{"$error":"#N/A"},{"$error":"#N/A"},{"$error":"#N/A"},{"$error":"#N/A"},{"$error":"#N/A"},0,{"$error":"#N/A"},{"$error":"#N/A"},{"$error":"#N/A"},{"$error":"#N/A"},{"$error":"#N/A"},{"$error":"#N/A"},{"$error":"#N/A"},1,{"$error":"#N/A"},{"$error":"#N/A"},{"$error":"#N/A"},{"$error":"#N/A"},{"$error":"#N/A"},{"$error":"#N/A"},{"$error":"#N/A"},{"$error":"#N/A"},{"$error":"#N/A"},{"$error":"#N/A"},{"$error":"#N/A"},{"$error":"#N/A"},{"$error":"#N/A"},{"$error":"#N/A"},{"$error":"#N/A"},{"$error":"#N/A"},{"$error":"#N/A"},{"$error":"#N/A"},{"$error":"#N/A"},{"$error":"#N/A"},{"$error":"#N/A"},{"$error":"#N/A"},{"$error":"#N/A"},{"$error":"#N/A"},{"$error":"#N/A"},{"$error":"#N/A"},{"$error":"#N/A"},{"$error":"#N/A"},{"$error":"#N/A"},{"$error":"#N/A"},{"$error":"#N/A"}]
["2020-10-16",{"$f":"VLOOKUP($A41,Data!$A$2:$E$100,2,FALSE)","v":10.789999961853027},{"$f":"VLOOKUP($A41,Data!$A$2:$E$100,3,FALSE)","v":10.810000419616699},{"$f":"VLOOKUP($A41,Data!$A$2:$E$100,4,FALSE)","v":10.470000267028809},{"$f":"VLOOKUP($A41,Data!$A$2:$E$100,5,FALSE)","v":10.510000228881836},null,"2018-07-04",null,null,null,{"$f":"WORKDAY(INDEX(I$30:M$30,1,MATCH(K$48,I$30:M$30,1)-1),1*K$31,$G$32:$G$71)","v":"2019-11-20"},{"$f":"WORKDAY(INDEX(I$30:M$30,1,MATCH(L$48,I$30:M$30,1)-1),9*L$31,$G$32:$G$71)","v":"2020-05-04"},{"$f":"WORKDAY(INDEX(I$30:M$30,1,MATCH(M48,I$30:M$30,1)-1),25*M$31,$G$32:$G$71)","v":"2020-07-22"},{"$f":"WORKDAY(INDEX(I$30:M$30,1,MATCH(N$48,I$30:M$30,1)-1),57*N$31,$G$32:$G$71)","v":"2020-08-31"},{"$f":"WORKDAY(INDEX(I$30:M$30,1,MATCH(O$48,I$30:M$30,1)-1),121*O$31,$G$32:$G$71)","v":"2020-09-21"},0.125,56,{"$f":"+M58","v":"2021-01-29"},{"$f":"+N58","v":"2020-12-01"},{"$f":"+O58","v":"2020-11-02"},null,null,null,null,null,null,null,null,{"$f":"+Z31","v":9.3299999237060565},"LO:HI",{"$f":"+Z30","v":12.630000114440918},{"$f":"MIN(AF29:AF39)","v":0.1750001907348615},null,null,null,null,null,null,null,null,"2020-10-16",{"$error":"#N/A"},{"$error":"#N/A"},{"$error":"#N/A"},{"$error":"#N/A"},{"$error":"#N/A"},{"$error":"#N/A"},{"$error":"#N/A"},{"$error":"#N/A"},{"$error":"#N/A"},{"$error":"#N/A"},{"$error":"#N/A"},{"$error":"#N/A"},{"$error":"#N/A"},0,1,0.33333333333333331,0.66666666666666663,{"$error":"#N/A"},{"$error":"#N/A"},{"$error":"#N/A"},{"$error":"#N/A"},{"$error":"#N/A"},{"$error":"#N/A"},{"$error":"#N/A"},{"$error":"#N/A"},{"$error":"#N/A"},{"$error":"#N/A"},{"$error":"#N/A"},{"$error":"#N/A"},{"$error":"#N/A"},{"$error":"#N/A"},{"$error":"#N/A"},{"$error":"#N/A"},{"$error":"#N/A"},{"$error":"#N/A"},{"$error":"#N/A"},{"$error":"#N/A"},{"$error":"#N/A"},{"$error":"#N/A"},{"$error":"#N/A"},{"$error":"#N/A"},{"$error":"#N/A"},{"$error":"#N/A"},{"$error":"#N/A"},{"$error":"#N/A"},{"$error":"#N/A"},{"$error":"#N/A"},{"$error":"#N/A"},{"$error":"#N/A"},{"$error":"#N/A"},{"$error":"#N/A"},{"$error":"#N/A"},{"$error":"#N/A"},{"$error":"#N/A"},{"$error":"#N/A"},{"$error":"#N/A"},{"$error":"#N/A"},{"$error":"#N/A"},{"$error":"#N/A"},{"$error":"#N/A"},{"$error":"#N/A"},{"$error":"#N/A"},{"$error":"#N/A"},{"$error":"#N/A"},{"$error":"#N/A"},{"$error":"#N/A"},{"$error":"#N/A"},{"$error":"#N/A"},{"$error":"#N/A"},{"$error":"#N/A"},{"$error":"#N/A"},{"$error":"#N/A"},{"$error":"#N/A"},{"$error":"#N/A"},{"$error":"#N/A"},{"$error":"#N/A"},{"$error":"#N/A"},{"$error":"#N/A"},{"$error":"#N/A"},{"$error":"#N/A"},{"$error":"#N/A"},{"$error":"#N/A"},{"$error":"#N/A"},{"$error":"#N/A"},{"$error":"#N/A"},{"$error":"#N/A"},{"$error":"#N/A"},{"$error":"#N/A"},{"$error":"#N/A"},{"$error":"#N/A"},{"$error":"#N/A"},{"$error":"#N/A"},{"$error":"#N/A"},{"$error":"#N/A"},{"$error":"#N/A"},{"$error":"#N/A"},{"$error":"#N/A"},{"$error":"#N/A"},{"$error":"#N/A"},{"$error":"#N/A"},{"$error":"#N/A"},{"$error":"#N/A"},{"$error":"#N/A"},{"$error":"#N/A"},{"$error":"#N/A"}]
["2020-10-19",{"$f":"VLOOKUP($A42,Data!$A$2:$E$100,2,FALSE)","v":10.670000076293944},{"$f":"VLOOKUP($A42,Data!$A$2:$E$100,3,FALSE)","v":10.819999694824221},{"$f":"VLOOKUP($A42,Data!$A$2:$E$100,4,FALSE)","v":10.319999694824221},{"$f":"VLOOKUP($A42,Data!$A$2:$E$100,5,FALSE)","v":10.350000381469728},null,"2018-09-03",null,null,null,{"$f":"WORKDAY(INDEX(I$30:M$30,1,MATCH(K$48,I$30:M$30,1)-1),2*K$31,$G$32:$G$71)","v":"2020-01-08"},{"$f":"WORKDAY(INDEX(I$30:M$30,1,MATCH(L$48,I$30:M$30,1)-1),10*L$31,$G$32:$G$71)","v":"2020-05-27"},{"$f":"WORKDAY(INDEX(I$30:M$30,1,MATCH(M48,I$30:M$30,1)-1),26*M$31,$G$32:$G$71)","v":"2020-08-03"},{"$f":"WORKDAY(INDEX(I$30:M$30,1,MATCH(N$48,I$30:M$30,1)-1),58*N$31,$G$32:$G$71)","v":"2020-09-04"},{"$f":"WORKDAY(INDEX(I$30:M$30,1,MATCH(O$48,I$30:M$30,1)-1),122*O$31,$G$32:$G$71)","v":"2020-09-23"},0.25,57,{"$f":"+M62","v":"2021-03-17"},{"$f":"+N62","v":"2020-12-23"},{"$f":"+O62","v":"2020-11-12"},null,null,null,null,null,null,null,null,null,null,null,null,null,null,null,null,null,null,null,null,"2020-10-19",{"$error":"#N/A"},{"$error":"#N/A"},{"$error":"#N/A"},{"$error":"#N/A"},{"$error":"#N/A"},{"$error":"#N/A"},{"$error":"#N/A"},{"$error":"#N/A"},{"$error":"#N/A"},{"$error":"#N/A"},{"$error":"#N/A"},{"$error":"#N/A"},{"$error":"#N/A"},0,1,0.33333333333333331,0.66666666666666663,{"$error":"#N/A"},{"$error":"#N/A"},{"$error":"#N/A"},{"$error":"#N/A"},{"$error":"#N/A"},{"$error":"#N/A"},{"$error":"#N/A"},{"$error":"#N/A"},{"$error":"#N/A"},{"$error":"#N/A"},{"$error":"#N/A"},{"$error":"#N/A"},{"$error":"#N/A"},{"$error":"#N/A"},{"$error":"#N/A"},{"$error":"#N/A"},{"$error":"#N/A"},{"$error":"#N/A"},{"$error":"#N/A"},{"$error":"#N/A"},{"$error":"#N/A"},{"$error":"#N/A"},{"$error":"#N/A"},{"$error":"#N/A"},{"$error":"#N/A"},{"$error":"#N/A"},{"$error":"#N/A"},{"$error":"#N/A"},{"$error":"#N/A"},{"$error":"#N/A"},{"$error":"#N/A"},{"$error":"#N/A"},{"$error":"#N/A"},{"$error":"#N/A"},{"$error":"#N/A"},{"$error":"#N/A"},{"$error":"#N/A"},{"$error":"#N/A"},{"$error":"#N/A"},{"$error":"#N/A"},{"$error":"#N/A"},{"$error":"#N/A"},{"$error":"#N/A"},{"$error":"#N/A"},{"$error":"#N/A"},{"$error":"#N/A"},{"$error":"#N/A"},{"$error":"#N/A"},{"$error":"#N/A"},{"$error":"#N/A"},{"$error":"#N/A"},{"$error":"#N/A"},{"$error":"#N/A"},{"$error":"#N/A"},{"$error":"#N/A"},{"$error":"#N/A"},{"$error":"#N/A"},{"$error":"#N/A"},{"$error":"#N/A"},{"$error":"#N/A"},{"$error":"#N/A"},{"$error":"#N/A"},{"$error":"#N/A"},{"$error":"#N/A"},{"$error":"#N/A"},{"$error":"#N/A"},{"$error":"#N/A"},{"$error":"#N/A"},{"$error":"#N/A"},{"$error":"#N/A"},{"$error":"#N/A"},{"$error":"#N/A"},{"$error":"#N/A"},{"$error":"#N/A"},{"$error":"#N/A"},{"$error":"#N/A"},{"$error":"#N/A"},{"$error":"#N/A"},{"$error":"#N/A"},{"$error":"#N/A"},{"$error":"#N/A"},{"$error":"#N/A"},{"$error":"#N/A"},{"$error":"#N/A"},{"$error":"#N/A"},{"$error":"#N/A"},{"$error":"#N/A"},{"$error":"#N/A"}]
["2020-10-20",{"$f":"VLOOKUP($A43,Data!$A$2:$E$100,2,FALSE)","v":10.449999809265137},{"$f":"VLOOKUP($A43,Data!$A$2:$E$100,3,FALSE)","v":10.939999580383301},{"$f":"VLOOKUP($A43,Data!$A$2:$E$100,4,FALSE)","v":10.430000305175779},{"$f":"VLOOKUP($A43,Data!$A$2:$E$100,5,FALSE)","v":10.829999923706056},null,"2018-11-22",null,null,null,{"$f":"WORKDAY(INDEX(I$30:M$30,1,MATCH(K$48,I$30:M$30,1)-1),3*K$31,$G$32:$G$71)","v":"2020-02-25"},{"$f":"WORKDAY(INDEX(I$30:M$30,1,MATCH(L$48,I$30:M$30,1)-1),11*L$31,$G$32:$G$71)","v":"2020-06-18"},{"$f":"WORKDAY(INDEX(I$30:M$30,1,MATCH(M48,I$30:M$30,1)-1),27*M$31,$G$32:$G$71)","v":"2020-08-13"},{"$f":"WORKDAY(INDEX(I$30:M$30,1,MATCH(N$48,I$30:M$30,1)-1),59*N$31,$G$32:$G$71)","v":"2020-09-11"},{"$f":"WORKDAY(INDEX(I$30:M$30,1,MATCH(O$48,I$30:M$30,1)-1),123*O$31,$G$32:$G$71)","v":"2020-09-25"},0.375,58,{"$f":"+M66","v":"2021-05-03"},{"$f":"+N66","v":"2021-01-19"},{"$f":"+O66","v":"2020-11-24"},null,null,null,null,null,null,null,null,null,null,null,null,null,null,null,null,null,null,null,null,"2020-10-20",{"$error":"#N/A"},{"$error":"#N/A"},{"$error":"#N/A"},{"$error":"#N/A"},{"$error":"#N/A"},{"$error":"#N/A"},{"$error":"#N/A"},{"$error":"#N/A"},{"$error":"#N/A"},{"$error":"#N/A"},{"$error":"#N/A"},{"$error":"#N/A"},{"$error":"#N/A"},0,1,0.33333333333333331,0.66666666666666663,{"$error":"#N/A"},{"$error":"#N/A"},{"$error":"#N/A"},{"$error":"#N/A"},{"$error":"#N/A"},{"$error":"#N/A"},{"$error":"#N/A"},{"$error":"#N/A"},{"$error":"#N/A"},{"$error":"#N/A"},{"$error":"#N/A"},{"$error":"#N/A"},{"$error":"#N/A"},{"$error":"#N/A"},{"$error":"#N/A"},{"$error":"#N/A"},{"$error":"#N/A"},{"$error":"#N/A"},{"$error":"#N/A"},{"$error":"#N/A"},{"$error":"#N/A"},{"$error":"#N/A"},{"$error":"#N/A"},{"$error":"#N/A"},{"$error":"#N/A"},{"$error":"#N/A"},{"$error":"#N/A"},{"$error":"#N/A"},{"$error":"#N/A"},{"$error":"#N/A"},{"$error":"#N/A"},{"$error":"#N/A"},{"$error":"#N/A"},{"$error":"#N/A"},{"$error":"#N/A"},{"$error":"#N/A"},{"$error":"#N/A"},{"$error":"#N/A"},{"$error":"#N/A"},{"$error":"#N/A"},{"$error":"#N/A"},{"$error":"#N/A"},{"$error":"#N/A"},{"$error":"#N/A"},{"$error":"#N/A"},{"$error":"#N/A"},{"$error":"#N/A"},{"$error":"#N/A"},{"$error":"#N/A"},{"$error":"#N/A"},{"$error":"#N/A"},{"$error":"#N/A"},{"$error":"#N/A"},{"$error":"#N/A"},{"$error":"#N/A"},{"$error":"#N/A"},{"$error":"#N/A"},{"$error":"#N/A"},{"$error":"#N/A"},{"$error":"#N/A"},{"$error":"#N/A"},{"$error":"#N/A"},{"$error":"#N/A"},{"$error":"#N/A"},{"$error":"#N/A"},{"$error":"#N/A"},{"$error":"#N/A"},{"$error":"#N/A"},{"$error":"#N/A"},{"$error":"#N/A"},{"$error":"#N/A"},{"$error":"#N/A"},{"$error":"#N/A"},{"$error":"#N/A"},{"$error":"#N/A"},{"$error":"#N/A"},{"$error":"#N/A"},{"$error":"#N/A"},{"$error":"#N/A"},{"$error":"#N/A"},{"$error":"#N/A"},{"$error":"#N/A"},{"$error":"#N/A"},{"$error":"#N/A"},{"$error":"#N/A"},{"$error":"#N/A"},{"$error":"#N/A"},{"$error":"#N/A"}]
["2020-10-21",{"$f":"VLOOKUP($A44,Data!$A$2:$E$100,2,FALSE)","v":11.029999732971191},{"$f":"VLOOKUP($A44,Data!$A$2:$E$100,3,FALSE)","v":11.265000343322754},{"$f":"VLOOKUP($A44,Data!$A$2:$E$100,4,FALSE)","v":10.885000228881836},{"$f":"VLOOKUP($A44,Data!$A$2:$E$100,5,FALSE)","v":11.119999885559082},null,"2018-12-25",null,null,{"$f":"WORKDAY(INDEX(I$30:M$30,1,MATCH(J$48,I$30:M$30,1)-1),0*J$31,$G$32:$G$71)","v":"2019-10-07"},{"$f":"WORKDAY(INDEX(I$30:M$30,1,MATCH(K$48,I$30:M$30,1)-1),4*K$31,$G$32:$G$71)","v":"2020-04-09"},{"$f":"WORKDAY(INDEX(I$30:M$30,1,MATCH(L$48,I$30:M$30,1)-1),12*L$31,$G$32:$G$71)","v":"2020-07-10"},{"$f":"WORKDAY(INDEX(I$30:M$30,1,MATCH(M48,I$30:M$30,1)-1),28*M$31,$G$32:$G$71)","v":"2020-08-25"},{"$f":"WORKDAY(INDEX(I$30:M$30,1,MATCH(N$48,I$30:M$30,1)-1),60*N$31,$G$32:$G$71)","v":"2020-09-17"},{"$f":"WORKDAY(INDEX(I$30:M$30,1,MATCH(O$48,I$30:M$30,1)-1),124*O$31,$G$32:$G$71)","v":"2020-09-29"},0.5,59,{"$f":"+M70","v":"2021-06-17"},{"$f":"+N70","v":"2021-02-10"},{"$f":"+O70","v":"2020-12-07"},null,null,null,null,null,null,null,null,null,null,null,null,null,null,null,null,null,null,null,null,"2020-10-21",{"$f":"IF($W$11,IF(VLOOKUP($AO44,$S$37:$S$54,1,),-2/8,NA()),NA())","v":{"$error":"#N/A"}},{"$error":"#N/A"},{"$f":"IF($W$11,IF(VLOOKUP($AO44,$S$37:$S$54,1,),2/8,NA()),NA())","v":{"$error":"#N/A"}},{"$error":"#N/A"},{"$f":"IF($W$11,IF(VLOOKUP($AO44,$S$37:$S$54,1,),6/8,NA()),NA())","v":{"$error":"#N/A"}},{"$error":"#N/A"},{"$f":"IF($W$11,IF(VLOOKUP($AO44,$S$37:$S$54,1,),10/8,NA()),NA())","v":{"$error":"#N/A"}},{"$error":"#N/A"},{"$f":"IF($W$11,IF(VLOOKUP($AO44,$S$72:$S$80,1,),4/8,NA()),NA())","v":{"$error":"#N/A"}},{"$error":"#N/A"},{"$error":"#N/A"},{"$error":"#N/A"},1,0,1,0.33333333333333331,0.66666666666666663,{"$error":"#N/A"},{"$error":"#N/A"},{"$error":"#N/A"},{"$error":"#N/A"},{"$error":"#N/A"},{"$error":"#N/A"},{"$error":"#N/A"},{"$error":"#N/A"},{"$error":"#N/A"},{"$error":"#N/A"},{"$error":"#N/A"},{"$error":"#N/A"},{"$error":"#N/A"},{"$error":"#N/A"},{"$error":"#N/A"},{"$error":"#N/A"},{"$error":"#N/A"},{"$error":"#N/A"},{"$error":"#N/A"},{"$error":"#N/A"},{"$error":"#N/A"},{"$error":"#N/A"},{"$error":"#N/A"},{"$error":"#N/A"},{"$error":"#N/A"},{"$error":"#N/A"},{"$error":"#N/A"},{"$error":"#N/A"},{"$error":"#N/A"},{"$error":"#N/A"},{"$error":"#N/A"},{"$error":"#N/A"},{"$error":"#N/A"},{"$error":"#N/A"},{"$error":"#N/A"},{"$error":"#N/A"},{"$error":"#N/A"},{"$error":"#N/A"},{"$error":"#N/A"},{"$error":"#N/A"},{"$error":"#N/A"},{"$error":"#N/A"},{"$error":"#N/A"},{"$error":"#N/A"},{"$error":"#N/A"},{"$error":"#N/A"},{"$error":"#N/A"},0,{"$error":"#N/A"},{"$error":"#N/A"},{"$error":"#N/A"},{"$error":"#N/A"},{"$error":"#N/A"},{"$error":"#N/A"},{"$error":"#N/A"},1,{"$error":"#N/A"},{"$error":"#N/A"},{"$error":"#N/A"},{"$error":"#N/A"},{"$error":"#N/A"},{"$error":"#N/A"},{"$error":"#N/A"},{"$error":"#N/A"},{"$error":"#N/A"},{"$error":"#N/A"},{"$error":"#N/A"},{"$error":"#N/A"},{"$error":"#N/A"},{"$error":"#N/A"},{"$error":"#N/A"},{"$error":"#N/A"},{"$error":"#N/A"},{"$error":"#N/A"},{"$error":"#N/A"},{"$error":"#N/A"},{"$error":"#N/A"},{"$error":"#N/A"},{"$error":"#N/A"},{"$error":"#N/A"},{"$error":"#N/A"},{"$error":"#N/A"},{"$error":"#N/A"},{"$error":"#N/A"},{"$error":"#N/A"},{"$error":"#N/A"},{"$error":"#N/A"},{"$error":"#N/A"}]
["2020-10-22",{"$f":"VLOOKUP($A45,Data!$A$2:$E$100,2,FALSE)","v":10.899999618530272},{"$f":"VLOOKUP($A45,Data!$A$2:$E$100,3,FALSE)","v":10.960000038146973},{"$f":"VLOOKUP($A45,Data!$A$2:$E$100,4,FALSE)","v":10.649999618530272},{"$f":"VLOOKUP($A45,Data!$A$2:$E$100,5,FALSE)","v":10.930000305175779},null,"2019-01-01",null,null,{"$f":"WORKDAY(INDEX(I$30:M$30,1,MATCH(J$48,I$30:M$30,1)-1),1*J$31,$G$32:$G$71)","v":"2020-01-08"},{"$f":"WORKDAY(INDEX(I$30:M$30,1,MATCH(K$48,I$30:M$30,1)-1),5*K$31,$G$32:$G$71)","v":"2020-05-27"},{"$f":"WORKDAY(INDEX(I$30:M$30,1,MATCH(L$48,I$30:M$30,1)-1),13*L$31,$G$32:$G$71)","v":"2020-08-03"},{"$f":"WORKDAY(INDEX(I$30:M$30,1,MATCH(M48,I$30:M$30,1)-1),29*M$31,$G$32:$G$71)","v":"2020-09-04"},{"$f":"WORKDAY(INDEX(I$30:M$30,1,MATCH(N$48,I$30:M$30,1)-1),61*N$31,$G$32:$G$71)","v":"2020-09-23"},{"$f":"IF(WORKDAY(INDEX(I$30:M$30,1,MATCH(O$48,I$30:M$30,1)-1),125*O$31,$G$32:$G$71)>=O48,\"\",WORKDAY(INDEX(I$30:M$30,1,MATCH(O$48,I$30:M$30,1)-1),125*O$31,$G$32:$G$71))","v":"2020-10-01"},0.625,60,{"$f":"+M74","v":"2021-08-03"},{"$f":"+N74","v":"2021-03-05"},{"$f":"+O74","v":"2020-12-17"},null,null,null,null,null,null,null,null,null,null,null,null,null,null,null,null,null,null,null,null,"2020-10-22",{"$error":"#N/A"},{"$error":"#N/A"},{"$error":"#N/A"},{"$error":"#N/A"},{"$error":"#N/A"},{"$error":"#N/A"},{"$error":"#N/A"},{"$error":"#N/A"},{"$error":"#N/A"},{"$error":"#N/A"},{"$error":"#N/A"},{"$error":"#N/A"},{"$error":"#N/A"},0,1,0.33333333333333331,0.66666666666666663,{"$error":"#N/A"},{"$error":"#N/A"},{"$error":"#N/A"},{"$error":"#N/A"},{"$error":"#N/A"},{"$error":"#N/A"},{"$error":"#N/A"},{"$error":"#N/A"},{"$error":"#N/A"},{"$error":"#N/A"},{"$error":"#N/A"},{"$error":"#N/A"},{"$error":"#N/A"},{"$error":"#N/A"},{"$error":"#N/A"},{"$error":"#N/A"},{"$error":"#N/A"},{"$error":"#N/A"},{"$error":"#N/A"},{"$error":"#N/A"},{"$error":"#N/A"},{"$error":"#N/A"},{"$error":"#N/A"},{"$error":"#N/A"},{"$error":"#N/A"},{"$error":"#N/A"},{"$error":"#N/A"},{"$error":"#N/A"},{"$error":"#N/A"},{"$error":"#N/A"},{"$error":"#N/A"},{"$error":"#N/A"},{"$error":"#N/A"},{"$error":"#N/A"},{"$error":"#N/A"},{"$error":"#N/A"},{"$error":"#N/A"},{"$error":"#N/A"},{"$error":"#N/A"},{"$error":"#N/A"},{"$error":"#N/A"},{"$error":"#N/A"},{"$error":"#N/A"},{"$error":"#N/A"},{"$error":"#N/A"},{"$error":"#N/A"},{"$error":"#N/A"},{"$error":"#N/A"},{"$error":"#N/A"},{"$error":"#N/A"},{"$error":"#N/A"},{"$error":"#N/A"},{"$error":"#N/A"},{"$error":"#N/A"},{"$error":"#N/A"},{"$error":"#N/A"},{"$error":"#N/A"},{"$error":"#N/A"},{"$error":"#N/A"},{"$error":"#N/A"},{"$error":"#N/A"},{"$error":"#N/A"},{"$error":"#N/A"},{"$error":"#N/A"},{"$error":"#N/A"},{"$error":"#N/A"},{"$error":"#N/A"},{"$error":"#N/A"},{"$error":"#N/A"},{"$error":"#N/A"},{"$error":"#N/A"},{"$error":"#N/A"},{"$error":"#N/A"},{"$error":"#N/A"},{"$error":"#N/A"},{"$error":"#N/A"},{"$error":"#N/A"},{"$error":"#N/A"},{"$error":"#N/A"},{"$error":"#N/A"},{"$error":"#N/A"},{"$error":"#N/A"},{"$error":"#N/A"},{"$error":"#N/A"},{"$error":"#N/A"},{"$error":"#N/A"},{"$error":"#N/A"},{"$error":"#N/A"}]
["2020-10-23",{"$f":"VLOOKUP($A46,Data!$A$2:$E$100,2,FALSE)","v":10.869999885559082},{"$f":"VLOOKUP($A46,Data!$A$2:$E$100,3,FALSE)","v":11.020000457763672},{"$f":"VLOOKUP($A46,Data!$A$2:$E$100,4,FALSE)","v":10.770000457763672},{"$f":"VLOOKUP($A46,Data!$A$2:$E$100,5,FALSE)","v":10.979999542236328},null,"2019-01-21",null,null,{"$f":"WORKDAY(INDEX(I$30:M$30,1,MATCH(J$48,I$30:M$30,1)-1),2*J$31,$G$32:$G$71)","v":"2020-04-09"},{"$f":"WORKDAY(INDEX(I$30:M$30,1,MATCH(K$48,I$30:M$30,1)-1),6*K$31,$G$32:$G$71)","v":"2020-07-10"},{"$f":"WORKDAY(INDEX(I$30:M$30,1,MATCH(L$48,I$30:M$30,1)-1),14*L$31,$G$32:$G$71)","v":"2020-08-25"},{"$f":"WORKDAY(INDEX(I$30:M$30,1,MATCH(M48,I$30:M$30,1)-1),30*M$31,$G$32:$G$71)","v":"2020-09-17"},{"$f":"IF(WORKDAY(INDEX(I$30:M$30,1,MATCH(N$48,I$30:M$30,1)-1),62*N$31,$G$32:$G$71)>=N48,\"\",WORKDAY(INDEX(I$30:M$30,1,MATCH(N$48,I$30:M$30,1)-1),62*N$31,$G$32:$G$71))","v":"2020-09-29"},{"$f":"IF(WORKDAY(INDEX(I$30:M$30,1,MATCH(O$48,I$30:M$30,1)-1),126*O$31,$G$32:$G$71)>=O48,\"\",WORKDAY(INDEX(I$30:M$30,1,MATCH(O$48,I$30:M$30,1)-1),126*O$31,$G$32:$G$71))","v":""},0.75,{"$f":"+Q47-1","v":61},{"$f":"+M78","v":"2021-09-17"},{"$f":"+N78","v":"2021-03-29"},{"$f":"+O78","v":"2020-12-30"},null,null,null,null,null,null,null,null,null,null,null,null,null,null,null,null,null,null,null,null,"2020-10-23",{"$error":"#N/A"},{"$error":"#N/A"},{"$error":"#N/A"},{"$error":"#N/A"},{"$error":"#N/A"},{"$error":"#N/A"},{"$error":"#N/A"},{"$error":"#N/A"},{"$error":"#N/A"},{"$error":"#N/A"},{"$error":"#N/A"},{"$error":"#N/A"},{"$error":"#N/A"},0,1,0.33333333333333331,0.66666666666666663,{"$error":"#N/A"},{"$error":"#N/A"},{"$error":"#N/A"},{"$error":"#N/A"},{"$error":"#N/A"},{"$error":"#N/A"},{"$error":"#N/A"},{"$error":"#N/A"},{"$error":"#N/A"},{"$error":"#N/A"},{"$error":"#N/A"},{"$error":"#N/A"},{"$error":"#N/A"},{"$error":"#N/A"},{"$error":"#N/A"},{"$error":"#N/A"},{"$error":"#N/A"},{"$error":"#N/A"},{"$error":"#N/A"},{"$error":"#N/A"},{"$error":"#N/A"},{"$error":"#N/A"},{"$error":"#N/A"},{"$error":"#N/A"},{"$error":"#N/A"},{"$error":"#N/A"},{"$error":"#N/A"},{"$error":"#N/A"},{"$error":"#N/A"},{"$error":"#N/A"},{"$error":"#N/A"},{"$error":"#N/A"},{"$error":"#N/A"},{"$error":"#N/A"},{"$error":"#N/A"},{"$error":"#N/A"},{"$error":"#N/A"},{"$error":"#N/A"},{"$error":"#N/A"},{"$error":"#N/A"},{"$error":"#N/A"},{"$error":"#N/A"},{"$error":"#N/A"},{"$error":"#N/A"},{"$error":"#N/A"},{"$error":"#N/A"},{"$error":"#N/A"},{"$error":"#N/A"},{"$error":"#N/A"},{"$error":"#N/A"},{"$error":"#N/A"},{"$error":"#N/A"},{"$error":"#N/A"},{"$error":"#N/A"},{"$error":"#N/A"},{"$error":"#N/A"},{"$error":"#N/A"},{"$error":"#N/A"},{"$error":"#N/A"},{"$error":"#N/A"},{"$error":"#N/A"},{"$error":"#N/A"},{"$error":"#N/A"},{"$error":"#N/A"},{"$error":"#N/A"},{"$error":"#N/A"},{"$error":"#N/A"},{"$error":"#N/A"},{"$error":"#N/A"},{"$error":"#N/A"},{"$error":"#N/A"},{"$error":"#N/A"},{"$error":"#N/A"},{"$error":"#N/A"},{"$error":"#N/A"},{"$error":"#N/A"},{"$error":"#N/A"},{"$error":"#N/A"},{"$error":"#N/A"},{"$error":"#N/A"},{"$error":"#N/A"},{"$error":"#N/A"},{"$error":"#N/A"},{"$error":"#N/A"},{"$error":"#N/A"},{"$error":"#N/A"},{"$error":"#N/A"},{"$error":"#N/A"}]
["2020-10-26",{"$f":"VLOOKUP($A47,Data!$A$2:$E$100,2,FALSE)","v":10.810000419616699},{"$f":"VLOOKUP($A47,Data!$A$2:$E$100,3,FALSE)","v":11.050000190734863},{"$f":"VLOOKUP($A47,Data!$A$2:$E$100,4,FALSE)","v":10.579999923706056},{"$f":"VLOOKUP($A47,Data!$A$2:$E$100,5,FALSE)","v":10.609999656677246},null,"2019-02-18",null,null,{"$f":"WORKDAY(INDEX(I$30:M$30,1,MATCH(J$48,I$30:M$30,1)-1),3*J$31,$G$32:$G$71)","v":"2020-07-10"},{"$f":"WORKDAY(INDEX(I$30:M$30,1,MATCH(K$48,I$30:M$30,1)-1),7*K$31,$G$32:$G$71)","v":"2020-08-25"},{"$f":"WORKDAY(INDEX(I$30:M$30,1,MATCH(L$48,I$30:M$30,1)-1),15*L$31,$G$32:$G$71)","v":"2020-09-17"},{"$f":"WORKDAY(INDEX(I$30:M$30,1,MATCH(M48,I$30:M$30,1)-1),31*M$31,$G$32:$G$71)","v":"2020-09-29"},{"$f":"IF(WORKDAY(INDEX(I$30:M$30,1,MATCH(N$48,I$30:M$30,1)-1),63*N$31,$G$32:$G$71)>=N48,\"\",WORKDAY(INDEX(I$30:M$30,1,MATCH(N$48,I$30:M$30,1)-1),63*N$31,$G$32:$G$71))","v":""},{"$f":"IF(WORKDAY(INDEX(I$30:M$30,1,MATCH(O$48,I$30:M$30,1)-1),127*O$31,$G$32:$G$71)>=O48,\"\",WORKDAY(INDEX(I$30:M$30,1,MATCH(O$48,I$30:M$30,1)-1),127*O$31,$G$32:$G$71))","v":""},0.875,62,null,{"$f":"+N82","v":"2021-04-21"},{"$f":"+O82","v":"2021-01-12"},null,null,null,null,null,null,null,null,null,null,null,null,null,null,null,null,null,null,null,null,"2020-10-26",{"$error":"#N/A"},{"$error":"#N/A"},{"$error":"#N/A"},{"$error":"#N/A"},{"$error":"#N/A"},{"$error":"#N/A"},{"$error":"#N/A"},{"$error":"#N/A"},{"$error":"#N/A"},{"$error":"#N/A"},{"$error":"#N/A"},{"$error":"#N/A"},{"$error":"#N/A"},0,1,0.33333333333333298,0.66666666666666696,{"$error":"#N/A"},{"$error":"#N/A"},{"$error":"#N/A"},{"$error":"#N/A"},{"$error":"#N/A"},{"$error":"#N/A"},{"$error":"#N/A"},{"$error":"#N/A"},{"$error":"#N/A"},{"$error":"#N/A"},{"$error":"#N/A"},{"$error":"#N/A"},{"$error":"#N/A"},{"$error":"#N/A"},{"$error":"#N/A"},{"$error":"#N/A"},{"$error":"#N/A"},{"$error":"#N/A"},{"$error":"#N/A"},{"$error":"#N/A"},{"$error":"#N/A"},{"$error":"#N/A"},{"$error":"#N/A"},{"$error":"#N/A"},{"$error":"#N/A"},{"$error":"#N/A"},{"$error":"#N/A"},{"$error":"#N/A"},{"$error":"#N/A"},{"$error":"#N/A"},{"$error":"#N/A"},{"$error":"#N/A"},{"$error":"#N/A"},{"$error":"#N/A"},{"$error":"#N/A"},{"$error":"#N/A"},{"$error":"#N/A"},{"$error":"#N/A"},{"$error":"#N/A"},{"$error":"#N/A"},{"$error":"#N/A"},{"$error":"#N/A"},{"$error":"#N/A"},{"$error":"#N/A"},{"$error":"#N/A"},{"$error":"#N/A"},{"$error":"#N/A"},{"$error":"#N/A"},{"$error":"#N/A"},{"$error":"#N/A"},{"$error":"#N/A"},{"$error":"#N/A"},{"$error":"#N/A"},{"$error":"#N/A"},{"$error":"#N/A"},{"$error":"#N/A"},{"$error":"#N/A"},{"$error":"#N/A"},{"$error":"#N/A"},{"$error":"#N/A"},{"$error":"#N/A"},{"$error":"#N/A"},{"$error":"#N/A"},{"$error":"#N/A"},{"$error":"#N/A"},{"$error":"#N/A"},{"$error":"#N/A"},{"$error":"#N/A"},{"$error":"#N/A"},{"$error":"#N/A"},{"$error":"#N/A"},{"$error":"#N/A"},{"$error":"#N/A"},{"$error":"#N/A"},{"$error":"#N/A"},{"$error":"#N/A"},{"$error":"#N/A"},{"$error":"#N/A"},{"$error":"#N/A"},{"$error":"#N/A"},{"$error":"#N/A"},{"$error":"#N/A"},{"$error":"#N/A"},{"$error":"#N/A"},{"$error":"#N/A"},{"$error":"#N/A"},{"$error":"#N/A"},{"$error":"#N/A"}]
["2020-10-27",{"$f":"VLOOKUP($A48,Data!$A$2:$E$100,2,FALSE)","v":10.609999656677246},{"$f":"VLOOKUP($A48,Data!$A$2:$E$100,3,FALSE)","v":10.920000076293944},{"$f":"VLOOKUP($A48,Data!$A$2:$E$100,4,FALSE)","v":10.5},{"$f":"VLOOKUP($A48,Data!$A$2:$E$100,5,FALSE)","v":10.899999618530272},null,"2019-04-19",0,{"$f":"IF($H$20<=$I$30,$I$30,IF(AND($H$20>=$I$30,$H$20<$J$30),$I$30,IF(AND($H$20>=$J$30,$H$20<$K$30),$J$30,IF(AND($H$20>=$K$30,$H$20<$L$30),$K$30,$L$30))))","v":"2020-10-05"},"2020-10-05","2020-10-05","2020-10-05","2020-10-05","2020-10-05","2020-10-05",0,null,null,{"$f":"+N86","v":"2021-05-13"},{"$f":"+O86","v":"2021-01-25"},null,null,null,null,null,null,null,null,null,null,null,null,null,null,null,null,null,null,null,null,"2020-10-27",{"$error":"#N/A"},{"$error":"#N/A"},{"$error":"#N/A"},{"$error":"#N/A"},{"$error":"#N/A"},{"$error":"#N/A"},{"$error":"#N/A"},{"$error":"#N/A"},0.5,0.5,{"$error":"#N/A"},1.125,1,0,1,0.33333333333333298,0.66666666666666696,{"$error":"#N/A"},{"$error":"#N/A"},{"$error":"#N/A"},{"$error":"#N/A"},{"$error":"#N/A"},{"$error":"#N/A"},{"$error":"#N/A"},{"$error":"#N/A"},1,{"$error":"#N/A"},{"$error":"#N/A"},{"$error":"#N/A"},{"$error":"#N/A"},{"$error":"#N/A"},{"$error":"#N/A"},{"$error":"#N/A"},{"$error":"#N/A"},{"$error":"#N/A"},{"$error":"#N/A"},{"$error":"#N/A"},{"$error":"#N/A"},{"$error":"#N/A"},{"$error":"#N/A"},{"$error":"#N/A"},{"$error":"#N/A"},{"$error":"#N/A"},{"$error":"#N/A"},{"$error":"#N/A"},{"$error":"#N/A"},{"$error":"#N/A"},{"$error":"#N/A"},{"$error":"#N/A"},{"$error":"#N/A"},{"$error":"#N/A"},{"$error":"#N/A"},{"$error":"#N/A"},{"$error":"#N/A"},{"$error":"#N/A"},{"$error":"#N/A"},{"$error":"#N/A"},{"$error":"#N/A"},{"$error":"#N/A"},{"$error":"#N/A"},{"$error":"#N/A"},{"$error":"#N/A"},{"$error":"#N/A"},0,{"$error":"#N/A"},{"$error":"#N/A"},{"$error":"#N/A"},{"$error":"#N/A"},{"$error":"#N/A"},{"$error":"#N/A"},{"$error":"#N/A"},1,{"$error":"#N/A"},{"$error":"#N/A"},{"$error":"#N/A"},{"$error":"#N/A"},{"$error":"#N/A"},{"$error":"#N/A"},{"$error":"#N/A"},{"$error":"#N/A"},{"$error":"#N/A"},{"$error":"#N/A"},{"$error":"#N/A"},{"$error":"#N/A"},{"$error":"#N/A"},{"$error":"#N/A"},{"$error":"#N/A"},{"$error":"#N/A"},{"$error":"#N/A"},{"$error":"#N/A"},{"$error":"#N/A"},{"$error":"#N/A"},{"$error":"#N/A"},{"$error":"#N/A"},{"$error":"#N/A"},{"$error":"#N/A"},{"$error":"#N/A"},{"$error":"#N/A"},{"$error":"#N/A"},{"$error":"#N/A"},{"$error":"#N/A"},{"$error":"#N/A"},{"$error":"#N/A"},{"$error":"#N/A"},{"$error":"#N/A"}]
["2020-10-28",{"$f":"VLOOKUP($A49,Data!$A$2:$E$100,2,FALSE)","v":{"$error":"#N/A"}},{"$f":"VLOOKUP($A49,Data!$A$2:$E$100,3,FALSE)","v":{"$error":"#N/A"}},{"$f":"VLOOKUP($A49,Data!$A$2:$E$100,4,FALSE)","v":{"$error":"#N/A"}},{"$f":"VLOOKUP($A49,Data!$A$2:$E$100,5,FALSE)","v":{"$error":"#N/A"}},null,"2019-05-27",0.125,{"$f":"IF((WORKDAY(I48,I$31,$G$32:$G$71)-$I$48)*0.7/128>2,INDEX(I$30:M$30,1,MATCH(I$48,I$30:M$30,1)+1),WORKDAY(I48,I$31,$G$32:$G$71))","v":"2021-04-09"},{"$f":"IF((WORKDAY(J48,J$31,$G$32:$G$71)-$J$48)*0.7/64>4,INDEX(I$30:M$30,1,MATCH(J$48,I$30:M$30,1)+1),WORKDAY(J48,J$31,$G$32:$G$71))","v":"2021-01-06"},{"$f":"IF((WORKDAY(K48,K$31,$G$32:$G$71)-$K$48)*0.7/32>8,INDEX(I$30:M$30,1,MATCH(K$48,I$30:M$30,1)+1),WORKDAY(K48,K$31,$G$32:$G$71))","v":"2020-11-18"},{"$f":"IF((WORKDAY(L48,L$31,$G$32:$G$71)-$L$48)*0.7/16>16,INDEX(I$30:M$30,1,MATCH(L$48,I$30:M$30,1)+1),WORKDAY(L48,L$31,$G$32:$G$71))","v":"2020-10-27"},{"$f":"IF((WORKDAY(M48,M$31,$G$32:$G$71)-$M$48)*0.7/8>32,INDEX(I$30:M$30,1,MATCH(M$48,I$30:M$30,1)+1),WORKDAY(M48,M$31,$G$32:$G$71))","v":"2020-10-15"},{"$f":"IF((WORKDAY(N48,N$31,$G$32:$G$71)-$N$48)*0.7/4>64,INDEX(I$30:M$30,1,MATCH(N$48,I$30:M$30,1)+1),WORKDAY(N48,N$31,$G$32:$G$71))","v":"2020-10-09"},{"$f":"IF((WORKDAY(O48,O$31,$G$32:$G$71)-$O$48)*0.7/2>127,INDEX(I$30:M$30,1,MATCH(O$48,I$30:M$30,1)+1),WORKDAY(O48,O$31,$G$32:$G$71))","v":"2020-10-07"},0.125,null,null,{"$f":"+N90","v":"2021-06-07"},{"$f":"+O90","v":"2021-02-04"},null,null,null,null,null,null,null,null,null,null,null,null,null,null,null,null,null,null,null,null,"2020-10-28",{"$error":"#N/A"},{"$error":"#N/A"},{"$error":"#N/A"},{"$error":"#N/A"},{"$error":"#N/A"},{"$error":"#N/A"},{"$error":"#N/A"},{"$error":"#N/A"},{"$error":"#N/A"},{"$error":"#N/A"},{"$error":"#N/A"},{"$error":"#N/A"},{"$error":"#N/A"},0,1,0.33333333333333298,0.66666666666666696,{"$error":"#N/A"},{"$error":"#N/A"},{"$error":"#N/A"},{"$error":"#N/A"},{"$error":"#N/A"},{"$error":"#N/A"},{"$error":"#N/A"},{"$error":"#N/A"},{"$error":"#N/A"},{"$error":"#N/A"},{"$error":"#N/A"},{"$error":"#N/A"},{"$error":"#N/A"},{"$error":"#N/A"},{"$error":"#N/A"},{"$error":"#N/A"},{"$error":"#N/A"},{"$error":"#N/A"},{"$error":"#N/A"},{"$error":"#N/A"},{"$error":"#N/A"},{"$error":"#N/A"},{"$error":"#N/A"},{"$error":"#N/A"},{"$error":"#N/A"},{"$error":"#N/A"},{"$error":"#N/A"},{"$error":"#N/A"},{"$error":"#N/A"},{"$error":"#N/A"},{"$error":"#N/A"},{"$error":"#N/A"},{"$error":"#N/A"},{"$error":"#N/A"},{"$error":"#N/A"},{"$error":"#N/A"},{"$error":"#N/A"},{"$error":"#N/A"},{"$error":"#N/A"},{"$error":"#N/A"},{"$error":"#N/A"},{"$error":"#N/A"},{"$error":"#N/A"},{"$error":"#N/A"},{"$error":"#N/A"},{"$error":"#N/A"},{"$error":"#N/A"},{"$error":"#N/A"},{"$error":"#N/A"},{"$error":"#N/A"},{"$error":"#N/A"},{"$error":"#N/A"},{"$error":"#N/A"},{"$error":"#N/A"},{"$error":"#N/A"},{"$error":"#N/A"},{"$error":"#N/A"},{"$error":"#N/A"},{"$error":"#N/A"},{"$error":"#N/A"},{"$error":"#N/A"},{"$error":"#N/A"},{"$error":"#N/A"},{"$error":"#N/A"},{"$error":"#N/A"},{"$error":"#N/A"},{"$error":"#N/A"},{"$error":"#N/A"},{"$error":"#N/A"},{"$error":"#N/A"},{"$error":"#N/A"},{"$error":"#N/A"},{"$error":"#N/A"},{"$error":"#N/A"},{"$error":"#N/A"},{"$error":"#N/A"},{"$error":"#N/A"},{"$error":"#N/A"},{"$error":"#N/A"},{"$error":"#N/A"},{"$error":"#N/A"},{"$error":"#N/A"},{"$error":"#N/A"},{"$error":"#N/A"},{"$error":"#N/A"},{"$error":"#N/A"},{"$error":"#N/A"},{"$error":"#N/A"}]
["2020-10-29",{"$f":"VLOOKUP($A50,Data!$A$2:$E$100,2,FALSE)","v":{"$error":"#N/A"}},{"$f":"VLOOKUP($A50,Data!$A$2:$E$100,3,FALSE)","v":{"$error":"#N/A"}},{"$f":"VLOOKUP($A50,Data!$A$2:$E$100,4,FALSE)","v":{"$error":"#N/A"}},{"$f":"VLOOKUP($A50,Data!$A$2:$E$100,5,FALSE)","v":{"$error":"#N/A"}},null,"2019-07-04",0.25,{"$f":"IF((WORKDAY(I49,I$31,$G$32:$G$71)-$I$48)*0.7/128>2,INDEX(I$30:M$30,1,MATCH(I$48,I$30:M$30,1)+1),WORKDAY(I49,I$31,$G$32:$G$71))","v":"2021-10-05"},{"$f":"IF((WORKDAY(J49,J$31,$G$32:$G$71)-$J$48)*0.7/64>4,INDEX(I$30:M$30,1,MATCH(J$48,I$30:M$30,1)+1),WORKDAY(J49,J$31,$G$32:$G$71))","v":"2021-04-09"},"2021-01-06","2020-11-18","2020-10-27","2020-10-15","2020-10-09",0.25,null,null,{"$f":"+N94","v":"2021-06-29"},{"$f":"+O94","v":"2021-02-17"},null,null,null,null,null,null,null,null,null,null,null,null,null,null,null,null,null,null,null,null,"2020-10-29",{"$error":"#N/A"},{"$error":"#N/A"},{"$error":"#N/A"},{"$error":"#N/A"},{"$error":"#N/A"},{"$error":"#N/A"},{"$error":"#N/A"},{"$error":"#N/A"},{"$error":"#N/A"},{"$error":"#N/A"},{"$error":"#N/A"},{"$error":"#N/A"},{"$error":"#N/A"},0,1,0.33333333333333298,0.66666666666666696,{"$error":"#N/A"},{"$error":"#N/A"},{"$error":"#N/A"},{"$error":"#N/A"},{"$error":"#N/A"},{"$error":"#N/A"},{"$error":"#N/A"},{"$error":"#N/A"},{"$error":"#N/A"},{"$error":"#N/A"},{"$error":"#N/A"},{"$error":"#N/A"},{"$error":"#N/A"},{"$error":"#N/A"},{"$error":"#N/A"},{"$error":"#N/A"},{"$error":"#N/A"},{"$error":"#N/A"},{"$error":"#N/A"},{"$error":"#N/A"},{"$error":"#N/A"},{"$error":"#N/A"},{"$error":"#N/A"},{"$error":"#N/A"},{"$error":"#N/A"},{"$error":"#N/A"},{"$error":"#N/A"},{"$error":"#N/A"},{"$error":"#N/A"},{"$error":"#N/A"},{"$error":"#N/A"},{"$error":"#N/A"},{"$error":"#N/A"},{"$error":"#N/A"},{"$error":"#N/A"},{"$error":"#N/A"},{"$error":"#N/A"},{"$error":"#N/A"},{"$error":"#N/A"},{"$error":"#N/A"},{"$error":"#N/A"},{"$error":"#N/A"},{"$error":"#N/A"},{"$error":"#N/A"},{"$error":"#N/A"},{"$error":"#N/A"},{"$error":"#N/A"},{"$error":"#N/A"},{"$error":"#N/A"},{"$error":"#N/A"},{"$error":"#N/A"},{"$error":"#N/A"},{"$error":"#N/A"},{"$error":"#N/A"},{"$error":"#N/A"},{"$error":"#N/A"},{"$error":"#N/A"},{"$error":"#N/A"},{"$error":"#N/A"},{"$error":"#N/A"},{"$error":"#N/A"},{"$error":"#N/A"},{"$error":"#N/A"},{"$error":"#N/A"},{"$error":"#N/A"},{"$error":"#N/A"},{"$error":"#N/A"},{"$error":"#N/A"},{"$error":"#N/A"},{"$error":"#N/A"},{"$error":"#N/A"},{"$error":"#N/A"},{"$error":"#N/A"},{"$error":"#N/A"},{"$error":"#N/A"},{"$error":"#N/A"},{"$error":"#N/A"},{"$error":"#N/A"},{"$error":"#N/A"},{"$error":"#N/A"},{"$error":"#N/A"},{"$error":"#N/A"},{"$error":"#N/A"},{"$error":"#N/A"},{"$error":"#N/A"},{"$error":"#N/A"},{"$error":"#N/A"},{"$error":"#N/A"}]
["2020-10-30",{"$f":"VLOOKUP($A51,Data!$A$2:$E$100,2,FALSE)","v":{"$error":"#N/A"}},{"$f":"VLOOKUP($A51,Data!$A$2:$E$100,3,FALSE)","v":{"$error":"#N/A"}},{"$f":"VLOOKUP($A51,Data!$A$2:$E$100,4,FALSE)","v":{"$error":"#N/A"}},{"$f":"VLOOKUP($A51,Data!$A$2:$E$100,5,FALSE)","v":{"$error":"#N/A"}},null,"2019-09-02",0.375,null,{"$f":"IF((WORKDAY(J50,J$31,$G$32:$G$71)-$J$48)*0.7/64>4,INDEX(I$30:M$30,1,MATCH(J$48,I$30:M$30,1)+1),WORKDAY(J50,J$31,$G$32:$G$71))","v":"2021-07-12"},"2021-02-23","2020-12-11","2020-11-06","2020-10-21","2020-10-13",0.375,null,null,{"$f":"+N98","v":"2021-07-22"},{"$f":"+O98","v":"2021-03-01"},null,null,null,null,null,null,null,null,null,null,null,null,null,null,null,null,null,null,null,null,"2020-10-30",{"$error":"#N/A"},{"$error":"#N/A"},{"$error":"#N/A"},{"$error":"#N/A"},{"$error":"#N/A"},{"$error":"#N/A"},{"$error":"#N/A"},{"$error":"#N/A"},{"$error":"#N/A"},{"$error":"#N/A"},{"$error":"#N/A"},{"$error":"#N/A"},{"$error":"#N/A"},0,1,0.33333333333333298,0.66666666666666696,{"$error":"#N/A"},{"$error":"#N/A"},{"$error":"#N/A"},{"$error":"#N/A"},{"$error":"#N/A"},{"$error":"#N/A"},{"$error":"#N/A"},{"$error":"#N/A"},{"$error":"#N/A"},{"$error":"#N/A"},{"$error":"#N/A"},{"$error":"#N/A"},{"$error":"#N/A"},{"$error":"#N/A"},{"$error":"#N/A"},{"$error":"#N/A"},{"$error":"#N/A"},{"$error":"#N/A"},{"$error":"#N/A"},{"$error":"#N/A"},{"$error":"#N/A"},{"$error":"#N/A"},{"$error":"#N/A"},{"$error":"#N/A"},{"$error":"#N/A"},{"$error":"#N/A"},{"$error":"#N/A"},{"$error":"#N/A"},{"$error":"#N/A"},{"$error":"#N/A"},{"$error":"#N/A"},{"$error":"#N/A"},{"$error":"#N/A"},{"$error":"#N/A"},{"$error":"#N/A"},{"$error":"#N/A"},{"$error":"#N/A"},{"$error":"#N/A"},{"$error":"#N/A"},{"$error":"#N/A"},{"$error":"#N/A"},{"$error":"#N/A"},{"$error":"#N/A"},{"$error":"#N/A"},{"$error":"#N/A"},{"$error":"#N/A"},{"$error":"#N/A"},{"$error":"#N/A"},{"$error":"#N/A"},{"$error":"#N/A"},{"$error":"#N/A"},{"$error":"#N/A"},{"$error":"#N/A"},{"$error":"#N/A"},{"$error":"#N/A"},{"$error":"#N/A"},{"$error":"#N/A"},{"$error":"#N/A"},{"$error":"#N/A"},{"$error":"#N/A"},{"$error":"#N/A"},{"$error":"#N/A"},{"$error":"#N/A"},{"$error":"#N/A"},{"$error":"#N/A"},{"$error":"#N/A"},{"$error":"#N/A"},{"$error":"#N/A"},{"$error":"#N/A"},{"$error":"#N/A"},{"$error":"#N/A"},{"$error":"#N/A"},{"$error":"#N/A"},{"$error":"#N/A"},{"$error":"#N/A"},{"$error":"#N/A"},{"$error":"#N/A"},{"$error":"#N/A"},{"$error":"#N/A"},{"$error":"#N/A"},{"$error":"#N/A"},{"$error":"#N/A"},{"$error":"#N/A"},{"$error":"#N/A"},{"$error":"#N/A"},{"$error":"#N/A"},{"$error":"#N/A"},{"$error":"#N/A"}]
["2020-11-02",{"$f":"VLOOKUP($A52,Data!$A$2:$E$100,2,FALSE)","v":{"$error":"#N/A"}},{"$f":"VLOOKUP($A52,Data!$A$2:$E$100,3,FALSE)","v":{"$error":"#N/A"}},{"$f":"VLOOKUP($A52,Data!$A$2:$E$100,4,FALSE)","v":{"$error":"#N/A"}},{"$f":"VLOOKUP($A52,Data!$A$2:$E$100,5,FALSE)","v":{"$error":"#N/A"}},null,"2019-11-28",0.5,null,{"$f":"IF((WORKDAY(J51,J$31,$G$32:$G$71)-$J$48)*0.7/64>4,INDEX(I$30:M$30,1,MATCH(J$48,I$30:M$30,1)+1),WORKDAY(J51,J$31,$G$32:$G$71))","v":"2021-10-05"},"2021-04-09","2021-01-06","2020-11-18","2020-10-27","2020-10-15",0.5,null,null,{"$f":"+N102","v":"2021-08-13"},{"$f":"+O102","v":"2021-03-11"},null,null,null,null,null,null,null,null,null,null,null,null,null,null,null,null,null,null,null,null,"2020-11-02",{"$error":"#N/A"},{"$error":"#N/A"},{"$error":"#N/A"},{"$error":"#N/A"},{"$error":"#N/A"},{"$error":"#N/A"},{"$error":"#N/A"},{"$error":"#N/A"},{"$error":"#N/A"},{"$error":"#N/A"},{"$error":"#N/A"},{"$error":"#N/A"},1,0,1,0.33333333333333298,0.66666666666666696,{"$error":"#N/A"},{"$error":"#N/A"},{"$error":"#N/A"},{"$error":"#N/A"},{"$error":"#N/A"},{"$error":"#N/A"},{"$error":"#N/A"},{"$error":"#N/A"},{"$error":"#N/A"},{"$error":"#N/A"},{"$error":"#N/A"},{"$error":"#N/A"},{"$error":"#N/A"},{"$error":"#N/A"},{"$error":"#N/A"},{"$error":"#N/A"},{"$error":"#N/A"},{"$error":"#N/A"},{"$error":"#N/A"},{"$error":"#N/A"},{"$error":"#N/A"},{"$error":"#N/A"},{"$error":"#N/A"},{"$error":"#N/A"},{"$error":"#N/A"},{"$error":"#N/A"},{"$error":"#N/A"},{"$error":"#N/A"},{"$error":"#N/A"},{"$error":"#N/A"},{"$error":"#N/A"},{"$error":"#N/A"},{"$error":"#N/A"},{"$error":"#N/A"},{"$error":"#N/A"},{"$error":"#N/A"},{"$error":"#N/A"},{"$error":"#N/A"},{"$error":"#N/A"},{"$error":"#N/A"},{"$error":"#N/A"},{"$error":"#N/A"},{"$error":"#N/A"},{"$error":"#N/A"},{"$error":"#N/A"},0,{"$error":"#N/A"},{"$error":"#N/A"},{"$error":"#N/A"},{"$error":"#N/A"},{"$error":"#N/A"},{"$error":"#N/A"},{"$error":"#N/A"},1,{"$error":"#N/A"},{"$error":"#N/A"},{"$error":"#N/A"},{"$error":"#N/A"},{"$error":"#N/A"},{"$error":"#N/A"},{"$error":"#N/A"},{"$error":"#N/A"},{"$error":"#N/A"},{"$error":"#N/A"},{"$error":"#N/A"},{"$error":"#N/A"},{"$error":"#N/A"},{"$error":"#N/A"},{"$error":"#N/A"},{"$error":"#N/A"},{"$error":"#N/A"},{"$error":"#N/A"},{"$error":"#N/A"},{"$error":"#N/A"},{"$error":"#N/A"},{"$error":"#N/A"},{"$error":"#N/A"},{"$error":"#N/A"},{"$error":"#N/A"},{"$error":"#N/A"},{"$error":"#N/A"},{"$error":"#N/A"},{"$error":"#N/A"},{"$error":"#N/A"},{"$error":"#N/A"},{"$error":"#N/A"},{"$error":"#N/A"},{"$error":"#N/A"}]
["2020-11-03",{"$f":"VLOOKUP($A53,Data!$A$2:$E$100,2,FALSE)","v":{"$error":"#N/A"}},{"$f":"VLOOKUP($A53,Data!$A$2:$E$100,3,FALSE)","v":{"$error":"#N/A"}},{"$f":"VLOOKUP($A53,Data!$A$2:$E$100,4,FALSE)","v":{"$error":"#N/A"}},{"$f":"VLOOKUP($A53,Data!$A$2:$E$100,5,FALSE)","v":{"$error":"#N/A"}},null,"2019-12-25",0.625,null,null,"2021-05-25","2021-01-29","2020-12-01","2020-11-02","2020-10-19",0.625,null,null,{"$f":"+N106","v":"2021-09-07"},{"$f":"+O106","v":"2021-03-23"},null,null,null,null,null,null,null,null,null,null,null,null,null,null,null,null,null,null,null,null,"2020-11-03",{"$error":"#N/A"},{"$error":"#N/A"},{"$error":"#N/A"},{"$error":"#N/A"},{"$error":"#N/A"},{"$error":"#N/A"},{"$error":"#N/A"},{"$error":"#N/A"},{"$error":"#N/A"},{"$error":"#N/A"},{"$error":"#N/A"},{"$error":"#N/A"},{"$error":"#N/A"},0,1,0.33333333333333298,0.66666666666666696,{"$error":"#N/A"},{"$error":"#N/A"},{"$error":"#N/A"},{"$error":"#N/A"},{"$error":"#N/A"},{"$error":"#N/A"},{"$error":"#N/A"},{"$error":"#N/A"},{"$error":"#N/A"},{"$error":"#N/A"},{"$error":"#N/A"},{"$error":"#N/A"},{"$error":"#N/A"},{"$error":"#N/A"},{"$error":"#N/A"},{"$error":"#N/A"},{"$error":"#N/A"},{"$error":"#N/A"},{"$error":"#N/A"},{"$error":"#N/A"},{"$error":"#N/A"},{"$error":"#N/A"},{"$error":"#N/A"},{"$error":"#N/A"},{"$error":"#N/A"},{"$error":"#N/A"},{"$error":"#N/A"},{"$error":"#N/A"},{"$error":"#N/A"},{"$error":"#N/A"},{"$error":"#N/A"},{"$error":"#N/A"},{"$error":"#N/A"},{"$error":"#N/A"},{"$error":"#N/A"},{"$error":"#N/A"},{"$error":"#N/A"},{"$error":"#N/A"},{"$error":"#N/A"},{"$error":"#N/A"},{"$error":"#N/A"},{"$error":"#N/A"},{"$error":"#N/A"},{"$error":"#N/A"},{"$error":"#N/A"},{"$error":"#N/A"},{"$error":"#N/A"},{"$error":"#N/A"},{"$error":"#N/A"},{"$error":"#N/A"},{"$error":"#N/A"},{"$error":"#N/A"},{"$error":"#N/A"},{"$error":"#N/A"},{"$error":"#N/A"},{"$error":"#N/A"},{"$error":"#N/A"},{"$error":"#N/A"},{"$error":"#N/A"},{"$error":"#N/A"},{"$error":"#N/A"},{"$error":"#N/A"},{"$error":"#N/A"},{"$error":"#N/A"},{"$error":"#N/A"},{"$error":"#N/A"},{"$error":"#N/A"},{"$error":"#N/A"},{"$error":"#N/A"},{"$error":"#N/A"},{"$error":"#N/A"},{"$error":"#N/A"},{"$error":"#N/A"},{"$error":"#N/A"},{"$error":"#N/A"},{"$error":"#N/A"},{"$error":"#N/A"},{"$error":"#N/A"},{"$error":"#N/A"},{"$error":"#N/A"},{"$error":"#N/A"},{"$error":"#N/A"},{"$error":"#N/A"},{"$error":"#N/A"},{"$error":"#N/A"},{"$error":"#N/A"},{"$error":"#N/A"},{"$error":"#N/A"}]
["2020-11-04",{"$f":"VLOOKUP($A54,Data!$A$2:$E$100,2,FALSE)","v":{"$error":"#N/A"}},{"$f":"VLOOKUP($A54,Data!$A$2:$E$100,3,FALSE)","v":{"$error":"#N/A"}},{"$f":"VLOOKUP($A54,Data!$A$2:$E$100,4,FALSE)","v":{"$error":"#N/A"}},{"$f":"VLOOKUP($A54,Data!$A$2:$E$100,5,FALSE)","v":{"$error":"#N/A"}},null,"2020-01-01",0.75,null,null,"2021-07-12","2021-02-23","2020-12-11","2020-11-06","2020-10-21",0.75,null,null,{"$f":"+N110","v":"2021-09-29"},{"$f":"+O110","v":"2021-04-05"},null,null,null,null,null,null,null,null,null,null,null,null,null,null,null,null,null,null,null,null,"2020-11-04",{"$error":"#N/A"},{"$error":"#N/A"},{"$error":"#N/A"},{"$error":"#N/A"},{"$error":"#N/A"},{"$error":"#N/A"},{"$error":"#N/A"},{"$error":"#N/A"},{"$error":"#N/A"},{"$error":"#N/A"},{"$error":"#N/A"},{"$error":"#N/A"},{"$error":"#N/A"},0,1,0.33333333333333298,0.66666666666666696,{"$error":"#N/A"},{"$error":"#N/A"},{"$error":"#N/A"},{"$error":"#N/A"},{"$error":"#N/A"},{"$error":"#N/A"},{"$error":"#N/A"},{"$error":"#N/A"},{"$error":"#N/A"},{"$error":"#N/A"},{"$error":"#N/A"},{"$error":"#N/A"},{"$error":"#N/A"},{"$error":"#N/A"},{"$error":"#N/A"},{"$error":"#N/A"},{"$error":"#N/A"},{"$error":"#N/A"},{"$error":"#N/A"},{"$error":"#N/A"},{"$error":"#N/A"},{"$error":"#N/A"},{"$error":"#N/A"},{"$error":"#N/A"},{"$error":"#N/A"},{"$error":"#N/A"},{"$error":"#N/A"},{"$error":"#N/A"},{"$error":"#N/A"},{"$error":"#N/A"},{"$error":"#N/A"},{"$error":"#N/A"},{"$error":"#N/A"},{"$error":"#N/A"},{"$error":"#N/A"},{"$error":"#N/A"},{"$error":"#N/A"},{"$error":"#N/A"},{"$error":"#N/A"},{"$error":"#N/A"},{"$error":"#N/A"},{"$error":"#N/A"},{"$error":"#N/A"},{"$error":"#N/A"},{"$error":"#N/A"},{"$error":"#N/A"},{"$error":"#N/A"},{"$error":"#N/A"},{"$error":"#N/A"},{"$error":"#N/A"},{"$error":"#N/A"},{"$error":"#N/A"},{"$error":"#N/A"},{"$error":"#N/A"},{"$error":"#N/A"},{"$error":"#N/A"},{"$error":"#N/A"},{"$error":"#N/A"},{"$error":"#N/A"},{"$error":"#N/A"},{"$error":"#N/A"},{"$error":"#N/A"},{"$error":"#N/A"},{"$error":"#N/A"},{"$error":"#N/A"},{"$error":"#N/A"},{"$error":"#N/A"},{"$error":"#N/A"},{"$error":"#N/A"},{"$error":"#N/A"},{"$error":"#N/A"},{"$error":"#N/A"},{"$error":"#N/A"},{"$error":"#N/A"},{"$error":"#N/A"},{"$error":"#N/A"},{"$error":"#N/A"},{"$error":"#N/A"},{"$error":"#N/A"},{"$error":"#N/A"},{"$error":"#N/A"},{"$error":"#N/A"},{"$error":"#N/A"},{"$error":"#N/A"},{"$error":"#N/A"},{"$error":"#N/A"},{"$error":"#N/A"},{"$error":"#N/A"}]
["2020-11-05",{"$f":"VLOOKUP($A55,Data!$A$2:$E$100,2,FALSE)","v":{"$error":"#N/A"}},{"$f":"VLOOKUP($A55,Data!$A$2:$E$100,3,FALSE)","v":{"$error":"#N/A"}},{"$f":"VLOOKUP($A55,Data!$A$2:$E$100,4,FALSE)","v":{"$error":"#N/A"}},{"$f":"VLOOKUP($A55,Data!$A$2:$E$100,5,FALSE)","v":{"$error":"#N/A"}},null,"2020-01-20",0.875,null,null,"2021-08-25","2021-03-17","2020-12-23","2020-11-12","2020-10-23",0.875,null,null,null,{"$f":"+O114","v":"2021-04-15"},null,null,null,null,null,null,null,null,null,null,null,null,null,null,null,null,null,null,null,null,"2020-11-05",{"$error":"#N/A"},{"$error":"#N/A"},{"$error":"#N/A"},{"$error":"#N/A"},{"$error":"#N/A"},{"$error":"#N/A"},{"$error":"#N/A"},{"$error":"#N/A"},{"$error":"#N/A"},{"$error":"#N/A"},{"$error":"#N/A"},{"$error":"#N/A"},{"$error":"#N/A"},0,1,0.33333333333333298,0.66666666666666696,{"$error":"#N/A"},{"$error":"#N/A"},{"$error":"#N/A"},{"$error":"#N/A"},{"$error":"#N/A"},{"$error":"#N/A"},{"$error":"#N/A"},{"$error":"#N/A"},{"$error":"#N/A"},{"$error":"#N/A"},{"$error":"#N/A"},{"$error":"#N/A"},{"$error":"#N/A"},{"$error":"#N/A"},{"$error":"#N/A"},{"$error":"#N/A"},{"$error":"#N/A"},{"$error":"#N/A"},{"$error":"#N/A"},{"$error":"#N/A"},{"$error":"#N/A"},{"$error":"#N/A"},{"$error":"#N/A"},{"$error":"#N/A"},{"$error":"#N/A"},{"$error":"#N/A"},{"$error":"#N/A"},{"$error":"#N/A"},{"$error":"#N/A"},{"$error":"#N/A"},{"$error":"#N/A"},{"$error":"#N/A"},{"$error":"#N/A"},{"$error":"#N/A"},{"$error":"#N/A"},{"$error":"#N/A"},{"$error":"#N/A"},{"$error":"#N/A"},{"$error":"#N/A"},{"$error":"#N/A"},{"$error":"#N/A"},{"$error":"#N/A"},{"$error":"#N/A"},{"$error":"#N/A"},{"$error":"#N/A"},{"$error":"#N/A"},{"$error":"#N/A"},{"$error":"#N/A"},{"$error":"#N/A"},{"$error":"#N/A"},{"$error":"#N/A"},{"$error":"#N/A"},{"$error":"#N/A"},{"$error":"#N/A"},{"$error":"#N/A"},{"$error":"#N/A"},{"$error":"#N/A"},{"$error":"#N/A"},{"$error":"#N/A"},{"$error":"#N/A"},{"$error":"#N/A"},{"$error":"#N/A"},{"$error":"#N/A"},{"$error":"#N/A"},{"$error":"#N/A"},{"$error":"#N/A"},{"$error":"#N/A"},{"$error":"#N/A"},{"$error":"#N/A"},{"$error":"#N/A"},{"$error":"#N/A"},{"$error":"#N/A"},{"$error":"#N/A"},{"$error":"#N/A"},{"$error":"#N/A"},{"$error":"#N/A"},{"$error":"#N/A"},{"$error":"#N/A"},{"$error":"#N/A"},{"$error":"#N/A"},{"$error":"#N/A"},{"$error":"#N/A"},{"$error":"#N/A"},{"$error":"#N/A"},{"$error":"#N/A"},{"$error":"#N/A"},{"$error":"#N/A"},{"$error":"#N/A"}]
["2020-11-06",{"$f":"VLOOKUP($A56,Data!$A$2:$E$100,2,FALSE)","v":{"$error":"#N/A"}},{"$f":"VLOOKUP($A56,Data!$A$2:$E$100,3,FALSE)","v":{"$error":"#N/A"}},{"$f":"VLOOKUP($A56,Data!$A$2:$E$100,4,FALSE)","v":{"$error":"#N/A"}},{"$f":"VLOOKUP($A56,Data!$A$2:$E$100,5,FALSE)","v":{"$error":"#N/A"}},null,"2020-02-17",1,null,null,"2021-10-05","2021-04-09","2021-01-06","2020-11-18","2020-10-27",1,null,null,null,{"$f":"+O118","v":"2021-04-27"},null,null,null,null,null,null,null,null,null,null,null,null,null,null,null,null,null,null,null,null,"2020-11-06",-0.25,-0.25,0.25,0.25,0.75,0.75,1.25,1.25,{"$error":"#N/A"},{"$error":"#N/A"},{"$error":"#N/A"},1.125,1,0,1,0.33333333333333298,0.66666666666666696,{"$error":"#N/A"},{"$error":"#N/A"},{"$error":"#N/A"},{"$error":"#N/A"},{"$error":"#N/A"},{"$error":"#N/A"},{"$error":"#N/A"},{"$error":"#N/A"},{"$error":"#N/A"},1,{"$error":"#N/A"},{"$error":"#N/A"},{"$error":"#N/A"},{"$error":"#N/A"},{"$error":"#N/A"},{"$error":"#N/A"},{"$error":"#N/A"},{"$error":"#N/A"},{"$error":"#N/A"},{"$error":"#N/A"},{"$error":"#N/A"},{"$error":"#N/A"},{"$error":"#N/A"},{"$error":"#N/A"},{"$error":"#N/A"},{"$error":"#N/A"},{"$error":"#N/A"},{"$error":"#N/A"},{"$error":"#N/A"},{"$error":"#N/A"},{"$error":"#N/A"},{"$error":"#N/A"},{"$error":"#N/A"},{"$error":"#N/A"},{"$error":"#N/A"},{"$error":"#N/A"},{"$error":"#N/A"},{"$error":"#N/A"},{"$error":"#N/A"},{"$error":"#N/A"},{"$error":"#N/A"},{"$error":"#N/A"},{"$error":"#N/A"},{"$error":"#N/A"},0,{"$error":"#N/A"},{"$error":"#N/A"},{"$error":"#N/A"},{"$error":"#N/A"},{"$error":"#N/A"},{"$error":"#N/A"},{"$error":"#N/A"},1,{"$error":"#N/A"},{"$error":"#N/A"},{"$error":"#N/A"},{"$error":"#N/A"},{"$error":"#N/A"},{"$error":"#N/A"},{"$error":"#N/A"},{"$error":"#N/A"},{"$error":"#N/A"},{"$error":"#N/A"},{"$error":"#N/A"},{"$error":"#N/A"},{"$error":"#N/A"},{"$error":"#N/A"},{"$error":"#N/A"},{"$error":"#N/A"},{"$error":"#N/A"},{"$error":"#N/A"},{"$error":"#N/A"},{"$error":"#N/A"},{"$error":"#N/A"},{"$error":"#N/A"},{"$error":"#N/A"},{"$error":"#N/A"},{"$error":"#N/A"},{"$error":"#N/A"},{"$error":"#N/A"},{"$error":"#N/A"},{"$error":"#N/A"},{"$error":"#N/A"},{"$error":"#N/A"},{"$error":"#N/A"},{"$error":"#N/A"},{"$error":"#N/A"},{"$error":"#N/A"}]
["2020-11-09",{"$f":"VLOOKUP($A57,Data!$A$2:$E$100,2,FALSE)","v":{"$error":"#N/A"}},{"$f":"VLOOKUP($A57,Data!$A$2:$E$100,3,FALSE)","v":{"$error":"#N/A"}},{"$f":"VLOOKUP($A57,Data!$A$2:$E$100,4,FALSE)","v":{"$error":"#N/A"}},{"$f":"VLOOKUP($A57,Data!$A$2:$E$100,5,FALSE)","v":{"$error":"#N/A"}},null,"2020-04-10",0.125,null,null,null,"2021-05-03","2021-01-19","2020-11-24","2020-10-29",0.125,null,null,null,{"$f":"+O122","v":"2021-05-07"},null,null,null,null,null,null,null,null,null,null,null,null,null,null,null,null,null,null,null,null,"2020-11-09",{"$error":"#N/A"},{"$error":"#N/A"},{"$error":"#N/A"},{"$error":"#N/A"},{"$error":"#N/A"},{"$error":"#N/A"},{"$error":"#N/A"},{"$error":"#N/A"},{"$error":"#N/A"},{"$error":"#N/A"},{"$error":"#N/A"},{"$error":"#N/A"},{"$error":"#N/A"},0,1,0.33333333333333298,0.66666666666666696,{"$error":"#N/A"},{"$error":"#N/A"},{"$error":"#N/A"},{"$error":"#N/A"},{"$error":"#N/A"},{"$error":"#N/A"},{"$error":"#N/A"},{"$error":"#N/A"},{"$error":"#N/A"},{"$error":"#N/A"},{"$error":"#N/A"},{"$error":"#N/A"},{"$error":"#N/A"},{"$error":"#N/A"},{"$error":"#N/A"},{"$error":"#N/A"},{"$error":"#N/A"},{"$error":"#N/A"},{"$error":"#N/A"},{"$error":"#N/A"},{"$error":"#N/A"},{"$error":"#N/A"},{"$error":"#N/A"},{"$error":"#N/A"},{"$error":"#N/A"},{"$error":"#N/A"},{"$error":"#N/A"},{"$error":"#N/A"},{"$error":"#N/A"},{"$error":"#N/A"},{"$error":"#N/A"},{"$error":"#N/A"},{"$error":"#N/A"},{"$error":"#N/A"},{"$error":"#N/A"},{"$error":"#N/A"},{"$error":"#N/A"},{"$error":"#N/A"},{"$error":"#N/A"},{"$error":"#N/A"},{"$error":"#N/A"},{"$error":"#N/A"},{"$error":"#N/A"},{"$error":"#N/A"},{"$error":"#N/A"},{"$error":"#N/A"},{"$error":"#N/A"},{"$error":"#N/A"},{"$error":"#N/A"},{"$error":"#N/A"},{"$error":"#N/A"},{"$error":"#N/A"},{"$error":"#N/A"},{"$error":"#N/A"},{"$error":"#N/A"},{"$error":"#N/A"},{"$error":"#N/A"},{"$error":"#N/A"},{"$error":"#N/A"},{"$error":"#N/A"},{"$error":"#N/A"},{"$error":"#N/A"},{"$error":"#N/A"},{"$error":"#N/A"},{"$error":"#N/A"},{"$error":"#N/A"},{"$error":"#N/A"},{"$error":"#N/A"},{"$error":"#N/A"},{"$error":"#N/A"},{"$error":"#N/A"},{"$error":"#N/A"},{"$error":"#N/A"},{"$error":"#N/A"},{"$error":"#N/A"},{"$error":"#N/A"},{"$error":"#N/A"},{"$error":"#N/A"},{"$error":"#N/A"},{"$error":"#N/A"},{"$error":"#N/A"},{"$error":"#N/A"},{"$error":"#N/A"},{"$error":"#N/A"},{"$error":"#N/A"},{"$error":"#N/A"},{"$error":"#N/A"},{"$error":"#N/A"}]
["2020-11-10",{"$f":"VLOOKUP($A58,Data!$A$2:$E$100,2,FALSE)","v":{"$error":"#N/A"}},{"$f":"VLOOKUP($A58,Data!$A$2:$E$100,3,FALSE)","v":{"$error":"#N/A"}},{"$f":"VLOOKUP($A58,Data!$A$2:$E$100,4,FALSE)","v":{"$error":"#N/A"}},{"$f":"VLOOKUP($A58,Data!$A$2:$E$100,5,FALSE)","v":{"$error":"#N/A"}},null,"2020-05-25",0.25,null,null,null,"2021-05-25","2021-01-29","2020-12-01","2020-11-02",0.25,null,null,null,{"$f":"+O126","v":"2021-05-19"},null,null,null,null,null,null,null,null,null,null,null,null,null,null,null,null,null,null,null,null,"2020-11-10",{"$error":"#N/A"},{"$error":"#N/A"},{"$error":"#N/A"},{"$error":"#N/A"},{"$error":"#N/A"},{"$error":"#N/A"},{"$error":"#N/A"},{"$error":"#N/A"},{"$error":"#N/A"},{"$error":"#N/A"},{"$error":"#N/A"},{"$error":"#N/A"},{"$error":"#N/A"},0,1,0.33333333333333298,0.66666666666666696,{"$error":"#N/A"},{"$error":"#N/A"},{"$error":"#N/A"},{"$error":"#N/A"},{"$error":"#N/A"},{"$error":"#N/A"},{"$error":"#N/A"},{"$error":"#N/A"},{"$error":"#N/A"},{"$error":"#N/A"},{"$error":"#N/A"},{"$error":"#N/A"},{"$error":"#N/A"},{"$error":"#N/A"},{"$error":"#N/A"},{"$error":"#N/A"},{"$error":"#N/A"},{"$error":"#N/A"},{"$error":"#N/A"},{"$error":"#N/A"},{"$error":"#N/A"},{"$error":"#N/A"},{"$error":"#N/A"},{"$error":"#N/A"},{"$error":"#N/A"},{"$error":"#N/A"},{"$error":"#N/A"},{"$error":"#N/A"},{"$error":"#N/A"},{"$error":"#N/A"},{"$error":"#N/A"},{"$error":"#N/A"},{"$error":"#N/A"},{"$error":"#N/A"},{"$error":"#N/A"},{"$error":"#N/A"},{"$error":"#N/A"},{"$error":"#N/A"},{"$error":"#N/A"},{"$error":"#N/A"},{"$error":"#N/A"},{"$error":"#N/A"},{"$error":"#N/A"},{"$error":"#N/A"},{"$error":"#N/A"},{"$error":"#N/A"},{"$error":"#N/A"},{"$error":"#N/A"},{"$error":"#N/A"},{"$error":"#N/A"},{"$error":"#N/A"},{"$error":"#N/A"},{"$error":"#N/A"},{"$error":"#N/A"},{"$error":"#N/A"},{"$error":"#N/A"},{"$error":"#N/A"},{"$error":"#N/A"},{"$error":"#N/A"},{"$error":"#N/A"},{"$error":"#N/A"},{"$error":"#N/A"},{"$error":"#N/A"},{"$error":"#N/A"},{"$error":"#N/A"},{"$error":"#N/A"},{"$error":"#N/A"},{"$error":"#N/A"},{"$error":"#N/A"},{"$error":"#N/A"},{"$error":"#N/A"},{"$error":"#N/A"},{"$error":"#N/A"},{"$error":"#N/A"},{"$error":"#N/A"},{"$error":"#N/A"},{"$error":"#N/A"},{"$error":"#N/A"},{"$error":"#N/A"},{"$error":"#N/A"},{"$error":"#N/A"},{"$error":"#N/A"},{"$error":"#N/A"},{"$error":"#N/A"},{"$error":"#N/A"},{"$error":"#N/A"},{"$error":"#N/A"},{"$error":"#N/A"}]
["2020-11-11",{"$f":"VLOOKUP($A59,Data!$A$2:$E$100,2,FALSE)","v":{"$error":"#N/A"}},{"$f":"VLOOKUP($A59,Data!$A$2:$E$100,3,FALSE)","v":{"$error":"#N/A"}},{"$f":"VLOOKUP($A59,Data!$A$2:$E$100,4,FALSE)","v":{"$error":"#N/A"}},{"$f":"VLOOKUP($A59,Data!$A$2:$E$100,5,FALSE)","v":{"$error":"#N/A"}},null,"2020-07-04",0.375,null,null,null,"2021-06-17","2021-02-10","2020-12-07","2020-11-04",0.375,null,null,null,{"$f":"+O130","v":"2021-06-01"},null,null,null,null,null,null,null,null,null,null,null,null,null,null,null,null,null,null,null,null,"2020-11-11",{"$error":"#N/A"},{"$error":"#N/A"},{"$error":"#N/A"},{"$error":"#N/A"},{"$error":"#N/A"},{"$error":"#N/A"},{"$error":"#N/A"},{"$error":"#N/A"},{"$error":"#N/A"},{"$error":"#N/A"},{"$error":"#N/A"},{"$error":"#N/A"},{"$error":"#N/A"},0,1,0.33333333333333298,0.66666666666666696,{"$error":"#N/A"},{"$error":"#N/A"},{"$error":"#N/A"},{"$error":"#N/A"},{"$error":"#N/A"},{"$error":"#N/A"},{"$error":"#N/A"},{"$error":"#N/A"},{"$error":"#N/A"},{"$error":"#N/A"},{"$error":"#N/A"},{"$error":"#N/A"},{"$error":"#N/A"},{"$error":"#N/A"},{"$error":"#N/A"},{"$error":"#N/A"},{"$error":"#N/A"},{"$error":"#N/A"},{"$error":"#N/A"},{"$error":"#N/A"},{"$error":"#N/A"},{"$error":"#N/A"},{"$error":"#N/A"},{"$error":"#N/A"},{"$error":"#N/A"},{"$error":"#N/A"},{"$error":"#N/A"},{"$error":"#N/A"},{"$error":"#N/A"},{"$error":"#N/A"},{"$error":"#N/A"},{"$error":"#N/A"},{"$error":"#N/A"},{"$error":"#N/A"},{"$error":"#N/A"},{"$error":"#N/A"},{"$error":"#N/A"},{"$error":"#N/A"},{"$error":"#N/A"},{"$error":"#N/A"},{"$error":"#N/A"},{"$error":"#N/A"},{"$error":"#N/A"},{"$error":"#N/A"},{"$error":"#N/A"},{"$error":"#N/A"},{"$error":"#N/A"},{"$error":"#N/A"},{"$error":"#N/A"},{"$error":"#N/A"},{"$error":"#N/A"},{"$error":"#N/A"},{"$error":"#N/A"},{"$error":"#N/A"},{"$error":"#N/A"},{"$error":"#N/A"},{"$error":"#N/A"},{"$error":"#N/A"},{"$error":"#N/A"},{"$error":"#N/A"},{"$error":"#N/A"},{"$error":"#N/A"},{"$error":"#N/A"},{"$error":"#N/A"},{"$error":"#N/A"},{"$error":"#N/A"},{"$error":"#N/A"},{"$error":"#N/A"},{"$error":"#N/A"},{"$error":"#N/A"},{"$error":"#N/A"},{"$error":"#N/A"},{"$error":"#N/A"},{"$error":"#N/A"},{"$error":"#N/A"},{"$error":"#N/A"},{"$error":"#N/A"},{"$error":"#N/A"},{"$error":"#N/A"},{"$error":"#N/A"},{"$error":"#N/A"},{"$error":"#N/A"},{"$error":"#N/A"},{"$error":"#N/A"},{"$error":"#N/A"},{"$error":"#N/A"},{"$error":"#N/A"},{"$error":"#N/A"}]
["2020-11-12",{"$f":"VLOOKUP($A60,Data!$A$2:$E$100,2,FALSE)","v":{"$error":"#N/A"}},{"$f":"VLOOKUP($A60,Data!$A$2:$E$100,3,FALSE)","v":{"$error":"#N/A"}},{"$f":"VLOOKUP($A60,Data!$A$2:$E$100,4,FALSE)","v":{"$error":"#N/A"}},{"$f":"VLOOKUP($A60,Data!$A$2:$E$100,5,FALSE)","v":{"$error":"#N/A"}},null,"2020-09-07",0.5,null,null,null,"2021-07-12","2021-02-23","2020-12-11","2020-11-06",0.5,null,null,null,{"$f":"+O134","v":"2021-06-11"},null,null,null,null,null,null,null,null,null,null,null,null,null,null,null,null,null,null,null,null,"2020-11-12",{"$error":"#N/A"},{"$error":"#N/A"},{"$error":"#N/A"},{"$error":"#N/A"},{"$error":"#N/A"},{"$error":"#N/A"},{"$error":"#N/A"},{"$error":"#N/A"},{"$error":"#N/A"},{"$error":"#N/A"},{"$error":"#N/A"},{"$error":"#N/A"},1,0,1,0.33333333333333298,0.66666666666666696,{"$error":"#N/A"},{"$error":"#N/A"},{"$error":"#N/A"},{"$error":"#N/A"},{"$error":"#N/A"},{"$error":"#N/A"},{"$error":"#N/A"},{"$error":"#N/A"},{"$error":"#N/A"},{"$error":"#N/A"},{"$error":"#N/A"},{"$error":"#N/A"},{"$error":"#N/A"},{"$error":"#N/A"},{"$error":"#N/A"},{"$error":"#N/A"},{"$error":"#N/A"},{"$error":"#N/A"},{"$error":"#N/A"},{"$error":"#N/A"},{"$error":"#N/A"},{"$error":"#N/A"},{"$error":"#N/A"},{"$error":"#N/A"},{"$error":"#N/A"},{"$error":"#N/A"},{"$error":"#N/A"},{"$error":"#N/A"},{"$error":"#N/A"},{"$error":"#N/A"},{"$error":"#N/A"},{"$error":"#N/A"},{"$error":"#N/A"},{"$error":"#N/A"},{"$error":"#N/A"},{"$error":"#N/A"},{"$error":"#N/A"},{"$error":"#N/A"},{"$error":"#N/A"},{"$error":"#N/A"},{"$error":"#N/A"},{"$error":"#N/A"},{"$error":"#N/A"},0,{"$error":"#N/A"},{"$error":"#N/A"},{"$error":"#N/A"},{"$error":"#N/A"},{"$error":"#N/A"},{"$error":"#N/A"},{"$error":"#N/A"},1,{"$error":"#N/A"},{"$error":"#N/A"},{"$error":"#N/A"},{"$error":"#N/A"},{"$error":"#N/A"},{"$error":"#N/A"},{"$error":"#N/A"},{"$error":"#N/A"},{"$error":"#N/A"},{"$error":"#N/A"},{"$error":"#N/A"},{"$error":"#N/A"},{"$error":"#N/A"},{"$error":"#N/A"},{"$error":"#N/A"},{"$error":"#N/A"},{"$error":"#N/A"},{"$error":"#N/A"},{"$error":"#N/A"},{"$error":"#N/A"},{"$error":"#N/A"},{"$error":"#N/A"},{"$error":"#N/A"},{"$error":"#N/A"},{"$error":"#N/A"},{"$error":"#N/A"},{"$error":"#N/A"},{"$error":"#N/A"},{"$error":"#N/A"},{"$error":"#N/A"},{"$error":"#N/A"},{"$error":"#N/A"},{"$error":"#N/A"},{"$error":"#N/A"},{"$error":"#N/A"},{"$error":"#N/A"}]
["2020-11-13",{"$f":"VLOOKUP($A61,Data!$A$2:$E$100,2,FALSE)","v":{"$error":"#N/A"}},{"$f":"VLOOKUP($A61,Data!$A$2:$E$100,3,FALSE)","v":{"$error":"#N/A"}},{"$f":"VLOOKUP($A61,Data!$A$2:$E$100,4,FALSE)","v":{"$error":"#N/A"}},{"$f":"VLOOKUP($A61,Data!$A$2:$E$100,5,FALSE)","v":{"$error":"#N/A"}},null,"2020-11-26",0.625,null,null,null,"2021-08-03","2021-03-05","2020-12-17","2020-11-10",0.625,null,null,null,{"$f":"+O138","v":"2021-06-23"},null,null,null,null,null,null,null,null,null,null,null,null,null,null,null,null,null,null,null,null,"2020-11-13",{"$error":"#N/A"},{"$error":"#N/A"},{"$error":"#N/A"},{"$error":"#N/A"},{"$error":"#N/A"},{"$error":"#N/A"},{"$error":"#N/A"},{"$error":"#N/A"},{"$error":"#N/A"},{"$error":"#N/A"},{"$error":"#N/A"},{"$error":"#N/A"},{"$error":"#N/A"},0,1,0.33333333333333298,0.66666666666666696,{"$error":"#N/A"},{"$error":"#N/A"},{"$error":"#N/A"},{"$error":"#N/A"},{"$error":"#N/A"},{"$error":"#N/A"},{"$error":"#N/A"},{"$error":"#N/A"},{"$error":"#N/A"},{"$error":"#N/A"},{"$error":"#N/A"},{"$error":"#N/A"},{"$error":"#N/A"},{"$error":"#N/A"},{"$error":"#N/A"},{"$error":"#N/A"},{"$error":"#N/A"},{"$error":"#N/A"},{"$error":"#N/A"},{"$error":"#N/A"},{"$error":"#N/A"},{"$error":"#N/A"},{"$error":"#N/A"},{"$error":"#N/A"},{"$error":"#N/A"},{"$error":"#N/A"},{"$error":"#N/A"},{"$error":"#N/A"},{"$error":"#N/A"},{"$error":"#N/A"},{"$error":"#N/A"},{"$error":"#N/A"},{"$error":"#N/A"},{"$error":"#N/A"},{"$error":"#N/A"},{"$error":"#N/A"},{"$error":"#N/A"},{"$error":"#N/A"},{"$error":"#N/A"},{"$error":"#N/A"},{"$error":"#N/A"},{"$error":"#N/A"},{"$error":"#N/A"},{"$error":"#N/A"},{"$error":"#N/A"},{"$error":"#N/A"},{"$error":"#N/A"},{"$error":"#N/A"},{"$error":"#N/A"},{"$error":"#N/A"},{"$error":"#N/A"},{"$error":"#N/A"},{"$error":"#N/A"},{"$error":"#N/A"},{"$error":"#N/A"},{"$error":"#N/A"},{"$error":"#N/A"},{"$error":"#N/A"},{"$error":"#N/A"},{"$error":"#N/A"},{"$error":"#N/A"},{"$error":"#N/A"},{"$error":"#N/A"},{"$error":"#N/A"},{"$error":"#N/A"},{"$error":"#N/A"},{"$error":"#N/A"},{"$error":"#N/A"},{"$error":"#N/A"},{"$error":"#N/A"},{"$error":"#N/A"},{"$error":"#N/A"},{"$error":"#N/A"},{"$error":"#N/A"},{"$error":"#N/A"},{"$error":"#N/A"},{"$error":"#N/A"},{"$error":"#N/A"},{"$error":"#N/A"},{"$error":"#N/A"},{"$error":"#N/A"},{"$error":"#N/A"},{"$error":"#N/A"},{"$error":"#N/A"},{"$error":"#N/A"},{"$error":"#N/A"},{"$error":"#N/A"},{"$error":"#N/A"}]
["2020-11-16",{"$f":"VLOOKUP($A62,Data!$A$2:$E$100,2,FALSE)","v":{"$error":"#N/A"}},{"$f":"VLOOKUP($A62,Data!$A$2:$E$100,3,FALSE)","v":{"$error":"#N/A"}},{"$f":"VLOOKUP($A62,Data!$A$2:$E$100,4,FALSE)","v":{"$error":"#N/A"}},{"$f":"VLOOKUP($A62,Data!$A$2:$E$100,5,FALSE)","v":{"$error":"#N/A"}},null,"2020-12-25",0.75,null,null,null,"2021-08-25","2021-03-17","2020-12-23","2020-11-12",0.75,null,null,null,{"$f":"+O142","v":"2021-07-06"},null,null,null,null,null,null,null,null,null,null,null,null,null,null,null,null,null,null,null,null,"2020-11-16",{"$error":"#N/A"},{"$error":"#N/A"},{"$error":"#N/A"},{"$error":"#N/A"},{"$error":"#N/A"},{"$error":"#N/A"},{"$error":"#N/A"},{"$error":"#N/A"},{"$error":"#N/A"},{"$error":"#N/A"},{"$error":"#N/A"},{"$error":"#N/A"},{"$error":"#N/A"},0,1,0.33333333333333298,0.66666666666666696,{"$error":"#N/A"},{"$error":"#N/A"},{"$error":"#N/A"},{"$error":"#N/A"},{"$error":"#N/A"},{"$error":"#N/A"},{"$error":"#N/A"},{"$error":"#N/A"},{"$error":"#N/A"},{"$error":"#N/A"},{"$error":"#N/A"},{"$error":"#N/A"},{"$error":"#N/A"},{"$error":"#N/A"},{"$error":"#N/A"},{"$error":"#N/A"},{"$error":"#N/A"},{"$error":"#N/A"},{"$error":"#N/A"},{"$error":"#N/A"},{"$error":"#N/A"},{"$error":"#N/A"},{"$error":"#N/A"},{"$error":"#N/A"},{"$error":"#N/A"},{"$error":"#N/A"},{"$error":"#N/A"},{"$error":"#N/A"},{"$error":"#N/A"},{"$error":"#N/A"},{"$error":"#N/A"},{"$error":"#N/A"},{"$error":"#N/A"},{"$error":"#N/A"},{"$error":"#N/A"},{"$error":"#N/A"},{"$error":"#N/A"},{"$error":"#N/A"},{"$error":"#N/A"},{"$error":"#N/A"},{"$error":"#N/A"},{"$error":"#N/A"},{"$error":"#N/A"},{"$error":"#N/A"},{"$error":"#N/A"},{"$error":"#N/A"},{"$error":"#N/A"},{"$error":"#N/A"},{"$error":"#N/A"},{"$error":"#N/A"},{"$error":"#N/A"},{"$error":"#N/A"},{"$error":"#N/A"},{"$error":"#N/A"},{"$error":"#N/A"},{"$error":"#N/A"},{"$error":"#N/A"},{"$error":"#N/A"},{"$error":"#N/A"},{"$error":"#N/A"},{"$error":"#N/A"},{"$error":"#N/A"},{"$error":"#N/A"},{"$error":"#N/A"},{"$error":"#N/A"},{"$error":"#N/A"},{"$error":"#N/A"},{"$error":"#N/A"},{"$error":"#N/A"},{"$error":"#N/A"},{"$error":"#N/A"},{"$error":"#N/A"},{"$error":"#N/A"},{"$error":"#N/A"},{"$error":"#N/A"},{"$error":"#N/A"},{"$error":"#N/A"},{"$error":"#N/A"},{"$error":"#N/A"},{"$error":"#N/A"},{"$error":"#N/A"},{"$error":"#N/A"},{"$error":"#N/A"},{"$error":"#N/A"},{"$error":"#N/A"},{"$error":"#N/A"},{"$error":"#N/A"},{"$error":"#N/A"}]
["2020-11-17",{"$f":"VLOOKUP($A63,Data!$A$2:$E$100,2,FALSE)","v":{"$error":"#N/A"}},{"$f":"VLOOKUP($A63,Data!$A$2:$E$100,3,FALSE)","v":{"$error":"#N/A"}},{"$f":"VLOOKUP($A63,Data!$A$2:$E$100,4,FALSE)","v":{"$error":"#N/A"}},{"$f":"VLOOKUP($A63,Data!$A$2:$E$100,5,FALSE)","v":{"$error":"#N/A"}},null,"2021-01-01",0.875,null,null,null,"2021-09-17","2021-03-29","2020-12-30","2020-11-16",0.875,null,null,null,{"$f":"+O146","v":"2021-07-16"},null,null,null,null,null,null,null,null,null,null,null,null,null,null,null,null,null,null,null,null,"2020-11-17",{"$error":"#N/A"},{"$error":"#N/A"},{"$error":"#N/A"},{"$error":"#N/A"},{"$error":"#N/A"},{"$error":"#N/A"},{"$error":"#N/A"},{"$error":"#N/A"},{"$error":"#N/A"},{"$error":"#N/A"},{"$error":"#N/A"},{"$error":"#N/A"},{"$error":"#N/A"},0,1,0.33333333333333298,0.66666666666666696,{"$error":"#N/A"},{"$error":"#N/A"},{"$error":"#N/A"},{"$error":"#N/A"},{"$error":"#N/A"},{"$error":"#N/A"},{"$error":"#N/A"},{"$error":"#N/A"},{"$error":"#N/A"},{"$error":"#N/A"},{"$error":"#N/A"},{"$error":"#N/A"},{"$error":"#N/A"},{"$error":"#N/A"},{"$error":"#N/A"},{"$error":"#N/A"},{"$error":"#N/A"},{"$error":"#N/A"},{"$error":"#N/A"},{"$error":"#N/A"},{"$error":"#N/A"},{"$error":"#N/A"},{"$error":"#N/A"},{"$error":"#N/A"},{"$error":"#N/A"},{"$error":"#N/A"},{"$error":"#N/A"},{"$error":"#N/A"},{"$error":"#N/A"},{"$error":"#N/A"},{"$error":"#N/A"},{"$error":"#N/A"},{"$error":"#N/A"},{"$error":"#N/A"},{"$error":"#N/A"},{"$error":"#N/A"},{"$error":"#N/A"},{"$error":"#N/A"},{"$error":"#N/A"},{"$error":"#N/A"},{"$error":"#N/A"},{"$error":"#N/A"},{"$error":"#N/A"},{"$error":"#N/A"},{"$error":"#N/A"},{"$error":"#N/A"},{"$error":"#N/A"},{"$error":"#N/A"},{"$error":"#N/A"},{"$error":"#N/A"},{"$error":"#N/A"},{"$error":"#N/A"},{"$error":"#N/A"},{"$error":"#N/A"},{"$error":"#N/A"},{"$error":"#N/A"},{"$error":"#N/A"},{"$error":"#N/A"},{"$error":"#N/A"},{"$error":"#N/A"},{"$error":"#N/A"},{"$error":"#N/A"},{"$error":"#N/A"},{"$error":"#N/A"},{"$error":"#N/A"},{"$error":"#N/A"},{"$error":"#N/A"},{"$error":"#N/A"},{"$error":"#N/A"},{"$error":"#N/A"},{"$error":"#N/A"},{"$error":"#N/A"},{"$error":"#N/A"},{"$error":"#N/A"},{"$error":"#N/A"},{"$error":"#N/A"},{"$error":"#N/A"},{"$error":"#N/A"},{"$error":"#N/A"},{"$error":"#N/A"},{"$error":"#N/A"},{"$error":"#N/A"},{"$error":"#N/A"},{"$error":"#N/A"},{"$error":"#N/A"},{"$error":"#N/A"},{"$error":"#N/A"},{"$error":"#N/A"}]
["2020-11-18",{"$f":"VLOOKUP($A64,Data!$A$2:$E$100,2,FALSE)","v":{"$error":"#N/A"}},{"$f":"VLOOKUP($A64,Data!$A$2:$E$100,3,FALSE)","v":{"$error":"#N/A"}},{"$f":"VLOOKUP($A64,Data!$A$2:$E$100,4,FALSE)","v":{"$error":"#N/A"}},{"$f":"VLOOKUP($A64,Data!$A$2:$E$100,5,FALSE)","v":{"$error":"#N/A"}},null,"2021-01-18",null,null,null,null,"2021-10-05","2021-04-09","2021-01-06","2020-11-18",1,null,null,null,{"$f":"+O150","v":"2021-07-28"},null,null,null,null,null,null,null,null,null,null,null,null,null,null,null,null,null,null,null,null,"2020-11-18",{"$f":"IF($W$11,IF(VLOOKUP($AO64,$S$37:$S$54,1,),-2/8,NA()),NA())","v":{"$error":"#N/A"}},{"$error":"#N/A"},{"$f":"IF($W$11,IF(VLOOKUP($AO64,$S$37:$S$54,1,),2/8,NA()),NA())","v":{"$error":"#N/A"}},{"$error":"#N/A"},{"$f":"IF($W$11,IF(VLOOKUP($AO64,$S$37:$S$54,1,),6/8,NA()),NA())","v":{"$error":"#N/A"}},{"$error":"#N/A"},{"$f":"IF($W$11,IF(VLOOKUP($AO64,$S$37:$S$54,1,),10/8,NA()),NA())","v":{"$error":"#N/A"}},{"$error":"#N/A"},{"$f":"IF($W$11,IF(VLOOKUP($AO64,$S$72:$S$80,1,),4/8,NA()),NA())","v":{"$error":"#N/A"}},{"$error":"#N/A"},1.25,1.125,1,0,1,0.33333333333333298,0.66666666666666696,{"$error":"#N/A"},{"$error":"#N/A"},{"$error":"#N/A"},{"$error":"#N/A"},{"$error":"#N/A"},{"$error":"#N/A"},{"$error":"#N/A"},{"$error":"#N/A"},{"$error":"#N/A"},{"$error":"#N/A"},1,0.75,0.5,0.25,{"$error":"#N/A"},{"$error":"#N/A"},{"$error":"#N/A"},{"$error":"#N/A"},{"$error":"#N/A"},{"$error":"#N/A"},{"$error":"#N/A"},{"$error":"#N/A"},{"$error":"#N/A"},{"$error":"#N/A"},{"$error":"#N/A"},{"$error":"#N/A"},{"$error":"#N/A"},{"$error":"#N/A"},{"$error":"#N/A"},{"$error":"#N/A"},{"$error":"#N/A"},{"$error":"#N/A"},{"$error":"#N/A"},{"$error":"#N/A"},{"$error":"#N/A"},{"$error":"#N/A"},{"$error":"#N/A"},{"$error":"#N/A"},{"$error":"#N/A"},{"$error":"#N/A"},{"$error":"#N/A"},{"$error":"#N/A"},{"$error":"#N/A"},0.125,0.25,0.375,0.5,0.625,0.75,0.875,1,{"$error":"#N/A"},{"$error":"#N/A"},{"$error":"#N/A"},{"$error":"#N/A"},{"$error":"#N/A"},{"$error":"#N/A"},{"$error":"#N/A"},{"$error":"#N/A"},{"$error":"#N/A"},{"$error":"#N/A"},{"$error":"#N/A"},{"$error":"#N/A"},{"$error":"#N/A"},{"$error":"#N/A"},{"$error":"#N/A"},{"$error":"#N/A"},{"$error":"#N/A"},{"$error":"#N/A"},{"$error":"#N/A"},{"$error":"#N/A"},{"$error":"#N/A"},{"$error":"#N/A"},{"$error":"#N/A"},{"$error":"#N/A"},{"$error":"#N/A"},{"$error":"#N/A"},{"$error":"#N/A"},{"$error":"#N/A"},{"$error":"#N/A"},{"$error":"#N/A"},{"$error":"#N/A"},{"$error":"#N/A"},{"$error":"#N/A"},{"$error":"#N/A"},{"$error":"#N/A"},{"$error":"#N/A"},{"$error":"#N/A"}]
[{"$error":"#N/A"},{"$f":"VLOOKUP($A65,Data!$A$2:$E$100,2,FALSE)","v":{"$error":"#N/A"}},{"$f":"VLOOKUP($A65,Data!$A$2:$E$100,3,FALSE)","v":{"$error":"#N/A"}},{"$f":"VLOOKUP($A65,Data!$A$2:$E$100,4,FALSE)","v":{"$error":"#N/A"}},{"$f":"VLOOKUP($A65,Data!$A$2:$E$100,5,FALSE)","v":{"$error":"#N/A"}},null,"2021-02-15",0.25,null,null,null,null,"2021-04-21","2021-01-12","2020-11-20",0.125,null,null,null,{"$f":"+O154","v":"2021-08-09"},null,null,null,null,null,null,null,null,null,null,null,null,null,null,null,null,null,null,null,null,{"$error":"#N/A"},{"$error":"#N/A"},{"$error":"#N/A"},{"$error":"#N/A"},{"$error":"#N/A"},{"$error":"#N/A"},{"$error":"#N/A"},{"$error":"#N/A"},{"$error":"#N/A"},{"$error":"#N/A"},{"$error":"#N/A"},{"$error":"#N/A"},{"$error":"#N/A"},{"$error":"#N/A"},0,1,0.33333333333333298,0.66666666666666696,{"$error":"#N/A"},{"$error":"#N/A"},{"$error":"#N/A"},{"$error":"#N/A"},{"$error":"#N/A"},{"$error":"#N/A"},{"$error":"#N/A"},{"$error":"#N/A"},{"$error":"#N/A"},{"$error":"#N/A"},{"$error":"#N/A"},{"$error":"#N/A"},{"$error":"#N/A"},{"$error":"#N/A"},{"$error":"#N/A"},{"$error":"#N/A"},{"$error":"#N/A"},{"$error":"#N/A"},{"$error":"#N/A"},{"$error":"#N/A"},{"$error":"#N/A"},{"$error":"#N/A"},{"$error":"#N/A"},{"$error":"#N/A"},{"$error":"#N/A"},{"$error":"#N/A"},{"$error":"#N/A"},{"$error":"#N/A"},{"$error":"#N/A"},{"$error":"#N/A"},{"$error":"#N/A"},{"$error":"#N/A"},{"$error":"#N/A"},{"$error":"#N/A"},{"$error":"#N/A"},{"$error":"#N/A"},{"$error":"#N/A"},{"$error":"#N/A"},{"$error":"#N/A"},{"$error":"#N/A"},{"$error":"#N/A"},{"$error":"#N/A"},{"$error":"#N/A"},{"$error":"#N/A"},{"$error":"#N/A"},{"$error":"#N/A"},{"$error":"#N/A"},{"$error":"#N/A"},{"$error":"#N/A"},{"$error":"#N/A"},{"$error":"#N/A"},{"$error":"#N/A"},{"$error":"#N/A"},{"$error":"#N/A"},{"$error":"#N/A"},{"$error":"#N/A"},{"$error":"#N/A"},{"$error":"#N/A"},{"$error":"#N/A"},{"$error":"#N/A"},{"$error":"#N/A"},{"$error":"#N/A"},{"$error":"#N/A"},{"$error":"#N/A"},{"$error":"#N/A"},{"$error":"#N/A"},{"$error":"#N/A"},{"$error":"#N/A"},{"$error":"#N/A"},{"$error":"#N/A"},{"$error":"#N/A"},{"$error":"#N/A"},{"$error":"#N/A"},{"$error":"#N/A"},{"$error":"#N/A"},{"$error":"#N/A"},{"$error":"#N/A"},{"$error":"#N/A"},{"$error":"#N/A"},{"$error":"#N/A"},{"$error":"#N/A"},{"$error":"#N/A"},{"$error":"#N/A"},{"$error":"#N/A"},{"$error":"#N/A"},{"$error":"#N/A"},{"$error":"#N/A"},{"$error":"#N/A"}]
[{"$error":"#N/A"},{"$f":"VLOOKUP($A66,Data!$A$2:$E$100,2,FALSE)","v":{"$error":"#N/A"}},{"$f":"VLOOKUP($A66,Data!$A$2:$E$100,3,FALSE)","v":{"$error":"#N/A"}},{"$f":"VLOOKUP($A66,Data!$A$2:$E$100,4,FALSE)","v":{"$error":"#N/A"}},{"$f":"VLOOKUP($A66,Data!$A$2:$E$100,5,FALSE)","v":{"$error":"#N/A"}},null,"2021-04-02",0.25,null,null,null,null,"2021-05-03","2021-01-19","2020-11-24",0.25,null,null,null,{"$f":"+O158","v":"2021-08-19"},null,null,null,null,null,null,null,null,null,null,null,null,null,null,null,null,null,null,null,null,{"$error":"#N/A"},{"$error":"#N/A"},{"$error":"#N/A"},{"$error":"#N/A"},{"$error":"#N/A"},{"$error":"#N/A"},{"$error":"#N/A"},{"$error":"#N/A"},{"$error":"#N/A"},{"$error":"#N/A"},{"$error":"#N/A"},{"$error":"#N/A"},{"$error":"#N/A"},{"$error":"#N/A"},0,1,0.33333333333333298,0.66666666666666696,{"$error":"#N/A"},{"$error":"#N/A"},{"$error":"#N/A"},{"$error":"#N/A"},{"$error":"#N/A"},{"$error":"#N/A"},{"$error":"#N/A"},{"$error":"#N/A"},{"$error":"#N/A"},{"$error":"#N/A"},{"$error":"#N/A"},{"$error":"#N/A"},{"$error":"#N/A"},{"$error":"#N/A"},{"$error":"#N/A"},{"$error":"#N/A"},{"$error":"#N/A"},{"$error":"#N/A"},{"$error":"#N/A"},{"$error":"#N/A"},{"$error":"#N/A"},{"$error":"#N/A"},{"$error":"#N/A"},{"$error":"#N/A"},{"$error":"#N/A"},{"$error":"#N/A"},{"$error":"#N/A"},{"$error":"#N/A"},{"$error":"#N/A"},{"$error":"#N/A"},{"$error":"#N/A"},{"$error":"#N/A"},{"$error":"#N/A"},{"$error":"#N/A"},{"$error":"#N/A"},{"$error":"#N/A"},{"$error":"#N/A"},{"$error":"#N/A"},{"$error":"#N/A"},{"$error":"#N/A"},{"$error":"#N/A"},{"$error":"#N/A"},{"$error":"#N/A"},{"$error":"#N/A"},{"$error":"#N/A"},{"$error":"#N/A"},{"$error":"#N/A"},{"$error":"#N/A"},{"$error":"#N/A"},{"$error":"#N/A"},{"$error":"#N/A"},{"$error":"#N/A"},{"$error":"#N/A"},{"$error":"#N/A"},{"$error":"#N/A"},{"$error":"#N/A"},{"$error":"#N/A"},{"$error":"#N/A"},{"$error":"#N/A"},{"$error":"#N/A"},{"$error":"#N/A"},{"$error":"#N/A"},{"$error":"#N/A"},{"$error":"#N/A"},{"$error":"#N/A"},{"$error":"#N/A"},{"$error":"#N/A"},{"$error":"#N/A"},{"$error":"#N/A"},{"$error":"#N/A"},{"$error":"#N/A"},{"$error":"#N/A"},{"$error":"#N/A"},{"$error":"#N/A"},{"$error":"#N/A"},{"$error":"#N/A"},{"$error":"#N/A"},{"$error":"#N/A"},{"$error":"#N/A"},{"$error":"#N/A"},{"$error":"#N/A"},{"$error":"#N/A"},{"$error":"#N/A"},{"$error":"#N/A"},{"$error":"#N/A"},{"$error":"#N/A"},{"$error":"#N/A"},{"$error":"#N/A"}]
[{"$error":"#N/A"},{"$f":"VLOOKUP($A67,Data!$A$2:$E$100,2,FALSE)","v":{"$error":"#N/A"}},{"$f":"VLOOKUP($A67,Data!$A$2:$E$100,3,FALSE)","v":{"$error":"#N/A"}},{"$f":"VLOOKUP($A67,Data!$A$2:$E$100,4,FALSE)","v":{"$error":"#N/A"}},{"$f":"VLOOKUP($A67,Data!$A$2:$E$100,5,FALSE)","v":{"$error":"#N/A"}},null,"2021-05-31",0.25,0.25,0.5,0.75,null,"2021-05-13","2021-01-25","2020-11-27",0.375,null,null,null,{"$f":"+O162","v":"2021-08-31"},null,null,null,null,null,null,null,null,null,null,null,null,null,null,null,null,null,null,null,null,{"$error":"#N/A"},{"$error":"#N/A"},{"$error":"#N/A"},{"$error":"#N/A"},{"$error":"#N/A"},{"$error":"#N/A"},{"$error":"#N/A"},{"$error":"#N/A"},{"$error":"#N/A"},{"$error":"#N/A"},{"$error":"#N/A"},{"$error":"#N/A"},{"$error":"#N/A"},{"$error":"#N/A"},0,1,0.33333333333333298,0.66666666666666696,{"$error":"#N/A"},{"$error":"#N/A"},{"$error":"#N/A"},{"$error":"#N/A"},{"$error":"#N/A"},{"$error":"#N/A"},{"$error":"#N/A"},{"$error":"#N/A"},{"$error":"#N/A"},{"$error":"#N/A"},{"$error":"#N/A"},{"$error":"#N/A"},{"$error":"#N/A"},{"$error":"#N/A"},{"$error":"#N/A"},{"$error":"#N/A"},{"$error":"#N/A"},{"$error":"#N/A"},{"$error":"#N/A"},{"$error":"#N/A"},{"$error":"#N/A"},{"$error":"#N/A"},{"$error":"#N/A"},{"$error":"#N/A"},{"$error":"#N/A"},{"$error":"#N/A"},{"$error":"#N/A"},{"$error":"#N/A"},{"$error":"#N/A"},{"$error":"#N/A"},{"$error":"#N/A"},{"$error":"#N/A"},{"$error":"#N/A"},{"$error":"#N/A"},{"$error":"#N/A"},{"$error":"#N/A"},{"$error":"#N/A"},{"$error":"#N/A"},{"$error":"#N/A"},{"$error":"#N/A"},{"$error":"#N/A"},{"$error":"#N/A"},{"$error":"#N/A"},{"$error":"#N/A"},{"$error":"#N/A"},{"$error":"#N/A"},{"$error":"#N/A"},{"$error":"#N/A"},{"$error":"#N/A"},{"$error":"#N/A"},{"$error":"#N/A"},{"$error":"#N/A"},{"$error":"#N/A"},{"$error":"#N/A"},{"$error":"#N/A"},{"$error":"#N/A"},{"$error":"#N/A"},{"$error":"#N/A"},{"$error":"#N/A"},{"$error":"#N/A"},{"$error":"#N/A"},{"$error":"#N/A"},{"$error":"#N/A"},{"$error":"#N/A"},{"$error":"#N/A"},{"$error":"#N/A"},{"$error":"#N/A"},{"$error":"#N/A"},{"$error":"#N/A"},{"$error":"#N/A"},{"$error":"#N/A"},{"$error":"#N/A"},{"$error":"#N/A"},{"$error":"#N/A"},{"$error":"#N/A"},{"$error":"#N/A"},{"$error":"#N/A"},{"$error":"#N/A"},{"$error":"#N/A"},{"$error":"#N/A"},{"$error":"#N/A"},{"$error":"#N/A"},{"$error":"#N/A"},{"$error":"#N/A"},{"$error":"#N/A"},{"$error":"#N/A"},{"$error":"#N/A"},{"$error":"#N/A"}]
[{"$f":"+AO68","v":{"$error":"#N/A"}},{"$f":"VLOOKUP($A68,Data!$A$2:$E$100,2,FALSE)","v":{"$error":"#N/A"}},{"$f":"VLOOKUP($A68,Data!$A$2:$E$100,3,FALSE)","v":{"$error":"#N/A"}},{"$f":"VLOOKUP($A68,Data!$A$2:$E$100,4,FALSE)","v":{"$error":"#N/A"}},{"$f":"VLOOKUP($A68,Data!$A$2:$E$100,5,FALSE)","v":{"$error":"#N/A"}},null,"2021-07-05",0.25,{"$f":"+N34","v":"2020-07-22"},{"$f":"+N36","v":"2020-08-03"},{"$f":"+N38","v":"2020-08-13"},null,"2021-05-25","2021-01-29","2020-12-01",0.5,null,null,null,{"$f":"+O166","v":"2021-09-13"},null,null,null,null,null,null,null,null,null,null,null,null,null,null,null,null,null,null,null,null,{"$error":"#N/A"},{"$error":"#N/A"},{"$error":"#N/A"},{"$error":"#N/A"},{"$error":"#N/A"},{"$error":"#N/A"},{"$error":"#N/A"},{"$error":"#N/A"},{"$error":"#N/A"},{"$error":"#N/A"},{"$error":"#N/A"},{"$error":"#N/A"},{"$error":"#N/A"},{"$error":"#N/A"},0,1,0.33333333333333298,0.66666666666666696,{"$error":"#N/A"},{"$error":"#N/A"},{"$error":"#N/A"},{"$f":"IF($W$5,IF(AO68=$H$21,0,IF(AO68=$H$22,1,NA())),NA())","v":{"$error":"#N/A"}},{"$f":"IF($W$5,IF(AO68=$H$21,0,IF(AO68=$H$22,6/8,NA())),NA())","v":{"$error":"#N/A"}},{"$f":"IF($W$5,IF(AO68=$H$21,0,IF(AO68=$H$22,4/8,NA())),NA())","v":{"$error":"#N/A"}},{"$f":"IF($W$5,IF(AO68=$H$21,0,IF(AO68=$H$22,2/8,NA())),NA())","v":{"$error":"#N/A"}},{"$error":"#N/A"},{"$error":"#N/A"},{"$error":"#N/A"},{"$error":"#N/A"},{"$error":"#N/A"},{"$error":"#N/A"},{"$error":"#N/A"},{"$error":"#N/A"},{"$error":"#N/A"},{"$error":"#N/A"},{"$f":"IF($W$8,IF(AO68=$H$21,1,IF(AO68=$H$22,0,NA())),NA())","v":{"$error":"#N/A"}},{"$error":"#N/A"},{"$f":"IF($W$8,IF(AO68=$H$21,1,IF(AO68=$H$22,4/8,NA())),NA())","v":{"$error":"#N/A"}},{"$error":"#N/A"},{"$error":"#N/A"},{"$error":"#N/A"},{"$error":"#N/A"},{"$error":"#N/A"},{"$error":"#N/A"},{"$f":"IF($W$8,IF(AO68=$H$22,1,IF(AO68=$H$23,6/8,NA())),NA())","v":{"$error":"#N/A"}},{"$f":"IF($W$8,IF(AO68=$H$22,1,IF(AO68=$H$23,4/8,NA())),NA())","v":{"$error":"#N/A"}},{"$error":"#N/A"},{"$error":"#N/A"},{"$error":"#N/A"},{"$error":"#N/A"},{"$error":"#N/A"},{"$error":"#N/A"},{"$error":"#N/A"},{"$error":"#N/A"},{"$error":"#N/A"},{"$error":"#N/A"},{"$error":"#N/A"},{"$error":"#N/A"},{"$error":"#N/A"},{"$error":"#N/A"},{"$error":"#N/A"},{"$error":"#N/A"},{"$error":"#N/A"},{"$error":"#N/A"},{"$error":"#N/A"},{"$error":"#N/A"},{"$error":"#N/A"},{"$error":"#N/A"},{"$error":"#N/A"},{"$error":"#N/A"},{"$error":"#N/A"},{"$error":"#N/A"},{"$error":"#N/A"},{"$error":"#N/A"},{"$error":"#N/A"},{"$error":"#N/A"},{"$error":"#N/A"},{"$error":"#N/A"},{"$error":"#N/A"},{"$error":"#N/A"},{"$error":"#N/A"},{"$error":"#N/A"},{"$error":"#N/A"},{"$error":"#N/A"},{"$error":"#N/A"},{"$error":"#N/A"},{"$error":"#N/A"},{"$error":"#N/A"},{"$error":"#N/A"},{"$error":"#N/A"},{"$error":"#N/A"},{"$error":"#N/A"},{"$error":"#N/A"},{"$error":"#N/A"},{"$error":"#N/A"},{"$error":"#N/A"},{"$error":"#N/A"},{"$error":"#N/A"},{"$error":"#N/A"},{"$error":"#N/A"},{"$error":"#N/A"},{"$error":"#N/A"},{"$error":"#N/A"},{"$error":"#N/A"},{"$error":"#N/A"},{"$error":"#N/A"}]
[{"$f":"+AO69","v":{"$error":"#N/A"}},{"$f":"VLOOKUP($A69,Data!$A$2:$E$100,2,FALSE)","v":{"$error":"#N/A"}},{"$f":"VLOOKUP($A69,Data!$A$2:$E$100,3,FALSE)","v":{"$error":"#N/A"}},{"$f":"VLOOKUP($A69,Data!$A$2:$E$100,4,FALSE)","v":{"$error":"#N/A"}},{"$f":"VLOOKUP($A69,Data!$A$2:$E$100,5,FALSE)","v":{"$error":"#N/A"}},null,"2021-09-06",0.25,{"$f":"+N42","v":"2020-09-04"},{"$f":"+N44","v":"2020-09-17"},{"$f":"+N46","v":"2020-09-29"},null,"2021-06-07","2021-02-04","2020-12-03",0.625,null,null,null,{"$f":"+O170","v":"2021-09-23"},null,null,null,null,null,null,null,null,null,null,null,null,null,null,null,null,null,null,null,null,{"$f":"IF(WORKDAY(AO68,1,$G$32:$G$71)>$H$23,NA(),WORKDAY(AO68,1,$G$32:$G$71))","v":{"$error":"#N/A"}},{"$error":"#N/A"},{"$error":"#N/A"},{"$error":"#N/A"},{"$error":"#N/A"},{"$error":"#N/A"},{"$error":"#N/A"},{"$error":"#N/A"},{"$error":"#N/A"},{"$error":"#N/A"},{"$error":"#N/A"},{"$f":"IF(VLOOKUP(AO69,K$46:K$64,1,),10/8,NA())","v":{"$error":"#N/A"}},{"$f":"IF($W$14,IF(VLOOKUP(AO69,M$40:M$79,1,),9/8,NA()))","v":{"$error":"#N/A"}},{"$f":"IF($W$14,IF(VLOOKUP(AO69,N$40:N$110,1,),8/8,NA()))","v":{"$error":"#N/A"}},0,1,0.33333333333333298,0.66666666666666696,{"$error":"#N/A"},{"$error":"#N/A"},{"$error":"#N/A"},{"$error":"#N/A"},{"$error":"#N/A"},{"$error":"#N/A"},{"$error":"#N/A"},{"$error":"#N/A"},{"$error":"#N/A"},{"$error":"#N/A"},{"$error":"#N/A"},{"$error":"#N/A"},{"$error":"#N/A"},{"$error":"#N/A"},{"$error":"#N/A"},{"$error":"#N/A"},{"$error":"#N/A"},{"$error":"#N/A"},{"$error":"#N/A"},{"$error":"#N/A"},{"$error":"#N/A"},{"$error":"#N/A"},{"$error":"#N/A"},{"$error":"#N/A"},{"$error":"#N/A"},{"$error":"#N/A"},{"$error":"#N/A"},{"$error":"#N/A"},{"$f":"IF($W$17,IF(AO69=$M$26,0,IF(AO69=$H$22,1/8,NA())),NA())","v":{"$error":"#N/A"}},{"$f":"IF($W$17,IF(AO69=$G$28,0,IF(AO69=$H$22,2/8,NA())),NA())","v":{"$error":"#N/A"}},{"$f":"IF($W$17,IF(AO69=$J$28,0,IF(AO69=$H$22,3/8,NA())),NA())","v":{"$error":"#N/A"}},{"$f":"IF($W$17,IF(AO69=$G$27,0,IF(AO69=$H$22,4/8,NA())),NA())","v":{"$error":"#N/A"}},{"$f":"IF($W$17,IF(AO69=$J$27,0,IF(AO69=$H$22,5/8,NA())),NA())","v":{"$error":"#N/A"}},{"$f":"IF($W$17,IF(AO69=$G$26,0,IF(AO69=$H$22,6/8,NA())),NA())","v":{"$error":"#N/A"}},{"$f":"IF($W$17,IF(AO69=$J$26,0,IF(AO69=$H$22,7/8,NA())),NA())","v":{"$error":"#N/A"}},{"$f":"IF($W$17,IF(AO69=$H$21,0,IF(AO69=$H$22,1,NA())),NA())","v":{"$error":"#N/A"}},{"$f":"IF($W$17,IF(AO69=$M$26,1,IF(AO69=$H$21,1/8,NA())),NA())","v":{"$error":"#N/A"}},{"$f":"IF($W$17,IF(AO69=$G$28,1,IF(AO69=$H$21,2/8,NA())),NA())","v":{"$error":"#N/A"}},{"$f":"IF($W$17,IF(AO69=$J$28,1,IF(AO69=$H$21,3/8,NA())),NA())","v":{"$error":"#N/A"}},{"$f":"IF($W$17,IF(AO69=$G$27,1,IF(AO69=$H$21,4/8,NA())),NA())","v":{"$error":"#N/A"}},{"$f":"IF($W$17,IF(AO69=$J$27,1,IF(AO69=$H$21,5/8,NA())),NA())","v":{"$error":"#N/A"}},{"$f":"IF($W$17,IF(AO69=$G$26,1,IF(AO69=$H$21,6/8,NA())),NA())","v":{"$error":"#N/A"}},{"$f":"IF($W$17,IF(AO69=$J$26,1,IF(AO69=$H$21,7/8,NA())),NA())","v":{"$error":"#N/A"}},{"$f":"IF($W$17,IF(AO69=$N$26,0,IF(AO69=$H$23,1/8,NA())),NA())","v":{"$error":"#N/A"}},{"$f":"IF($W$17,IF(AO69=$H$28,0,IF(AO69=$H$23,2/8,NA())),NA())","v":{"$error":"#N/A"}},{"$f":"IF($W$17,IF(AO69=$K$28,0,IF(AO69=$H$23,3/8,NA())),NA())","v":{"$error":"#N/A"}},{"$f":"IF($W$17,IF(AO69=$H$27,0,IF(AO69=$H$23,4/8,NA())),NA())","v":{"$error":"#N/A"}},{"$f":"IF($W$17,IF(AO69=$K$27,0,IF(AO69=$H$23,5/8,NA())),NA())","v":{"$error":"#N/A"}},{"$f":"IF($W$17,IF(AO69=$H$26,0,IF(AO69=$H$23,6/8,NA())),NA())","v":{"$error":"#N/A"}},{"$f":"IF($W$17,IF(AO69=$K$26,0,IF(AO69=$H$23,7/8,NA())),NA())","v":{"$error":"#N/A"}},{"$f":"IF($W$17,IF(AO69=$H$22,0,IF(AO69=$H$23,1,NA())),NA())","v":{"$error":"#N/A"}},{"$f":"IF($W$17,IF(AO69=$N$26,1,IF(AO69=$H$22,1/8,NA())),NA())","v":{"$error":"#N/A"}},{"$f":"IF($W$17,IF(AO69=$H$28,1,IF(AO69=$H$22,2/8,NA())),NA())","v":{"$error":"#N/A"}},{"$f":"IF($W$17,IF(AO69=$K$28,1,IF(AO69=$H$22,3/8,NA())),NA())","v":{"$error":"#N/A"}},{"$f":"IF($W$17,IF(AO69=$H$27,1,IF(AO69=$H$22,4/8,NA())),NA())","v":{"$error":"#N/A"}},{"$f":"IF($W$17,IF(AO69=$K$27,1,IF(AO69=$H$22,5/8,NA())),NA())","v":{"$error":"#N/A"}},{"$f":"IF($W$17,IF(AO69=$H$26,1,IF(AO69=$H$22,6/8,NA())),NA())","v":{"$error":"#N/A"}},{"$f":"IF($W$17,IF(AO69=$K$26,1,IF(AO69=$H$22,7/8,NA())),NA())","v":{"$error":"#N/A"}},{"$f":"IF($W$20,IF(AO69=$J$26,0,IF(AO69=$H$21,1/8,NA())),NA())","v":{"$error":"#N/A"}},{"$f":"IF($W$20,IF(AO69=$G$26,0,IF(AO69=$H$21,2/8,NA())),NA())","v":{"$error":"#N/A"}},{"$f":"IF($W$20,IF(AO69=$J$27,0,IF(AO69=$H$21,3/8,NA())),NA())","v":{"$error":"#N/A"}},{"$f":"IF($W$20,IF(AO69=$G$27,0,IF(AO69=$H$21,4/8,NA())),NA())","v":{"$error":"#N/A"}},{"$f":"IF($W$20,IF(AO69=$J$28,0,IF(AO69=$H$21,5/8,NA())),NA())","v":{"$error":"#N/A"}},{"$f":"IF($W$20,IF(AO69=$G$28,0,IF(AO69=$H$21,6/8,NA())),NA())","v":{"$error":"#N/A"}},{"$f":"IF($W$20,IF(AO69=$M$26,0,IF(AO69=$H$21,7/8,NA())),NA())","v":{"$error":"#N/A"}},{"$f":"IF($W$20,IF(AO69=$H$21,1,IF(AO69=$H$22,0,NA())),NA())","v":{"$error":"#N/A"}},{"$f":"IF($W$20,IF(AO69=$J$26,1,IF(AO69=$H$22,1/8,NA())),NA())","v":{"$error":"#N/A"}},{"$f":"IF($W$20,IF(AO69=$G$26,1,IF(AO69=$H$22,2/8,NA())),NA())","v":{"$error":"#N/A"}},{"$f":"IF($W$20,IF(AO69=$J$27,1,IF(AO69=$H$22,3/8,NA())),NA())","v":{"$error":"#N/A"}},{"$f":"IF($W$20,IF(AO69=$G$27,1,IF(AO69=$H$22,4/8,NA())),NA())","v":{"$error":"#N/A"}},{"$f":"IF($W$20,IF(AO69=$J$28,1,IF(AO69=$H$22,5/8,NA())),NA())","v":{"$error":"#N/A"}},{"$f":"IF($W$20,IF(AO69=$G$28,1,IF(AO69=$H$22,6/8,NA())),NA())","v":{"$error":"#N/A"}},{"$f":"IF($W$20,IF(AO69=$M$26,1,IF(AO69=$H$22,7/8,NA())),NA())","v":{"$error":"#N/A"}},{"$f":"IF($W$20,IF(AO69=$K$26,0,IF(AO69=$H$22,1/8,NA())),NA())","v":{"$error":"#N/A"}},{"$f":"IF($W$20,IF(AO69=$H$26,0,IF(AO69=$H$22,2/8,NA())),NA())","v":{"$error":"#N/A"}},{"$f":"IF($W$20,IF(AO69=$K$27,0,IF(AO69=$H$22,3/8,NA())),NA())","v":{"$error":"#N/A"}},{"$f":"IF($W$20,IF(AO69=$H$27,0,IF(AO69=$H$22,4/8,NA())),NA())","v":{"$error":"#N/A"}},{"$f":"IF($W$20,IF(AO69=$K$28,0,IF(AO69=$H$22,5/8,NA())),NA())","v":{"$error":"#N/A"}},{"$f":"IF($W$20,IF(AO69=$H$28,0,IF(AO69=$H$22,6/8,NA())),NA())","v":{"$error":"#N/A"}},{"$f":"IF($W$20,IF(AO69=$N$26,0,IF(AO69=$H$22,7/8,NA())),NA())","v":{"$error":"#N/A"}},{"$f":"IF($W$20,IF(AO69=$H$22,1,IF(AO69=$H$23,0,NA())),NA())","v":{"$error":"#N/A"}},{"$f":"IF($W$20,IF(AO69=$K$26,1,IF(AO69=$H$23,1/8,NA())),NA())","v":{"$error":"#N/A"}},{"$f":"IF($W$20,IF(AO69=$H$26,1,IF(AO69=$H$23,2/8,NA())),NA())","v":{"$error":"#N/A"}},{"$f":"IF($W$20,IF(AO69=$K$27,1,IF(AO69=$H$23,3/8,NA())),NA())","v":{"$error":"#N/A"}},{"$f":"IF($W$20,IF(AO69=$H$27,1,IF(AO69=$H$23,4/8,NA())),NA())","v":{"$error":"#N/A"}},{"$f":"IF($W$20,IF(AO69=$K$28,1,IF(AO69=$H$23,5/8,NA())),NA())","v":{"$error":"#N/A"}},{"$f":"IF($W$20,IF(AO69=$H$28,1,IF(AO69=$H$23,6/8,NA())),NA())","v":{"$error":"#N/A"}},{"$f":"IF($W$20,IF(AO69=$N$26,1,IF(AO69=$H$23,7/8,NA())),NA())","v":{"$error":"#N/A"}}]
[null,null,null,null,null,null,"2021-11-25",0.25,{"$f":"+N50","v":"2020-10-15"},{"$f":"+N52","v":"2020-10-27"},{"$f":"+N54","v":"2020-11-06"},null,"2021-06-17","2021-02-10","2020-12-07",0.75]
[null,null,null,null,null,null,"2021-12-24",0.25,{"$f":"+N58","v":"2020-12-01"},{"$f":"+N60","v":"2020-12-11"},{"$f":"+N62","v":"2020-12-23"},null,"2021-06-29","2021-02-17","2020-12-09",0.875,null,null,0.5]
[null,null,null,null,null,null,null,0.25,{"$f":"+N66","v":"2021-01-19"},{"$f":"+N68","v":"2021-01-29"},{"$f":"+N70","v":"2021-02-10"},null,"2021-07-12","2021-02-23","2020-12-11",1,null,{"$f":"+M44","v":"2020-08-25"},{"$f":"+N44","v":"2020-09-17"},{"$f":"+O44","v":"2020-09-29"}]
[null,null,null,null,null,null,null,0.25,{"$f":"+N74","v":"2021-03-05"},{"$f":"+N76","v":"2021-03-17"},{"$f":"+N78","v":"2021-03-29"},null,"2021-07-22","2021-03-01","2020-12-15",0.125,null,{"$f":"+M52","v":"2020-11-18"},{"$f":"+N52","v":"2020-10-27"},{"$f":"+O52","v":"2020-10-15"}]
[null,null,null,null,null,null,null,0.25,{"$f":"+N82","v":"2021-04-21"},{"$f":"+N84","v":"2021-05-03"},{"$f":"+N86","v":"2021-05-13"},null,"2021-08-03","2021-03-05","2020-12-17",0.25,null,{"$f":"+M60","v":"2021-02-23"},{"$f":"+N60","v":"2020-12-11"},{"$f":"+O60","v":"2020-11-06"}]
[null,null,null,null,null,null,null,0.25,{"$f":"+N90","v":"2021-06-07"},{"$f":"+N92","v":"2021-06-17"},{"$f":"+N94","v":"2021-06-29"},null,"2021-08-13","2021-03-11","2020-12-21",0.375,null,{"$f":"+M68","v":"2021-05-25"},{"$f":"+N68","v":"2021-01-29"},{"$f":"+O68","v":"2020-12-01"}]
[null,null,null,null,null,null,null,0.25,{"$f":"+N98","v":"2021-07-22"},{"$f":"+N100","v":"2021-08-03"},{"$f":"+N102","v":"2021-08-13"},null,"2021-08-25","2021-03-17","2020-12-23",0.5,null,{"$f":"+M76","v":"2021-08-25"},{"$f":"+N76","v":"2021-03-17"},{"$f":"+O76","v":"2020-12-23"}]
[null,null,null,null,null,null,null,0.25,{"$f":"+N106","v":"2021-09-07"},{"$f":"+N108","v":"2021-09-17"},{"$f":"+N110","v":"2021-09-29"},null,"2021-09-07","2021-03-23","2020-12-28",0.625,null,null,{"$f":"+N84","v":"2021-05-03"},{"$f":"+O84","v":"2021-01-19"}]
[null,null,null,null,null,null,null,0.25,null,null,null,null,"2021-09-17","2021-03-29","2020-12-30",0.75,null,null,{"$f":"+N92","v":"2021-06-17"},{"$f":"+O92","v":"2021-02-10"}]
[null,null,null,null,null,null,null,0.25,null,null,null,null,"2021-09-29","2021-04-05","2021-01-04",0.875,null,null,{"$f":"+N100","v":"2021-08-03"},{"$f":"+O100","v":"2021-03-05"}]
[null,null,null,null,null,null,null,0.25,0.125,0.375,0.625,null,"2021-10-05","2021-04-09","2021-01-06",1,null,null,{"$f":"+N108","v":"2021-09-17"},{"$f":"+O108","v":"2021-03-29"}]
[null,null,null,null,null,null,null,null,{"$f":"+N33","v":"2020-07-16"},{"$f":"+N35","v":"2020-07-28"},{"$f":"+N37","v":"2020-08-07"},null,null,"2021-04-15","2021-01-08",0.125,null,null,null,{"$f":"+O116","v":"2021-04-21"}]
[null,null,null,null,null,null,null,null,{"$f":"+N41","v":"2020-08-31"},{"$f":"+N43","v":"2020-09-11"},{"$f":"+N45","v":"2020-09-23"},null,null,"2021-04-21","2021-01-12",0.25,null,null,null,{"$f":"+O124","v":"2021-05-13"}]
[null,null,null,null,null,null,null,null,{"$f":"+N49","v":"2020-10-09"},{"$f":"+N51","v":"2020-10-21"},{"$f":"+N53","v":"2020-11-02"},null,null,"2021-04-27","2021-01-14",0.375,null,null,null,{"$f":"+O140","v":"2021-06-29"}]
[null,null,null,null,null,null,null,null,{"$f":"+N57","v":"2020-11-24"},{"$f":"+N59","v":"2020-12-07"},{"$f":"+N61","v":"2020-12-17"},null,null,"2021-05-03","2021-01-19",0.5,null,null,null,{"$f":"+O148","v":"2021-07-22"}]
[null,null,null,null,null,null,null,null,{"$f":"+N65","v":"2021-01-12"},{"$f":"+N67","v":"2021-01-25"},{"$f":"+N69","v":"2021-02-04"},null,null,"2021-05-07","2021-01-21",0.625,null,null,null,{"$f":"+O156","v":"2021-08-13"}]
[null,null,null,null,null,null,null,0.5,{"$f":"+N73","v":"2021-03-01"},{"$f":"+N75","v":"2021-03-11"},{"$f":"+N77","v":"2021-03-23"},null,null,"2021-05-13","2021-01-25",0.75,null,null,null,{"$f":"+O164","v":"2021-09-07"}]
[null,null,null,null,null,null,null,0.5,{"$f":"+N81","v":"2021-04-15"},{"$f":"+N83","v":"2021-04-27"},{"$f":"+N85","v":"2021-05-07"},null,null,"2021-05-19","2021-01-27",0.875,null,null,null,{"$f":"+O172","v":"2021-09-29"}]
[null,null,null,null,null,null,null,0.5,{"$f":"+N89","v":"2021-06-01"},{"$f":"+N91","v":"2021-06-11"},{"$f":"+N93","v":"2021-06-23"},null,null,"2021-05-25","2021-01-29",1]
[null,null,null,null,null,null,null,0.5,{"$f":"+N97","v":"2021-07-16"},{"$f":"+N99","v":"2021-07-28"},{"$f":"+N101","v":"2021-08-09"},null,null,"2021-06-01","2021-02-02",0.125]
[null,null,null,null,null,null,null,0.5,{"$f":"+N105","v":"2021-08-31"},{"$f":"+N107","v":"2021-09-13"},{"$f":"+N109","v":"2021-09-23"},null,null,"2021-06-07","2021-02-04",0.25]
[null,null,null,null,null,null,null,0.5,null,null,null,null,null,"2021-06-11","2021-02-08",0.375]
[null,null,null,null,null,null,null,0.5,null,null,null,null,null,"2021-06-17","2021-02-10",0.5]
[null,null,null,null,null,null,null,0.5,0.875,null,null,null,null,"2021-06-23","2021-02-12",0.625]
[null,null,null,null,null,null,null,0.5,{"$f":"+N39","v":"2020-08-19"},null,null,null,null,"2021-06-29","2021-02-17",0.75]
[null,null,null,null,null,null,null,0.5,{"$f":"IF(N47=\"\",N48,N47)","v":"2020-10-05"},null,null,null,null,"2021-07-06","2021-02-19",0.875]
[null,null,null,null,null,null,null,0.5,{"$f":"+N55","v":"2020-11-12"},null,null,null,null,"2021-07-12","2021-02-23",1]
[null,null,null,null,null,null,null,0.5,{"$f":"+N63","v":"2020-12-30"},null,null,null,null,"2021-07-16","2021-02-25",0.125]
[null,null,null,null,null,null,null,0.5,{"$f":"+N71","v":"2021-02-17"},null,null,null,null,"2021-07-22","2021-03-01",0.25]
[null,null,null,null,null,null,null,0.5,{"$f":"+N79","v":"2021-04-05"},null,null,null,null,"2021-07-28","2021-03-03",0.375]
[null,null,null,null,null,null,null,0.5,{"$f":"+N87","v":"2021-05-19"},null,null,null,null,"2021-08-03","2021-03-05",0.5]
[null,null,null,null,null,null,null,null,{"$f":"+N95","v":"2021-07-06"},null,null,null,null,"2021-08-09","2021-03-09",0.625]
[null,null,null,null,null,null,null,0.75,{"$f":"+N103","v":"2021-08-19"},null,null,null,null,"2021-08-13","2021-03-11",0.75]
[null,null,null,null,null,null,null,0.75,{"$f":"+N111","v":"2021-10-05"},null,null,null,null,"2021-08-19","2021-03-15",0.875]
[null,null,null,null,null,null,null,0.75,null,null,null,null,null,"2021-08-25","2021-03-17",1]
[null,null,null,null,null,null,null,0.75,null,null,null,null,null,"2021-08-31","2021-03-19",0.125]
[null,null,null,null,null,null,null,0.75,null,null,null,null,null,"2021-09-07","2021-03-23",0.25]
[null,null,null,null,null,null,null,0.75,null,null,null,null,null,"2021-09-13","2021-03-25",0.375]
[null,null,null,null,null,null,null,0.75,null,null,null,null,null,"2021-09-17","2021-03-29",0.5]
[null,null,null,null,null,null,null,0.75,null,null,null,null,null,"2021-09-23","2021-03-31",0.625]
[null,null,null,null,null,null,null,0.75,null,null,null,null,null,"2021-09-29","2021-04-05",0.75]
[null,null,null,null,null,null,null,0.75,null,null,null,null,null,"2021-10-05","2021-04-07",0.875]
[null,null,null,null,null,null,null,0.75,null,null,null,null,null,null,"2021-04-09",1]
[null,null,null,null,null,null,null,0.75,null,null,null,null,null,null,{"$f":"IF((WORKDAY(O112,O$31,$G$32:$G$71)-$O$48)*0.7/2>127,INDEX(I$30:M$30,1,MATCH(O$48,I$30:M$30,1)+1),WORKDAY(O112,O$31,$G$32:$G$71))","v":"2021-04-13"},0.125]
[null,null,null,null,null,null,null,0.75,null,null,null,null,null,null,"2021-04-15",0.25]
[null,null,null,null,null,null,null,0.75,null,null,null,null,null,null,"2021-04-19",0.375]
[null,null,null,null,null,null,null,0.75,null,null,null,null,null,null,"2021-04-21",0.5]
[null,null,null,null,null,null,null,null,null,null,null,null,null,null,"2021-04-23",0.625]
[null,null,null,null,null,null,null,null,null,null,null,null,null,null,"2021-04-27",0.75]
[null,null,null,null,null,null,null,null,null,null,null,null,null,null,"2021-04-29",0.875]
[null,null,null,null,null,null,null,null,null,null,null,null,null,null,"2021-05-03",1]
[null,null,null,null,null,null,null,null,null,null,null,null,null,null,"2021-05-05",0.125]
[null,null,null,null,null,null,null,null,null,null,null,null,null,null,"2021-05-07",0.25]
[null,null,null,null,null,null,null,null,null,null,null,null,null,null,"2021-05-11",0.375]
[null,null,null,null,null,null,null,null,null,null,null,null,null,null,"2021-05-13",0.5]
[null,null,null,null,null,null,null,null,null,null,null,null,null,null,"2021-05-17",0.625]
[null,null,null,null,null,null,null,null,null,null,null,null,null,null,"2021-05-19",0.75]
[null,null,null,null,null,null,null,null,null,null,null,null,null,null,"2021-05-21",0.875]
[null,null,null,null,null,null,null,null,null,null,null,null,null,null,"2021-05-25",1]
[null,null,null,null,null,null,null,null,null,null,null,null,null,null,"2021-05-27",0.125]
[null,null,null,null,null,null,null,null,null,null,null,null,null,null,"2021-06-01",0.25]
[null,null,null,null,null,null,null,null,null,null,null,null,null,null,"2021-06-03",0.375]
[null,null,null,null,null,null,null,null,null,null,null,null,null,null,"2021-06-07",0.5]
[null,null,null,null,null,null,null,null,null,null,null,null,null,null,"2021-06-09",0.625]
[null,null,null,null,null,null,null,null,null,null,null,null,null,null,"2021-06-11",0.75]
[null,null,null,null,null,null,null,null,null,null,null,null,null,null,"2021-06-15",0.875]
[null,null,null,null,null,null,null,null,null,null,null,null,null,null,"2021-06-17",1]
[null,null,null,null,null,null,null,null,null,null,null,null,null,null,"2021-06-21",0.125]
[null,null,null,null,null,null,null,null,null,null,null,null,null,null,"2021-06-23",0.25]
[null,null,null,null,null,null,null,null,null,null,null,null,null,null,"2021-06-25",0.375]
[null,null,null,null,null,null,null,null,null,null,null,null,null,null,"2021-06-29",0.5]
[null,null,null,null,null,null,null,null,null,null,null,null,null,null,"2021-07-01",0.625]
[null,null,null,null,null,null,null,null,null,null,null,null,null,null,"2021-07-06",0.75]
[null,null,null,null,null,null,null,null,null,null,null,null,null,null,"2021-07-08",0.875]
[null,null,null,null,null,null,null,null,null,null,null,null,null,null,"2021-07-12",1]
[null,null,null,null,null,null,null,null,null,null,null,null,null,null,"2021-07-14",0.125]
[null,null,null,null,null,null,null,null,null,null,null,null,null,null,"2021-07-16",0.25]
[null,null,null,null,null,null,null,null,null,null,null,null,null,null,"2021-07-20",0.375]
[null,null,null,null,null,null,null,null,null,null,null,null,null,null,"2021-07-22",0.5]
[null,null,null,null,null,null,null,null,null,null,null,null,null,null,"2021-07-26",0.625]
[null,null,null,null,null,null,null,null,null,null,null,null,null,null,"2021-07-28",0.75]
[null,null,null,null,null,null,null,null,null,null,null,null,null,null,"2021-07-30",0.875]
[null,null,null,null,null,null,null,null,null,null,null,null,null,null,"2021-08-03",1]
[null,null,null,null,null,null,null,null,null,null,null,null,null,null,"2021-08-05",0.125]
[null,null,null,null,null,null,null,null,null,null,null,null,null,null,"2021-08-09",0.25]
[null,null,null,null,null,null,null,null,null,null,null,null,null,null,"2021-08-11",0.375]
[null,null,null,null,null,null,null,null,null,null,null,null,null,null,"2021-08-13",0.5]
[null,null,null,null,null,null,null,null,null,null,null,null,null,null,"2021-08-17",0.625]
[null,null,null,null,null,null,null,null,null,null,null,null,null,null,"2021-08-19",0.75]
[null,null,null,null,null,null,null,null,null,null,null,null,null,null,"2021-08-23",0.875]
[null,null,null,null,null,null,null,null,null,null,null,null,null,null,"2021-08-25",1]
[null,null,null,null,null,null,null,null,null,null,null,null,null,null,"2021-08-27",0.125]
[null,null,null,null,null,null,null,null,null,null,null,null,null,null,"2021-08-31",0.25]
[null,null,null,null,null,null,null,null,null,null,null,null,null,null,"2021-09-02",0.375]
[null,null,null,null,null,null,null,null,null,null,null,null,null,null,"2021-09-07",0.5]
[null,null,null,null,null,null,null,null,null,null,null,null,null,null,"2021-09-09",0.625]
[null,null,null,null,null,null,null,null,null,null,null,null,null,null,"2021-09-13",0.75]
[null,null,null,null,null,null,null,null,null,null,null,null,null,null,"2021-09-15",0.875]
[null,null,null,null,null,null,null,null,null,null,null,null,null,null,"2021-09-17",1]
[null,null,null,null,null,null,null,null,null,null,null,null,null,null,"2021-09-21",0.125]
[null,null,null,null,null,null,null,null,null,null,null,null,null,null,"2021-09-23",0.25]
[null,null,null,null,null,null,null,null,null,null,null,null,null,null,"2021-09-27",0.375]
[null,null,null,null,null,null,null,null,null,null,null,null,null,null,"2021-09-29",0.5]
[null,null,null,null,null,null,null,null,null,null,null,null,null,null,"2021-10-01",0.625]
[null,null,null,null,null,null,null,null,null,null,null,null,null,null,null,0.75]
[null,null,null,null,null,null,null,null,null,null,null,null,null,null,null,0.875]

{"sheet":"16 MM","index":4,"n_rows":175,"n_cols":146,"rows_kept":175,"cut":false,"hidden":false,"merged":[[14,6,14,7],[14,37,14,38],[20,37,20,38],[9,37,9,38],[10,37,10,38],[11,37,11,38],[12,37,12,38],[13,37,13,38],[15,37,15,38],[16,37,16,38],[17,37,17,38],[18,37,18,38],[19,37,19,38],[21,37,21,38],[22,37,22,38],[23,37,23,38],[24,31,24,34],[24,36,24,38]]}
[null,{"$f":"+K4","v":11.328125},{"$f":"+K18","v":8.984375},{"$f":"+K16","v":0.1953125}]
[{"$f":"COUNT(A4:A37)+3","v":36},null,null,null,null,null,null,null,null,null,null,null,null,"Trading the Markets using Fractal Squares set inside a Cube",null,null,null,null,null,null,null,null,null,null,null,null,null,null,null,null,null,null,null,null,"ALGORITHM",null,null,null,null,null,{"$f":"COUNT(B4:B43)","v":17},{"$f":"\"A\"&COUNT(B4:B43)+3","v":"A20"},null,null,null,null,null,null,null,null,null,null,null,null,null,null,null,null,null,null,null,"0-8/8-U","0-6/8-U","0-4/8-U","0-2/8-U",null,null,null,"0-8/8-U","0-6/8-U","0-4/8-U","0-2/8-U",null,null,null,"0-8/8-D","0-2/8-D","0-4/8-D","0-6/8-D",null,null,null,"0-8/8-D","0-2/8-D","0-4/8-D","0-6/8-D",null,null,null,null,null,null,null,"0-1 U",null,null,null,null,null,null,null,null,null,null,null,null,null,null,null,null,null,null,null,null,null,null,null,null,null,null,null,null,null,"0-1 U",0.125,0.25,0.375,0.5,0.625,0.75,0.875]
["Date","Open","High","Low","Close",null,null,null,null,null,null,null,null,null,null,null,null,null,null,null,null,null,null,null,"SELECTING OUR MASTER SQUARE",null,null,null,null,null,null,null,null,null,"Trunc(Log(Square/Range,2))",null,null,null,null,null,"Date","-2/8 Inner","-2/8 Outer","2/8 Inner","2/8 Outer","6/8 Inner","6/8 Outer","10/8 Inner","10/8 Outer","4/8 Inner","4/8 Outer","Mlines","mlines","blines","0/8 line","8/8 line","1/3 line","2/3 line","1-78 U","1-67 U","1-56 U","1-45 U","1-33 U","1-22.5 U","1-11.25 U","2-78 U","2-67 U","2-56 U","2-45 U","2-33 U","2-22.5 U","2-11.25 U","1-78 D","1-67 D","1-56 D","1-45 D","1-33 D","1-22.5 D","1-11.25 D","2-78 D","2-67 D","2-56 D","2-45 D","2-33 D","2-22.5 D","2-11.25 D","1MMLU-1","1MMLU-2","1MMLU-3","1MMLU-4","1MMLU-5","1MMLU-6","1MMLU-7","1MMLU-8","1MMLU-9","1MMLU-10","1MMLU-11","1MMLU-12","1MMLU-13","1MMLU-14","1MMLU-15","2MMLU-1","2MMLU-2","2MMLU-3","2MMLU-4","2MMLU-5","2MMLU-6","2MMLU-7","2MMLU-8","2MMLU-9","2MMLU-10","2MMLU-11","2MMLU-12","2MMLU-13","2MMLU-14","2MMLU-15","1MMLD-1","1MMLD-2","1MMLD-3","1MMLD-4","1MMLD-5","1MMLD-6","1MMLD-7","1MMLD-8","1MMLD-9","1MMLD-10","1MMLD-11","1MMLD-12","1MMLD-13","1MMLD-14","1MMLD-15","2MMLD-1","2MMLD-2","2MMLD-3","2MMLD-4","2MMLD-5","2MMLD-6","2MMLD-7","2MMLD-8","2MMLD-9","2MMLD-10","2MMLD-11","2MMLD-12","2MMLD-13","2MMLD-14","2MMLD-15"]
[{"$f":"+AO4","v":"2020-10-05"},{"$f":"VLOOKUP($A4,Data!$A$2:$E$100,2,FALSE)","v":9.7100000381469727},{"$f":"VLOOKUP($A4,Data!$A$2:$E$100,3,FALSE)","v":10.060000419616699},{"$f":"VLOOKUP($A4,Data!$A$2:$E$100,4,FALSE)","v":9.6899995803833008},{"$f":"VLOOKUP($A4,Data!$A$2:$E$100,5,FALSE)","v":9.9399995803833008},null,16,1,null,"+2",{"$f":"K5+1/8*(K$7-K$15)","v":11.328125},{"$f":"IF(AND($H$11>=K4,$H$11<=K6),$H$11,\"\")","v":""},"+2",{"$f":"N5+1/8*(N$7-N$15)","v":15.625},null,"+2",{"$f":"Q5+1/8*(Q$7-Q$15)","v":11.328125},{"$f":"IF(AND($H$11>=Q4,$H$11<=Q6),$H$11,\"\")","v":""},"+2",{"$f":"T5+1/8*(T$7-T$15)","v":10.986328125},{"$f":"IF(AND($H$11>=T4,$H$11<=T6),$H$11,\"\")","v":""},null,"Settings",null,null,null,null,"Price","Time",null,null,null,null,{"$f":"\"= Whole No.LOG of \"&TRUNC(LOG(Z29/Z32,2))","v":"= Whole No.LOG of 2"},null,null,null,null,null,null,{"$f":"+H21","v":"2020-10-05"},{"$f":"IF($W$11,IF(VLOOKUP($AO4,$T$37:$T$69,1,),-2/8,NA()),NA())","v":{"$error":"#N/A"}},{"$f":"IF($W$11,IF(VLOOKUP($AO4,$T$37:$T$69,1,),-2/8,NA()),NA())","v":{"$error":"#N/A"}},{"$f":"IF($W$11,IF(VLOOKUP($AO4,$T$37:$T$69,1,),2/8,NA()),NA())","v":{"$error":"#N/A"}},{"$f":"IF($W$11,IF(VLOOKUP($AO4,$T$37:$T$69,1,),2/8,NA()),NA())","v":{"$error":"#N/A"}},{"$f":"IF($W$11,IF(VLOOKUP($AO4,$T$37:$T$69,1,),6/8,NA()),NA())","v":{"$error":"#N/A"}},{"$f":"IF($W$11,IF(VLOOKUP($AO4,$T$37:$T$69,1,),6/8,NA()),NA())","v":{"$error":"#N/A"}},{"$f":"IF($W$11,IF(VLOOKUP($AO4,$T$37:$T$69,1,),10/8,NA()),NA())","v":{"$error":"#N/A"}},{"$f":"IF($W$11,IF(VLOOKUP($AO4,$T$37:$T$69,1,),10/8,NA()),NA())","v":{"$error":"#N/A"}},{"$f":"IF($W$11,IF(VLOOKUP($AO4,$T$72:$T$88,1,),4/8,NA()),NA())","v":{"$error":"#N/A"}},{"$error":"#N/A"},{"$f":"IF(VLOOKUP(AO4,L$44:L$64,1,),10/8,NA())","v":1.25},{"$f":"IF($W$14,IF(VLOOKUP(AO4,N$40:N$110,1,),9/8,NA()))","v":1.125},{"$f":"IF($W$14,IF(VLOOKUP(AO4,O$40:O$173,1,),8/8,NA()))","v":1},0,1,0.33333333333333331,0.66666666666666663,{"$f":"IF($W$5,IF(AO4=$H$21,0,IF(AO4=$G$26,1,NA())),NA())","v":{"$error":"#N/A"}},{"$f":"IF($W$5,IF(AO4=$H$21,0,IF(AO4=$G$27,1,NA())),NA())","v":{"$error":"#N/A"}},{"$f":"IF($W$5,IF(AO4=$H$21,0,IF(AO4=$G$28,1,NA())),NA())","v":{"$error":"#N/A"}},{"$f":"IF($W$5,IF(AO4=$H$21,0,IF(AO4=$H$22,1,NA())),NA())","v":{"$error":"#N/A"}},{"$f":"IF($W$5,IF(AO4=$H$21,0,IF(AO4=$H$22,6/8,NA())),NA())","v":{"$error":"#N/A"}},{"$f":"IF($W$5,IF(AO4=$H$21,0,IF(AO4=$H$22,4/8,NA())),NA())","v":{"$error":"#N/A"}},{"$f":"IF($W$5,IF(AO4=$H$21,0,IF(AO4=$H$22,2/8,NA())),NA())","v":{"$error":"#N/A"}},{"$f":"IF($W$5,IF(AO4=$H$22,0,IF(AO4=$H$26,1,NA())),NA())","v":{"$error":"#N/A"}},{"$f":"IF($W$5,IF(AO4=$H$22,0,IF(AO4=$H$27,1,NA())),NA())","v":{"$error":"#N/A"}},{"$f":"IF($W$5,IF(AO4=$H$22,0,IF(AO4=$H$28,1,NA())),NA())","v":{"$error":"#N/A"}},{"$f":"IF($W$5,IF(AO4=$H$22,0,IF(AO4=$H$23,1,NA())),NA())","v":{"$error":"#N/A"}},{"$f":"IF($W$5,IF(AO4=$H$22,0,IF(AO4=$H$23,6/8,NA())),NA())","v":{"$error":"#N/A"}},{"$f":"IF($W$5,IF(AO4=$H$22,0,IF(AO4=$H$23,4/8,NA())),NA())","v":{"$error":"#N/A"}},{"$f":"IF($W$5,IF(AO4=$H$22,0,IF(AO4=$H$23,2/8,NA())),NA())","v":{"$error":"#N/A"}},{"$f":"IF($W$8,IF(AO4=$H$21,1,IF(AO4=$G$26,0,NA())),NA())","v":1},{"$f":"IF($W$8,IF(AO4=$H$21,1,IF(AO4=$G$27,0,NA())),NA())","v":1},{"$f":"IF($W$8,IF(AO4=$H$21,1,IF(AO4=$G$28,0,NA())),NA())","v":1},{"$f":"IF($W$8,IF(AO4=$H$21,1,IF(AO4=$H$22,0,NA())),NA())","v":1},{"$f":"IF($W$8,IF(AO4=$H$21,1,IF(AO4=$H$22,2/8,NA())),NA())","v":1},{"$f":"IF($W$8,IF(AO4=$H$21,1,IF(AO4=$H$22,4/8,NA())),NA())","v":1},{"$f":"IF($W$8,IF(AO4=$H$21,1,IF(AO4=$H$22,6/8,NA())),NA())","v":1},{"$f":"IF($W$8,IF(AO4=$H$22,1,IF(AO4=$H$26,0,NA())),NA())","v":{"$error":"#N/A"}},{"$f":"IF($W$8,IF(AO4=$H$22,1,IF(AO4=$H$27,0,NA())),NA())","v":{"$error":"#N/A"}},{"$f":"IF($W$8,IF(AO4=$H$22,1,IF(AO4=$H$28,0,NA())),NA())","v":{"$error":"#N/A"}},{"$f":"IF($W$8,IF(AO4=$H$22,1,IF(AO4=$H$23,0,NA())),NA())","v":{"$error":"#N/A"}},{"$f":"IF($W$8,IF(AO4=$H$22,1,IF(AO4=$H$23,2/8,NA())),NA())","v":{"$error":"#N/A"}},{"$f":"IF($W$8,IF(AO4=$H$22,1,IF(AO4=$H$23,4/8,NA())),NA())","v":{"$error":"#N/A"}},{"$f":"IF($W$8,IF(AO4=$H$22,1,IF(AO4=$H$23,6/8,NA())),NA())","v":{"$error":"#N/A"}},{"$f":"IF($W$17,IF(AO4=$M$26,0,IF(AO4=$H$22,1/8,NA())),NA())","v":{"$error":"#N/A"}},{"$f":"IF($W$17,IF(AO4=$G$28,0,IF(AO4=$H$22,2/8,NA())),NA())","v":{"$error":"#N/A"}},{"$f":"IF($W$17,IF(AO4=$J$28,0,IF(AO4=$H$22,3/8,NA())),NA())","v":{"$error":"#N/A"}},{"$f":"IF($W$17,IF(AO4=$G$27,0,IF(AO4=$H$22,4/8,NA())),NA())","v":{"$error":"#N/A"}},{"$f":"IF($W$17,IF(AO4=$J$27,0,IF(AO4=$H$22,5/8,NA())),NA())","v":{"$error":"#N/A"}},{"$f":"IF($W$17,IF(AO4=$G$26,0,IF(AO4=$H$22,6/8,NA())),NA())","v":{"$error":"#N/A"}},{"$f":"IF($W$17,IF(AO4=$J$26,0,IF(AO4=$H$22,7/8,NA())),NA())","v":{"$error":"#N/A"}},{"$f":"IF($W$17,IF(AO4=$H$21,0,IF(AO4=$H$22,1,NA())),NA())","v":{"$error":"#N/A"}},{"$f":"IF($W$17,IF(AO4=$M$26,1,IF(AO4=$H$21,1/8,NA())),NA())","v":{"$error":"#N/A"}},{"$f":"IF($W$17,IF(AO4=$G$28,1,IF(AO4=$H$21,2/8,NA())),NA())","v":{"$error":"#N/A"}},{"$f":"IF($W$17,IF(AO4=$J$28,1,IF(AO4=$H$21,3/8,NA())),NA())","v":{"$error":"#N/A"}},{"$f":"IF($W$17,IF(AO4=$G$27,1,IF(AO4=$H$21,4/8,NA())),NA())","v":{"$error":"#N/A"}},{"$f":"IF($W$17,IF(AO4=$J$27,1,IF(AO4=$H$21,5/8,NA())),NA())","v":{"$error":"#N/A"}},{"$f":"IF($W$17,IF(AO4=$G$26,1,IF(AO4=$H$21,6/8,NA())),NA())","v":{"$error":"#N/A"}},{"$f":"IF($W$17,IF(AO4=$J$26,1,IF(AO4=$H$21,7/8,NA())),NA())","v":{"$error":"#N/A"}},{"$f":"IF($W$17,IF(AO4=$N$26,0,IF(AO4=$H$23,1/8,NA())),NA())","v":{"$error":"#N/A"}},{"$f":"IF($W$17,IF(AO4=$H$28,0,IF(AO4=$H$23,2/8,NA())),NA())","v":{"$error":"#N/A"}},{"$f":"IF($W$17,IF(AO4=$K$28,0,IF(AO4=$H$23,3/8,NA())),NA())","v":{"$error":"#N/A"}},{"$f":"IF($W$17,IF(AO4=$H$27,0,IF(AO4=$H$23,4/8,NA())),NA())","v":{"$error":"#N/A"}},{"$f":"IF($W$17,IF(AO4=$K$27,0,IF(AO4=$H$23,5/8,NA())),NA())","v":{"$error":"#N/A"}},{"$f":"IF($W$17,IF(AO4=$H$26,0,IF(AO4=$H$23,6/8,NA())),NA())","v":{"$error":"#N/A"}},{"$f":"IF($W$17,IF(AO4=$K$26,0,IF(AO4=$H$23,7/8,NA())),NA())","v":{"$error":"#N/A"}},{"$f":"IF($W$17,IF(AO4=$H$22,0,IF(AO4=$H$23,1,NA())),NA())","v":{"$error":"#N/A"}},{"$f":"IF($W$17,IF(AO4=$N$26,1,IF(AO4=$H$22,1/8,NA())),NA())","v":{"$error":"#N/A"}},{"$f":"IF($W$17,IF(AO4=$H$28,1,IF(AO4=$H$22,2/8,NA())),NA())","v":{"$error":"#N/A"}},{"$f":"IF($W$17,IF(AO4=$K$28,1,IF(AO4=$H$22,3/8,NA())),NA())","v":{"$error":"#N/A"}},{"$f":"IF($W$17,IF(AO4=$H$27,1,IF(AO4=$H$22,4/8,NA())),NA())","v":{"$error":"#N/A"}},{"$f":"IF($W$17,IF(AO4=$K$27,1,IF(AO4=$H$22,5/8,NA())),NA())","v":{"$error":"#N/A"}},{"$f":"IF($W$17,IF(AO4=$H$26,1,IF(AO4=$H$22,6/8,NA())),NA())","v":{"$error":"#N/A"}},{"$f":"IF($W$17,IF(AO4=$K$26,1,IF(AO4=$H$22,7/8,NA())),NA())","v":{"$error":"#N/A"}},{"$f":"IF($W$20,IF(AO4=$J$26,0,IF(AO4=$H$21,1/8,NA())),NA())","v":0.125},{"$f":"IF($W$20,IF(AO4=$G$26,0,IF(AO4=$H$21,2/8,NA())),NA())","v":0.25},{"$f":"IF($W$20,IF(AO4=$J$27,0,IF(AO4=$H$21,3/8,NA())),NA())","v":0.375},{"$f":"IF($W$20,IF(AO4=$G$27,0,IF(AO4=$H$21,4/8,NA())),NA())","v":0.5},{"$f":"IF($W$20,IF(AO4=$J$28,0,IF(AO4=$H$21,5/8,NA())),NA())","v":0.625},{"$f":"IF($W$20,IF(AO4=$G$28,0,IF(AO4=$H$21,6/8,NA())),NA())","v":0.75},{"$f":"IF($W$20,IF(AO4=$M$26,0,IF(AO4=$H$21,7/8,NA())),NA())","v":0.875},{"$f":"IF($W$20,IF(AO4=$H$21,1,IF(AO4=$H$22,0,NA())),NA())","v":1},{"$f":"IF($W$20,IF(AO4=$J$26,1,IF(AO4=$H$22,1/8,NA())),NA())","v":{"$error":"#N/A"}},{"$f":"IF($W$20,IF(AO4=$G$26,1,IF(AO4=$H$22,2/8,NA())),NA())","v":{"$error":"#N/A"}},{"$f":"IF($W$20,IF(AO4=$J$27,1,IF(AO4=$H$22,3/8,NA())),NA())","v":{"$error":"#N/A"}},{"$f":"IF($W$20,IF(AO4=$G$27,1,IF(AO4=$H$22,4/8,NA())),NA())","v":{"$error":"#N/A"}},{"$f":"IF($W$20,IF(AO4=$J$28,1,IF(AO4=$H$22,5/8,NA())),NA())","v":{"$error":"#N/A"}},{"$f":"IF($W$20,IF(AO4=$G$28,1,IF(AO4=$H$22,6/8,NA())),NA())","v":{"$error":"#N/A"}},{"$f":"IF($W$20,IF(AO4=$M$26,1,IF(AO4=$H$22,7/8,NA())),NA())","v":{"$error":"#N/A"}},{"$f":"IF($W$20,IF(AO4=$K$26,0,IF(AO4=$H$22,1/8,NA())),NA())","v":{"$error":"#N/A"}},{"$f":"IF($W$20,IF(AO4=$H$26,0,IF(AO4=$H$22,2/8,NA())),NA())","v":{"$error":"#N/A"}},{"$f":"IF($W$20,IF(AO4=$K$27,0,IF(AO4=$H$22,3/8,NA())),NA())","v":{"$error":"#N/A"}},{"$f":"IF($W$20,IF(AO4=$H$27,0,IF(AO4=$H$22,4/8,NA())),NA())","v":{"$error":"#N/A"}},{"$f":"IF($W$20,IF(AO4=$K$28,0,IF(AO4=$H$22,5/8,NA())),NA())","v":{"$error":"#N/A"}},{"$f":"IF($W$20,IF(AO4=$H$28,0,IF(AO4=$H$22,6/8,NA())),NA())","v":{"$error":"#N/A"}},{"$f":"IF($W$20,IF(AO4=$N$26,0,IF(AO4=$H$22,7/8,NA())),NA())","v":{"$error":"#N/A"}},{"$f":"IF($W$20,IF(AO4=$H$22,1,IF(AO4=$H$23,0,NA())),NA())","v":{"$error":"#N/A"}},{"$f":"IF($W$20,IF(AO4=$K$26,1,IF(AO4=$H$23,1/8,NA())),NA())","v":{"$error":"#N/A"}},{"$f":"IF($W$20,IF(AO4=$H$26,1,IF(AO4=$H$23,2/8,NA())),NA())","v":{"$error":"#N/A"}},{"$f":"IF($W$20,IF(AO4=$K$27,1,IF(AO4=$H$23,3/8,NA())),NA())","v":{"$error":"#N/A"}},{"$f":"IF($W$20,IF(AO4=$H$27,1,IF(AO4=$H$23,4/8,NA())),NA())","v":{"$error":"#N/A"}},{"$f":"IF($W$20,IF(AO4=$K$28,1,IF(AO4=$H$23,5/8,NA())),NA())","v":{"$error":"#N/A"}},{"$f":"IF($W$20,IF(AO4=$H$28,1,IF(AO4=$H$23,6/8,NA())),NA())","v":{"$error":"#N/A"}},{"$f":"IF($W$20,IF(AO4=$N$26,1,IF(AO4=$H$23,7/8,NA())),NA())","v":{"$error":"#N/A"}}]
[{"$f":"+AO5","v":"2020-10-06"},{"$f":"VLOOKUP($A5,Data!$A$2:$E$100,2,FALSE)","v":9.9700002670288086},{"$f":"VLOOKUP($A5,Data!$A$2:$E$100,3,FALSE)","v":10.039999961853027},{"$f":"VLOOKUP($A5,Data!$A$2:$E$100,4,FALSE)","v":9.4099998474121094},{"$f":"VLOOKUP($A5,Data!$A$2:$E$100,5,FALSE)","v":9.4300003051757795},null,{"$f":"+AB15","v":12.5},null,null,"+1",{"$f":"K7+1/8*(K$7-K$15)","v":11.1328125},{"$f":"IF(AND($H$11>=K5,$H$11<=K4),$H$11,\"\")","v":""},"+1",{"$f":"N7+1/8*(N$7-N$15)","v":14.0625},null,"+1",{"$f":"Q7+1/8*(Q$7-Q$15)","v":11.1328125},{"$f":"IF(AND($H$11>=Q5,$H$11<=Q4),$H$11,\"\")","v":""},"+1",{"$f":"T7+1/8*(T$7-T$15)","v":10.9619140625},{"$f":"IF(AND($H$11>=T5,$H$11<=T4),$H$11,\"\")","v":""},null,false,null,250000,25000,100000,{"$f":"IF(AND($H$11<=Y5,$H$11>Z5),AA5,\"X\")","v":"X"},{"$f":"IF(AND($H$12<=Y5,$H$12>Z5),AA5,\"X\")","v":"X"},null,null,null,null,{"$f":"\"Divide our Square of \"&Z29&\" in 1/2 \"&\"(\"&Z33&\") times\"","v":"Divide our Square of 12.5 in 1/2 (2) times"},null,null,null,null,null,null,{"$f":"IF(WORKDAY(AO4,1,$G$32:$G$71)>$H$23,NA(),WORKDAY(AO4,1,$G$32:$G$71))","v":"2020-10-06"},{"$f":"IF($W$11,IF(VLOOKUP($AO5,$T$37:$T$69,1,),-2/8,NA()),NA())","v":{"$error":"#N/A"}},{"$error":"#N/A"},{"$f":"IF($W$11,IF(VLOOKUP($AO5,$T$37:$T$69,1,),2/8,NA()),NA())","v":{"$error":"#N/A"}},{"$error":"#N/A"},{"$f":"IF($W$11,IF(VLOOKUP($AO5,$T$37:$T$69,1,),6/8,NA()),NA())","v":{"$error":"#N/A"}},{"$error":"#N/A"},{"$f":"IF($W$11,IF(VLOOKUP($AO5,$T$37:$T$69,1,),10/8,NA()),NA())","v":{"$error":"#N/A"}},{"$error":"#N/A"},{"$error":"#N/A"},{"$error":"#N/A"},{"$f":"IF(VLOOKUP(AO5,L$44:L$64,1,),10/8,NA())","v":{"$error":"#N/A"}},{"$f":"IF($W$14,IF(VLOOKUP(AO5,N$40:N$110,1,),9/8,NA()))","v":{"$error":"#N/A"}},{"$f":"IF($W$14,IF(VLOOKUP(AO5,O$40:O$173,1,),8/8,NA()))","v":{"$error":"#N/A"}},0,1,0.33333333333333331,0.66666666666666663,{"$error":"#N/A"},{"$error":"#N/A"},{"$error":"#N/A"},{"$error":"#N/A"},{"$error":"#N/A"},{"$error":"#N/A"},{"$error":"#N/A"},{"$error":"#N/A"},{"$error":"#N/A"},{"$error":"#N/A"},{"$error":"#N/A"},{"$error":"#N/A"},{"$error":"#N/A"},{"$error":"#N/A"},{"$error":"#N/A"},{"$error":"#N/A"},{"$error":"#N/A"},{"$error":"#N/A"},{"$error":"#N/A"},{"$error":"#N/A"},{"$error":"#N/A"},{"$error":"#N/A"},{"$error":"#N/A"},{"$error":"#N/A"},{"$error":"#N/A"},{"$error":"#N/A"},{"$error":"#N/A"},{"$error":"#N/A"},{"$error":"#N/A"},{"$error":"#N/A"},{"$error":"#N/A"},{"$error":"#N/A"},{"$f":"IF($W$17,IF(AO5=$J$27,0,IF(AO5=$H$22,5/8,NA())),NA())","v":{"$error":"#N/A"}},{"$error":"#N/A"},{"$error":"#N/A"},{"$error":"#N/A"},{"$f":"IF($W$17,IF(AO5=$M$26,1,IF(AO5=$H$21,1/8,NA())),NA())","v":{"$error":"#N/A"}},{"$f":"IF($W$17,IF(AO5=$G$28,1,IF(AO5=$H$21,2/8,NA())),NA())","v":{"$error":"#N/A"}},{"$f":"IF($W$17,IF(AO5=$J$28,1,IF(AO5=$H$21,3/8,NA())),NA())","v":{"$error":"#N/A"}},{"$f":"IF($W$17,IF(AO5=$G$27,1,IF(AO5=$H$21,4/8,NA())),NA())","v":{"$error":"#N/A"}},{"$f":"IF($W$17,IF(AO5=$J$27,1,IF(AO5=$H$21,5/8,NA())),NA())","v":{"$error":"#N/A"}},{"$f":"IF($W$17,IF(AO5=$G$26,1,IF(AO5=$H$21,6/8,NA())),NA())","v":{"$error":"#N/A"}},{"$f":"IF($W$17,IF(AO5=$J$26,1,IF(AO5=$H$21,7/8,NA())),NA())","v":{"$error":"#N/A"}},{"$error":"#N/A"},{"$error":"#N/A"},{"$error":"#N/A"},{"$error":"#N/A"},{"$f":"IF($W$17,IF(AO5=$K$27,0,IF(AO5=$H$23,5/8,NA())),NA())","v":{"$error":"#N/A"}},{"$error":"#N/A"},{"$error":"#N/A"},{"$error":"#N/A"},{"$f":"IF($W$17,IF(AO5=$N$26,1,IF(AO5=$H$22,1/8,NA())),NA())","v":{"$error":"#N/A"}},{"$f":"IF($W$17,IF(AO5=$H$28,1,IF(AO5=$H$22,2/8,NA())),NA())","v":{"$error":"#N/A"}},{"$f":"IF($W$17,IF(AO5=$K$28,1,IF(AO5=$H$22,3/8,NA())),NA())","v":{"$error":"#N/A"}},{"$f":"IF($W$17,IF(AO5=$H$27,1,IF(AO5=$H$22,4/8,NA())),NA())","v":{"$error":"#N/A"}},{"$f":"IF($W$17,IF(AO5=$K$27,1,IF(AO5=$H$22,5/8,NA())),NA())","v":{"$error":"#N/A"}},{"$f":"IF($W$17,IF(AO5=$H$26,1,IF(AO5=$H$22,6/8,NA())),NA())","v":{"$error":"#N/A"}},{"$f":"IF($W$17,IF(AO5=$K$26,1,IF(AO5=$H$22,7/8,NA())),NA())","v":{"$error":"#N/A"}},{"$f":"IF($W$20,IF(AO5=$J$26,0,IF(AO5=$H$21,1/8,NA())),NA())","v":{"$error":"#N/A"}},{"$f":"IF($W$20,IF(AO5=$G$26,0,IF(AO5=$H$21,2/8,NA())),NA())","v":{"$error":"#N/A"}},{"$f":"IF($W$20,IF(AO5=$J$27,0,IF(AO5=$H$21,3/8,NA())),NA())","v":{"$error":"#N/A"}},{"$f":"IF($W$20,IF(AO5=$G$27,0,IF(AO5=$H$21,4/8,NA())),NA())","v":{"$error":"#N/A"}},{"$f":"IF($W$20,IF(AO5=$J$28,0,IF(AO5=$H$21,5/8,NA())),NA())","v":{"$error":"#N/A"}},{"$f":"IF($W$20,IF(AO5=$G$28,0,IF(AO5=$H$21,6/8,NA())),NA())","v":{"$error":"#N/A"}},{"$f":"IF($W$20,IF(AO5=$M$26,0,IF(AO5=$H$21,7/8,NA())),NA())","v":{"$error":"#N/A"}},{"$error":"#N/A"},{"$error":"#N/A"},{"$error":"#N/A"},{"$error":"#N/A"},{"$f":"IF($W$20,IF(AO5=$G$27,1,IF(AO5=$H$22,4/8,NA())),NA())","v":{"$error":"#N/A"}},{"$error":"#N/A"},{"$error":"#N/A"},{"$error":"#N/A"},{"$f":"IF($W$20,IF(AO5=$K$26,0,IF(AO5=$H$22,1/8,NA())),NA())","v":{"$error":"#N/A"}},{"$f":"IF($W$20,IF(AO5=$H$26,0,IF(AO5=$H$22,2/8,NA())),NA())","v":{"$error":"#N/A"}},{"$f":"IF($W$20,IF(AO5=$K$27,0,IF(AO5=$H$22,3/8,NA())),NA())","v":{"$error":"#N/A"}},{"$f":"IF($W$20,IF(AO5=$H$27,0,IF(AO5=$H$22,4/8,NA())),NA())","v":{"$error":"#N/A"}},{"$f":"IF($W$20,IF(AO5=$K$28,0,IF(AO5=$H$22,5/8,NA())),NA())","v":{"$error":"#N/A"}},{"$f":"IF($W$20,IF(AO5=$H$28,0,IF(AO5=$H$22,6/8,NA())),NA())","v":{"$error":"#N/A"}},{"$f":"IF($W$20,IF(AO5=$N$26,0,IF(AO5=$H$22,7/8,NA())),NA())","v":{"$error":"#N/A"}},{"$error":"#N/A"},{"$error":"#N/A"},{"$error":"#N/A"},{"$f":"IF($W$20,IF(AO5=$K$27,1,IF(AO5=$H$23,3/8,NA())),NA())","v":{"$error":"#N/A"}},{"$error":"#N/A"},{"$error":"#N/A"},{"$error":"#N/A"},{"$error":"#N/A"}]
["2020-10-07",{"$f":"VLOOKUP($A6,Data!$A$2:$E$100,2,FALSE)","v":9.619999885559082},{"$f":"VLOOKUP($A6,Data!$A$2:$E$100,3,FALSE)","v":9.6700000762939435},{"$f":"VLOOKUP($A6,Data!$A$2:$E$100,4,FALSE)","v":9.4600000381469727},{"$f":"VLOOKUP($A6,Data!$A$2:$E$100,5,FALSE)","v":9.5900001525878906},null,"Squares",null,null,null,"SQUARE IN TIME",null,null,"MAJOR SQUARE",null,null,{"$f":"\"MINOR SQUARE\"","v":"MINOR SQUARE"},null,null,{"$f":"\"OCTAVE \"&$T$7/($H$8/2)","v":"OCTAVE 112"},null,null,null,null,25000,{"$f":"Y6/10","v":2500},{"$f":"AA5/10","v":10000},"X","X",null,null,null,null,null,{"$f":"\"Our Octave = \"&Z29/(2^TRUNC(LOG(Z29/Z32,2)))","v":"Our Octave = 3.125"},null,null,null,null,null,"2020-10-07",{"$error":"#N/A"},{"$error":"#N/A"},{"$error":"#N/A"},{"$error":"#N/A"},{"$error":"#N/A"},{"$error":"#N/A"},{"$error":"#N/A"},{"$error":"#N/A"},{"$error":"#N/A"},{"$error":"#N/A"},{"$error":"#N/A"},{"$error":"#N/A"},1,0,1,0.33333333333333331,0.66666666666666663,{"$error":"#N/A"},{"$error":"#N/A"},{"$error":"#N/A"},{"$error":"#N/A"},{"$error":"#N/A"},{"$error":"#N/A"},{"$error":"#N/A"},{"$error":"#N/A"},{"$error":"#N/A"},{"$error":"#N/A"},{"$error":"#N/A"},{"$error":"#N/A"},{"$error":"#N/A"},{"$error":"#N/A"},{"$error":"#N/A"},{"$error":"#N/A"},{"$error":"#N/A"},{"$error":"#N/A"},{"$error":"#N/A"},{"$error":"#N/A"},{"$error":"#N/A"},{"$error":"#N/A"},{"$error":"#N/A"},{"$error":"#N/A"},{"$error":"#N/A"},{"$error":"#N/A"},{"$error":"#N/A"},{"$error":"#N/A"},{"$error":"#N/A"},{"$error":"#N/A"},{"$error":"#N/A"},{"$error":"#N/A"},{"$error":"#N/A"},{"$error":"#N/A"},{"$error":"#N/A"},{"$error":"#N/A"},{"$error":"#N/A"},{"$error":"#N/A"},{"$error":"#N/A"},{"$error":"#N/A"},{"$error":"#N/A"},{"$error":"#N/A"},{"$error":"#N/A"},{"$error":"#N/A"},{"$error":"#N/A"},{"$error":"#N/A"},{"$error":"#N/A"},{"$error":"#N/A"},{"$error":"#N/A"},{"$error":"#N/A"},{"$error":"#N/A"},{"$error":"#N/A"},{"$error":"#N/A"},{"$error":"#N/A"},{"$error":"#N/A"},{"$error":"#N/A"},{"$error":"#N/A"},{"$error":"#N/A"},0,{"$error":"#N/A"},{"$error":"#N/A"},{"$error":"#N/A"},{"$error":"#N/A"},{"$error":"#N/A"},{"$error":"#N/A"},{"$error":"#N/A"},1,{"$error":"#N/A"},{"$error":"#N/A"},{"$error":"#N/A"},{"$error":"#N/A"},{"$error":"#N/A"},{"$error":"#N/A"},{"$error":"#N/A"},{"$error":"#N/A"},{"$error":"#N/A"},{"$error":"#N/A"},{"$error":"#N/A"},{"$error":"#N/A"},{"$error":"#N/A"},{"$error":"#N/A"},{"$error":"#N/A"},{"$error":"#N/A"},{"$error":"#N/A"},{"$error":"#N/A"},{"$error":"#N/A"},{"$error":"#N/A"},{"$error":"#N/A"}]
["2020-10-08",{"$f":"VLOOKUP($A7,Data!$A$2:$E$100,2,FALSE)","v":9.6999998092651367},{"$f":"VLOOKUP($A7,Data!$A$2:$E$100,3,FALSE)","v":9.869999885559082},{"$f":"VLOOKUP($A7,Data!$A$2:$E$100,4,FALSE)","v":9.630000114440918},{"$f":"VLOOKUP($A7,Data!$A$2:$E$100,5,FALSE)","v":9.8299999237060565},null,"MMML",{"$f":"G5/8","v":1.5625},null,{"$f":"($AI$12-$AF$20)/$AF$21&\"/8\"","v":"4/8"},{"$f":"SUM(AJ29:AJ39)","v":10.9375},{"$f":"IF(AND($H$11>=K7,$H$11<=K5),$H$11,\"\")","v":""},{"$f":"N7/H7&\"/8\"","v":"8/8"},{"$f":"G5","v":12.5},{"$f":"IF(AND($H$11>=N7,$H$11<=N5),$H$11,\"\")","v":""},{"$f":"Q7/H7&\"/8\"","v":"7/8"},{"$f":"Q15+H7","v":10.9375},{"$f":"IF(AND($H$11>=Q7,$H$11<=Q5),$H$11,\"\")","v":""},{"$f":"(T7-TRUNC($H$11/($G$5/8))*($G$5/8))/$H$8&\"/8\"","v":"8/8"},{"$f":"T15+H8","v":10.9375},{"$f":"IF(AND($H$11>=T7,$H$11<=T5),$H$11,\"\")","v":""},null,null,null,2500,{"$f":"Y7/10","v":250},{"$f":"AA6/10","v":1000},"X","X",null,null,null,null,null,null,null,null,"SQUARE",null,null,"2020-10-08",{"$error":"#N/A"},{"$error":"#N/A"},{"$error":"#N/A"},{"$error":"#N/A"},{"$error":"#N/A"},{"$error":"#N/A"},{"$error":"#N/A"},{"$error":"#N/A"},{"$error":"#N/A"},{"$error":"#N/A"},{"$error":"#N/A"},{"$error":"#N/A"},{"$error":"#N/A"},0,1,0.33333333333333331,0.66666666666666663,{"$error":"#N/A"},{"$error":"#N/A"},{"$error":"#N/A"},{"$error":"#N/A"},{"$error":"#N/A"},{"$error":"#N/A"},{"$error":"#N/A"},{"$error":"#N/A"},{"$error":"#N/A"},{"$error":"#N/A"},{"$error":"#N/A"},{"$error":"#N/A"},{"$error":"#N/A"},{"$error":"#N/A"},{"$error":"#N/A"},{"$error":"#N/A"},{"$error":"#N/A"},{"$error":"#N/A"},{"$error":"#N/A"},{"$error":"#N/A"},{"$error":"#N/A"},{"$error":"#N/A"},{"$error":"#N/A"},{"$error":"#N/A"},{"$error":"#N/A"},{"$error":"#N/A"},{"$error":"#N/A"},{"$error":"#N/A"},{"$error":"#N/A"},{"$error":"#N/A"},{"$error":"#N/A"},{"$error":"#N/A"},{"$error":"#N/A"},{"$error":"#N/A"},{"$error":"#N/A"},{"$error":"#N/A"},{"$error":"#N/A"},{"$error":"#N/A"},{"$error":"#N/A"},{"$error":"#N/A"},{"$error":"#N/A"},{"$error":"#N/A"},{"$error":"#N/A"},{"$error":"#N/A"},{"$error":"#N/A"},{"$error":"#N/A"},{"$error":"#N/A"},{"$error":"#N/A"},{"$error":"#N/A"},{"$error":"#N/A"},{"$error":"#N/A"},{"$error":"#N/A"},{"$error":"#N/A"},{"$error":"#N/A"},{"$error":"#N/A"},{"$error":"#N/A"},{"$error":"#N/A"},{"$error":"#N/A"},{"$error":"#N/A"},{"$error":"#N/A"},{"$error":"#N/A"},{"$error":"#N/A"},{"$error":"#N/A"},{"$error":"#N/A"},{"$error":"#N/A"},{"$error":"#N/A"},{"$error":"#N/A"},{"$error":"#N/A"},{"$error":"#N/A"},{"$error":"#N/A"},{"$error":"#N/A"},{"$error":"#N/A"},{"$error":"#N/A"},{"$error":"#N/A"},{"$error":"#N/A"},{"$error":"#N/A"},{"$error":"#N/A"},{"$error":"#N/A"},{"$error":"#N/A"},{"$error":"#N/A"},{"$error":"#N/A"},{"$error":"#N/A"},{"$error":"#N/A"},{"$error":"#N/A"},{"$error":"#N/A"},{"$error":"#N/A"},{"$error":"#N/A"},{"$error":"#N/A"}]
["2020-10-09",{"$f":"VLOOKUP($A8,Data!$A$2:$E$100,2,FALSE)","v":10.130000114440918},{"$f":"VLOOKUP($A8,Data!$A$2:$E$100,3,FALSE)","v":10.600000381469728},{"$f":"VLOOKUP($A8,Data!$A$2:$E$100,4,FALSE)","v":10.090000152587891},{"$f":"VLOOKUP($A8,Data!$A$2:$E$100,5,FALSE)","v":10.560000419616699},null,"mMML",{"$f":"H7/8","v":0.1953125},null,"7",{"$f":"K9+1/8*(K$7-K$15)","v":10.7421875},{"$f":"IF(AND($H$11>=K8,$H$11<=K7),$H$11,\"\")","v":10.899999618530272},"7",{"$f":"N9+1/8*(N$7-N$15)","v":10.9375},{"$f":"IF(AND($H$11>=N8,$H$11<=N7),$H$11,\"\")","v":""},"7",{"$f":"Q9+1/8*(Q$7-Q$15)","v":10.7421875},{"$f":"IF(AND($H$11>=Q8,$H$11<=Q7),$H$11,\"\")","v":10.899999618530272},"7",{"$f":"T9+1/8*(T$7-T$15)","v":10.9130859375},{"$f":"IF(AND($H$11>=T8,$H$11<=T7),$H$11,\"\")","v":""},null,true,null,250,{"$f":"Y8/10","v":25},{"$f":"AA7/10","v":100},"X","X",null,null,null,null,null,null,null,"LOG",{"$f":"Z29","v":12.5},null,null,"2020-10-09",-0.25,-0.25,0.25,0.25,0.75,0.75,1.25,1.25,{"$error":"#N/A"},{"$error":"#N/A"},{"$error":"#N/A"},1.125,1,0,1,0.33333333333333331,0.66666666666666663,{"$error":"#N/A"},{"$error":"#N/A"},{"$error":"#N/A"},{"$error":"#N/A"},{"$error":"#N/A"},{"$error":"#N/A"},{"$error":"#N/A"},{"$error":"#N/A"},{"$error":"#N/A"},{"$error":"#N/A"},{"$error":"#N/A"},{"$error":"#N/A"},{"$error":"#N/A"},{"$error":"#N/A"},0,{"$error":"#N/A"},{"$error":"#N/A"},{"$error":"#N/A"},{"$error":"#N/A"},{"$error":"#N/A"},{"$error":"#N/A"},{"$error":"#N/A"},{"$error":"#N/A"},{"$error":"#N/A"},{"$error":"#N/A"},{"$error":"#N/A"},{"$error":"#N/A"},{"$error":"#N/A"},{"$error":"#N/A"},{"$error":"#N/A"},{"$error":"#N/A"},{"$error":"#N/A"},{"$error":"#N/A"},{"$error":"#N/A"},{"$error":"#N/A"},{"$error":"#N/A"},{"$error":"#N/A"},{"$error":"#N/A"},{"$error":"#N/A"},{"$error":"#N/A"},{"$error":"#N/A"},{"$error":"#N/A"},{"$error":"#N/A"},{"$error":"#N/A"},{"$error":"#N/A"},{"$error":"#N/A"},{"$error":"#N/A"},{"$error":"#N/A"},{"$error":"#N/A"},{"$error":"#N/A"},{"$error":"#N/A"},{"$error":"#N/A"},{"$error":"#N/A"},{"$error":"#N/A"},{"$error":"#N/A"},{"$error":"#N/A"},{"$error":"#N/A"},{"$error":"#N/A"},{"$error":"#N/A"},0,{"$error":"#N/A"},{"$error":"#N/A"},{"$error":"#N/A"},{"$error":"#N/A"},{"$error":"#N/A"},{"$error":"#N/A"},{"$error":"#N/A"},1,{"$error":"#N/A"},{"$error":"#N/A"},{"$error":"#N/A"},{"$error":"#N/A"},{"$error":"#N/A"},{"$error":"#N/A"},{"$error":"#N/A"},{"$error":"#N/A"},{"$error":"#N/A"},{"$error":"#N/A"},{"$error":"#N/A"},{"$error":"#N/A"},{"$error":"#N/A"},{"$error":"#N/A"},{"$error":"#N/A"},{"$error":"#N/A"},{"$error":"#N/A"},{"$error":"#N/A"},{"$error":"#N/A"},{"$error":"#N/A"}]
["2020-10-12",{"$f":"VLOOKUP($A9,Data!$A$2:$E$100,2,FALSE)","v":10.579999923706056},{"$f":"VLOOKUP($A9,Data!$A$2:$E$100,3,FALSE)","v":10.699999809265137},{"$f":"VLOOKUP($A9,Data!$A$2:$E$100,4,FALSE)","v":10.310000419616699},{"$f":"VLOOKUP($A9,Data!$A$2:$E$100,5,FALSE)","v":10.600000381469728},null,"bMML",{"$f":"H8/8","v":2.44140625E-2},null,"6",10.546875,"","6",9.375,10.899999618530272,"6",10.546875,"","6",10.888671875,10.899999618530272,null,null,null,25,12.5,12.5,"X","X",null,"+2",{"$f":"AF10+1/8*(AF$12-AF$20)","v":13.28125},{"$f":"IF(AND($H$11>=AF9,$H$11<=AF11),$H$11,\"\")","v":""},"+2",{"$f":"AI10+1/8*(AI$12-AI$20)","v":11.328125},{"$f":"IF(AND($H$11>=AI9,$H$11<=AI11),$H$11,\"\")","v":""},1,{"$f":"AL8/2","v":6.25},null,null,"2020-10-12",{"$error":"#N/A"},{"$error":"#N/A"},{"$error":"#N/A"},{"$error":"#N/A"},{"$error":"#N/A"},{"$error":"#N/A"},{"$error":"#N/A"},{"$error":"#N/A"},{"$error":"#N/A"},{"$error":"#N/A"},{"$error":"#N/A"},{"$error":"#N/A"},{"$error":"#N/A"},0,1,0.33333333333333331,0.66666666666666663,{"$error":"#N/A"},{"$error":"#N/A"},{"$error":"#N/A"},{"$error":"#N/A"},{"$error":"#N/A"},{"$error":"#N/A"},{"$error":"#N/A"},{"$error":"#N/A"},{"$error":"#N/A"},{"$error":"#N/A"},{"$error":"#N/A"},{"$error":"#N/A"},{"$error":"#N/A"},{"$error":"#N/A"},{"$error":"#N/A"},{"$error":"#N/A"},{"$error":"#N/A"},{"$error":"#N/A"},{"$error":"#N/A"},{"$error":"#N/A"},{"$error":"#N/A"},{"$error":"#N/A"},{"$error":"#N/A"},{"$error":"#N/A"},{"$error":"#N/A"},{"$error":"#N/A"},{"$error":"#N/A"},{"$error":"#N/A"},{"$error":"#N/A"},{"$error":"#N/A"},{"$error":"#N/A"},{"$error":"#N/A"},{"$error":"#N/A"},{"$error":"#N/A"},{"$error":"#N/A"},{"$error":"#N/A"},{"$error":"#N/A"},{"$error":"#N/A"},{"$error":"#N/A"},{"$error":"#N/A"},{"$error":"#N/A"},{"$error":"#N/A"},{"$error":"#N/A"},{"$error":"#N/A"},{"$error":"#N/A"},{"$error":"#N/A"},{"$error":"#N/A"},{"$error":"#N/A"},{"$error":"#N/A"},{"$error":"#N/A"},{"$error":"#N/A"},{"$error":"#N/A"},{"$error":"#N/A"},{"$error":"#N/A"},{"$error":"#N/A"},{"$error":"#N/A"},{"$error":"#N/A"},{"$error":"#N/A"},{"$error":"#N/A"},{"$error":"#N/A"},{"$error":"#N/A"},{"$error":"#N/A"},{"$error":"#N/A"},{"$error":"#N/A"},{"$error":"#N/A"},{"$error":"#N/A"},{"$error":"#N/A"},{"$error":"#N/A"},{"$error":"#N/A"},{"$error":"#N/A"},{"$error":"#N/A"},{"$error":"#N/A"},{"$error":"#N/A"},{"$error":"#N/A"},{"$error":"#N/A"},{"$error":"#N/A"},{"$error":"#N/A"},{"$error":"#N/A"},{"$error":"#N/A"},{"$error":"#N/A"},{"$error":"#N/A"},{"$error":"#N/A"},{"$error":"#N/A"},{"$error":"#N/A"},{"$error":"#N/A"},{"$error":"#N/A"},{"$error":"#N/A"},{"$error":"#N/A"}]
["2020-10-13",{"$f":"VLOOKUP($A10,Data!$A$2:$E$100,2,FALSE)","v":10.350000381469728},{"$f":"VLOOKUP($A10,Data!$A$2:$E$100,3,FALSE)","v":10.574999809265137},{"$f":"VLOOKUP($A10,Data!$A$2:$E$100,4,FALSE)","v":10.140000343322754},{"$f":"VLOOKUP($A10,Data!$A$2:$E$100,5,FALSE)","v":10.529999732971191},null,{"$f":"+H4*G4","v":16},"bar",null,"5",10.3515625,"","5",7.8125,"","5",10.3515625,"","5",10.8642578125,"",null,null,null,12.5,{"$f":"Y10/2","v":6.25},12.5,12.5,12.5,null,"+1",{"$f":"AF12+1/8*(AF$12-AF$20)","v":12.890625},{"$f":"IF(AND($H$11>=AF10,$H$11<=AF9),$H$11,\"\")","v":""},"+1",{"$f":"AI12+1/8*(AI$12-AI$20)","v":11.1328125},{"$f":"IF(AND($H$11>=AI10,$H$11<=AI9),$H$11,\"\")","v":""},2,3.125,null,null,"2020-10-13",{"$error":"#N/A"},{"$error":"#N/A"},{"$error":"#N/A"},{"$error":"#N/A"},{"$error":"#N/A"},{"$error":"#N/A"},{"$error":"#N/A"},{"$error":"#N/A"},{"$error":"#N/A"},{"$error":"#N/A"},{"$error":"#N/A"},{"$error":"#N/A"},1,0,1,0.33333333333333331,0.66666666666666663,{"$error":"#N/A"},{"$error":"#N/A"},{"$error":"#N/A"},{"$error":"#N/A"},{"$error":"#N/A"},{"$error":"#N/A"},{"$error":"#N/A"},{"$error":"#N/A"},{"$error":"#N/A"},{"$error":"#N/A"},{"$error":"#N/A"},{"$error":"#N/A"},{"$error":"#N/A"},{"$error":"#N/A"},{"$error":"#N/A"},{"$error":"#N/A"},{"$error":"#N/A"},{"$error":"#N/A"},{"$error":"#N/A"},{"$error":"#N/A"},{"$error":"#N/A"},{"$error":"#N/A"},{"$error":"#N/A"},{"$error":"#N/A"},{"$error":"#N/A"},{"$error":"#N/A"},{"$error":"#N/A"},{"$error":"#N/A"},{"$error":"#N/A"},{"$error":"#N/A"},{"$error":"#N/A"},{"$error":"#N/A"},{"$error":"#N/A"},{"$error":"#N/A"},{"$error":"#N/A"},{"$error":"#N/A"},{"$error":"#N/A"},{"$error":"#N/A"},{"$error":"#N/A"},{"$error":"#N/A"},{"$error":"#N/A"},{"$error":"#N/A"},{"$error":"#N/A"},{"$error":"#N/A"},{"$error":"#N/A"},{"$error":"#N/A"},{"$error":"#N/A"},{"$error":"#N/A"},{"$error":"#N/A"},{"$error":"#N/A"},{"$error":"#N/A"},{"$error":"#N/A"},{"$error":"#N/A"},{"$error":"#N/A"},{"$error":"#N/A"},{"$error":"#N/A"},{"$error":"#N/A"},{"$error":"#N/A"},{"$error":"#N/A"},{"$error":"#N/A"},0,{"$error":"#N/A"},{"$error":"#N/A"},{"$error":"#N/A"},{"$error":"#N/A"},{"$error":"#N/A"},{"$error":"#N/A"},{"$error":"#N/A"},1,{"$error":"#N/A"},{"$error":"#N/A"},{"$error":"#N/A"},{"$error":"#N/A"},{"$error":"#N/A"},{"$error":"#N/A"},{"$error":"#N/A"},{"$error":"#N/A"},{"$error":"#N/A"},{"$error":"#N/A"},{"$error":"#N/A"},{"$error":"#N/A"},{"$error":"#N/A"},{"$error":"#N/A"},{"$error":"#N/A"},{"$error":"#N/A"},{"$error":"#N/A"},{"$error":"#N/A"},{"$error":"#N/A"}]
["2020-10-14",{"$f":"VLOOKUP($A11,Data!$A$2:$E$100,2,FALSE)","v":10.789999961853027},{"$f":"VLOOKUP($A11,Data!$A$2:$E$100,3,FALSE)","v":10.970000267028809},{"$f":"VLOOKUP($A11,Data!$A$2:$E$100,4,FALSE)","v":10.619999885559082},{"$f":"VLOOKUP($A11,Data!$A$2:$E$100,5,FALSE)","v":10.810000419616699},null,"Current",{"$f":"+Data!E2","v":10.899999618530272},null,"4",10.15625,"","4",6.25,"","4",10.15625,"","4",10.83984375,"",null,true,null,6.25,{"$f":"Y11/2","v":3.125},{"$f":"Z10","v":6.25},"X","X",null,null,"MAX TIMEFRAME",null,null,"BEST TIMEFRAME",null,3,1.5625,null,null,"2020-10-14",{"$error":"#N/A"},{"$error":"#N/A"},{"$error":"#N/A"},{"$error":"#N/A"},{"$error":"#N/A"},{"$error":"#N/A"},{"$error":"#N/A"},{"$error":"#N/A"},{"$error":"#N/A"},{"$error":"#N/A"},{"$error":"#N/A"},{"$error":"#N/A"},{"$error":"#N/A"},0,1,0.33333333333333331,0.66666666666666663,{"$error":"#N/A"},{"$error":"#N/A"},{"$error":"#N/A"},{"$error":"#N/A"},{"$error":"#N/A"},{"$error":"#N/A"},{"$error":"#N/A"},{"$error":"#N/A"},{"$error":"#N/A"},{"$error":"#N/A"},{"$error":"#N/A"},{"$error":"#N/A"},{"$error":"#N/A"},{"$error":"#N/A"},{"$error":"#N/A"},{"$error":"#N/A"},{"$error":"#N/A"},{"$error":"#N/A"},{"$error":"#N/A"},{"$error":"#N/A"},{"$error":"#N/A"},{"$error":"#N/A"},{"$error":"#N/A"},{"$error":"#N/A"},{"$error":"#N/A"},{"$error":"#N/A"},{"$error":"#N/A"},{"$error":"#N/A"},{"$error":"#N/A"},{"$error":"#N/A"},{"$error":"#N/A"},{"$error":"#N/A"},{"$error":"#N/A"},{"$error":"#N/A"},{"$error":"#N/A"},{"$error":"#N/A"},{"$error":"#N/A"},{"$error":"#N/A"},{"$error":"#N/A"},{"$error":"#N/A"},{"$error":"#N/A"},{"$error":"#N/A"},{"$error":"#N/A"},{"$error":"#N/A"},{"$error":"#N/A"},{"$error":"#N/A"},{"$error":"#N/A"},{"$error":"#N/A"},{"$error":"#N/A"},{"$error":"#N/A"},{"$error":"#N/A"},{"$error":"#N/A"},{"$error":"#N/A"},{"$error":"#N/A"},{"$error":"#N/A"},{"$error":"#N/A"},{"$error":"#N/A"},{"$error":"#N/A"},{"$error":"#N/A"},{"$error":"#N/A"},{"$error":"#N/A"},{"$error":"#N/A"},{"$error":"#N/A"},{"$error":"#N/A"},{"$error":"#N/A"},{"$error":"#N/A"},{"$error":"#N/A"},{"$error":"#N/A"},{"$error":"#N/A"},{"$error":"#N/A"},{"$error":"#N/A"},{"$error":"#N/A"},{"$error":"#N/A"},{"$error":"#N/A"},{"$error":"#N/A"},{"$error":"#N/A"},{"$error":"#N/A"},{"$error":"#N/A"},{"$error":"#N/A"},{"$error":"#N/A"},{"$error":"#N/A"},{"$error":"#N/A"},{"$error":"#N/A"},{"$error":"#N/A"},{"$error":"#N/A"},{"$error":"#N/A"},{"$error":"#N/A"},{"$error":"#N/A"}]
["2020-10-15",{"$f":"VLOOKUP($A12,Data!$A$2:$E$100,2,FALSE)","v":10.470000267028809},{"$f":"VLOOKUP($A12,Data!$A$2:$E$100,3,FALSE)","v":10.720000267028809},{"$f":"VLOOKUP($A12,Data!$A$2:$E$100,4,FALSE)","v":10.449999809265137},{"$f":"VLOOKUP($A12,Data!$A$2:$E$100,5,FALSE)","v":10.710000038146973},null,"High",{"$f":"MAX(OFFSET(Data!C2,0,0,G10))","v":11.265000343322754},null,"3",9.9609375,"","3",4.6875,"","3",9.9609375,"","3",10.8154296875,"",null,null,null,3.125,{"$f":"Y12/2","v":1.5625},{"$f":"Z11","v":3.125},"X","X",null,"MAX 8/8",{"$f":"Z35","v":12.5},{"$f":"IF(AND($H$11>=AF12,$H$11<=AF10),$H$11,\"\")","v":""},{"$f":"($AI$12-$AF$20)/$AF$21&\"/8\"","v":"4/8"},{"$f":"SUM(AJ29:AJ39)","v":10.9375},{"$f":"IF(AND($H$11>=AI12,$H$11<=AI10),$H$11,\"\")","v":""},4,0.78125,null,null,"2020-10-15",{"$error":"#N/A"},{"$error":"#N/A"},{"$error":"#N/A"},{"$error":"#N/A"},{"$error":"#N/A"},{"$error":"#N/A"},{"$error":"#N/A"},{"$error":"#N/A"},0.5,0.5,{"$error":"#N/A"},1.125,1,0,1,0.33333333333333331,0.66666666666666663,{"$error":"#N/A"},{"$error":"#N/A"},{"$error":"#N/A"},{"$error":"#N/A"},{"$error":"#N/A"},{"$error":"#N/A"},{"$error":"#N/A"},{"$error":"#N/A"},{"$error":"#N/A"},{"$error":"#N/A"},{"$error":"#N/A"},{"$error":"#N/A"},{"$error":"#N/A"},{"$error":"#N/A"},{"$error":"#N/A"},0,{"$error":"#N/A"},{"$error":"#N/A"},{"$error":"#N/A"},{"$error":"#N/A"},{"$error":"#N/A"},{"$error":"#N/A"},{"$error":"#N/A"},{"$error":"#N/A"},{"$error":"#N/A"},{"$error":"#N/A"},{"$error":"#N/A"},{"$error":"#N/A"},{"$error":"#N/A"},{"$error":"#N/A"},{"$error":"#N/A"},{"$error":"#N/A"},{"$error":"#N/A"},{"$error":"#N/A"},{"$error":"#N/A"},{"$error":"#N/A"},{"$error":"#N/A"},{"$error":"#N/A"},{"$error":"#N/A"},{"$error":"#N/A"},{"$error":"#N/A"},{"$error":"#N/A"},{"$error":"#N/A"},{"$error":"#N/A"},{"$error":"#N/A"},{"$error":"#N/A"},{"$error":"#N/A"},{"$error":"#N/A"},{"$error":"#N/A"},{"$error":"#N/A"},{"$error":"#N/A"},{"$error":"#N/A"},{"$error":"#N/A"},{"$error":"#N/A"},{"$error":"#N/A"},{"$error":"#N/A"},{"$error":"#N/A"},{"$error":"#N/A"},{"$error":"#N/A"},{"$error":"#N/A"},{"$error":"#N/A"},0,{"$error":"#N/A"},{"$error":"#N/A"},{"$error":"#N/A"},{"$error":"#N/A"},{"$error":"#N/A"},{"$error":"#N/A"},{"$error":"#N/A"},1,{"$error":"#N/A"},{"$error":"#N/A"},{"$error":"#N/A"},{"$error":"#N/A"},{"$error":"#N/A"},{"$error":"#N/A"},{"$error":"#N/A"},{"$error":"#N/A"},{"$error":"#N/A"},{"$error":"#N/A"},{"$error":"#N/A"},{"$error":"#N/A"},{"$error":"#N/A"},{"$error":"#N/A"},{"$error":"#N/A"},{"$error":"#N/A"},{"$error":"#N/A"},{"$error":"#N/A"}]
["2020-10-16",{"$f":"VLOOKUP($A13,Data!$A$2:$E$100,2,FALSE)","v":10.789999961853027},{"$f":"VLOOKUP($A13,Data!$A$2:$E$100,3,FALSE)","v":10.810000419616699},{"$f":"VLOOKUP($A13,Data!$A$2:$E$100,4,FALSE)","v":10.470000267028809},{"$f":"VLOOKUP($A13,Data!$A$2:$E$100,5,FALSE)","v":10.510000228881836},null,"Low",{"$f":"MIN(OFFSET(Data!D2,0,0,G10))","v":9.4099998474121094},null,"2",9.765625,"","2",3.125,"","2",9.765625,"","2",10.791015625,"",null,null,null,1.5625,0.390625,{"$f":"Z12","v":1.5625},"X","X",null,"7",{"$f":"AF14+1/8*(AF$12-AF$20)","v":12.109375},{"$f":"IF(AND($H$11>=AF13,$H$11<=AF12),$H$11,\"\")","v":""},"7",{"$f":"AI14+1/8*(AI$12-AI$20)","v":10.7421875},{"$f":"IF(AND($H$11>=AI13,$H$11<=AI12),$H$11,\"\")","v":10.899999618530272},5,0.390625,null,null,"2020-10-16",{"$error":"#N/A"},{"$error":"#N/A"},{"$error":"#N/A"},{"$error":"#N/A"},{"$error":"#N/A"},{"$error":"#N/A"},{"$error":"#N/A"},{"$error":"#N/A"},{"$error":"#N/A"},{"$error":"#N/A"},{"$error":"#N/A"},{"$error":"#N/A"},{"$error":"#N/A"},0,1,0.33333333333333331,0.66666666666666663,{"$error":"#N/A"},{"$error":"#N/A"},{"$error":"#N/A"},{"$error":"#N/A"},{"$error":"#N/A"},{"$error":"#N/A"},{"$error":"#N/A"},{"$error":"#N/A"},{"$error":"#N/A"},{"$error":"#N/A"},{"$error":"#N/A"},{"$error":"#N/A"},{"$error":"#N/A"},{"$error":"#N/A"},{"$error":"#N/A"},{"$error":"#N/A"},{"$error":"#N/A"},{"$error":"#N/A"},{"$error":"#N/A"},{"$error":"#N/A"},{"$error":"#N/A"},{"$error":"#N/A"},{"$error":"#N/A"},{"$error":"#N/A"},{"$error":"#N/A"},{"$error":"#N/A"},{"$error":"#N/A"},{"$error":"#N/A"},{"$error":"#N/A"},{"$error":"#N/A"},{"$error":"#N/A"},{"$error":"#N/A"},{"$error":"#N/A"},{"$error":"#N/A"},{"$error":"#N/A"},{"$error":"#N/A"},{"$error":"#N/A"},{"$error":"#N/A"},{"$error":"#N/A"},{"$error":"#N/A"},{"$error":"#N/A"},{"$error":"#N/A"},{"$error":"#N/A"},{"$error":"#N/A"},{"$error":"#N/A"},{"$error":"#N/A"},{"$error":"#N/A"},{"$error":"#N/A"},{"$error":"#N/A"},{"$error":"#N/A"},{"$error":"#N/A"},{"$error":"#N/A"},{"$error":"#N/A"},{"$error":"#N/A"},{"$error":"#N/A"},{"$error":"#N/A"},{"$error":"#N/A"},{"$error":"#N/A"},{"$error":"#N/A"},{"$error":"#N/A"},{"$error":"#N/A"},{"$error":"#N/A"},{"$error":"#N/A"},{"$error":"#N/A"},{"$error":"#N/A"},{"$error":"#N/A"},{"$error":"#N/A"},{"$error":"#N/A"},{"$error":"#N/A"},{"$error":"#N/A"},{"$error":"#N/A"},{"$error":"#N/A"},{"$error":"#N/A"},{"$error":"#N/A"},{"$error":"#N/A"},{"$error":"#N/A"},{"$error":"#N/A"},{"$error":"#N/A"},{"$error":"#N/A"},{"$error":"#N/A"},{"$error":"#N/A"},{"$error":"#N/A"},{"$error":"#N/A"},{"$error":"#N/A"},{"$error":"#N/A"},{"$error":"#N/A"},{"$error":"#N/A"},{"$error":"#N/A"}]
["2020-10-19",{"$f":"VLOOKUP($A14,Data!$A$2:$E$100,2,FALSE)","v":10.670000076293944},{"$f":"VLOOKUP($A14,Data!$A$2:$E$100,3,FALSE)","v":10.819999694824221},{"$f":"VLOOKUP($A14,Data!$A$2:$E$100,4,FALSE)","v":10.319999694824221},{"$f":"VLOOKUP($A14,Data!$A$2:$E$100,5,FALSE)","v":10.350000381469728},null,0.33333333333333331,{"$f":"(K7-K15)/3+K15","v":9.8958333333333339},null,"1",9.5703125,"","1",1.5625,"","1",9.5703125,"","1",10.7666015625,"",null,true,null,{"$f":"Z13","v":0.390625},0,0.1953125,"X","X",null,"6",11.71875,"","6",10.546875,"",6,0.1953125,null,null,"2020-10-19",{"$error":"#N/A"},{"$error":"#N/A"},{"$error":"#N/A"},{"$error":"#N/A"},{"$error":"#N/A"},{"$error":"#N/A"},{"$error":"#N/A"},{"$error":"#N/A"},{"$error":"#N/A"},{"$error":"#N/A"},{"$error":"#N/A"},{"$error":"#N/A"},1,0,1,0.33333333333333331,0.66666666666666663,{"$error":"#N/A"},{"$error":"#N/A"},{"$error":"#N/A"},{"$error":"#N/A"},{"$error":"#N/A"},{"$error":"#N/A"},{"$error":"#N/A"},{"$error":"#N/A"},{"$error":"#N/A"},{"$error":"#N/A"},{"$error":"#N/A"},{"$error":"#N/A"},{"$error":"#N/A"},{"$error":"#N/A"},{"$error":"#N/A"},{"$error":"#N/A"},{"$error":"#N/A"},{"$error":"#N/A"},{"$error":"#N/A"},{"$error":"#N/A"},{"$error":"#N/A"},{"$error":"#N/A"},{"$error":"#N/A"},{"$error":"#N/A"},{"$error":"#N/A"},{"$error":"#N/A"},{"$error":"#N/A"},{"$error":"#N/A"},{"$error":"#N/A"},{"$error":"#N/A"},{"$error":"#N/A"},{"$error":"#N/A"},{"$error":"#N/A"},{"$error":"#N/A"},{"$error":"#N/A"},{"$error":"#N/A"},{"$error":"#N/A"},{"$error":"#N/A"},{"$error":"#N/A"},{"$error":"#N/A"},{"$error":"#N/A"},{"$error":"#N/A"},{"$error":"#N/A"},{"$error":"#N/A"},{"$error":"#N/A"},{"$error":"#N/A"},{"$error":"#N/A"},{"$error":"#N/A"},{"$error":"#N/A"},{"$error":"#N/A"},{"$error":"#N/A"},{"$error":"#N/A"},{"$error":"#N/A"},{"$error":"#N/A"},{"$error":"#N/A"},{"$error":"#N/A"},{"$error":"#N/A"},{"$error":"#N/A"},{"$error":"#N/A"},{"$error":"#N/A"},{"$error":"#N/A"},{"$error":"#N/A"},0,{"$error":"#N/A"},{"$error":"#N/A"},{"$error":"#N/A"},{"$error":"#N/A"},{"$error":"#N/A"},{"$error":"#N/A"},{"$error":"#N/A"},1,{"$error":"#N/A"},{"$error":"#N/A"},{"$error":"#N/A"},{"$error":"#N/A"},{"$error":"#N/A"},{"$error":"#N/A"},{"$error":"#N/A"},{"$error":"#N/A"},{"$error":"#N/A"},{"$error":"#N/A"},{"$error":"#N/A"},{"$error":"#N/A"},{"$error":"#N/A"},{"$error":"#N/A"},{"$error":"#N/A"},{"$error":"#N/A"},{"$error":"#N/A"}]
["2020-10-20",{"$f":"VLOOKUP($A15,Data!$A$2:$E$100,2,FALSE)","v":10.449999809265137},{"$f":"VLOOKUP($A15,Data!$A$2:$E$100,3,FALSE)","v":10.939999580383301},{"$f":"VLOOKUP($A15,Data!$A$2:$E$100,4,FALSE)","v":10.430000305175779},{"$f":"VLOOKUP($A15,Data!$A$2:$E$100,5,FALSE)","v":10.829999923706056},null,"wants to reverse off",null,null,{"$f":"($AI$20-$AF$20)/$AF$21&\"/8\"","v":"0/8"},{"$f":"SUM(AH29:AH39)","v":9.375},"",{"$f":"N15/H7&\"/8\"","v":"0/8"},0,"",{"$f":"Q15/H7&\"/8\"","v":"6/8"},{"$f":"(TRUNC(H11/(G5/8))*(G5/8))","v":9.375},"",{"$f":"(T15-TRUNC($H$11/($G$5/8))*($G$5/8))/$H$8&\"/8\"","v":"7/8"},{"$f":"(TRUNC(H11/(G5/64))*(G5/64))+(O18*(H8/2))","v":10.7421875},"",null,null,null,null,null,null,{"$f":"MAX(AB5:AB14)","v":12.5},{"$f":"MAX(AC5:AC14)","v":12.5},{"$f":"Z30","v":11.265000343322754},"5",11.328125,"","5",10.3515625,"",7,9.765625E-2,null,null,"2020-10-20",{"$error":"#N/A"},{"$error":"#N/A"},{"$error":"#N/A"},{"$error":"#N/A"},{"$error":"#N/A"},{"$error":"#N/A"},{"$error":"#N/A"},{"$error":"#N/A"},{"$error":"#N/A"},{"$error":"#N/A"},{"$error":"#N/A"},{"$error":"#N/A"},{"$error":"#N/A"},0,1,0.33333333333333331,0.66666666666666663,{"$error":"#N/A"},{"$error":"#N/A"},{"$error":"#N/A"},{"$error":"#N/A"},{"$error":"#N/A"},{"$error":"#N/A"},{"$error":"#N/A"},{"$error":"#N/A"},{"$error":"#N/A"},{"$error":"#N/A"},{"$error":"#N/A"},{"$error":"#N/A"},{"$error":"#N/A"},{"$error":"#N/A"},{"$error":"#N/A"},{"$error":"#N/A"},{"$error":"#N/A"},{"$error":"#N/A"},{"$error":"#N/A"},{"$error":"#N/A"},{"$error":"#N/A"},{"$error":"#N/A"},{"$error":"#N/A"},{"$error":"#N/A"},{"$error":"#N/A"},{"$error":"#N/A"},{"$error":"#N/A"},{"$error":"#N/A"},{"$error":"#N/A"},{"$error":"#N/A"},{"$error":"#N/A"},{"$error":"#N/A"},{"$error":"#N/A"},{"$error":"#N/A"},{"$error":"#N/A"},{"$error":"#N/A"},{"$error":"#N/A"},{"$error":"#N/A"},{"$error":"#N/A"},{"$error":"#N/A"},{"$error":"#N/A"},{"$error":"#N/A"},{"$error":"#N/A"},{"$error":"#N/A"},{"$error":"#N/A"},{"$error":"#N/A"},{"$error":"#N/A"},{"$error":"#N/A"},{"$error":"#N/A"},{"$error":"#N/A"},{"$error":"#N/A"},{"$error":"#N/A"},{"$error":"#N/A"},{"$error":"#N/A"},{"$error":"#N/A"},{"$error":"#N/A"},{"$error":"#N/A"},{"$error":"#N/A"},{"$error":"#N/A"},{"$error":"#N/A"},{"$error":"#N/A"},{"$error":"#N/A"},{"$error":"#N/A"},{"$error":"#N/A"},{"$error":"#N/A"},{"$error":"#N/A"},{"$error":"#N/A"},{"$error":"#N/A"},{"$error":"#N/A"},{"$error":"#N/A"},{"$error":"#N/A"},{"$error":"#N/A"},{"$error":"#N/A"},{"$error":"#N/A"},{"$error":"#N/A"},{"$error":"#N/A"},{"$error":"#N/A"},{"$error":"#N/A"},{"$error":"#N/A"},{"$error":"#N/A"},{"$error":"#N/A"},{"$error":"#N/A"},{"$error":"#N/A"},{"$error":"#N/A"},{"$error":"#N/A"},{"$error":"#N/A"},{"$error":"#N/A"},{"$error":"#N/A"}]
["2020-10-21",{"$f":"VLOOKUP($A16,Data!$A$2:$E$100,2,FALSE)","v":11.029999732971191},{"$f":"VLOOKUP($A16,Data!$A$2:$E$100,3,FALSE)","v":11.265000343322754},{"$f":"VLOOKUP($A16,Data!$A$2:$E$100,4,FALSE)","v":10.885000228881836},{"$f":"VLOOKUP($A16,Data!$A$2:$E$100,5,FALSE)","v":11.119999885559082},null,{"$f":"G5/128","v":9.765625E-2},null,null,null,{"$f":"K14-K15","v":0.1953125},null,null,{"$f":"H7","v":1.5625},null,null,{"$f":"H8","v":0.1953125},null,null,{"$f":"H9","v":2.44140625E-2},null,null,null,null,null,null,null,null,null,"HI/LO","4",10.9375,"","4",10.15625,"",8,4.8828125E-2,null,null,"2020-10-21",-0.25,-0.25,0.25,0.25,0.75,0.75,1.25,1.25,{"$error":"#N/A"},{"$error":"#N/A"},{"$error":"#N/A"},1.125,1,0,1,0.33333333333333331,0.66666666666666663,{"$error":"#N/A"},{"$error":"#N/A"},{"$error":"#N/A"},{"$error":"#N/A"},{"$error":"#N/A"},{"$error":"#N/A"},{"$error":"#N/A"},{"$error":"#N/A"},{"$error":"#N/A"},{"$error":"#N/A"},{"$error":"#N/A"},{"$error":"#N/A"},{"$error":"#N/A"},{"$error":"#N/A"},{"$error":"#N/A"},{"$error":"#N/A"},0,{"$error":"#N/A"},{"$error":"#N/A"},{"$error":"#N/A"},{"$error":"#N/A"},{"$error":"#N/A"},{"$error":"#N/A"},{"$error":"#N/A"},{"$error":"#N/A"},{"$error":"#N/A"},{"$error":"#N/A"},{"$error":"#N/A"},{"$error":"#N/A"},{"$error":"#N/A"},{"$error":"#N/A"},{"$error":"#N/A"},{"$error":"#N/A"},{"$error":"#N/A"},{"$error":"#N/A"},{"$error":"#N/A"},{"$error":"#N/A"},{"$error":"#N/A"},{"$error":"#N/A"},{"$error":"#N/A"},{"$error":"#N/A"},{"$error":"#N/A"},{"$error":"#N/A"},{"$error":"#N/A"},{"$error":"#N/A"},{"$error":"#N/A"},{"$error":"#N/A"},{"$error":"#N/A"},{"$error":"#N/A"},{"$error":"#N/A"},{"$error":"#N/A"},{"$error":"#N/A"},{"$error":"#N/A"},{"$error":"#N/A"},{"$error":"#N/A"},{"$error":"#N/A"},{"$error":"#N/A"},{"$error":"#N/A"},{"$error":"#N/A"},{"$error":"#N/A"},{"$error":"#N/A"},{"$error":"#N/A"},{"$error":"#N/A"},0,{"$error":"#N/A"},{"$error":"#N/A"},{"$error":"#N/A"},{"$error":"#N/A"},{"$error":"#N/A"},{"$error":"#N/A"},{"$error":"#N/A"},1,{"$error":"#N/A"},{"$error":"#N/A"},{"$error":"#N/A"},{"$error":"#N/A"},{"$error":"#N/A"},{"$error":"#N/A"},{"$error":"#N/A"},{"$error":"#N/A"},{"$error":"#N/A"},{"$error":"#N/A"},{"$error":"#N/A"},{"$error":"#N/A"},{"$error":"#N/A"},{"$error":"#N/A"},{"$error":"#N/A"},{"$error":"#N/A"}]
["2020-10-22",{"$f":"VLOOKUP($A17,Data!$A$2:$E$100,2,FALSE)","v":10.899999618530272},{"$f":"VLOOKUP($A17,Data!$A$2:$E$100,3,FALSE)","v":10.960000038146973},{"$f":"VLOOKUP($A17,Data!$A$2:$E$100,4,FALSE)","v":10.649999618530272},{"$f":"VLOOKUP($A17,Data!$A$2:$E$100,5,FALSE)","v":10.930000305175779},null,0.66666666666666663,{"$f":"2*(K7-K15)/3+K15","v":10.416666666666666},null,"-1",{"$f":"K15-1/8*(K$7-K$15)","v":9.1796875},{"$f":"IF(AND($H$11>=K17,$H$11<=K15),$H$11,\"\")","v":""},"-1",{"$f":"N15-1/8*(N$7-N$15)","v":-1.5625},"±1, 2, or 3","-1",{"$f":"Q15-1/8*(Q$7-Q$15)","v":9.1796875},{"$f":"IF(AND($H$11>=Q17,$H$11<=Q15),$H$11,\"\")","v":""},"-1",{"$f":"T15-1/8*(T$7-T$15)","v":10.7177734375},{"$f":"IF(AND($H$11>=T17,$H$11<=T15),$H$11,\"\")","v":""},null,false,null,null,null,null,null,null,{"$f":"Z31","v":9.4099998474121094},"3",10.546875,10.899999618530272,"3",9.9609375,"",9,2.44140625E-2,null,null,"2020-10-22",{"$error":"#N/A"},{"$error":"#N/A"},{"$error":"#N/A"},{"$error":"#N/A"},{"$error":"#N/A"},{"$error":"#N/A"},{"$error":"#N/A"},{"$error":"#N/A"},{"$error":"#N/A"},{"$error":"#N/A"},{"$error":"#N/A"},{"$error":"#N/A"},{"$error":"#N/A"},0,1,0.33333333333333331,0.66666666666666663,{"$error":"#N/A"},{"$error":"#N/A"},{"$error":"#N/A"},{"$error":"#N/A"},{"$error":"#N/A"},{"$error":"#N/A"},{"$error":"#N/A"},{"$error":"#N/A"},{"$error":"#N/A"},{"$error":"#N/A"},{"$error":"#N/A"},{"$error":"#N/A"},{"$error":"#N/A"},{"$error":"#N/A"},{"$error":"#N/A"},{"$error":"#N/A"},{"$error":"#N/A"},{"$error":"#N/A"},{"$error":"#N/A"},{"$error":"#N/A"},{"$error":"#N/A"},{"$error":"#N/A"},{"$error":"#N/A"},{"$error":"#N/A"},{"$error":"#N/A"},{"$error":"#N/A"},{"$error":"#N/A"},{"$error":"#N/A"},{"$error":"#N/A"},{"$error":"#N/A"},{"$error":"#N/A"},{"$error":"#N/A"},{"$error":"#N/A"},{"$error":"#N/A"},{"$error":"#N/A"},{"$error":"#N/A"},{"$error":"#N/A"},{"$error":"#N/A"},{"$error":"#N/A"},{"$error":"#N/A"},{"$error":"#N/A"},{"$error":"#N/A"},{"$error":"#N/A"},{"$error":"#N/A"},{"$error":"#N/A"},{"$error":"#N/A"},{"$error":"#N/A"},{"$error":"#N/A"},{"$error":"#N/A"},{"$error":"#N/A"},{"$error":"#N/A"},{"$error":"#N/A"},{"$error":"#N/A"},{"$error":"#N/A"},{"$error":"#N/A"},{"$error":"#N/A"},{"$error":"#N/A"},{"$error":"#N/A"},{"$error":"#N/A"},{"$error":"#N/A"},{"$error":"#N/A"},{"$error":"#N/A"},{"$error":"#N/A"},{"$error":"#N/A"},{"$error":"#N/A"},{"$error":"#N/A"},{"$error":"#N/A"},{"$error":"#N/A"},{"$error":"#N/A"},{"$error":"#N/A"},{"$error":"#N/A"},{"$error":"#N/A"},{"$error":"#N/A"},{"$error":"#N/A"},{"$error":"#N/A"},{"$error":"#N/A"},{"$error":"#N/A"},{"$error":"#N/A"},{"$error":"#N/A"},{"$error":"#N/A"},{"$error":"#N/A"},{"$error":"#N/A"},{"$error":"#N/A"},{"$error":"#N/A"},{"$error":"#N/A"},{"$error":"#N/A"},{"$error":"#N/A"},{"$error":"#N/A"}]
["2020-10-23",{"$f":"VLOOKUP($A18,Data!$A$2:$E$100,2,FALSE)","v":10.869999885559082},{"$f":"VLOOKUP($A18,Data!$A$2:$E$100,3,FALSE)","v":11.020000457763672},{"$f":"VLOOKUP($A18,Data!$A$2:$E$100,4,FALSE)","v":10.770000457763672},{"$f":"VLOOKUP($A18,Data!$A$2:$E$100,5,FALSE)","v":10.979999542236328},null,16,"bar",null,"-2",{"$f":"K17-1/8*(K$7-K$15)","v":8.984375},{"$f":"IF(AND($H$11>=K18,$H$11<=K17),$H$11,\"\")","v":""},"-2",{"$f":"N17-1/8*(N$7-N$15)","v":-3.125},0,"-2",{"$f":"Q17-1/8*(Q$7-Q$15)","v":8.984375},{"$f":"IF(AND($H$11>=Q18,$H$11<=Q17),$H$11,\"\")","v":""},"-2",{"$f":"T17-1/8*(T$7-T$15)","v":10.693359375},{"$f":"IF(AND($H$11>=T18,$H$11<=T17),$H$11,\"\")","v":""},null,null,null,null,null,null,null,null,null,"2",10.15625,"","2",9.765625,"",10,1.220703125E-2,null,null,"2020-10-23",{"$error":"#N/A"},{"$error":"#N/A"},{"$error":"#N/A"},{"$error":"#N/A"},{"$error":"#N/A"},{"$error":"#N/A"},{"$error":"#N/A"},{"$error":"#N/A"},{"$error":"#N/A"},{"$error":"#N/A"},{"$error":"#N/A"},{"$error":"#N/A"},1,0,1,0.33333333333333331,0.66666666666666663,{"$error":"#N/A"},{"$error":"#N/A"},{"$error":"#N/A"},{"$error":"#N/A"},{"$error":"#N/A"},{"$error":"#N/A"},{"$error":"#N/A"},{"$error":"#N/A"},{"$error":"#N/A"},{"$error":"#N/A"},{"$error":"#N/A"},{"$error":"#N/A"},{"$error":"#N/A"},{"$error":"#N/A"},{"$error":"#N/A"},{"$error":"#N/A"},{"$error":"#N/A"},{"$error":"#N/A"},{"$error":"#N/A"},{"$error":"#N/A"},{"$error":"#N/A"},{"$error":"#N/A"},{"$error":"#N/A"},{"$error":"#N/A"},{"$error":"#N/A"},{"$error":"#N/A"},{"$error":"#N/A"},{"$error":"#N/A"},{"$error":"#N/A"},{"$error":"#N/A"},{"$error":"#N/A"},{"$error":"#N/A"},{"$error":"#N/A"},{"$error":"#N/A"},{"$error":"#N/A"},{"$error":"#N/A"},{"$error":"#N/A"},{"$error":"#N/A"},{"$error":"#N/A"},{"$error":"#N/A"},{"$error":"#N/A"},{"$error":"#N/A"},{"$error":"#N/A"},{"$error":"#N/A"},{"$error":"#N/A"},{"$error":"#N/A"},{"$error":"#N/A"},{"$error":"#N/A"},{"$error":"#N/A"},{"$error":"#N/A"},{"$error":"#N/A"},{"$error":"#N/A"},{"$error":"#N/A"},{"$error":"#N/A"},{"$error":"#N/A"},{"$error":"#N/A"},{"$error":"#N/A"},{"$error":"#N/A"},{"$error":"#N/A"},{"$error":"#N/A"},{"$error":"#N/A"},{"$error":"#N/A"},{"$error":"#N/A"},{"$error":"#N/A"},0,{"$error":"#N/A"},{"$error":"#N/A"},{"$error":"#N/A"},{"$error":"#N/A"},{"$error":"#N/A"},{"$error":"#N/A"},{"$error":"#N/A"},1,{"$error":"#N/A"},{"$error":"#N/A"},{"$error":"#N/A"},{"$error":"#N/A"},{"$error":"#N/A"},{"$error":"#N/A"},{"$error":"#N/A"},{"$error":"#N/A"},{"$error":"#N/A"},{"$error":"#N/A"},{"$error":"#N/A"},{"$error":"#N/A"},{"$error":"#N/A"},{"$error":"#N/A"},{"$error":"#N/A"}]
["2020-10-26",{"$f":"VLOOKUP($A19,Data!$A$2:$E$100,2,FALSE)","v":10.810000419616699},{"$f":"VLOOKUP($A19,Data!$A$2:$E$100,3,FALSE)","v":11.050000190734863},{"$f":"VLOOKUP($A19,Data!$A$2:$E$100,4,FALSE)","v":10.579999923706056},{"$f":"VLOOKUP($A19,Data!$A$2:$E$100,5,FALSE)","v":10.609999656677246},null,"min date",{"$f":"+H21","v":"2020-10-05"},null,null,null,null,null,null,null,null,null,null,null,null,null,null,null,null,null,null,null,null,null,null,"1",9.765625,"","1",9.5703125,"",11,6.103515625E-3,null,null,"2020-10-26",{"$error":"#N/A"},{"$error":"#N/A"},{"$error":"#N/A"},{"$error":"#N/A"},{"$error":"#N/A"},{"$error":"#N/A"},{"$error":"#N/A"},{"$error":"#N/A"},{"$error":"#N/A"},{"$error":"#N/A"},{"$error":"#N/A"},{"$error":"#N/A"},{"$error":"#N/A"},0,1,0.33333333333333331,0.66666666666666663,{"$error":"#N/A"},{"$error":"#N/A"},{"$error":"#N/A"},{"$error":"#N/A"},{"$error":"#N/A"},{"$error":"#N/A"},{"$error":"#N/A"},{"$error":"#N/A"},{"$error":"#N/A"},{"$error":"#N/A"},{"$error":"#N/A"},{"$error":"#N/A"},{"$error":"#N/A"},{"$error":"#N/A"},{"$error":"#N/A"},{"$error":"#N/A"},{"$error":"#N/A"},{"$error":"#N/A"},{"$error":"#N/A"},{"$error":"#N/A"},{"$error":"#N/A"},{"$error":"#N/A"},{"$error":"#N/A"},{"$error":"#N/A"},{"$error":"#N/A"},{"$error":"#N/A"},{"$error":"#N/A"},{"$error":"#N/A"},{"$error":"#N/A"},{"$error":"#N/A"},{"$error":"#N/A"},{"$error":"#N/A"},{"$error":"#N/A"},{"$error":"#N/A"},{"$error":"#N/A"},{"$error":"#N/A"},{"$error":"#N/A"},{"$error":"#N/A"},{"$error":"#N/A"},{"$error":"#N/A"},{"$error":"#N/A"},{"$error":"#N/A"},{"$error":"#N/A"},{"$error":"#N/A"},{"$error":"#N/A"},{"$error":"#N/A"},{"$error":"#N/A"},{"$error":"#N/A"},{"$error":"#N/A"},{"$error":"#N/A"},{"$error":"#N/A"},{"$error":"#N/A"},{"$error":"#N/A"},{"$error":"#N/A"},{"$error":"#N/A"},{"$error":"#N/A"},{"$error":"#N/A"},{"$error":"#N/A"},{"$error":"#N/A"},{"$error":"#N/A"},{"$error":"#N/A"},{"$error":"#N/A"},{"$error":"#N/A"},{"$error":"#N/A"},{"$error":"#N/A"},{"$error":"#N/A"},{"$error":"#N/A"},{"$error":"#N/A"},{"$error":"#N/A"},{"$error":"#N/A"},{"$error":"#N/A"},{"$error":"#N/A"},{"$error":"#N/A"},{"$error":"#N/A"},{"$error":"#N/A"},{"$error":"#N/A"},{"$error":"#N/A"},{"$error":"#N/A"},{"$error":"#N/A"},{"$error":"#N/A"},{"$error":"#N/A"},{"$error":"#N/A"},{"$error":"#N/A"},{"$error":"#N/A"},{"$error":"#N/A"},{"$error":"#N/A"},{"$error":"#N/A"},{"$error":"#N/A"}]
["2020-10-27",{"$f":"VLOOKUP($A20,Data!$A$2:$E$100,2,FALSE)","v":10.609999656677246},{"$f":"VLOOKUP($A20,Data!$A$2:$E$100,3,FALSE)","v":10.920000076293944},{"$f":"VLOOKUP($A20,Data!$A$2:$E$100,4,FALSE)","v":10.5},{"$f":"VLOOKUP($A20,Data!$A$2:$E$100,5,FALSE)","v":10.899999618530272},null,"Curr date",{"$f":"+Data!A2","v":"2020-10-27"},null,null,null,null,null,null,null,null,null,null,null,null,null,null,true,null,null,null,null,null,null,null,"MIN 0/8",{"$f":"Z36","v":9.375},"",{"$f":"($AI$20-$AF$20)/$AF$21&\"/8\"","v":"0/8"},{"$f":"SUM(AH29:AH39)","v":9.375},"",12,3.0517578125E-3,null,null,"2020-10-27",{"$error":"#N/A"},{"$error":"#N/A"},{"$error":"#N/A"},{"$error":"#N/A"},{"$error":"#N/A"},{"$error":"#N/A"},{"$error":"#N/A"},{"$error":"#N/A"},{"$error":"#N/A"},{"$error":"#N/A"},1.25,1.125,1,0,1,0.33333333333333331,0.66666666666666663,{"$error":"#N/A"},{"$error":"#N/A"},{"$error":"#N/A"},{"$error":"#N/A"},{"$error":"#N/A"},{"$error":"#N/A"},{"$error":"#N/A"},{"$error":"#N/A"},{"$error":"#N/A"},{"$error":"#N/A"},{"$error":"#N/A"},{"$error":"#N/A"},{"$error":"#N/A"},{"$error":"#N/A"},{"$error":"#N/A"},{"$error":"#N/A"},{"$error":"#N/A"},0,0.25,0.5,0.75,1,1,1,1,1,1,1,{"$error":"#N/A"},{"$error":"#N/A"},{"$error":"#N/A"},{"$error":"#N/A"},{"$error":"#N/A"},{"$error":"#N/A"},{"$error":"#N/A"},{"$error":"#N/A"},{"$error":"#N/A"},{"$error":"#N/A"},{"$error":"#N/A"},{"$error":"#N/A"},{"$error":"#N/A"},{"$error":"#N/A"},{"$error":"#N/A"},{"$error":"#N/A"},{"$error":"#N/A"},{"$error":"#N/A"},{"$error":"#N/A"},{"$error":"#N/A"},{"$error":"#N/A"},{"$error":"#N/A"},{"$error":"#N/A"},{"$error":"#N/A"},{"$error":"#N/A"},{"$error":"#N/A"},{"$error":"#N/A"},{"$error":"#N/A"},{"$error":"#N/A"},{"$error":"#N/A"},{"$error":"#N/A"},{"$error":"#N/A"},{"$error":"#N/A"},{"$error":"#N/A"},{"$error":"#N/A"},{"$error":"#N/A"},{"$error":"#N/A"},0,0.125,0.25,0.375,0.5,0.625,0.75,0.875,0.125,0.25,0.375,0.5,0.625,0.75,0.875,1,{"$error":"#N/A"},{"$error":"#N/A"},{"$error":"#N/A"},{"$error":"#N/A"},{"$error":"#N/A"},{"$error":"#N/A"},{"$error":"#N/A"}]
["2020-10-28",{"$f":"VLOOKUP($A21,Data!$A$2:$E$100,2,FALSE)","v":{"$error":"#N/A"}},{"$f":"VLOOKUP($A21,Data!$A$2:$E$100,3,FALSE)","v":{"$error":"#N/A"}},{"$f":"VLOOKUP($A21,Data!$A$2:$E$100,4,FALSE)","v":{"$error":"#N/A"}},{"$f":"VLOOKUP($A21,Data!$A$2:$E$100,5,FALSE)","v":{"$error":"#N/A"}},null,"1st Square",{"$f":"INDEX(L44:L64,MATCH(+Data!A2,L44:L64,1)-1)","v":"2020-10-05"},null,null,null,null,null,null,null,null,null,null,null,null,null,null,null,null,null,null,null,null,null,null,null,{"$f":"AF19-AF20","v":0.390625},null,null,{"$f":"AI19-AI20","v":0.1953125},null,13,1.52587890625E-3,null,null,"2020-10-28",{"$error":"#N/A"},{"$error":"#N/A"},{"$error":"#N/A"},{"$error":"#N/A"},{"$error":"#N/A"},{"$error":"#N/A"},{"$error":"#N/A"},{"$error":"#N/A"},{"$error":"#N/A"},{"$error":"#N/A"},{"$error":"#N/A"},{"$error":"#N/A"},{"$error":"#N/A"},0,1,0.33333333333333331,0.66666666666666663,{"$error":"#N/A"},{"$error":"#N/A"},{"$error":"#N/A"},{"$error":"#N/A"},{"$error":"#N/A"},{"$error":"#N/A"},{"$error":"#N/A"},{"$error":"#N/A"},{"$error":"#N/A"},{"$error":"#N/A"},{"$error":"#N/A"},{"$error":"#N/A"},{"$error":"#N/A"},{"$error":"#N/A"},{"$error":"#N/A"},{"$error":"#N/A"},{"$error":"#N/A"},{"$error":"#N/A"},{"$error":"#N/A"},{"$error":"#N/A"},{"$error":"#N/A"},{"$error":"#N/A"},{"$error":"#N/A"},{"$error":"#N/A"},{"$error":"#N/A"},{"$error":"#N/A"},{"$error":"#N/A"},{"$error":"#N/A"},{"$error":"#N/A"},{"$error":"#N/A"},{"$error":"#N/A"},{"$error":"#N/A"},{"$error":"#N/A"},{"$error":"#N/A"},{"$error":"#N/A"},{"$error":"#N/A"},{"$error":"#N/A"},{"$error":"#N/A"},{"$error":"#N/A"},{"$error":"#N/A"},{"$error":"#N/A"},{"$error":"#N/A"},{"$error":"#N/A"},{"$error":"#N/A"},{"$error":"#N/A"},{"$error":"#N/A"},{"$error":"#N/A"},{"$error":"#N/A"},{"$error":"#N/A"},{"$error":"#N/A"},{"$error":"#N/A"},{"$error":"#N/A"},{"$error":"#N/A"},{"$error":"#N/A"},{"$error":"#N/A"},{"$error":"#N/A"},{"$error":"#N/A"},{"$error":"#N/A"},{"$error":"#N/A"},{"$error":"#N/A"},{"$error":"#N/A"},{"$error":"#N/A"},{"$error":"#N/A"},{"$error":"#N/A"},{"$error":"#N/A"},{"$error":"#N/A"},{"$error":"#N/A"},{"$error":"#N/A"},{"$error":"#N/A"},{"$error":"#N/A"},{"$error":"#N/A"},{"$error":"#N/A"},{"$error":"#N/A"},{"$error":"#N/A"},{"$error":"#N/A"},{"$error":"#N/A"},{"$error":"#N/A"},{"$error":"#N/A"},{"$error":"#N/A"},{"$error":"#N/A"},{"$error":"#N/A"},{"$error":"#N/A"},{"$error":"#N/A"},{"$error":"#N/A"},{"$error":"#N/A"},{"$error":"#N/A"},{"$error":"#N/A"},{"$error":"#N/A"}]
["2020-10-29",{"$f":"VLOOKUP($A22,Data!$A$2:$E$100,2,FALSE)","v":{"$error":"#N/A"}},{"$f":"VLOOKUP($A22,Data!$A$2:$E$100,3,FALSE)","v":{"$error":"#N/A"}},{"$f":"VLOOKUP($A22,Data!$A$2:$E$100,4,FALSE)","v":{"$error":"#N/A"}},{"$f":"VLOOKUP($A22,Data!$A$2:$E$100,5,FALSE)","v":{"$error":"#N/A"}},null,"Middle",{"$f":"INDEX(L44:L64,MATCH(+Data!A2,L44:L64,1))","v":"2020-10-27"},null,null,null,null,null,null,null,null,null,null,null,null,null,null,null,null,null,null,null,null,null,null,"-1",{"$f":"AF20-1/8*(AF$12-AF$20)","v":8.984375},{"$f":"IF(AND($H$11>=AF22,$H$11<=AF20),$H$11,\"\")","v":""},"-1",{"$f":"AI20-1/8*(AI$12-AI$20)","v":9.1796875},{"$f":"IF(AND($H$11>=AI22,$H$11<=AI20),$H$11,\"\")","v":""},14,7.62939453125E-4,null,null,"2020-10-29",{"$error":"#N/A"},{"$error":"#N/A"},{"$error":"#N/A"},{"$error":"#N/A"},{"$error":"#N/A"},{"$error":"#N/A"},{"$error":"#N/A"},{"$error":"#N/A"},{"$error":"#N/A"},{"$error":"#N/A"},{"$error":"#N/A"},{"$error":"#N/A"},1,0,1,0.33333333333333331,0.66666666666666663,{"$error":"#N/A"},{"$error":"#N/A"},{"$error":"#N/A"},{"$error":"#N/A"},{"$error":"#N/A"},{"$error":"#N/A"},{"$error":"#N/A"},{"$error":"#N/A"},{"$error":"#N/A"},{"$error":"#N/A"},{"$error":"#N/A"},{"$error":"#N/A"},{"$error":"#N/A"},{"$error":"#N/A"},{"$error":"#N/A"},{"$error":"#N/A"},{"$error":"#N/A"},{"$error":"#N/A"},{"$error":"#N/A"},{"$error":"#N/A"},{"$error":"#N/A"},{"$error":"#N/A"},{"$error":"#N/A"},{"$error":"#N/A"},{"$error":"#N/A"},{"$error":"#N/A"},{"$error":"#N/A"},{"$error":"#N/A"},{"$error":"#N/A"},{"$error":"#N/A"},{"$error":"#N/A"},{"$error":"#N/A"},{"$error":"#N/A"},{"$error":"#N/A"},{"$error":"#N/A"},{"$error":"#N/A"},{"$error":"#N/A"},{"$error":"#N/A"},{"$error":"#N/A"},{"$error":"#N/A"},{"$error":"#N/A"},{"$error":"#N/A"},{"$error":"#N/A"},{"$error":"#N/A"},{"$error":"#N/A"},{"$error":"#N/A"},{"$error":"#N/A"},{"$error":"#N/A"},{"$error":"#N/A"},{"$error":"#N/A"},{"$error":"#N/A"},{"$error":"#N/A"},{"$error":"#N/A"},{"$error":"#N/A"},{"$error":"#N/A"},{"$error":"#N/A"},{"$error":"#N/A"},{"$error":"#N/A"},{"$error":"#N/A"},{"$error":"#N/A"},{"$error":"#N/A"},{"$error":"#N/A"},{"$error":"#N/A"},{"$error":"#N/A"},{"$error":"#N/A"},{"$error":"#N/A"},{"$error":"#N/A"},{"$error":"#N/A"},{"$error":"#N/A"},{"$error":"#N/A"},{"$error":"#N/A"},{"$error":"#N/A"},{"$error":"#N/A"},0,{"$error":"#N/A"},{"$error":"#N/A"},{"$error":"#N/A"},{"$error":"#N/A"},{"$error":"#N/A"},{"$error":"#N/A"},{"$error":"#N/A"},1,{"$error":"#N/A"},{"$error":"#N/A"},{"$error":"#N/A"},{"$error":"#N/A"},{"$error":"#N/A"},{"$error":"#N/A"}]
["2020-10-30",{"$f":"VLOOKUP($A23,Data!$A$2:$E$100,2,FALSE)","v":{"$error":"#N/A"}},{"$f":"VLOOKUP($A23,Data!$A$2:$E$100,3,FALSE)","v":{"$error":"#N/A"}},{"$f":"VLOOKUP($A23,Data!$A$2:$E$100,4,FALSE)","v":{"$error":"#N/A"}},{"$f":"VLOOKUP($A23,Data!$A$2:$E$100,5,FALSE)","v":{"$error":"#N/A"}},null,"2nd Square",{"$f":"IF(INDEX(L44:L64,MATCH(+Data!A2,L44:L64,1))=L63,WORKDAY(H22,G$18,$G$32:$G$71),INDEX(L44:L64,MATCH(+Data!A2,L44:L64,1)+1))","v":"2020-11-18"},null,null,null,null,null,null,null,null,null,null,null,null,null,null,null,null,null,null,null,null,null,null,"-2",{"$f":"AF22-1/8*(AF$12-AF$20)","v":8.59375},{"$f":"IF(AND($H$11>=AF23,$H$11<=AF22),$H$11,\"\")","v":""},"-2",{"$f":"AI22-1/8*(AI$12-AI$20)","v":8.984375},{"$f":"IF(AND($H$11>=AI23,$H$11<=AI22),$H$11,\"\")","v":""},15,3.814697265625E-4,null,null,"2020-10-30",{"$error":"#N/A"},{"$error":"#N/A"},{"$error":"#N/A"},{"$error":"#N/A"},{"$error":"#N/A"},{"$error":"#N/A"},{"$error":"#N/A"},{"$error":"#N/A"},{"$error":"#N/A"},{"$error":"#N/A"},{"$error":"#N/A"},{"$error":"#N/A"},{"$error":"#N/A"},0,1,0.33333333333333331,0.66666666666666663,{"$error":"#N/A"},{"$error":"#N/A"},{"$error":"#N/A"},{"$error":"#N/A"},{"$error":"#N/A"},{"$error":"#N/A"},{"$error":"#N/A"},{"$error":"#N/A"},{"$error":"#N/A"},{"$error":"#N/A"},{"$error":"#N/A"},{"$error":"#N/A"},{"$error":"#N/A"},{"$error":"#N/A"},{"$error":"#N/A"},{"$error":"#N/A"},{"$error":"#N/A"},{"$error":"#N/A"},{"$error":"#N/A"},{"$error":"#N/A"},{"$error":"#N/A"},{"$error":"#N/A"},{"$error":"#N/A"},{"$error":"#N/A"},{"$error":"#N/A"},{"$error":"#N/A"},{"$error":"#N/A"},{"$error":"#N/A"},{"$error":"#N/A"},{"$error":"#N/A"},{"$error":"#N/A"},{"$error":"#N/A"},{"$error":"#N/A"},{"$error":"#N/A"},{"$error":"#N/A"},{"$error":"#N/A"},{"$error":"#N/A"},{"$error":"#N/A"},{"$error":"#N/A"},{"$error":"#N/A"},{"$error":"#N/A"},{"$error":"#N/A"},{"$error":"#N/A"},{"$error":"#N/A"},{"$error":"#N/A"},{"$error":"#N/A"},{"$error":"#N/A"},{"$error":"#N/A"},{"$error":"#N/A"},{"$error":"#N/A"},{"$error":"#N/A"},{"$error":"#N/A"},{"$error":"#N/A"},{"$error":"#N/A"},{"$error":"#N/A"},{"$error":"#N/A"},{"$error":"#N/A"},{"$error":"#N/A"},{"$error":"#N/A"},{"$error":"#N/A"},{"$error":"#N/A"},{"$error":"#N/A"},{"$error":"#N/A"},{"$error":"#N/A"},{"$error":"#N/A"},{"$error":"#N/A"},{"$error":"#N/A"},{"$error":"#N/A"},{"$error":"#N/A"},{"$error":"#N/A"},{"$error":"#N/A"},{"$error":"#N/A"},{"$error":"#N/A"},{"$error":"#N/A"},{"$error":"#N/A"},{"$error":"#N/A"},{"$error":"#N/A"},{"$error":"#N/A"},{"$error":"#N/A"},{"$error":"#N/A"},{"$error":"#N/A"},{"$error":"#N/A"},{"$error":"#N/A"},{"$error":"#N/A"},{"$error":"#N/A"},{"$error":"#N/A"},{"$error":"#N/A"},{"$error":"#N/A"}]
["2020-11-02",{"$f":"VLOOKUP($A24,Data!$A$2:$E$100,2,FALSE)","v":{"$error":"#N/A"}},{"$f":"VLOOKUP($A24,Data!$A$2:$E$100,3,FALSE)","v":{"$error":"#N/A"}},{"$f":"VLOOKUP($A24,Data!$A$2:$E$100,4,FALSE)","v":{"$error":"#N/A"}},{"$f":"VLOOKUP($A24,Data!$A$2:$E$100,5,FALSE)","v":{"$error":"#N/A"}},null,null,null,null,null,null,null,null,null,null,null,null,null,null,null,null,null,null,null,null,null,null,null,null,null,null,null,null,null,null,null,16,1.9073486328125E-4,null,null,"2020-11-02",-0.25,-0.25,0.25,0.25,0.75,0.75,1.25,1.25,{"$f":"IF($W$11,IF(VLOOKUP($AO24,$T$72:$T$88,1,),4/8,NA()),NA())","v":{"$error":"#N/A"}},{"$error":"#N/A"},{"$error":"#N/A"},1.125,1,0,1,0.33333333333333331,0.66666666666666663,{"$error":"#N/A"},{"$error":"#N/A"},{"$error":"#N/A"},{"$error":"#N/A"},{"$error":"#N/A"},{"$error":"#N/A"},{"$error":"#N/A"},{"$error":"#N/A"},{"$error":"#N/A"},{"$error":"#N/A"},{"$error":"#N/A"},{"$error":"#N/A"},{"$error":"#N/A"},{"$error":"#N/A"},{"$error":"#N/A"},{"$error":"#N/A"},{"$error":"#N/A"},{"$error":"#N/A"},{"$error":"#N/A"},{"$error":"#N/A"},{"$error":"#N/A"},0,{"$error":"#N/A"},{"$error":"#N/A"},{"$error":"#N/A"},{"$error":"#N/A"},{"$error":"#N/A"},{"$error":"#N/A"},{"$error":"#N/A"},{"$error":"#N/A"},{"$error":"#N/A"},{"$error":"#N/A"},{"$error":"#N/A"},{"$error":"#N/A"},{"$error":"#N/A"},{"$error":"#N/A"},{"$error":"#N/A"},{"$error":"#N/A"},{"$error":"#N/A"},{"$error":"#N/A"},{"$error":"#N/A"},{"$error":"#N/A"},{"$error":"#N/A"},{"$error":"#N/A"},{"$error":"#N/A"},{"$error":"#N/A"},{"$error":"#N/A"},{"$error":"#N/A"},{"$error":"#N/A"},{"$error":"#N/A"},{"$error":"#N/A"},{"$error":"#N/A"},{"$error":"#N/A"},{"$error":"#N/A"},{"$error":"#N/A"},{"$error":"#N/A"},{"$error":"#N/A"},{"$error":"#N/A"},{"$error":"#N/A"},{"$error":"#N/A"},{"$error":"#N/A"},{"$error":"#N/A"},{"$error":"#N/A"},{"$error":"#N/A"},{"$error":"#N/A"},{"$error":"#N/A"},{"$error":"#N/A"},{"$error":"#N/A"},{"$error":"#N/A"},{"$error":"#N/A"},{"$error":"#N/A"},{"$error":"#N/A"},{"$error":"#N/A"},{"$error":"#N/A"},0,{"$error":"#N/A"},{"$error":"#N/A"},{"$error":"#N/A"},{"$error":"#N/A"},{"$error":"#N/A"},{"$error":"#N/A"},{"$error":"#N/A"},1,{"$error":"#N/A"},{"$error":"#N/A"},{"$error":"#N/A"},{"$error":"#N/A"},{"$error":"#N/A"}]
["2020-11-03",{"$f":"VLOOKUP($A25,Data!$A$2:$E$100,2,FALSE)","v":{"$error":"#N/A"}},{"$f":"VLOOKUP($A25,Data!$A$2:$E$100,3,FALSE)","v":{"$error":"#N/A"}},{"$f":"VLOOKUP($A25,Data!$A$2:$E$100,4,FALSE)","v":{"$error":"#N/A"}},{"$f":"VLOOKUP($A25,Data!$A$2:$E$100,5,FALSE)","v":{"$error":"#N/A"}},null,null,null,null,null,null,null,null,null,null,null,null,null,null,null,null,null,null,null,null,null,null,null,null,null,null,"Can You See It!...",null,null,null,null,null,null,null,null,"2020-11-03",{"$error":"#N/A"},{"$error":"#N/A"},{"$error":"#N/A"},{"$error":"#N/A"},{"$error":"#N/A"},{"$error":"#N/A"},{"$error":"#N/A"},{"$error":"#N/A"},{"$error":"#N/A"},{"$error":"#N/A"},{"$error":"#N/A"},{"$error":"#N/A"},{"$error":"#N/A"},0,1,0.33333333333333331,0.66666666666666663,{"$error":"#N/A"},{"$error":"#N/A"},{"$error":"#N/A"},{"$error":"#N/A"},{"$error":"#N/A"},{"$error":"#N/A"},{"$error":"#N/A"},{"$error":"#N/A"},{"$error":"#N/A"},{"$error":"#N/A"},{"$error":"#N/A"},{"$error":"#N/A"},{"$error":"#N/A"},{"$error":"#N/A"},{"$error":"#N/A"},{"$error":"#N/A"},{"$error":"#N/A"},{"$error":"#N/A"},{"$error":"#N/A"},{"$error":"#N/A"},{"$error":"#N/A"},{"$error":"#N/A"},{"$error":"#N/A"},{"$error":"#N/A"},{"$error":"#N/A"},{"$error":"#N/A"},{"$error":"#N/A"},{"$error":"#N/A"},{"$error":"#N/A"},{"$error":"#N/A"},{"$error":"#N/A"},{"$error":"#N/A"},{"$error":"#N/A"},{"$error":"#N/A"},{"$error":"#N/A"},{"$error":"#N/A"},{"$error":"#N/A"},{"$error":"#N/A"},{"$error":"#N/A"},{"$error":"#N/A"},{"$error":"#N/A"},{"$error":"#N/A"},{"$error":"#N/A"},{"$error":"#N/A"},{"$error":"#N/A"},{"$error":"#N/A"},{"$error":"#N/A"},{"$error":"#N/A"},{"$error":"#N/A"},{"$error":"#N/A"},{"$error":"#N/A"},{"$error":"#N/A"},{"$error":"#N/A"},{"$error":"#N/A"},{"$error":"#N/A"},{"$error":"#N/A"},{"$error":"#N/A"},{"$error":"#N/A"},{"$error":"#N/A"},{"$error":"#N/A"},{"$error":"#N/A"},{"$error":"#N/A"},{"$error":"#N/A"},{"$error":"#N/A"},{"$error":"#N/A"},{"$error":"#N/A"},{"$error":"#N/A"},{"$error":"#N/A"},{"$error":"#N/A"},{"$error":"#N/A"},{"$error":"#N/A"},{"$error":"#N/A"},{"$error":"#N/A"},{"$error":"#N/A"},{"$error":"#N/A"},{"$error":"#N/A"},{"$error":"#N/A"},{"$error":"#N/A"},{"$error":"#N/A"},{"$error":"#N/A"},{"$error":"#N/A"},{"$error":"#N/A"},{"$error":"#N/A"},{"$error":"#N/A"},{"$error":"#N/A"},{"$error":"#N/A"},{"$error":"#N/A"},{"$error":"#N/A"}]
["2020-11-04",{"$f":"VLOOKUP($A26,Data!$A$2:$E$100,2,FALSE)","v":{"$error":"#N/A"}},{"$f":"VLOOKUP($A26,Data!$A$2:$E$100,3,FALSE)","v":{"$error":"#N/A"}},{"$f":"VLOOKUP($A26,Data!$A$2:$E$100,4,FALSE)","v":{"$error":"#N/A"}},{"$f":"VLOOKUP($A26,Data!$A$2:$E$100,5,FALSE)","v":{"$error":"#N/A"}},0.25,{"$f":"INDEX($I$68:$I$85,MATCH($H$21,$I$68:$I$85,1)+1)","v":"2020-10-09"},{"$f":"INDEX($I$69:$I$85,MATCH($H$22,$I$69:$I$85,1)+1)","v":"2020-11-02"},0.125,{"$f":"INDEX($I$89:$I$106,MATCH($H$21,$I$89:$I$106,1)+1)","v":"2020-10-07"},{"$f":"INDEX($I$90:$I$106,MATCH($H$22,$I$90:$I$106,1)+1)","v":"2020-10-29"},0.875,{"$f":"INDEX($I$110:$I$127,MATCH($H$21,$I$110:$I$127,1)+1)","v":"2020-10-23"},{"$f":"INDEX($I$111:$I$127,MATCH($H$22,$I$111:$I$127,1)+1)","v":"2020-11-16"},null,null,null,null,null,null,null,null,null,null,null,null,null,null,null,null,null,null,null,null,null,null,null,null,null,null,"2020-11-04",{"$error":"#N/A"},{"$error":"#N/A"},{"$error":"#N/A"},{"$error":"#N/A"},{"$error":"#N/A"},{"$error":"#N/A"},{"$error":"#N/A"},{"$error":"#N/A"},{"$error":"#N/A"},{"$error":"#N/A"},{"$error":"#N/A"},{"$error":"#N/A"},1,0,1,0.33333333333333331,0.66666666666666663,{"$error":"#N/A"},{"$error":"#N/A"},{"$error":"#N/A"},{"$error":"#N/A"},{"$error":"#N/A"},{"$error":"#N/A"},{"$error":"#N/A"},{"$error":"#N/A"},{"$error":"#N/A"},{"$error":"#N/A"},{"$error":"#N/A"},{"$error":"#N/A"},{"$error":"#N/A"},{"$error":"#N/A"},{"$error":"#N/A"},{"$error":"#N/A"},{"$error":"#N/A"},{"$error":"#N/A"},{"$error":"#N/A"},{"$error":"#N/A"},{"$error":"#N/A"},{"$error":"#N/A"},{"$error":"#N/A"},{"$error":"#N/A"},{"$error":"#N/A"},{"$error":"#N/A"},{"$error":"#N/A"},{"$error":"#N/A"},{"$error":"#N/A"},{"$error":"#N/A"},{"$error":"#N/A"},{"$error":"#N/A"},{"$error":"#N/A"},{"$error":"#N/A"},{"$error":"#N/A"},{"$error":"#N/A"},{"$error":"#N/A"},{"$error":"#N/A"},{"$error":"#N/A"},{"$error":"#N/A"},{"$error":"#N/A"},{"$error":"#N/A"},{"$error":"#N/A"},{"$error":"#N/A"},{"$error":"#N/A"},{"$error":"#N/A"},{"$error":"#N/A"},{"$error":"#N/A"},{"$error":"#N/A"},{"$error":"#N/A"},{"$error":"#N/A"},{"$error":"#N/A"},{"$error":"#N/A"},{"$error":"#N/A"},{"$error":"#N/A"},{"$error":"#N/A"},{"$error":"#N/A"},{"$error":"#N/A"},{"$error":"#N/A"},{"$error":"#N/A"},{"$error":"#N/A"},{"$error":"#N/A"},{"$error":"#N/A"},{"$error":"#N/A"},{"$error":"#N/A"},{"$error":"#N/A"},{"$error":"#N/A"},{"$error":"#N/A"},{"$error":"#N/A"},{"$error":"#N/A"},{"$error":"#N/A"},{"$error":"#N/A"},{"$error":"#N/A"},{"$error":"#N/A"},{"$error":"#N/A"},0,{"$error":"#N/A"},{"$error":"#N/A"},{"$error":"#N/A"},{"$error":"#N/A"},{"$error":"#N/A"},{"$error":"#N/A"},{"$error":"#N/A"},1,{"$error":"#N/A"},{"$error":"#N/A"},{"$error":"#N/A"},{"$error":"#N/A"}]
["2020-11-05",{"$f":"VLOOKUP($A27,Data!$A$2:$E$100,2,FALSE)","v":{"$error":"#N/A"}},{"$f":"VLOOKUP($A27,Data!$A$2:$E$100,3,FALSE)","v":{"$error":"#N/A"}},{"$f":"VLOOKUP($A27,Data!$A$2:$E$100,4,FALSE)","v":{"$error":"#N/A"}},{"$f":"VLOOKUP($A27,Data!$A$2:$E$100,5,FALSE)","v":{"$error":"#N/A"}},0.5,{"$f":"INDEX($J$68:$J$85,MATCH($H$21,$J$68:$J$85,1)+1)","v":"2020-10-15"},{"$f":"INDEX($J$69:$J$85,MATCH($H$22,$J$69:$J$85,1)+1)","v":"2020-11-06"},0.375,{"$f":"INDEX($J$89:$J$106,MATCH($H$21,$J$89:$J$106,1)+1)","v":"2020-10-13"},{"$f":"INDEX($J$90:$J$106,MATCH($H$22,$J$90:$J$106,1)+1)","v":"2020-11-04"},null,null,null,null,null,{"$f":"64+64+64+64","v":256},{"$f":"+Q27/16","v":16},null,null,null,null,null,null,null,null,null,null,null,null,null,null,null,null,null,null,null,null,null,null,"2020-11-05",{"$error":"#N/A"},{"$error":"#N/A"},{"$error":"#N/A"},{"$error":"#N/A"},{"$error":"#N/A"},{"$error":"#N/A"},{"$error":"#N/A"},{"$error":"#N/A"},{"$error":"#N/A"},{"$error":"#N/A"},{"$error":"#N/A"},{"$error":"#N/A"},{"$error":"#N/A"},0,1,0.33333333333333331,0.66666666666666663,{"$error":"#N/A"},{"$error":"#N/A"},{"$error":"#N/A"},{"$error":"#N/A"},{"$error":"#N/A"},{"$error":"#N/A"},{"$error":"#N/A"},{"$error":"#N/A"},{"$error":"#N/A"},{"$error":"#N/A"},{"$error":"#N/A"},{"$error":"#N/A"},{"$error":"#N/A"},{"$error":"#N/A"},{"$error":"#N/A"},{"$error":"#N/A"},{"$error":"#N/A"},{"$error":"#N/A"},{"$error":"#N/A"},{"$error":"#N/A"},{"$error":"#N/A"},{"$error":"#N/A"},{"$error":"#N/A"},{"$error":"#N/A"},{"$error":"#N/A"},{"$error":"#N/A"},{"$error":"#N/A"},{"$error":"#N/A"},{"$error":"#N/A"},{"$error":"#N/A"},{"$error":"#N/A"},{"$error":"#N/A"},{"$error":"#N/A"},{"$error":"#N/A"},{"$error":"#N/A"},{"$error":"#N/A"},{"$error":"#N/A"},{"$error":"#N/A"},{"$error":"#N/A"},{"$error":"#N/A"},{"$error":"#N/A"},{"$error":"#N/A"},{"$error":"#N/A"},{"$error":"#N/A"},{"$error":"#N/A"},{"$error":"#N/A"},{"$error":"#N/A"},{"$error":"#N/A"},{"$error":"#N/A"},{"$error":"#N/A"},{"$error":"#N/A"},{"$error":"#N/A"},{"$error":"#N/A"},{"$error":"#N/A"},{"$error":"#N/A"},{"$error":"#N/A"},{"$error":"#N/A"},{"$error":"#N/A"},{"$error":"#N/A"},{"$error":"#N/A"},{"$error":"#N/A"},{"$error":"#N/A"},{"$error":"#N/A"},{"$error":"#N/A"},{"$error":"#N/A"},{"$error":"#N/A"},{"$error":"#N/A"},{"$error":"#N/A"},{"$error":"#N/A"},{"$error":"#N/A"},{"$error":"#N/A"},{"$error":"#N/A"},{"$error":"#N/A"},{"$error":"#N/A"},{"$error":"#N/A"},{"$error":"#N/A"},{"$error":"#N/A"},{"$error":"#N/A"},{"$error":"#N/A"},{"$error":"#N/A"},{"$error":"#N/A"},{"$error":"#N/A"},{"$error":"#N/A"},{"$error":"#N/A"},{"$error":"#N/A"},{"$error":"#N/A"},{"$error":"#N/A"},{"$error":"#N/A"}]
["2020-11-06",{"$f":"VLOOKUP($A28,Data!$A$2:$E$100,2,FALSE)","v":{"$error":"#N/A"}},{"$f":"VLOOKUP($A28,Data!$A$2:$E$100,3,FALSE)","v":{"$error":"#N/A"}},{"$f":"VLOOKUP($A28,Data!$A$2:$E$100,4,FALSE)","v":{"$error":"#N/A"}},{"$f":"VLOOKUP($A28,Data!$A$2:$E$100,5,FALSE)","v":{"$error":"#N/A"}},0.75,{"$f":"INDEX($K$68:$K$85,MATCH($H$21,$K$68:$K$85,1)+1)","v":"2020-10-21"},{"$f":"INDEX($K$69:$K$85,MATCH($H$22,$K$69:$K$85,1)+1)","v":"2020-11-12"},0.625,{"$f":"INDEX($K$89:$K$106,MATCH($H$21,$K$89:$K$106,1)+1)","v":"2020-10-19"},{"$f":"INDEX($K$90:$K$106,MATCH($H$22,$J$90:$J$106,1)+1)","v":"2020-11-10"},null,null,null,null,null,null,null,64,{"$f":"+S28/8","v":8},null,null,null,null,"Creating Our TimeFrame",null,null,null,null,"Available TimeFrames",null,null,null,null,"Best fit for Time",null,null,null,null,null,"2020-11-06",{"$error":"#N/A"},{"$error":"#N/A"},{"$error":"#N/A"},{"$error":"#N/A"},{"$error":"#N/A"},{"$error":"#N/A"},{"$error":"#N/A"},{"$error":"#N/A"},0.5,0.5,{"$error":"#N/A"},1.125,1,0,1,0.33333333333333331,0.66666666666666663,{"$error":"#N/A"},{"$error":"#N/A"},{"$error":"#N/A"},{"$error":"#N/A"},{"$error":"#N/A"},{"$error":"#N/A"},{"$error":"#N/A"},{"$error":"#N/A"},{"$error":"#N/A"},{"$error":"#N/A"},{"$error":"#N/A"},{"$error":"#N/A"},{"$error":"#N/A"},{"$error":"#N/A"},{"$error":"#N/A"},{"$error":"#N/A"},{"$error":"#N/A"},{"$error":"#N/A"},{"$error":"#N/A"},{"$error":"#N/A"},{"$error":"#N/A"},{"$error":"#N/A"},0,{"$error":"#N/A"},{"$error":"#N/A"},{"$error":"#N/A"},{"$error":"#N/A"},{"$error":"#N/A"},{"$error":"#N/A"},{"$error":"#N/A"},{"$error":"#N/A"},{"$error":"#N/A"},{"$error":"#N/A"},{"$error":"#N/A"},{"$error":"#N/A"},{"$error":"#N/A"},{"$error":"#N/A"},{"$error":"#N/A"},{"$error":"#N/A"},{"$error":"#N/A"},{"$error":"#N/A"},{"$error":"#N/A"},{"$error":"#N/A"},{"$error":"#N/A"},{"$error":"#N/A"},{"$error":"#N/A"},{"$error":"#N/A"},{"$error":"#N/A"},{"$error":"#N/A"},{"$error":"#N/A"},{"$error":"#N/A"},{"$error":"#N/A"},{"$error":"#N/A"},{"$error":"#N/A"},{"$error":"#N/A"},{"$error":"#N/A"},{"$error":"#N/A"},{"$error":"#N/A"},{"$error":"#N/A"},{"$error":"#N/A"},{"$error":"#N/A"},{"$error":"#N/A"},{"$error":"#N/A"},{"$error":"#N/A"},{"$error":"#N/A"},{"$error":"#N/A"},{"$error":"#N/A"},{"$error":"#N/A"},{"$error":"#N/A"},{"$error":"#N/A"},{"$error":"#N/A"},{"$error":"#N/A"},{"$error":"#N/A"},{"$error":"#N/A"},{"$error":"#N/A"},{"$error":"#N/A"},0,{"$error":"#N/A"},{"$error":"#N/A"},{"$error":"#N/A"},{"$error":"#N/A"},{"$error":"#N/A"},{"$error":"#N/A"},{"$error":"#N/A"},1,{"$error":"#N/A"},{"$error":"#N/A"},{"$error":"#N/A"}]
["2020-11-09",{"$f":"VLOOKUP($A29,Data!$A$2:$E$100,2,FALSE)","v":{"$error":"#N/A"}},{"$f":"VLOOKUP($A29,Data!$A$2:$E$100,3,FALSE)","v":{"$error":"#N/A"}},{"$f":"VLOOKUP($A29,Data!$A$2:$E$100,4,FALSE)","v":{"$error":"#N/A"}},{"$f":"VLOOKUP($A29,Data!$A$2:$E$100,5,FALSE)","v":{"$error":"#N/A"}},null,null,null,null,{"$f":"NETWORKDAYS(I30,J30,$G$32:$G$71)","v":252},{"$f":"NETWORKDAYS(J30,K30,$G$32:$G$71)","v":253},253,253,null,{"$f":"WORKDAY(J46,64,G32:G71)","v":"2020-07-10"},null,{"$f":"NETWORKDAYS(K30,L30,G32:G71)","v":253},{"$f":"+Q29/2","v":126.5},32,{"$f":"+S29/8","v":4},null,null,null,null,"SQUARE",{"$f":"MAX(AB15:AC15)","v":12.5},null,{"$f":"(AE29-AC29)/8","v":0.1953125},{"$f":"+Z36","v":9.375},"0/8:4/8",{"$f":"+Z36+4*Z37","v":10.9375},{"$f":"IF(AND(AE29+2*AB29>Z$30,AC29-2*AB29<Z$31),ABS(Z$30-AE29) + ABS(Z$31-AC29),\"x\")","v":0.36250019073486328},null,{"$f":"IF(AJ29>0,AC29,0)","v":9.375},{"$f":"IF(AH29>0,AD29,\" \")","v":"0/8:4/8"},{"$f":"IF(AF29=AF$41,AE29,0)","v":10.9375},null,null,null,null,"2020-11-09",{"$error":"#N/A"},{"$error":"#N/A"},{"$error":"#N/A"},{"$error":"#N/A"},{"$error":"#N/A"},{"$error":"#N/A"},{"$error":"#N/A"},{"$error":"#N/A"},{"$error":"#N/A"},{"$error":"#N/A"},{"$error":"#N/A"},{"$error":"#N/A"},{"$error":"#N/A"},0,1,0.33333333333333331,0.66666666666666663,{"$error":"#N/A"},{"$error":"#N/A"},{"$error":"#N/A"},{"$error":"#N/A"},{"$error":"#N/A"},{"$error":"#N/A"},{"$error":"#N/A"},{"$error":"#N/A"},{"$error":"#N/A"},{"$error":"#N/A"},{"$error":"#N/A"},{"$error":"#N/A"},{"$error":"#N/A"},{"$error":"#N/A"},{"$error":"#N/A"},{"$error":"#N/A"},{"$error":"#N/A"},{"$error":"#N/A"},{"$error":"#N/A"},{"$error":"#N/A"},{"$error":"#N/A"},{"$error":"#N/A"},{"$error":"#N/A"},{"$error":"#N/A"},{"$error":"#N/A"},{"$error":"#N/A"},{"$error":"#N/A"},{"$error":"#N/A"},{"$error":"#N/A"},{"$error":"#N/A"},{"$error":"#N/A"},{"$error":"#N/A"},{"$error":"#N/A"},{"$error":"#N/A"},{"$error":"#N/A"},{"$error":"#N/A"},{"$error":"#N/A"},{"$error":"#N/A"},{"$error":"#N/A"},{"$error":"#N/A"},{"$error":"#N/A"},{"$error":"#N/A"},{"$error":"#N/A"},{"$error":"#N/A"},{"$error":"#N/A"},{"$error":"#N/A"},{"$error":"#N/A"},{"$error":"#N/A"},{"$error":"#N/A"},{"$error":"#N/A"},{"$error":"#N/A"},{"$error":"#N/A"},{"$error":"#N/A"},{"$error":"#N/A"},{"$error":"#N/A"},{"$error":"#N/A"},{"$error":"#N/A"},{"$error":"#N/A"},{"$error":"#N/A"},{"$error":"#N/A"},{"$error":"#N/A"},{"$error":"#N/A"},{"$error":"#N/A"},{"$error":"#N/A"},{"$error":"#N/A"},{"$error":"#N/A"},{"$error":"#N/A"},{"$error":"#N/A"},{"$error":"#N/A"},{"$error":"#N/A"},{"$error":"#N/A"},{"$error":"#N/A"},{"$error":"#N/A"},{"$error":"#N/A"},{"$error":"#N/A"},{"$error":"#N/A"},{"$error":"#N/A"},{"$error":"#N/A"},{"$error":"#N/A"},{"$error":"#N/A"},{"$error":"#N/A"},{"$error":"#N/A"},{"$error":"#N/A"},{"$error":"#N/A"},{"$error":"#N/A"},{"$error":"#N/A"},{"$error":"#N/A"},{"$error":"#N/A"}]
["2020-11-10",{"$f":"VLOOKUP($A30,Data!$A$2:$E$100,2,FALSE)","v":{"$error":"#N/A"}},{"$f":"VLOOKUP($A30,Data!$A$2:$E$100,3,FALSE)","v":{"$error":"#N/A"}},{"$f":"VLOOKUP($A30,Data!$A$2:$E$100,4,FALSE)","v":{"$error":"#N/A"}},{"$f":"VLOOKUP($A30,Data!$A$2:$E$100,5,FALSE)","v":{"$error":"#N/A"}},null,null,null,"2017-10-06","2018-10-05","2019-10-07","2020-10-05","2021-10-05",null,null,null,null,null,16,{"$f":"+S30/8","v":2},null,null,null,null,"64 Bar HIGH",{"$f":"H12","v":11.265000343322754},null,9.765625E-2,{"$f":"+Z36+2*Z37","v":10.15625},"2/8:4/8",{"$f":"+Z36+4*Z37","v":10.9375},"x",null,0," ",0,null,null,null,null,"2020-11-10",{"$error":"#N/A"},{"$error":"#N/A"},{"$error":"#N/A"},{"$error":"#N/A"},{"$error":"#N/A"},{"$error":"#N/A"},{"$error":"#N/A"},{"$error":"#N/A"},{"$error":"#N/A"},{"$error":"#N/A"},{"$error":"#N/A"},{"$error":"#N/A"},1,0,1,0.33333333333333331,0.66666666666666663,{"$error":"#N/A"},{"$error":"#N/A"},{"$error":"#N/A"},{"$error":"#N/A"},{"$error":"#N/A"},{"$error":"#N/A"},{"$error":"#N/A"},{"$error":"#N/A"},{"$error":"#N/A"},{"$error":"#N/A"},{"$error":"#N/A"},{"$error":"#N/A"},{"$error":"#N/A"},{"$error":"#N/A"},{"$error":"#N/A"},{"$error":"#N/A"},{"$error":"#N/A"},{"$error":"#N/A"},{"$error":"#N/A"},{"$error":"#N/A"},{"$error":"#N/A"},{"$error":"#N/A"},{"$error":"#N/A"},{"$error":"#N/A"},{"$error":"#N/A"},{"$error":"#N/A"},{"$error":"#N/A"},{"$error":"#N/A"},{"$error":"#N/A"},{"$error":"#N/A"},{"$error":"#N/A"},{"$error":"#N/A"},{"$error":"#N/A"},{"$error":"#N/A"},{"$error":"#N/A"},{"$error":"#N/A"},{"$error":"#N/A"},{"$error":"#N/A"},{"$error":"#N/A"},{"$error":"#N/A"},{"$error":"#N/A"},{"$error":"#N/A"},{"$error":"#N/A"},{"$error":"#N/A"},{"$error":"#N/A"},{"$error":"#N/A"},{"$error":"#N/A"},{"$error":"#N/A"},{"$error":"#N/A"},{"$error":"#N/A"},{"$error":"#N/A"},{"$error":"#N/A"},{"$error":"#N/A"},{"$error":"#N/A"},{"$error":"#N/A"},{"$error":"#N/A"},{"$error":"#N/A"},{"$error":"#N/A"},{"$error":"#N/A"},{"$error":"#N/A"},{"$error":"#N/A"},{"$error":"#N/A"},{"$error":"#N/A"},{"$error":"#N/A"},{"$error":"#N/A"},{"$error":"#N/A"},{"$error":"#N/A"},{"$error":"#N/A"},{"$error":"#N/A"},{"$error":"#N/A"},{"$error":"#N/A"},{"$error":"#N/A"},{"$error":"#N/A"},{"$error":"#N/A"},{"$error":"#N/A"},{"$error":"#N/A"},{"$error":"#N/A"},0,{"$error":"#N/A"},{"$error":"#N/A"},{"$error":"#N/A"},{"$error":"#N/A"},{"$error":"#N/A"},{"$error":"#N/A"},{"$error":"#N/A"},1,{"$error":"#N/A"},{"$error":"#N/A"}]
["2020-11-11",{"$f":"VLOOKUP($A31,Data!$A$2:$E$100,2,FALSE)","v":{"$error":"#N/A"}},{"$f":"VLOOKUP($A31,Data!$A$2:$E$100,3,FALSE)","v":{"$error":"#N/A"}},{"$f":"VLOOKUP($A31,Data!$A$2:$E$100,4,FALSE)","v":{"$error":"#N/A"}},{"$f":"VLOOKUP($A31,Data!$A$2:$E$100,5,FALSE)","v":{"$error":"#N/A"}},null,"holidays",null,128,64,32,16,8,4,2,null,null,null,null,null,"2018-10-05",0,null,null,"64 Bar LOW",{"$f":"H13","v":9.4099998474121094},null,0.1953125,{"$f":"+Z36+2*Z37","v":10.15625},"2/8:6/8",{"$f":"+Z36+6*Z37","v":11.71875},"x",null,0," ",0,null,null,null,null,"2020-11-11",{"$error":"#N/A"},{"$error":"#N/A"},{"$error":"#N/A"},{"$error":"#N/A"},{"$error":"#N/A"},{"$error":"#N/A"},{"$error":"#N/A"},{"$error":"#N/A"},{"$error":"#N/A"},{"$error":"#N/A"},{"$error":"#N/A"},{"$error":"#N/A"},{"$error":"#N/A"},0,1,0.33333333333333331,0.66666666666666663,{"$error":"#N/A"},{"$error":"#N/A"},{"$error":"#N/A"},{"$error":"#N/A"},{"$error":"#N/A"},{"$error":"#N/A"},{"$error":"#N/A"},{"$error":"#N/A"},{"$error":"#N/A"},{"$error":"#N/A"},{"$error":"#N/A"},{"$error":"#N/A"},{"$error":"#N/A"},{"$error":"#N/A"},{"$error":"#N/A"},{"$error":"#N/A"},{"$error":"#N/A"},{"$error":"#N/A"},{"$error":"#N/A"},{"$error":"#N/A"},{"$error":"#N/A"},{"$error":"#N/A"},{"$error":"#N/A"},{"$error":"#N/A"},{"$error":"#N/A"},{"$error":"#N/A"},{"$error":"#N/A"},{"$error":"#N/A"},{"$error":"#N/A"},{"$error":"#N/A"},{"$error":"#N/A"},{"$error":"#N/A"},{"$error":"#N/A"},{"$error":"#N/A"},{"$error":"#N/A"},{"$error":"#N/A"},{"$error":"#N/A"},{"$error":"#N/A"},{"$error":"#N/A"},{"$error":"#N/A"},{"$error":"#N/A"},{"$error":"#N/A"},{"$error":"#N/A"},{"$error":"#N/A"},{"$error":"#N/A"},{"$error":"#N/A"},{"$error":"#N/A"},{"$error":"#N/A"},{"$error":"#N/A"},{"$error":"#N/A"},{"$error":"#N/A"},{"$error":"#N/A"},{"$error":"#N/A"},{"$error":"#N/A"},{"$error":"#N/A"},{"$error":"#N/A"},{"$error":"#N/A"},{"$error":"#N/A"},{"$error":"#N/A"},{"$error":"#N/A"},{"$error":"#N/A"},{"$error":"#N/A"},{"$error":"#N/A"},{"$error":"#N/A"},{"$error":"#N/A"},{"$error":"#N/A"},{"$error":"#N/A"},{"$error":"#N/A"},{"$error":"#N/A"},{"$error":"#N/A"},{"$error":"#N/A"},{"$error":"#N/A"},{"$error":"#N/A"},{"$error":"#N/A"},{"$error":"#N/A"},{"$error":"#N/A"},{"$error":"#N/A"},{"$error":"#N/A"},{"$error":"#N/A"},{"$error":"#N/A"},{"$error":"#N/A"},{"$error":"#N/A"},{"$error":"#N/A"},{"$error":"#N/A"},{"$error":"#N/A"},{"$error":"#N/A"},{"$error":"#N/A"},{"$error":"#N/A"}]
["2020-11-12",{"$f":"VLOOKUP($A32,Data!$A$2:$E$100,2,FALSE)","v":{"$error":"#N/A"}},{"$f":"VLOOKUP($A32,Data!$A$2:$E$100,3,FALSE)","v":{"$error":"#N/A"}},{"$f":"VLOOKUP($A32,Data!$A$2:$E$100,4,FALSE)","v":{"$error":"#N/A"}},{"$f":"VLOOKUP($A32,Data!$A$2:$E$100,5,FALSE)","v":{"$error":"#N/A"}},null,"2017-07-04",null,null,null,null,{"$f":"WORKDAY(INDEX(I$30:M$30,1,MATCH(L$48,I$30:M$30,1)-1),0*L$31,$G$32:$G$71)","v":"2019-10-07"},{"$f":"WORKDAY(INDEX(I$30:M$30,1,MATCH(M48,I$30:M$30,1)-1),16*M$31,$G$32:$G$71)","v":"2020-04-09"},{"$f":"WORKDAY(INDEX(I$30:M$30,1,MATCH(N$48,I$30:M$30,1)-1),48*N$31,$G$32:$G$71)","v":"2020-07-10"},{"$f":"WORKDAY(INDEX(I$30:M$30,1,MATCH(O$48,I$30:M$30,1)-1),112*O$31,$G$32:$G$71)","v":"2020-08-25"},null,{"$f":"+Q33-1","v":0},null,null,null,{"$f":"WORKDAY(U31,2,G$32:G$71)","v":"2018-10-09"},{"$f":"+V31+1","v":1},null,null,"RANGE",{"$f":"Z30-Z31","v":1.8550004959106445},null,9.765625E-2,{"$f":"+Z36+4*Z37","v":10.9375},"4/8:6/8",{"$f":"+Z36+6*Z37","v":11.71875},"x",null,0," ",0,null,null,null,null,"2020-11-12",-0.25,-0.25,0.25,0.25,0.75,0.75,1.25,1.25,{"$error":"#N/A"},{"$error":"#N/A"},{"$error":"#N/A"},1.125,1,0,1,0.33333333333333331,0.66666666666666663,{"$error":"#N/A"},{"$error":"#N/A"},{"$error":"#N/A"},{"$error":"#N/A"},{"$error":"#N/A"},{"$error":"#N/A"},{"$error":"#N/A"},{"$error":"#N/A"},{"$error":"#N/A"},{"$error":"#N/A"},{"$error":"#N/A"},{"$error":"#N/A"},{"$error":"#N/A"},{"$error":"#N/A"},{"$error":"#N/A"},{"$error":"#N/A"},{"$error":"#N/A"},{"$error":"#N/A"},{"$error":"#N/A"},{"$error":"#N/A"},{"$error":"#N/A"},{"$error":"#N/A"},{"$error":"#N/A"},0,{"$error":"#N/A"},{"$error":"#N/A"},{"$error":"#N/A"},{"$error":"#N/A"},{"$error":"#N/A"},{"$error":"#N/A"},{"$error":"#N/A"},{"$error":"#N/A"},{"$error":"#N/A"},{"$error":"#N/A"},{"$error":"#N/A"},{"$error":"#N/A"},{"$error":"#N/A"},{"$error":"#N/A"},{"$error":"#N/A"},{"$error":"#N/A"},{"$error":"#N/A"},{"$error":"#N/A"},{"$error":"#N/A"},{"$error":"#N/A"},{"$error":"#N/A"},{"$error":"#N/A"},{"$error":"#N/A"},{"$error":"#N/A"},{"$error":"#N/A"},{"$error":"#N/A"},{"$error":"#N/A"},{"$error":"#N/A"},{"$error":"#N/A"},{"$error":"#N/A"},{"$error":"#N/A"},{"$error":"#N/A"},{"$error":"#N/A"},{"$error":"#N/A"},{"$error":"#N/A"},{"$error":"#N/A"},{"$error":"#N/A"},{"$error":"#N/A"},{"$error":"#N/A"},{"$error":"#N/A"},{"$error":"#N/A"},{"$error":"#N/A"},{"$error":"#N/A"},{"$error":"#N/A"},{"$error":"#N/A"},{"$error":"#N/A"},{"$error":"#N/A"},{"$error":"#N/A"},{"$error":"#N/A"},{"$error":"#N/A"},{"$error":"#N/A"},{"$error":"#N/A"},{"$error":"#N/A"},{"$error":"#N/A"},0,{"$error":"#N/A"},{"$error":"#N/A"},{"$error":"#N/A"},{"$error":"#N/A"},{"$error":"#N/A"},{"$error":"#N/A"},{"$error":"#N/A"},1,{"$error":"#N/A"}]
["2020-11-13",{"$f":"VLOOKUP($A33,Data!$A$2:$E$100,2,FALSE)","v":{"$error":"#N/A"}},{"$f":"VLOOKUP($A33,Data!$A$2:$E$100,3,FALSE)","v":{"$error":"#N/A"}},{"$f":"VLOOKUP($A33,Data!$A$2:$E$100,4,FALSE)","v":{"$error":"#N/A"}},{"$f":"VLOOKUP($A33,Data!$A$2:$E$100,5,FALSE)","v":{"$error":"#N/A"}},null,"2017-09-04",null,null,null,null,{"$f":"WORKDAY(INDEX(I$30:M$30,1,MATCH(L$48,I$30:M$30,1)-1),1*L$31,$G$32:$G$71)","v":"2019-10-29"},{"$f":"WORKDAY(INDEX(I$30:M$30,1,MATCH(M48,I$30:M$30,1)-1),17*M$31,$G$32:$G$71)","v":"2020-04-22"},{"$f":"WORKDAY(INDEX(I$30:M$30,1,MATCH(N$48,I$30:M$30,1)-1),49*N$31,$G$32:$G$71)","v":"2020-07-16"},{"$f":"WORKDAY(INDEX(I$30:M$30,1,MATCH(O$48,I$30:M$30,1)-1),113*O$31,$G$32:$G$71)","v":"2020-08-27"},0.125,1,null,null,null,{"$f":"WORKDAY(U32,2,G$32:G$71)","v":"2018-10-11"},{"$f":"+V32+1","v":2},null,null,"TRUNCLOG(B2)",{"$f":"TRUNC(LOG(Z29/Z32,2))","v":2},null,0.1953125,{"$f":"+Z36+4*Z37","v":10.9375},"4/8:8/8",{"$f":"+Z35","v":12.5},"x",null,0," ",0,null,null,null,null,"2020-11-13",{"$error":"#N/A"},{"$error":"#N/A"},{"$error":"#N/A"},{"$error":"#N/A"},{"$error":"#N/A"},{"$error":"#N/A"},{"$error":"#N/A"},{"$error":"#N/A"},{"$error":"#N/A"},{"$error":"#N/A"},{"$error":"#N/A"},{"$error":"#N/A"},{"$error":"#N/A"},0,1,0.33333333333333331,0.66666666666666663,{"$error":"#N/A"},{"$error":"#N/A"},{"$error":"#N/A"},{"$error":"#N/A"},{"$error":"#N/A"},{"$error":"#N/A"},{"$error":"#N/A"},{"$error":"#N/A"},{"$error":"#N/A"},{"$error":"#N/A"},{"$error":"#N/A"},{"$error":"#N/A"},{"$error":"#N/A"},{"$error":"#N/A"},{"$error":"#N/A"},{"$error":"#N/A"},{"$error":"#N/A"},{"$error":"#N/A"},{"$error":"#N/A"},{"$error":"#N/A"},{"$error":"#N/A"},{"$error":"#N/A"},{"$error":"#N/A"},{"$error":"#N/A"},{"$error":"#N/A"},{"$error":"#N/A"},{"$error":"#N/A"},{"$error":"#N/A"},{"$error":"#N/A"},{"$error":"#N/A"},{"$error":"#N/A"},{"$error":"#N/A"},{"$error":"#N/A"},{"$error":"#N/A"},{"$error":"#N/A"},{"$error":"#N/A"},{"$error":"#N/A"},{"$error":"#N/A"},{"$error":"#N/A"},{"$error":"#N/A"},{"$error":"#N/A"},{"$error":"#N/A"},{"$error":"#N/A"},{"$error":"#N/A"},{"$error":"#N/A"},{"$error":"#N/A"},{"$error":"#N/A"},{"$error":"#N/A"},{"$error":"#N/A"},{"$error":"#N/A"},{"$error":"#N/A"},{"$error":"#N/A"},{"$error":"#N/A"},{"$error":"#N/A"},{"$error":"#N/A"},{"$error":"#N/A"},{"$error":"#N/A"},{"$error":"#N/A"},{"$error":"#N/A"},{"$error":"#N/A"},{"$error":"#N/A"},{"$error":"#N/A"},{"$error":"#N/A"},{"$error":"#N/A"},{"$error":"#N/A"},{"$error":"#N/A"},{"$error":"#N/A"},{"$error":"#N/A"},{"$error":"#N/A"},{"$error":"#N/A"},{"$error":"#N/A"},{"$error":"#N/A"},{"$error":"#N/A"},{"$error":"#N/A"},{"$error":"#N/A"},{"$error":"#N/A"},{"$error":"#N/A"},{"$error":"#N/A"},{"$error":"#N/A"},{"$error":"#N/A"},{"$error":"#N/A"},{"$error":"#N/A"},{"$error":"#N/A"},{"$error":"#N/A"},{"$error":"#N/A"},{"$error":"#N/A"},{"$error":"#N/A"},{"$error":"#N/A"}]
["2020-11-16",{"$f":"VLOOKUP($A34,Data!$A$2:$E$100,2,FALSE)","v":{"$error":"#N/A"}},{"$f":"VLOOKUP($A34,Data!$A$2:$E$100,3,FALSE)","v":{"$error":"#N/A"}},{"$f":"VLOOKUP($A34,Data!$A$2:$E$100,4,FALSE)","v":{"$error":"#N/A"}},{"$f":"VLOOKUP($A34,Data!$A$2:$E$100,5,FALSE)","v":{"$error":"#N/A"}},null,"2017-11-23",null,null,null,null,{"$f":"WORKDAY(INDEX(I$30:M$30,1,MATCH(L$48,I$30:M$30,1)-1),2*L$31,$G$32:$G$71)","v":"2019-11-20"},{"$f":"WORKDAY(INDEX(I$30:M$30,1,MATCH(M48,I$30:M$30,1)-1),18*M$31,$G$32:$G$71)","v":"2020-05-04"},{"$f":"WORKDAY(INDEX(I$30:M$30,1,MATCH(N$48,I$30:M$30,1)-1),50*N$31,$G$32:$G$71)","v":"2020-07-22"},{"$f":"WORKDAY(INDEX(I$30:M$30,1,MATCH(O$48,I$30:M$30,1)-1),114*O$31,$G$32:$G$71)","v":"2020-08-31"},0.25,2,null,null,null,"2018-10-15",3,null,null,"OCTAVE",{"$f":"Z29/(2^Z33)","v":3.125},null,0.390625,{"$f":"+Z36","v":9.375},"0/8:8/8",{"$f":"+Z35","v":12.5},1.2699995040893555,null,0," ",0,null,null,null,null,"2020-11-16",{"$error":"#N/A"},{"$error":"#N/A"},{"$error":"#N/A"},{"$error":"#N/A"},{"$error":"#N/A"},{"$error":"#N/A"},{"$error":"#N/A"},{"$error":"#N/A"},{"$error":"#N/A"},{"$error":"#N/A"},{"$error":"#N/A"},{"$error":"#N/A"},1,0,1,0.33333333333333331,0.66666666666666663,{"$error":"#N/A"},{"$error":"#N/A"},{"$error":"#N/A"},{"$error":"#N/A"},{"$error":"#N/A"},{"$error":"#N/A"},{"$error":"#N/A"},{"$error":"#N/A"},{"$error":"#N/A"},{"$error":"#N/A"},{"$error":"#N/A"},{"$error":"#N/A"},{"$error":"#N/A"},{"$error":"#N/A"},{"$error":"#N/A"},{"$error":"#N/A"},{"$error":"#N/A"},{"$error":"#N/A"},{"$error":"#N/A"},{"$error":"#N/A"},{"$error":"#N/A"},{"$error":"#N/A"},{"$error":"#N/A"},{"$error":"#N/A"},{"$error":"#N/A"},{"$error":"#N/A"},{"$error":"#N/A"},{"$error":"#N/A"},{"$error":"#N/A"},{"$error":"#N/A"},{"$error":"#N/A"},{"$error":"#N/A"},{"$error":"#N/A"},{"$error":"#N/A"},{"$error":"#N/A"},{"$error":"#N/A"},{"$error":"#N/A"},{"$error":"#N/A"},{"$error":"#N/A"},{"$error":"#N/A"},{"$error":"#N/A"},{"$error":"#N/A"},{"$error":"#N/A"},{"$error":"#N/A"},{"$error":"#N/A"},{"$error":"#N/A"},{"$error":"#N/A"},{"$error":"#N/A"},{"$error":"#N/A"},{"$error":"#N/A"},{"$error":"#N/A"},{"$error":"#N/A"},{"$error":"#N/A"},{"$error":"#N/A"},{"$error":"#N/A"},{"$error":"#N/A"},{"$error":"#N/A"},{"$error":"#N/A"},{"$error":"#N/A"},{"$error":"#N/A"},{"$error":"#N/A"},{"$error":"#N/A"},{"$error":"#N/A"},{"$error":"#N/A"},{"$error":"#N/A"},{"$error":"#N/A"},{"$error":"#N/A"},{"$error":"#N/A"},{"$error":"#N/A"},{"$error":"#N/A"},{"$error":"#N/A"},{"$error":"#N/A"},{"$error":"#N/A"},{"$error":"#N/A"},{"$error":"#N/A"},{"$error":"#N/A"},{"$error":"#N/A"},{"$error":"#N/A"},{"$error":"#N/A"},0,{"$error":"#N/A"},{"$error":"#N/A"},{"$error":"#N/A"},{"$error":"#N/A"},{"$error":"#N/A"},{"$error":"#N/A"},{"$error":"#N/A"},1]
["2020-11-17",{"$f":"VLOOKUP($A35,Data!$A$2:$E$100,2,FALSE)","v":{"$error":"#N/A"}},{"$f":"VLOOKUP($A35,Data!$A$2:$E$100,3,FALSE)","v":{"$error":"#N/A"}},{"$f":"VLOOKUP($A35,Data!$A$2:$E$100,4,FALSE)","v":{"$error":"#N/A"}},{"$f":"VLOOKUP($A35,Data!$A$2:$E$100,5,FALSE)","v":{"$error":"#N/A"}},null,"2017-12-25",null,null,null,null,{"$f":"WORKDAY(INDEX(I$30:M$30,1,MATCH(L$48,I$30:M$30,1)-1),3*L$31,$G$32:$G$71)","v":"2019-12-13"},{"$f":"WORKDAY(INDEX(I$30:M$30,1,MATCH(M48,I$30:M$30,1)-1),19*M$31,$G$32:$G$71)","v":"2020-05-14"},{"$f":"WORKDAY(INDEX(I$30:M$30,1,MATCH(N$48,I$30:M$30,1)-1),51*N$31,$G$32:$G$71)","v":"2020-07-28"},{"$f":"WORKDAY(INDEX(I$30:M$30,1,MATCH(O$48,I$30:M$30,1)-1),115*O$31,$G$32:$G$71)","v":"2020-09-02"},0.375,3,null,0.25,null,"2018-10-17",4,null,null,"FRAME(MAX)",{"$f":"IF((Z36+Z34)>Z30,Z36+Z34,Z36+2*Z34)","v":12.5},null,9.765625E-2,{"$f":"+Z36+1*Z37","v":9.765625},"1/8:3/8",{"$f":"+Z36+3*Z37","v":10.546875},"x",null,0," ",{"$f":"IF(AND((AF35=AF$41),AJ$29=0,AJ$30=0,AJ$31=0,AJ$32=0,AJ$33=0,AJ$34=0),AE35,0)","v":0},null,null,null,null,"2020-11-17",{"$error":"#N/A"},{"$error":"#N/A"},{"$error":"#N/A"},{"$error":"#N/A"},{"$error":"#N/A"},{"$error":"#N/A"},{"$error":"#N/A"},{"$error":"#N/A"},{"$error":"#N/A"},{"$error":"#N/A"},{"$error":"#N/A"},{"$error":"#N/A"},{"$error":"#N/A"},0,1,0.33333333333333331,0.66666666666666663,{"$error":"#N/A"},{"$error":"#N/A"},{"$error":"#N/A"},{"$error":"#N/A"},{"$error":"#N/A"},{"$error":"#N/A"},{"$error":"#N/A"},{"$error":"#N/A"},{"$error":"#N/A"},{"$error":"#N/A"},{"$error":"#N/A"},{"$error":"#N/A"},{"$error":"#N/A"},{"$error":"#N/A"},{"$error":"#N/A"},{"$error":"#N/A"},{"$error":"#N/A"},{"$error":"#N/A"},{"$error":"#N/A"},{"$error":"#N/A"},{"$error":"#N/A"},{"$error":"#N/A"},{"$error":"#N/A"},{"$error":"#N/A"},{"$error":"#N/A"},{"$error":"#N/A"},{"$error":"#N/A"},{"$error":"#N/A"},{"$error":"#N/A"},{"$error":"#N/A"},{"$error":"#N/A"},{"$error":"#N/A"},{"$error":"#N/A"},{"$error":"#N/A"},{"$error":"#N/A"},{"$error":"#N/A"},{"$error":"#N/A"},{"$error":"#N/A"},{"$error":"#N/A"},{"$error":"#N/A"},{"$error":"#N/A"},{"$error":"#N/A"},{"$error":"#N/A"},{"$error":"#N/A"},{"$error":"#N/A"},{"$error":"#N/A"},{"$error":"#N/A"},{"$error":"#N/A"},{"$error":"#N/A"},{"$error":"#N/A"},{"$error":"#N/A"},{"$error":"#N/A"},{"$error":"#N/A"},{"$error":"#N/A"},{"$error":"#N/A"},{"$error":"#N/A"},{"$error":"#N/A"},{"$error":"#N/A"},{"$error":"#N/A"},{"$error":"#N/A"},{"$error":"#N/A"},{"$error":"#N/A"},{"$error":"#N/A"},{"$error":"#N/A"},{"$error":"#N/A"},{"$error":"#N/A"},{"$error":"#N/A"},{"$error":"#N/A"},{"$error":"#N/A"},{"$error":"#N/A"},{"$error":"#N/A"},{"$error":"#N/A"},{"$error":"#N/A"},{"$error":"#N/A"},{"$error":"#N/A"},{"$error":"#N/A"},{"$error":"#N/A"},{"$error":"#N/A"},{"$error":"#N/A"},{"$error":"#N/A"},{"$error":"#N/A"},{"$error":"#N/A"},{"$error":"#N/A"},{"$error":"#N/A"},{"$error":"#N/A"},{"$error":"#N/A"},{"$error":"#N/A"},{"$error":"#N/A"}]
["2020-11-18",{"$f":"VLOOKUP($A36,Data!$A$2:$E$100,2,FALSE)","v":{"$error":"#N/A"}},{"$f":"VLOOKUP($A36,Data!$A$2:$E$100,3,FALSE)","v":{"$error":"#N/A"}},{"$f":"VLOOKUP($A36,Data!$A$2:$E$100,4,FALSE)","v":{"$error":"#N/A"}},{"$f":"VLOOKUP($A36,Data!$A$2:$E$100,5,FALSE)","v":{"$error":"#N/A"}},null,"2018-01-01",null,null,null,null,{"$f":"WORKDAY(INDEX(I$30:M$30,1,MATCH(L$48,I$30:M$30,1)-1),4*L$31,$G$32:$G$71)","v":"2020-01-08"},{"$f":"WORKDAY(INDEX(I$30:M$30,1,MATCH(M48,I$30:M$30,1)-1),20*M$31,$G$32:$G$71)","v":"2020-05-27"},{"$f":"WORKDAY(INDEX(I$30:M$30,1,MATCH(N$48,I$30:M$30,1)-1),52*N$31,$G$32:$G$71)","v":"2020-08-03"},{"$f":"WORKDAY(INDEX(I$30:M$30,1,MATCH(O$48,I$30:M$30,1)-1),116*O$31,$G$32:$G$71)","v":"2020-09-04"},0.5,4,"64 circles","32 circles","16 circles","2018-10-19",5,null,null,"FRAME(MIN)",{"$f":"TRUNC(Z31/Z$34)*Z$34","v":9.375},null,0.1953125,{"$f":"+Z36+1*Z37","v":9.765625},"1/8:5/8",{"$f":"+Z36+5*Z37","v":11.328125},0.41874980926513672,null,0," ",{"$f":"IF(AND((AF36=AF$41),AJ$29=0,AJ$30=0,AJ$31=0,AJ$32=0,AJ$33=0,AJ$34=0),AE36,0)","v":0},null,null,null,null,"2020-11-18",{"$error":"#N/A"},{"$error":"#N/A"},{"$error":"#N/A"},{"$error":"#N/A"},{"$error":"#N/A"},{"$error":"#N/A"},{"$error":"#N/A"},{"$error":"#N/A"},{"$error":"#N/A"},{"$error":"#N/A"},1.25,1.125,1,0,1,0.33333333333333331,0.66666666666666663,{"$error":"#N/A"},{"$error":"#N/A"},{"$error":"#N/A"},{"$error":"#N/A"},{"$error":"#N/A"},{"$error":"#N/A"},{"$error":"#N/A"},{"$error":"#N/A"},{"$error":"#N/A"},{"$error":"#N/A"},{"$error":"#N/A"},{"$error":"#N/A"},{"$error":"#N/A"},{"$error":"#N/A"},{"$error":"#N/A"},{"$error":"#N/A"},{"$error":"#N/A"},{"$error":"#N/A"},{"$error":"#N/A"},{"$error":"#N/A"},{"$error":"#N/A"},{"$error":"#N/A"},{"$error":"#N/A"},{"$error":"#N/A"},0,0.25,0.5,0.75,{"$error":"#N/A"},{"$error":"#N/A"},{"$error":"#N/A"},{"$error":"#N/A"},{"$error":"#N/A"},{"$error":"#N/A"},{"$error":"#N/A"},{"$error":"#N/A"},{"$error":"#N/A"},{"$error":"#N/A"},{"$error":"#N/A"},{"$error":"#N/A"},{"$error":"#N/A"},{"$error":"#N/A"},{"$error":"#N/A"},{"$error":"#N/A"},{"$error":"#N/A"},{"$error":"#N/A"},{"$error":"#N/A"},{"$error":"#N/A"},{"$error":"#N/A"},{"$error":"#N/A"},{"$error":"#N/A"},{"$error":"#N/A"},{"$error":"#N/A"},{"$error":"#N/A"},{"$error":"#N/A"},{"$error":"#N/A"},{"$error":"#N/A"},{"$error":"#N/A"},{"$error":"#N/A"},{"$error":"#N/A"},{"$error":"#N/A"},{"$error":"#N/A"},{"$error":"#N/A"},{"$error":"#N/A"},{"$error":"#N/A"},{"$error":"#N/A"},{"$error":"#N/A"},{"$error":"#N/A"},{"$error":"#N/A"},{"$error":"#N/A"},{"$error":"#N/A"},{"$error":"#N/A"},{"$error":"#N/A"},{"$error":"#N/A"},{"$error":"#N/A"},{"$error":"#N/A"},{"$error":"#N/A"},{"$error":"#N/A"},{"$error":"#N/A"},{"$error":"#N/A"},0,0.125,0.25,0.375,0.5,0.625,0.75,0.875]
[{"$error":"#N/A"},{"$f":"VLOOKUP($A37,Data!$A$2:$E$100,2,FALSE)","v":{"$error":"#N/A"}},{"$f":"VLOOKUP($A37,Data!$A$2:$E$100,3,FALSE)","v":{"$error":"#N/A"}},{"$f":"VLOOKUP($A37,Data!$A$2:$E$100,4,FALSE)","v":{"$error":"#N/A"}},{"$f":"VLOOKUP($A37,Data!$A$2:$E$100,5,FALSE)","v":{"$error":"#N/A"}},null,"2018-01-15",null,null,null,null,{"$f":"WORKDAY(INDEX(I$30:M$30,1,MATCH(L$48,I$30:M$30,1)-1),5*L$31,$G$32:$G$71)","v":"2020-01-31"},{"$f":"WORKDAY(INDEX(I$30:M$30,1,MATCH(M48,I$30:M$30,1)-1),21*M$31,$G$32:$G$71)","v":"2020-06-08"},{"$f":"WORKDAY(INDEX(I$30:M$30,1,MATCH(N$48,I$30:M$30,1)-1),53*N$31,$G$32:$G$71)","v":"2020-08-07"},{"$f":"WORKDAY(INDEX(I$30:M$30,1,MATCH(O$48,I$30:M$30,1)-1),117*O$31,$G$32:$G$71)","v":"2020-09-09"},0.625,5,{"$f":"+M42","v":"2020-08-03"},{"$f":"+N42","v":"2020-09-04"},{"$f":"+O42","v":"2020-09-23"},"2018-10-23",6,null,null,"1/8 th",{"$f":"(Z35-Z36)/8","v":0.390625},null,9.765625E-2,{"$f":"+Z36+3*Z37","v":10.546875},"3/8:5/8",{"$f":"+Z36+5*Z37","v":11.328125},"x",null,0," ",{"$f":"IF(AND((AF37=AF$41),AJ$29=0,AJ$30=0,AJ$31=0,AJ$32=0,AJ$33=0,AJ$34=0),AE37,0)","v":0},null,null,null,null,{"$error":"#N/A"},{"$error":"#N/A"},{"$error":"#N/A"},{"$error":"#N/A"},{"$error":"#N/A"},{"$error":"#N/A"},{"$error":"#N/A"},{"$error":"#N/A"},{"$error":"#N/A"},{"$error":"#N/A"},{"$error":"#N/A"},{"$error":"#N/A"},{"$error":"#N/A"},{"$error":"#N/A"},0,1,0.33333333333333331,0.66666666666666663,{"$error":"#N/A"},{"$error":"#N/A"},{"$error":"#N/A"},{"$error":"#N/A"},{"$error":"#N/A"},{"$error":"#N/A"},{"$error":"#N/A"},{"$error":"#N/A"},{"$error":"#N/A"},{"$error":"#N/A"},{"$error":"#N/A"},{"$error":"#N/A"},{"$error":"#N/A"},{"$error":"#N/A"},{"$error":"#N/A"},{"$error":"#N/A"},{"$error":"#N/A"},{"$error":"#N/A"},{"$error":"#N/A"},{"$error":"#N/A"},{"$error":"#N/A"},{"$error":"#N/A"},{"$error":"#N/A"},{"$error":"#N/A"},{"$error":"#N/A"},{"$error":"#N/A"},{"$error":"#N/A"},{"$error":"#N/A"},{"$error":"#N/A"},{"$error":"#N/A"},{"$error":"#N/A"},{"$error":"#N/A"},{"$error":"#N/A"},{"$error":"#N/A"},{"$error":"#N/A"},{"$error":"#N/A"},{"$error":"#N/A"},{"$error":"#N/A"},{"$error":"#N/A"},{"$error":"#N/A"},{"$error":"#N/A"},{"$error":"#N/A"},{"$error":"#N/A"},{"$error":"#N/A"},{"$error":"#N/A"},{"$error":"#N/A"},{"$error":"#N/A"},{"$error":"#N/A"},{"$error":"#N/A"},{"$error":"#N/A"},{"$error":"#N/A"},{"$error":"#N/A"},{"$error":"#N/A"},{"$error":"#N/A"},{"$error":"#N/A"},{"$error":"#N/A"},{"$error":"#N/A"},{"$error":"#N/A"},{"$error":"#N/A"},{"$error":"#N/A"},{"$error":"#N/A"},{"$error":"#N/A"},{"$error":"#N/A"},{"$error":"#N/A"},{"$error":"#N/A"},{"$error":"#N/A"},{"$error":"#N/A"},{"$error":"#N/A"},{"$error":"#N/A"},{"$error":"#N/A"},{"$error":"#N/A"},{"$error":"#N/A"},{"$error":"#N/A"},{"$error":"#N/A"},{"$error":"#N/A"},{"$error":"#N/A"},{"$error":"#N/A"},{"$error":"#N/A"},{"$error":"#N/A"},{"$error":"#N/A"},{"$error":"#N/A"},{"$error":"#N/A"},{"$error":"#N/A"},{"$error":"#N/A"},{"$error":"#N/A"},{"$error":"#N/A"},{"$error":"#N/A"},{"$error":"#N/A"}]
[null,null,null,null,null,null,"2018-02-19",null,null,null,null,{"$f":"WORKDAY(INDEX(I$30:M$30,1,MATCH(L$48,I$30:M$30,1)-1),6*L$31,$G$32:$G$71)","v":"2020-02-25"},{"$f":"WORKDAY(INDEX(I$30:M$30,1,MATCH(M48,I$30:M$30,1)-1),22*M$31,$G$32:$G$71)","v":"2020-06-18"},{"$f":"WORKDAY(INDEX(I$30:M$30,1,MATCH(N$48,I$30:M$30,1)-1),54*N$31,$G$32:$G$71)","v":"2020-08-13"},{"$f":"WORKDAY(INDEX(I$30:M$30,1,MATCH(O$48,I$30:M$30,1)-1),118*O$31,$G$32:$G$71)","v":"2020-09-11"},0.75,6,{"$f":"+M46","v":"2020-09-17"},{"$f":"+N46","v":"2020-09-29"},{"$f":"+O46","v":""},"2018-10-25",7,null,null,null,null,null,0.1953125,{"$f":"+Z36+3*Z37","v":10.546875},"3/8:7/8",{"$f":"+Z36+7*Z37","v":12.109375},"x",null,0," ",{"$f":"IF(AND((AF38=AF$41),AJ$29=0,AJ$30=0,AJ$31=0,AJ$32=0,AJ$33=0,AJ$34=0),AE38,0)","v":0},null,null,null,null,{"$error":"#N/A"},{"$error":"#N/A"},{"$error":"#N/A"},{"$error":"#N/A"},{"$error":"#N/A"},{"$error":"#N/A"},{"$error":"#N/A"},{"$error":"#N/A"},{"$error":"#N/A"},{"$error":"#N/A"},{"$error":"#N/A"},{"$error":"#N/A"},{"$error":"#N/A"},{"$error":"#N/A"},0,1,0.33333333333333331,0.66666666666666663,{"$error":"#N/A"},{"$error":"#N/A"},{"$error":"#N/A"},{"$error":"#N/A"},{"$error":"#N/A"},{"$error":"#N/A"},{"$error":"#N/A"},{"$error":"#N/A"},{"$error":"#N/A"},{"$error":"#N/A"},{"$error":"#N/A"},{"$error":"#N/A"},{"$error":"#N/A"},{"$error":"#N/A"},{"$error":"#N/A"},{"$error":"#N/A"},{"$error":"#N/A"},{"$error":"#N/A"},{"$error":"#N/A"},{"$error":"#N/A"},{"$error":"#N/A"},{"$error":"#N/A"},{"$error":"#N/A"},{"$error":"#N/A"},{"$error":"#N/A"},{"$error":"#N/A"},{"$error":"#N/A"},{"$error":"#N/A"},{"$error":"#N/A"},{"$error":"#N/A"},{"$error":"#N/A"},{"$error":"#N/A"},{"$error":"#N/A"},{"$error":"#N/A"},{"$error":"#N/A"},{"$error":"#N/A"},{"$error":"#N/A"},{"$error":"#N/A"},{"$error":"#N/A"},{"$error":"#N/A"},{"$error":"#N/A"},{"$error":"#N/A"},{"$error":"#N/A"},{"$error":"#N/A"},{"$error":"#N/A"},{"$error":"#N/A"},{"$error":"#N/A"},{"$error":"#N/A"},{"$error":"#N/A"},{"$error":"#N/A"},{"$error":"#N/A"},{"$error":"#N/A"},{"$error":"#N/A"},{"$error":"#N/A"},{"$error":"#N/A"},{"$error":"#N/A"},{"$error":"#N/A"},{"$error":"#N/A"},{"$error":"#N/A"},{"$error":"#N/A"},{"$error":"#N/A"},{"$error":"#N/A"},{"$error":"#N/A"},{"$error":"#N/A"},{"$error":"#N/A"},{"$error":"#N/A"},{"$error":"#N/A"},{"$error":"#N/A"},{"$error":"#N/A"},{"$error":"#N/A"},{"$error":"#N/A"},{"$error":"#N/A"},{"$error":"#N/A"},{"$error":"#N/A"},{"$error":"#N/A"},{"$error":"#N/A"},{"$error":"#N/A"},{"$error":"#N/A"},{"$error":"#N/A"},{"$error":"#N/A"},{"$error":"#N/A"},{"$error":"#N/A"},{"$error":"#N/A"},{"$error":"#N/A"},{"$error":"#N/A"},{"$error":"#N/A"},{"$error":"#N/A"},{"$error":"#N/A"}]
[null,null,null,null,null,null,"2018-03-30",null,null,null,null,{"$f":"WORKDAY(INDEX(I$30:M$30,1,MATCH(L$48,I$30:M$30,1)-1),7*L$31,$G$32:$G$71)","v":"2020-03-18"},{"$f":"WORKDAY(INDEX(I$30:M$30,1,MATCH(M48,I$30:M$30,1)-1),23*M$31,$G$32:$G$71)","v":"2020-06-30"},{"$f":"WORKDAY(INDEX(I$30:M$30,1,MATCH(N$48,I$30:M$30,1)-1),55*N$31,$G$32:$G$71)","v":"2020-08-19"},{"$f":"WORKDAY(INDEX(I$30:M$30,1,MATCH(O$48,I$30:M$30,1)-1),119*O$31,$G$32:$G$71)","v":"2020-09-15"},0.875,7,{"$f":"+M50","v":"2020-10-27"},{"$f":"+N50","v":"2020-10-15"},{"$f":"+O50","v":"2020-10-09"},"2018-10-29",8,null,null,null,null,null,9.765625E-2,{"$f":"+Z36+5*Z37","v":11.328125},"5/8:7/8",{"$f":"+Z36+7*Z37","v":12.109375},"x",null,0," ",{"$f":"IF(AND((AF39=AF$41),AJ$29=0,AJ$30=0,AJ$31=0,AJ$32=0,AJ$33=0,AJ$34=0),AE39,0)","v":0},null,null,null,null,{"$error":"#N/A"},{"$error":"#N/A"},{"$error":"#N/A"},{"$error":"#N/A"},{"$error":"#N/A"},{"$error":"#N/A"},{"$error":"#N/A"},{"$error":"#N/A"},{"$error":"#N/A"},{"$error":"#N/A"},{"$error":"#N/A"},{"$error":"#N/A"},{"$error":"#N/A"},{"$error":"#N/A"},0,1,0.33333333333333331,0.66666666666666663,{"$error":"#N/A"},{"$error":"#N/A"},{"$error":"#N/A"},{"$error":"#N/A"},{"$error":"#N/A"},{"$error":"#N/A"},{"$error":"#N/A"},{"$error":"#N/A"},{"$error":"#N/A"},{"$error":"#N/A"},{"$error":"#N/A"},{"$error":"#N/A"},{"$error":"#N/A"},{"$error":"#N/A"},{"$error":"#N/A"},{"$error":"#N/A"},{"$error":"#N/A"},{"$error":"#N/A"},{"$error":"#N/A"},{"$error":"#N/A"},{"$error":"#N/A"},{"$error":"#N/A"},{"$error":"#N/A"},{"$error":"#N/A"},{"$error":"#N/A"},{"$error":"#N/A"},{"$error":"#N/A"},{"$error":"#N/A"},{"$error":"#N/A"},{"$error":"#N/A"},{"$error":"#N/A"},{"$error":"#N/A"},{"$error":"#N/A"},{"$error":"#N/A"},{"$error":"#N/A"},{"$error":"#N/A"},{"$error":"#N/A"},{"$error":"#N/A"},{"$error":"#N/A"},{"$error":"#N/A"},{"$error":"#N/A"},{"$error":"#N/A"},{"$error":"#N/A"},{"$error":"#N/A"},{"$error":"#N/A"},{"$error":"#N/A"},{"$error":"#N/A"},{"$error":"#N/A"},{"$error":"#N/A"},{"$error":"#N/A"},{"$error":"#N/A"},{"$error":"#N/A"},{"$error":"#N/A"},{"$error":"#N/A"},{"$error":"#N/A"},{"$error":"#N/A"},{"$error":"#N/A"},{"$error":"#N/A"},{"$error":"#N/A"},{"$error":"#N/A"},{"$error":"#N/A"},{"$error":"#N/A"},{"$error":"#N/A"},{"$error":"#N/A"},{"$error":"#N/A"},{"$error":"#N/A"},{"$error":"#N/A"},{"$error":"#N/A"},{"$error":"#N/A"},{"$error":"#N/A"},{"$error":"#N/A"},{"$error":"#N/A"},{"$error":"#N/A"},{"$error":"#N/A"},{"$error":"#N/A"},{"$error":"#N/A"},{"$error":"#N/A"},{"$error":"#N/A"},{"$error":"#N/A"},{"$error":"#N/A"},{"$error":"#N/A"},{"$error":"#N/A"},{"$error":"#N/A"},{"$error":"#N/A"},{"$error":"#N/A"},{"$error":"#N/A"},{"$error":"#N/A"},{"$error":"#N/A"}]
[null,null,null,null,null,null,"2018-05-28",null,null,null,{"$f":"WORKDAY(INDEX(I$30:M$30,1,MATCH(K$48,I$30:M$30,1)-1),0*K$31,$G$32:$G$71)","v":"2019-10-07"},{"$f":"WORKDAY(INDEX(I$30:M$30,1,MATCH(L$48,I$30:M$30,1)-1),8*L$31,$G$32:$G$71)","v":"2020-04-09"},{"$f":"WORKDAY(INDEX(I$30:M$30,1,MATCH(M48,I$30:M$30,1)-1),24*M$31,$G$32:$G$71)","v":"2020-07-10"},{"$f":"WORKDAY(INDEX(I$30:M$30,1,MATCH(N$48,I$30:M$30,1)-1),56*N$31,$G$32:$G$71)","v":"2020-08-25"},{"$f":"WORKDAY(INDEX(I$30:M$30,1,MATCH(O$48,I$30:M$30,1)-1),120*O$31,$G$32:$G$71)","v":"2020-09-17"},1,8,{"$f":"+M54","v":"2020-12-11"},{"$f":"+N54","v":"2020-11-06"},{"$f":"+O54","v":"2020-10-21"},"2018-10-31",9,null,null,null,null,null,null,null,null,null,null,null,"0/8th",null,"8/8th"]
[null,null,null,null,null,null,"2018-07-04",null,null,null,{"$f":"WORKDAY(INDEX(I$30:M$30,1,MATCH(K$48,I$30:M$30,1)-1),1*K$31,$G$32:$G$71)","v":"2019-11-20"},{"$f":"WORKDAY(INDEX(I$30:M$30,1,MATCH(L$48,I$30:M$30,1)-1),9*L$31,$G$32:$G$71)","v":"2020-05-04"},{"$f":"WORKDAY(INDEX(I$30:M$30,1,MATCH(M48,I$30:M$30,1)-1),25*M$31,$G$32:$G$71)","v":"2020-07-22"},{"$f":"WORKDAY(INDEX(I$30:M$30,1,MATCH(N$48,I$30:M$30,1)-1),57*N$31,$G$32:$G$71)","v":"2020-08-31"},{"$f":"WORKDAY(INDEX(I$30:M$30,1,MATCH(O$48,I$30:M$30,1)-1),121*O$31,$G$32:$G$71)","v":"2020-09-21"},0.125,9,{"$f":"+M58","v":"2021-01-29"},{"$f":"+N58","v":"2020-12-01"},{"$f":"+O58","v":"2020-11-02"},"2018-11-02",10,null,null,null,null,null,null,{"$f":"+Z31","v":9.4099998474121094},"LO:HI",{"$f":"+Z30","v":11.265000343322754},{"$f":"MIN(AF29:AF39)","v":0.36250019073486328}]
[null,null,null,null,null,null,"2018-09-03",null,null,null,{"$f":"WORKDAY(INDEX(I$30:M$30,1,MATCH(K$48,I$30:M$30,1)-1),2*K$31,$G$32:$G$71)","v":"2020-01-08"},{"$f":"WORKDAY(INDEX(I$30:M$30,1,MATCH(L$48,I$30:M$30,1)-1),10*L$31,$G$32:$G$71)","v":"2020-05-27"},{"$f":"WORKDAY(INDEX(I$30:M$30,1,MATCH(M48,I$30:M$30,1)-1),26*M$31,$G$32:$G$71)","v":"2020-08-03"},{"$f":"WORKDAY(INDEX(I$30:M$30,1,MATCH(N$48,I$30:M$30,1)-1),58*N$31,$G$32:$G$71)","v":"2020-09-04"},{"$f":"WORKDAY(INDEX(I$30:M$30,1,MATCH(O$48,I$30:M$30,1)-1),122*O$31,$G$32:$G$71)","v":"2020-09-23"},0.25,10,{"$f":"+M62","v":"2021-03-17"},{"$f":"+N62","v":"2020-12-23"},{"$f":"+O62","v":"2020-11-12"},"2018-11-06",11]
[null,null,null,null,null,null,"2018-11-22",null,null,null,{"$f":"WORKDAY(INDEX(I$30:M$30,1,MATCH(K$48,I$30:M$30,1)-1),3*K$31,$G$32:$G$71)","v":"2020-02-25"},{"$f":"WORKDAY(INDEX(I$30:M$30,1,MATCH(L$48,I$30:M$30,1)-1),11*L$31,$G$32:$G$71)","v":"2020-06-18"},{"$f":"WORKDAY(INDEX(I$30:M$30,1,MATCH(M48,I$30:M$30,1)-1),27*M$31,$G$32:$G$71)","v":"2020-08-13"},{"$f":"WORKDAY(INDEX(I$30:M$30,1,MATCH(N$48,I$30:M$30,1)-1),59*N$31,$G$32:$G$71)","v":"2020-09-11"},{"$f":"WORKDAY(INDEX(I$30:M$30,1,MATCH(O$48,I$30:M$30,1)-1),123*O$31,$G$32:$G$71)","v":"2020-09-25"},0.375,11,{"$f":"+M66","v":"2021-05-03"},{"$f":"+N66","v":"2021-01-19"},{"$f":"+O66","v":"2020-11-24"},"2018-11-08",12]
[null,null,null,null,null,null,"2018-12-25",null,null,{"$f":"WORKDAY(INDEX(I$30:M$30,1,MATCH(J$48,I$30:M$30,1)-1),0*J$31,$G$32:$G$71)","v":"2019-10-07"},{"$f":"WORKDAY(INDEX(I$30:M$30,1,MATCH(K$48,I$30:M$30,1)-1),4*K$31,$G$32:$G$71)","v":"2020-04-09"},{"$f":"WORKDAY(INDEX(I$30:M$30,1,MATCH(L$48,I$30:M$30,1)-1),12*L$31,$G$32:$G$71)","v":"2020-07-10"},{"$f":"WORKDAY(INDEX(I$30:M$30,1,MATCH(M48,I$30:M$30,1)-1),28*M$31,$G$32:$G$71)","v":"2020-08-25"},{"$f":"WORKDAY(INDEX(I$30:M$30,1,MATCH(N$48,I$30:M$30,1)-1),60*N$31,$G$32:$G$71)","v":"2020-09-17"},{"$f":"WORKDAY(INDEX(I$30:M$30,1,MATCH(O$48,I$30:M$30,1)-1),124*O$31,$G$32:$G$71)","v":"2020-09-29"},0.5,12,{"$f":"+M70","v":"2021-06-17"},{"$f":"+N70","v":"2021-02-10"},{"$f":"+O70","v":"2020-12-07"},"2018-11-12",13]
[null,null,null,null,null,null,"2019-01-01",null,null,{"$f":"WORKDAY(INDEX(I$30:M$30,1,MATCH(J$48,I$30:M$30,1)-1),1*J$31,$G$32:$G$71)","v":"2020-01-08"},{"$f":"WORKDAY(INDEX(I$30:M$30,1,MATCH(K$48,I$30:M$30,1)-1),5*K$31,$G$32:$G$71)","v":"2020-05-27"},{"$f":"WORKDAY(INDEX(I$30:M$30,1,MATCH(L$48,I$30:M$30,1)-1),13*L$31,$G$32:$G$71)","v":"2020-08-03"},{"$f":"WORKDAY(INDEX(I$30:M$30,1,MATCH(M48,I$30:M$30,1)-1),29*M$31,$G$32:$G$71)","v":"2020-09-04"},{"$f":"WORKDAY(INDEX(I$30:M$30,1,MATCH(N$48,I$30:M$30,1)-1),61*N$31,$G$32:$G$71)","v":"2020-09-23"},{"$f":"IF(WORKDAY(INDEX(I$30:M$30,1,MATCH(O$48,I$30:M$30,1)-1),125*O$31,$G$32:$G$71)>=O48,\"\",WORKDAY(INDEX(I$30:M$30,1,MATCH(O$48,I$30:M$30,1)-1),125*O$31,$G$32:$G$71))","v":"2020-10-01"},0.625,13,{"$f":"+M74","v":"2021-08-03"},{"$f":"+N74","v":"2021-03-05"},{"$f":"+O74","v":"2020-12-17"},"2018-11-14",14]
[null,null,null,null,null,null,"2019-01-21",null,null,{"$f":"WORKDAY(INDEX(I$30:M$30,1,MATCH(J$48,I$30:M$30,1)-1),2*J$31,$G$32:$G$71)","v":"2020-04-09"},{"$f":"WORKDAY(INDEX(I$30:M$30,1,MATCH(K$48,I$30:M$30,1)-1),6*K$31,$G$32:$G$71)","v":"2020-07-10"},{"$f":"WORKDAY(INDEX(I$30:M$30,1,MATCH(L$48,I$30:M$30,1)-1),14*L$31,$G$32:$G$71)","v":"2020-08-25"},{"$f":"WORKDAY(INDEX(I$30:M$30,1,MATCH(M48,I$30:M$30,1)-1),30*M$31,$G$32:$G$71)","v":"2020-09-17"},{"$f":"IF(WORKDAY(INDEX(I$30:M$30,1,MATCH(N$48,I$30:M$30,1)-1),62*N$31,$G$32:$G$71)>=N48,\"\",WORKDAY(INDEX(I$30:M$30,1,MATCH(N$48,I$30:M$30,1)-1),62*N$31,$G$32:$G$71))","v":"2020-09-29"},{"$f":"IF(WORKDAY(INDEX(I$30:M$30,1,MATCH(O$48,I$30:M$30,1)-1),126*O$31,$G$32:$G$71)>=O48,\"\",WORKDAY(INDEX(I$30:M$30,1,MATCH(O$48,I$30:M$30,1)-1),126*O$31,$G$32:$G$71))","v":""},0.75,{"$f":"+Q47-1","v":14},{"$f":"+M78","v":"2021-09-17"},{"$f":"+N78","v":"2021-03-29"},{"$f":"+O78","v":"2020-12-30"},"2018-11-16",15]
[null,null,null,null,null,null,"2019-02-18",null,null,{"$f":"WORKDAY(INDEX(I$30:M$30,1,MATCH(J$48,I$30:M$30,1)-1),3*J$31,$G$32:$G$71)","v":"2020-07-10"},{"$f":"WORKDAY(INDEX(I$30:M$30,1,MATCH(K$48,I$30:M$30,1)-1),7*K$31,$G$32:$G$71)","v":"2020-08-25"},{"$f":"WORKDAY(INDEX(I$30:M$30,1,MATCH(L$48,I$30:M$30,1)-1),15*L$31,$G$32:$G$71)","v":"2020-09-17"},{"$f":"WORKDAY(INDEX(I$30:M$30,1,MATCH(M48,I$30:M$30,1)-1),31*M$31,$G$32:$G$71)","v":"2020-09-29"},{"$f":"IF(WORKDAY(INDEX(I$30:M$30,1,MATCH(N$48,I$30:M$30,1)-1),63*N$31,$G$32:$G$71)>=N48,\"\",WORKDAY(INDEX(I$30:M$30,1,MATCH(N$48,I$30:M$30,1)-1),63*N$31,$G$32:$G$71))","v":""},{"$f":"IF(WORKDAY(INDEX(I$30:M$30,1,MATCH(O$48,I$30:M$30,1)-1),127*O$31,$G$32:$G$71)>=O48,\"\",WORKDAY(INDEX(I$30:M$30,1,MATCH(O$48,I$30:M$30,1)-1),127*O$31,$G$32:$G$71))","v":""},0.875,15,null,{"$f":"+N82","v":"2021-04-21"},{"$f":"+O82","v":"2021-01-12"},"2018-11-20",16]
[null,null,null,null,null,null,"2019-04-19",1,{"$f":"IF($H$20<=$I$30,$I$30,IF(AND($H$20>=$I$30,$H$20<$J$30),$I$30,IF(AND($H$20>=$J$30,$H$20<$K$30),$J$30,IF(AND($H$20>=$K$30,$H$20<$L$30),$K$30,$L$30))))","v":"2020-10-05"},"2020-10-05","2020-10-05","2020-10-05","2020-10-05","2020-10-05","2020-10-05",1,null,null,{"$f":"+N86","v":"2021-05-13"},{"$f":"+O86","v":"2021-01-25"},"2018-11-23",17]
[null,null,null,null,null,null,"2019-05-27",0.125,{"$f":"IF((WORKDAY(I48,I$31,$G$32:$G$71)-$I$48)*0.7/128>2,INDEX(I$30:M$30,1,MATCH(I$48,I$30:M$30,1)+1),WORKDAY(I48,I$31,$G$32:$G$71))","v":"2021-04-09"},{"$f":"IF((WORKDAY(J48,J$31,$G$32:$G$71)-$J$48)*0.7/64>4,INDEX(I$30:M$30,1,MATCH(J$48,I$30:M$30,1)+1),WORKDAY(J48,J$31,$G$32:$G$71))","v":"2021-01-06"},{"$f":"IF((WORKDAY(K48,K$31,$G$32:$G$71)-$K$48)*0.7/32>8,INDEX(I$30:M$30,1,MATCH(K$48,I$30:M$30,1)+1),WORKDAY(K48,K$31,$G$32:$G$71))","v":"2020-11-18"},{"$f":"IF((WORKDAY(L48,L$31,$G$32:$G$71)-$L$48)*0.7/16>16,INDEX(I$30:M$30,1,MATCH(L$48,I$30:M$30,1)+1),WORKDAY(L48,L$31,$G$32:$G$71))","v":"2020-10-27"},{"$f":"IF((WORKDAY(M48,M$31,$G$32:$G$71)-$M$48)*0.7/8>32,INDEX(I$30:M$30,1,MATCH(M$48,I$30:M$30,1)+1),WORKDAY(M48,M$31,$G$32:$G$71))","v":"2020-10-15"},{"$f":"IF((WORKDAY(N48,N$31,$G$32:$G$71)-$N$48)*0.7/4>64,INDEX(I$30:M$30,1,MATCH(N$48,I$30:M$30,1)+1),WORKDAY(N48,N$31,$G$32:$G$71))","v":"2020-10-09"},{"$f":"IF((WORKDAY(O48,O$31,$G$32:$G$71)-$O$48)*0.7/2>128,INDEX(I$30:M$30,1,MATCH(O$48,I$30:M$30,1)+1),WORKDAY(O48,O$31,$G$32:$G$71))","v":"2020-10-07"},0.125,null,null,{"$f":"+N90","v":"2021-06-07"},{"$f":"+O90","v":"2021-02-04"},{"$f":"WORKDAY(U48,2,G$32:G$71)","v":"2018-11-27"},{"$f":"+V48+1","v":18}]
[null,null,null,null,null,null,"2019-07-04",0.25,{"$f":"IF((WORKDAY(I49,I$31,$G$32:$G$71)-$I$48)*0.7/128>2,INDEX(I$30:M$30,1,MATCH(I$48,I$30:M$30,1)+1),WORKDAY(I49,I$31,$G$32:$G$71))","v":"2021-10-05"},{"$f":"IF((WORKDAY(J49,J$31,$G$32:$G$71)-$J$48)*0.7/64>4,INDEX(I$30:M$30,1,MATCH(J$48,I$30:M$30,1)+1),WORKDAY(J49,J$31,$G$32:$G$71))","v":"2021-04-09"},"2021-01-06","2020-11-18","2020-10-27","2020-10-15","2020-10-09",0.25,null,null,{"$f":"+N94","v":"2021-06-29"},{"$f":"+O94","v":"2021-02-17"},{"$f":"WORKDAY(U49,2,G$32:G$71)","v":"2018-11-29"},{"$f":"+V49+1","v":19}]
[null,null,null,null,null,null,"2019-09-02",0.375,null,{"$f":"IF((WORKDAY(J50,J$31,$G$32:$G$71)-$J$48)*0.7/64>4,INDEX(I$30:M$30,1,MATCH(J$48,I$30:M$30,1)+1),WORKDAY(J50,J$31,$G$32:$G$71))","v":"2021-07-12"},"2021-02-23","2020-12-11","2020-11-06","2020-10-21","2020-10-13",0.375,null,null,{"$f":"+N98","v":"2021-07-22"},{"$f":"+O98","v":"2021-03-01"},"2018-12-03",20]
[null,null,null,null,null,null,"2019-11-28",0.5,null,{"$f":"IF((WORKDAY(J51,J$31,$G$32:$G$71)-$J$48)*0.7/64>4,INDEX(I$30:M$30,1,MATCH(J$48,I$30:M$30,1)+1),WORKDAY(J51,J$31,$G$32:$G$71))","v":"2021-10-05"},"2021-04-09","2021-01-06","2020-11-18","2020-10-27","2020-10-15",0.5,null,null,{"$f":"+N102","v":"2021-08-13"},{"$f":"+O102","v":"2021-03-11"},"2018-12-05",21]
[null,null,null,null,null,null,"2019-12-25",0.625,null,null,"2021-05-25","2021-01-29","2020-12-01","2020-11-02","2020-10-19",0.625,null,null,{"$f":"+N106","v":"2021-09-07"},{"$f":"+O106","v":"2021-03-23"},"2018-12-07",22]
[null,null,null,null,null,null,"2020-01-01",0.75,null,null,"2021-07-12","2021-02-23","2020-12-11","2020-11-06","2020-10-21",0.75,null,null,{"$f":"+N110","v":"2021-09-29"},{"$f":"+O110","v":"2021-04-05"},"2018-12-11",23]
[null,null,null,null,null,null,"2020-01-20",0.875,null,null,"2021-08-25","2021-03-17","2020-12-23","2020-11-12","2020-10-23",0.875,null,null,null,{"$f":"+O114","v":"2021-04-15"},"2018-12-13",24]
[null,null,null,null,null,null,"2020-02-17",1,null,null,"2021-10-05","2021-04-09","2021-01-06","2020-11-18","2020-10-27",1,null,null,null,{"$f":"+O118","v":"2021-04-27"},"2018-12-17",25]
[null,null,null,null,null,null,"2020-04-10",0.125,null,null,null,"2021-05-03","2021-01-19","2020-11-24","2020-10-29",0.125,null,null,null,{"$f":"+O122","v":"2021-05-07"},"2018-12-19",26]
[null,null,null,null,null,null,"2020-05-25",0.25,null,null,null,"2021-05-25","2021-01-29","2020-12-01","2020-11-02",0.25,null,null,null,{"$f":"+O126","v":"2021-05-19"},"2018-12-21",27]
[null,null,null,null,null,null,"2020-07-04",0.375,null,null,null,"2021-06-17","2021-02-10","2020-12-07","2020-11-04",0.375,null,null,null,{"$f":"+O130","v":"2021-06-01"},"2018-12-26",28]
[null,null,null,null,null,null,"2020-09-07",0.5,null,null,null,"2021-07-12","2021-02-23","2020-12-11","2020-11-06",0.5,null,null,null,{"$f":"+O134","v":"2021-06-11"},{"$f":"WORKDAY(U59,2,G$32:G$71)","v":"2018-12-28"},{"$f":"+V59+1","v":29}]
[null,null,null,null,null,null,"2020-11-26",0.625,null,null,null,"2021-08-03","2021-03-05","2020-12-17","2020-11-10",0.625,null,null,null,{"$f":"+O138","v":"2021-06-23"},{"$f":"WORKDAY(U60,2,G$32:G$71)","v":"2019-01-02"},{"$f":"+V60+1","v":30}]
[null,null,null,null,null,null,"2020-12-25",0.75,null,null,null,"2021-08-25","2021-03-17","2020-12-23","2020-11-12",0.75,null,null,null,{"$f":"+O142","v":"2021-07-06"},"2019-01-04",31]
[null,null,null,null,null,null,"2021-01-01",0.875,null,null,null,"2021-09-17","2021-03-29","2020-12-30","2020-11-16",0.875,null,null,null,{"$f":"+O146","v":"2021-07-16"},"2019-01-08",32]
[null,null,null,null,null,null,"2021-01-18",null,null,null,null,"2021-10-05","2021-04-09","2021-01-06","2020-11-18",1,null,null,null,{"$f":"+O150","v":"2021-07-28"},"2019-01-10",33]
[null,null,null,null,null,null,"2021-02-15",0.25,null,null,null,null,"2021-04-21","2021-01-12","2020-11-20",0.125,null,null,null,{"$f":"+O154","v":"2021-08-09"},"2019-01-14",34]
[null,null,null,null,null,null,"2021-04-02",0.25,null,null,null,null,"2021-05-03","2021-01-19","2020-11-24",0.25,null,null,null,{"$f":"+O158","v":"2021-08-19"},"2019-01-16",35]
[null,null,null,null,null,null,"2021-05-31",0.25,0.25,0.5,0.75,null,"2021-05-13","2021-01-25","2020-11-27",0.375,null,null,null,{"$f":"+O162","v":"2021-08-31"},"2019-01-18",36]
[null,null,null,null,null,null,"2021-07-05",0.25,{"$f":"+O34","v":"2020-08-31"},{"$f":"+O36","v":"2020-09-04"},{"$f":"+O38","v":"2020-09-11"},null,"2021-05-25","2021-01-29","2020-12-01",0.5,null,null,null,{"$f":"+O166","v":"2021-09-13"},"2019-01-23",37]
[null,null,null,null,null,null,"2021-09-06",0.25,{"$f":"+O42","v":"2020-09-23"},{"$f":"+O44","v":"2020-09-29"},{"$f":"IF(O46=\"\",O48,O46)","v":"2020-10-05"},null,"2021-06-07","2021-02-04","2020-12-03",0.625,null,null,null,{"$f":"+O170","v":"2021-09-23"},"2019-01-25",38]
[null,null,null,null,null,null,"2021-11-25",0.25,{"$f":"+O50","v":"2020-10-09"},{"$f":"+O52","v":"2020-10-15"},{"$f":"+O54","v":"2020-10-21"},null,"2021-06-17","2021-02-10","2020-12-07",0.75,null,null,null,null,"2019-01-29",39]
[null,null,null,null,null,null,"2021-12-24",0.25,{"$f":"+O58","v":"2020-11-02"},{"$f":"+O60","v":"2020-11-06"},{"$f":"+O62","v":"2020-11-12"},null,"2021-06-29","2021-02-17","2020-12-09",0.875,null,null,0.5,null,"2019-01-31",40]
[null,null,null,null,null,null,null,0.25,{"$f":"+O66","v":"2020-11-24"},{"$f":"+O68","v":"2020-12-01"},{"$f":"+O70","v":"2020-12-07"},null,"2021-07-12","2021-02-23","2020-12-11",1,null,{"$f":"+M44","v":"2020-08-25"},{"$f":"+N44","v":"2020-09-17"},{"$f":"+O44","v":"2020-09-29"},"2019-02-04",41]
[null,null,null,null,null,null,null,0.25,{"$f":"+O74","v":"2020-12-17"},{"$f":"+O76","v":"2020-12-23"},{"$f":"+O78","v":"2020-12-30"},null,"2021-07-22","2021-03-01","2020-12-15",0.125,null,{"$f":"+M52","v":"2020-11-18"},{"$f":"+N52","v":"2020-10-27"},{"$f":"+O52","v":"2020-10-15"},"2019-02-06",42]
[null,null,null,null,null,null,null,0.25,{"$f":"+O82","v":"2021-01-12"},{"$f":"+O84","v":"2021-01-19"},{"$f":"+O86","v":"2021-01-25"},null,"2021-08-03","2021-03-05","2020-12-17",0.25,null,{"$f":"+M60","v":"2021-02-23"},{"$f":"+N60","v":"2020-12-11"},{"$f":"+O60","v":"2020-11-06"},"2019-02-08",43]
[null,null,null,null,null,null,null,0.25,{"$f":"+O90","v":"2021-02-04"},{"$f":"+O92","v":"2021-02-10"},{"$f":"+O94","v":"2021-02-17"},null,"2021-08-13","2021-03-11","2020-12-21",0.375,null,{"$f":"+M68","v":"2021-05-25"},{"$f":"+N68","v":"2021-01-29"},{"$f":"+O68","v":"2020-12-01"},"2019-02-12",44]
[null,null,null,null,null,null,null,0.25,{"$f":"+O98","v":"2021-03-01"},{"$f":"+O100","v":"2021-03-05"},{"$f":"+O102","v":"2021-03-11"},null,"2021-08-25","2021-03-17","2020-12-23",0.5,null,{"$f":"+M76","v":"2021-08-25"},{"$f":"+N76","v":"2021-03-17"},{"$f":"+O76","v":"2020-12-23"},"2019-02-14",45]
[null,null,null,null,null,null,null,0.25,{"$f":"+O106","v":"2021-03-23"},{"$f":"+O108","v":"2021-03-29"},{"$f":"+O110","v":"2021-04-05"},null,"2021-09-07","2021-03-23","2020-12-28",0.625,null,null,{"$f":"+N84","v":"2021-05-03"},{"$f":"+O84","v":"2021-01-19"},{"$f":"WORKDAY(U76,2,G$32:G$71)","v":"2019-02-19"},{"$f":"+V76+1","v":46}]
[null,null,null,null,null,null,null,0.25,{"$f":"+O114","v":"2021-04-15"},{"$f":"+O116","v":"2021-04-21"},{"$f":"+O118","v":"2021-04-27"},null,"2021-09-17","2021-03-29","2020-12-30",0.75,null,null,{"$f":"+N92","v":"2021-06-17"},{"$f":"+O92","v":"2021-02-10"},{"$f":"WORKDAY(U77,2,G$32:G$71)","v":"2019-02-21"},{"$f":"+V77+1","v":47}]
[null,null,null,null,null,null,null,0.25,{"$f":"+O122","v":"2021-05-07"},{"$f":"+O124","v":"2021-05-13"},{"$f":"+O126","v":"2021-05-19"},null,"2021-09-29","2021-04-05","2021-01-04",0.875,null,null,{"$f":"+N100","v":"2021-08-03"},{"$f":"+O100","v":"2021-03-05"},{"$f":"WORKDAY(U78,2,G$32:G$71)","v":"2019-02-25"},{"$f":"+V78+1","v":48}]
[null,null,null,null,null,null,null,0.25,{"$f":"+O130","v":"2021-06-01"},{"$f":"+O132","v":"2021-06-07"},{"$f":"+O134","v":"2021-06-11"},null,"2021-10-05","2021-04-09","2021-01-06",1,null,null,{"$f":"+N108","v":"2021-09-17"},{"$f":"+O108","v":"2021-03-29"},"2019-02-27",49]
[null,null,null,null,null,null,null,null,{"$f":"+O138","v":"2021-06-23"},{"$f":"+O140","v":"2021-06-29"},{"$f":"+O142","v":"2021-07-06"},null,null,"2021-04-15","2021-01-08",0.125,null,null,null,{"$f":"+O116","v":"2021-04-21"},"2019-03-01",50]
[null,null,null,null,null,null,null,null,{"$f":"+O146","v":"2021-07-16"},{"$f":"+O148","v":"2021-07-22"},{"$f":"+O150","v":"2021-07-28"},null,null,"2021-04-21","2021-01-12",0.25,null,null,null,{"$f":"+O124","v":"2021-05-13"},"2019-03-05",51]
[null,null,null,null,null,null,null,null,{"$f":"+O154","v":"2021-08-09"},{"$f":"+O156","v":"2021-08-13"},{"$f":"+O158","v":"2021-08-19"},null,null,"2021-04-27","2021-01-14",0.375,null,null,null,{"$f":"+O132","v":"2021-06-07"},"2019-03-07",52]
[null,null,null,null,null,null,null,null,{"$f":"+O162","v":"2021-08-31"},{"$f":"+O164","v":"2021-09-07"},{"$f":"+O166","v":"2021-09-13"},null,null,"2021-05-03","2021-01-19",0.5,null,null,null,{"$f":"+O140","v":"2021-06-29"},"2019-03-11",53]
[null,null,null,null,null,null,null,null,{"$f":"+O170","v":"2021-09-23"},{"$f":"+O172","v":"2021-09-29"},{"$f":"+O174","v":"2021-10-05"},null,null,"2021-05-07","2021-01-21",0.625,null,null,null,{"$f":"+O148","v":"2021-07-22"},"2019-03-13",54]
[null,null,null,null,null,null,null,0.5,null,null,null,null,null,"2021-05-13","2021-01-25",0.75,null,null,null,{"$f":"+O156","v":"2021-08-13"},"2019-03-15",55]
[null,null,null,null,null,null,null,0.5,null,null,null,null,null,"2021-05-19","2021-01-27",0.875,null,null,null,{"$f":"+O164","v":"2021-09-07"},"2019-03-19",56]
[null,null,null,null,null,null,null,0.5,0.125,0.375,0.625,null,null,"2021-05-25","2021-01-29",1,null,null,null,{"$f":"+O172","v":"2021-09-29"},"2019-03-21",57]
[null,null,null,null,null,null,null,0.5,{"$f":"+O33","v":"2020-08-27"},{"$f":"+O35","v":"2020-09-02"},{"$f":"+O37","v":"2020-09-09"},null,null,"2021-06-01","2021-02-02",0.125,null,null,null,null,"2019-03-25",58]
[null,null,null,null,null,null,null,0.5,{"$f":"+O41","v":"2020-09-21"},{"$f":"+O43","v":"2020-09-25"},{"$f":"+O45","v":"2020-10-01"},null,null,"2021-06-07","2021-02-04",0.25,null,null,null,null,"2019-03-27",59]
[null,null,null,null,null,null,null,0.5,{"$f":"+O49","v":"2020-10-07"},{"$f":"+O51","v":"2020-10-13"},{"$f":"+O53","v":"2020-10-19"},null,null,"2021-06-11","2021-02-08",0.375,null,null,null,null,{"$f":"WORKDAY(U90,2,G$32:G$71)","v":"2019-03-29"},{"$f":"+V90+1","v":60}]
[null,null,null,null,null,null,null,0.5,{"$f":"+O57","v":"2020-10-29"},{"$f":"+O59","v":"2020-11-04"},{"$f":"+O61","v":"2020-11-10"},null,null,"2021-06-17","2021-02-10",0.5,null,null,null,null,{"$f":"WORKDAY(U91,2,G$32:G$71)","v":"2019-04-02"},{"$f":"+V91+1","v":61}]
[null,null,null,null,null,null,null,0.5,{"$f":"+O65","v":"2020-11-20"},{"$f":"+O67","v":"2020-11-27"},{"$f":"+O69","v":"2020-12-03"},null,null,"2021-06-23","2021-02-12",0.625,null,null,null,null,"2019-04-04",62]
[null,null,null,null,null,null,null,0.5,{"$f":"+O73","v":"2020-12-15"},{"$f":"+O75","v":"2020-12-21"},{"$f":"+O77","v":"2020-12-28"},null,null,"2021-06-29","2021-02-17",0.75,null,null,null,null,"2019-04-08",63]
[null,null,null,null,null,null,null,0.5,{"$f":"+O81","v":"2021-01-08"},{"$f":"+O83","v":"2021-01-14"},{"$f":"+O85","v":"2021-01-21"},null,null,"2021-07-06","2021-02-19",0.875,null,null,null,null,"2019-04-10",64]
[null,null,null,null,null,null,null,0.5,{"$f":"+O89","v":"2021-02-02"},{"$f":"+O91","v":"2021-02-08"},{"$f":"+O93","v":"2021-02-12"},null,null,"2021-07-12","2021-02-23",1,null,null,null,null,"2019-04-12",65]
[null,null,null,null,null,null,null,0.5,{"$f":"+O97","v":"2021-02-25"},{"$f":"+O99","v":"2021-03-03"},{"$f":"+O101","v":"2021-03-09"},null,null,"2021-07-16","2021-02-25",0.125,null,null,null,null,"2019-04-16",66]
[null,null,null,null,null,null,null,0.5,{"$f":"+O105","v":"2021-03-19"},{"$f":"+O107","v":"2021-03-25"},{"$f":"+O109","v":"2021-03-31"},null,null,"2021-07-22","2021-03-01",0.25,null,null,null,null,"2019-04-18",67]
[null,null,null,null,null,null,null,0.5,{"$f":"+O113","v":"2021-04-13"},{"$f":"+O115","v":"2021-04-19"},{"$f":"+O117","v":"2021-04-23"},null,null,"2021-07-28","2021-03-03",0.375,null,null,null,null,{"$f":"WORKDAY(U98,2,G$32:G$71)","v":"2019-04-23"},{"$f":"+V98+1","v":68}]
[null,null,null,null,null,null,null,0.5,{"$f":"+O121","v":"2021-05-05"},{"$f":"+O123","v":"2021-05-11"},{"$f":"+O125","v":"2021-05-17"},null,null,"2021-08-03","2021-03-05",0.5,null,null,null,null,{"$f":"WORKDAY(U99,2,G$32:G$71)","v":"2019-04-25"},{"$f":"+V99+1","v":69}]
[null,null,null,null,null,null,null,null,{"$f":"+O129","v":"2021-05-27"},{"$f":"+O131","v":"2021-06-03"},{"$f":"+O133","v":"2021-06-09"},null,null,"2021-08-09","2021-03-09",0.625,null,null,null,null,"2019-04-29",70]
[null,null,null,null,null,null,null,0.75,{"$f":"+O137","v":"2021-06-21"},{"$f":"+O139","v":"2021-06-25"},{"$f":"+O141","v":"2021-07-01"},null,null,"2021-08-13","2021-03-11",0.75,null,null,null,null,"2019-05-01",71]
[null,null,null,null,null,null,null,0.75,{"$f":"+O145","v":"2021-07-14"},{"$f":"+O147","v":"2021-07-20"},{"$f":"+O149","v":"2021-07-26"},null,null,"2021-08-19","2021-03-15",0.875,null,null,null,null,"2019-05-03",72]
[null,null,null,null,null,null,null,0.75,{"$f":"+O153","v":"2021-08-05"},{"$f":"+O155","v":"2021-08-11"},{"$f":"+O157","v":"2021-08-17"},null,null,"2021-08-25","2021-03-17",1,null,null,null,null,"2019-05-07",73]
[null,null,null,null,null,null,null,0.75,{"$f":"+O161","v":"2021-08-27"},{"$f":"+O163","v":"2021-09-02"},{"$f":"+O165","v":"2021-09-09"},null,null,"2021-08-31","2021-03-19",0.125,null,null,null,null,"2019-05-09",74]
[null,null,null,null,null,null,null,0.75,{"$f":"+O169","v":"2021-09-21"},{"$f":"+O171","v":"2021-09-27"},{"$f":"+O173","v":"2021-10-01"},null,null,"2021-09-07","2021-03-23",0.25,null,null,null,null,"2019-05-13",75]
[null,null,null,null,null,null,null,0.75,null,null,null,null,null,"2021-09-13","2021-03-25",0.375,null,null,null,null,"2019-05-15",76]
[null,null,null,null,null,null,null,0.75,null,null,null,null,null,"2021-09-17","2021-03-29",0.5,null,null,null,null,"2019-05-17",77]
[null,null,null,null,null,null,null,0.75,0.875,null,null,null,null,"2021-09-23","2021-03-31",0.625,null,null,null,null,{"$f":"WORKDAY(U108,2,G$32:G$71)","v":"2019-05-21"},{"$f":"+V108+1","v":78}]
[null,null,null,null,null,null,null,0.75,{"$f":"+O39","v":"2020-09-15"},null,null,null,null,"2021-09-29","2021-04-05",0.75,null,null,null,null,{"$f":"WORKDAY(U109,2,G$32:G$71)","v":"2019-05-23"},{"$f":"+V109+1","v":79}]
[null,null,null,null,null,null,null,0.75,{"$f":"IF(O47=\"\",O48,O47)","v":"2020-10-05"},null,null,null,null,"2021-10-05","2021-04-07",0.875,null,null,null,null,"2019-05-28",80]
[null,null,null,null,null,null,null,0.75,{"$f":"+O55","v":"2020-10-23"},null,null,null,null,null,"2021-04-09",1,null,null,null,null,"2019-05-30",81]
[null,null,null,null,null,null,null,0.75,{"$f":"+O63","v":"2020-11-16"},null,null,null,null,null,{"$f":"IF((WORKDAY(O112,O$31,$G$32:$G$71)-$O$48)*0.7/2>128,INDEX(I$30:M$30,1,MATCH(O$48,I$30:M$30,1)+1),WORKDAY(O112,O$31,$G$32:$G$71))","v":"2021-04-13"},0.125,null,null,null,null,"2019-06-03",82]
[null,null,null,null,null,null,null,0.75,{"$f":"+O71","v":"2020-12-09"},null,null,null,null,null,"2021-04-15",0.25,null,null,null,null,"2019-06-05",83]
[null,null,null,null,null,null,null,0.75,{"$f":"+O79","v":"2021-01-04"},null,null,null,null,null,"2021-04-19",0.375,null,null,null,null,"2019-06-07",84]
[null,null,null,null,null,null,null,0.75,{"$f":"+O87","v":"2021-01-27"},null,null,null,null,null,"2021-04-21",0.5,null,null,null,null,"2019-06-11",85]
[null,null,null,null,null,null,null,null,{"$f":"+O95","v":"2021-02-19"},null,null,null,null,null,"2021-04-23",0.625,null,null,null,null,"2019-06-13",86]
[null,null,null,null,null,null,null,null,{"$f":"+O103","v":"2021-03-15"},null,null,null,null,null,"2021-04-27",0.75,null,null,null,null,"2019-06-17",87]
[null,null,null,null,null,null,null,null,{"$f":"+O111","v":"2021-04-07"},null,null,null,null,null,"2021-04-29",0.875,null,null,null,null,"2019-06-19",88]
[null,null,null,null,null,null,null,null,{"$f":"+O119","v":"2021-04-29"},null,null,null,null,null,"2021-05-03",1,null,null,null,null,{"$f":"WORKDAY(U119,2,G$32:G$71)","v":"2019-06-21"},{"$f":"+V119+1","v":89}]
[null,null,null,null,null,null,null,null,{"$f":"+O127","v":"2021-05-21"},null,null,null,null,null,"2021-05-05",0.125,null,null,null,null,{"$f":"WORKDAY(U120,2,G$32:G$71)","v":"2019-06-25"},{"$f":"+V120+1","v":90}]
[null,null,null,null,null,null,null,null,{"$f":"+O135","v":"2021-06-15"},null,null,null,null,null,"2021-05-07",0.25,null,null,null,null,"2019-06-27",91]
[null,null,null,null,null,null,null,null,{"$f":"+O143","v":"2021-07-08"},null,null,null,null,null,"2021-05-11",0.375,null,null,null,null,"2019-07-01",92]
[null,null,null,null,null,null,null,null,{"$f":"+O151","v":"2021-07-30"},null,null,null,null,null,"2021-05-13",0.5,null,null,null,null,"2019-07-03",93]
[null,null,null,null,null,null,null,null,{"$f":"+O159","v":"2021-08-23"},null,null,null,null,null,"2021-05-17",0.625,null,null,null,null,"2019-07-08",94]
[null,null,null,null,null,null,null,null,{"$f":"+O167","v":"2021-09-15"},null,null,null,null,null,"2021-05-19",0.75,null,null,null,null,"2019-07-10",95]
[null,null,null,null,null,null,null,null,{"$f":"+O175","v":"2021-10-07"},null,null,null,null,null,"2021-05-21",0.875,null,null,null,null,"2019-07-12",96]
[null,null,null,null,null,null,null,null,null,null,null,null,null,null,"2021-05-25",1,null,null,null,null,"2019-07-16",97]
[null,null,null,null,null,null,null,null,null,null,null,null,null,null,"2021-05-27",0.125,null,null,null,null,"2019-07-18",98]
[null,null,null,null,null,null,null,null,null,null,null,null,null,null,"2021-06-01",0.25,null,null,null,null,{"$f":"WORKDAY(U129,2,G$32:G$71)","v":"2019-07-22"},{"$f":"+V129+1","v":99}]
[null,null,null,null,null,null,null,null,null,null,null,null,null,null,"2021-06-03",0.375,null,null,null,null,{"$f":"WORKDAY(U130,2,G$32:G$71)","v":"2019-07-24"},{"$f":"+V130+1","v":100}]
[null,null,null,null,null,null,null,null,null,null,null,null,null,null,"2021-06-07",0.5,null,null,null,null,"2019-07-26",101]
[null,null,null,null,null,null,null,null,null,null,null,null,null,null,"2021-06-09",0.625,null,null,null,null,"2019-07-30",102]
[null,null,null,null,null,null,null,null,null,null,null,null,null,null,"2021-06-11",0.75,null,null,null,null,"2019-08-01",103]
[null,null,null,null,null,null,null,null,null,null,null,null,null,null,"2021-06-15",0.875,null,null,null,null,"2019-08-05",104]
[null,null,null,null,null,null,null,null,null,null,null,null,null,null,"2021-06-17",1,null,null,null,null,"2019-08-07",105]
[null,null,null,null,null,null,null,null,null,null,null,null,null,null,"2021-06-21",0.125,null,null,null,null,"2019-08-09",106]
[null,null,null,null,null,null,null,null,null,null,null,null,null,null,"2021-06-23",0.25,null,null,null,null,"2019-08-13",107]
[null,null,null,null,null,null,null,null,null,null,null,null,null,null,"2021-06-25",0.375,null,null,null,null,"2019-08-15",108]
[null,null,null,null,null,null,null,null,null,null,null,null,null,null,"2021-06-29",0.5,null,null,null,null,{"$f":"WORKDAY(U139,2,G$32:G$71)","v":"2019-08-19"},{"$f":"+V139+1","v":109}]
[null,null,null,null,null,null,null,null,null,null,null,null,null,null,"2021-07-01",0.625,null,null,null,null,{"$f":"WORKDAY(U140,2,G$32:G$71)","v":"2019-08-21"},{"$f":"+V140+1","v":110}]
[null,null,null,null,null,null,null,null,null,null,null,null,null,null,"2021-07-06",0.75,null,null,null,null,"2019-08-23",111]
[null,null,null,null,null,null,null,null,null,null,null,null,null,null,"2021-07-08",0.875,null,null,null,null,"2019-08-27",112]
[null,null,null,null,null,null,null,null,null,null,null,null,null,null,"2021-07-12",1,null,null,null,null,"2019-08-29",113]
[null,null,null,null,null,null,null,null,null,null,null,null,null,null,"2021-07-14",0.125,null,null,null,null,"2019-09-03",114]
[null,null,null,null,null,null,null,null,null,null,null,null,null,null,"2021-07-16",0.25,null,null,null,null,"2019-09-05",115]
[null,null,null,null,null,null,null,null,null,null,null,null,null,null,"2021-07-20",0.375,null,null,null,null,"2019-09-09",116]
[null,null,null,null,null,null,null,null,null,null,null,null,null,null,"2021-07-22",0.5,null,null,null,null,"2019-09-11",117]
[null,null,null,null,null,null,null,null,null,null,null,null,null,null,"2021-07-26",0.625,null,null,null,null,"2019-09-13",118]
[null,null,null,null,null,null,null,null,null,null,null,null,null,null,"2021-07-28",0.75,null,null,null,null,"2019-09-17",119]
[null,null,null,null,null,null,null,null,null,null,null,null,null,null,"2021-07-30",0.875,null,null,null,null,"2019-09-19",120,1]
[null,null,null,null,null,null,null,null,null,null,null,null,null,null,"2021-08-03",1,null,null,null,null,{"$f":"WORKDAY(U151,2,G$32:G$71)","v":"2019-09-23"},{"$f":"+V151+1","v":121},0.125]
[null,null,null,null,null,null,null,null,null,null,null,null,null,null,"2021-08-05",0.125,null,null,null,null,{"$f":"WORKDAY(U152,2,G$32:G$71)","v":"2019-09-25"},{"$f":"+V152+1","v":122},0.25]
[null,null,null,null,null,null,null,null,null,null,null,null,null,null,"2021-08-09",0.25,null,null,null,null,"2019-09-27",123,0.375]
[null,null,null,null,null,null,null,null,null,null,null,null,null,null,"2021-08-11",0.375,null,null,null,null,"2019-10-01",124,0.5]
[null,null,null,null,null,null,null,null,null,null,null,null,null,null,"2021-08-13",0.5,null,null,null,null,"2019-10-03",125,0.625]
[null,null,null,null,null,null,null,null,null,null,null,null,null,null,"2021-08-17",0.625,null,null,null,null,"2019-10-07",126,0.75]
[null,null,null,null,null,null,null,null,null,null,null,null,null,null,"2021-08-19",0.75,null,null,null,null,"2019-10-09",127,0.875]
[null,null,null,null,null,null,null,null,null,null,null,null,null,null,"2021-08-23",0.875,null,null,null,null,"2019-10-11",128,1]
[null,null,null,null,null,null,null,null,null,null,null,null,null,null,"2021-08-25",1]
[null,null,null,null,null,null,null,null,null,null,null,null,null,null,"2021-08-27",0.125]
[null,null,null,null,null,null,null,null,null,null,null,null,null,null,"2021-08-31",0.25]
[null,null,null,null,null,null,null,null,null,null,null,null,null,null,"2021-09-02",0.375]
[null,null,null,null,null,null,null,null,null,null,null,null,null,null,"2021-09-07",0.5]
[null,null,null,null,null,null,null,null,null,null,null,null,null,null,"2021-09-09",0.625]
[null,null,null,null,null,null,null,null,null,null,null,null,null,null,"2021-09-13",0.75]
[null,null,null,null,null,null,null,null,null,null,null,null,null,null,"2021-09-15",0.875]
[null,null,null,null,null,null,null,null,null,null,null,null,null,null,"2021-09-17",1]
[null,null,null,null,null,null,null,null,null,null,null,null,null,null,"2021-09-21",0.125]
[null,null,null,null,null,null,null,null,null,null,null,null,null,null,"2021-09-23",0.25]
[null,null,null,null,null,null,null,null,null,null,null,null,null,null,"2021-09-27",0.375]
[null,null,null,null,null,null,null,null,null,null,null,null,null,null,"2021-09-29",0.5]
[null,null,null,null,null,null,null,null,null,null,null,null,null,null,"2021-10-01",0.625]
[null,null,null,null,null,null,null,null,null,null,null,null,null,null,"2021-10-05",0.75]
[null,null,null,null,null,null,null,null,null,null,null,null,null,null,{"$f":"WORKDAY(O174,O$31,$G$32:$G$71)","v":"2021-10-07"},0.875]

{"sheet":"Notes","index":5,"n_rows":54,"n_cols":5,"rows_kept":54,"cut":false,"hidden":false,"merged":[]}
[null,"NOTES"]
[]
[null,"Vertical lines that extend to -2/8 represent Mlines, 64 bar MM - 64 bars, 32 bar MM - 32 bars, 16 bar MM - 16 bars"]
[null,"Vertical lines that extend to -1/8 represent mlines, 64 bar MM - 16 bars, 32 bar MM - 8 bars, 16 bar MM - 4 bars"]
[null,"Vertical lines that extend to 0/8 represent blines, 64 bar MM - 8 bars, 32 bar MM - 4 bars, 16 bar MM - 2 bars"]
[]
[null,"Each tab charts 2 squares for each time frame"]
[null,"When the frame reaches end of the year, the momentum lines will appear to be off"]
[null,"On each tab will need to click on buttons to Change Chart and Update Dates or click on the Update Charts button on the Data tab"]
[null,"These are VBA routines to update the price bars and each data series if necessary"]
[]
[null,"Spreadsheet operation"]
[null,"Enter EOD stock prices into the Daily tab"]
[null,"Enter EOD stock prices starting in I2 thru N2, Date   Open  High  Low  Close  Volume"]
[null,"Click on Insert Single.  That will insert price into the table to the left"]
[null,"Volume is not used in the calculations so the can be skipped if necessary"]
[null,"Stock prices in the Data tab should not be changed, a formula is used to bring in the data from Daily tab"]
[null,"Stock prices in the Data tab is used in the tabs 64 bar MM, 32 bar MM, 16 bar MM"]
[null,"One can do some backtesting by changing the offset value in cell G7 on Data tab.  If you wanted to look at 10 in the past this number would be 10."]
[]
[null,"Spreadsheet does require some upkeep"]
[null,null,"Need to update the holidays,  need to keep holidays confined to the yellow cells on each tab"]
[null,null,"Need to update the Fourth quarter dates,  keep confined to purple cells on each tab"]
[null,"DO NOT MOVE CELLS, THIS WILL CORRUPT THE FORMULAS"]
[]
[null,"Creating the Fractal Squares came from a spreadsheet with a filename of DAN-MM-v2 that I located on the internet"]
[null," Apparently XARD777 designed that spreadsheet."]
[]
[null,"I modified the Available TimeFrames to include 3/8, 5/8, 7/8"]
[]
[null,"I created the data series to allow the display of the speed lines and circles of conflict."]
[null,"I added check boxes for speed lines, momentum lines, vertical lines, and circles of conflict"]
[]
[null,"If you wish to look at past data change the yellow cell on the Data tab (H2) to the number of prices bars in the past"]
[null,"You will need to update each graph."]
[]
[null,null,null,"There are checkboxes for the following on each chart.  A Check mark will display the indicator"]
[]
[null,null,null,"MSLU","Speed lines up\\ direction"]
[]
[]
[null,null,null,"MSLD","Speed line down direction"]
[]
[]
[null,null,null,"Circles","Circles of Conflict"]
[]
[]
[null,null,null,"Verical","Veritical lines"]
[]
[]
[null,null,null,"MMLU","Momentum line up direction"]
[]
[]
[null,null,null,"MMLD","Momentum line down direction"]

{"sheet":"Holidays","index":6,"n_rows":52,"n_cols":14,"rows_kept":52,"cut":false,"hidden":false,"merged":[]}
[]
[null,2014,2015,2016,2017,2018,2019,2020,2021]
[null,"2014-01-01","2015-01-01","2016-01-01","2017-01-02","2018-01-01","2019-01-01","2020-01-01","2021-01-01",null,null,"2016-07-04",null,"2017-07-04"]
[null,"2014-01-20","2015-01-19","2016-01-18","2017-01-16","2018-01-15","2019-01-21","2020-01-20","2021-01-18",null,null,"2016-09-05",null,"2017-09-04"]
[null,"2014-02-17","2015-02-16","2016-02-15","2017-02-20","2018-02-19","2019-02-18","2020-02-17","2021-02-15",null,null,"2016-11-24",null,"2017-11-23"]
[null,"2014-04-18","2015-04-03","2016-03-25","2017-04-14","2018-03-30","2019-04-19","2020-04-10","2021-04-02",null,null,"2016-12-26",null,"2017-12-25"]
[null,"2014-05-26","2015-05-25","2016-05-30","2017-05-29","2018-05-28","2019-05-27","2020-05-25","2021-05-31",null,null,"2017-01-02",null,"2018-01-01"]
[null,"2014-07-04","2015-07-03","2016-07-04","2017-07-04","2018-07-04","2019-07-04","2020-07-04","2021-07-05",null,null,"2017-01-16",null,"2018-01-15"]
[null,"2014-09-01","2015-09-07","2016-09-05","2017-09-04","2018-09-03","2019-09-03","2020-09-07","2021-09-06",null,null,"2017-02-20",null,"2018-02-19"]
[null,"2014-11-27","2015-11-26","2016-11-24","2017-11-23","2018-11-22","2019-11-28","2020-11-26","2021-11-25",null,null,"2017-04-14",null,"2018-03-30"]
[null,"2014-12-25","2015-12-25","2016-12-26","2017-12-25","2018-12-25","2019-12-25","2020-12-25","2021-12-24",null,null,"2017-05-29",null,"2018-05-28"]
[null,null,null,null,null,null,null,null,null,null,null,"2017-07-04",null,"2018-07-04"]
[null,null,null,null,null,null,null,null,null,null,null,"2017-09-04",null,"2018-09-03"]
[null,null,null,null,null,null,null,null,null,null,null,"2017-11-23",null,"2018-11-22"]
[null,2006,2007,2008,2009,2010,2011,2012,2013,null,null,"2017-12-25",null,"2018-12-25"]
[null,"2006-01-02","2007-01-01","2008-01-01","2009-01-01","2010-01-01","2011-01-17","2012-01-02","2013-01-01",null,null,"2018-01-01",null,"2019-01-01"]
[null,"2006-01-16","2007-01-02","2008-01-21","2009-01-19","2010-01-18","2011-02-21","2012-01-16","2013-01-21",null,null,"2018-01-15",null,"2019-01-21"]
[null,"2006-02-20","2007-01-15","2008-02-17","2009-02-16","2010-02-15","2011-04-22","2012-02-20","2013-02-18",null,null,"2018-02-19",null,"2019-02-18"]
[null,"2006-04-14","2007-02-19","2008-04-18","2009-04-10","2010-04-02","2011-05-30","2012-04-06","2013-03-29",null,null,"2018-03-30",null,"2019-04-19"]
[null,"2006-05-29","2007-04-06","2008-05-26","2009-05-25","2010-05-31","2011-07-04","2012-05-28","2013-05-27",null,null,"2018-05-28",null,"2019-05-27"]
[null,"2006-07-04","2007-05-28","2008-07-04","2009-07-03","2010-07-05","2011-09-05","2012-07-04","2013-07-04",null,null,"2018-07-04",null,"2019-07-04"]
[null,"2006-09-04","2007-07-04","2008-09-01","2009-09-07","2010-09-06","2011-11-24","2012-09-03","2013-09-02",null,null,"2018-09-03",null,"2019-09-02"]
[null,"2006-11-23","2007-09-03","2008-11-27","2009-11-26","2010-11-25","2011-12-26","2012-11-22","2013-11-28",null,null,"2018-11-22",null,"2019-11-28"]
[null,"2006-12-25","2007-11-22","2008-12-25","2009-12-25","2010-12-24",null,"2012-12-25","2013-12-25",null,null,"2018-12-25",null,"2019-12-25"]
[null,null,"2007-12-25",null,null,null,null,null,null,null,null,"2019-01-01",null,"2020-01-01"]
[null,null,null,null,null,null,null,null,null,null,null,"2019-01-21",null,"2020-01-20"]
[null,null,null,null,null,null,null,null,null,null,null,"2019-02-18",null,"2020-02-17"]
[null,1998,1999,2000,2001,2002,2003,2004,2005,null,null,"2019-04-19",null,"2020-04-10"]
[null,"1998-01-01","1999-01-01","2000-01-17","2001-01-01","2002-01-01","2003-01-01","2004-01-01","2005-01-17",null,null,"2019-05-27",null,"2020-05-25"]
[null,"1998-01-19","1999-01-18","2000-02-21","2001-01-15","2002-01-21","2003-01-20","2004-01-19","2005-02-21",null,null,"2019-07-04",null,"2020-07-04"]
[null,"1998-02-16","1999-02-15","2000-04-21","2001-02-19","2002-02-18","2003-02-17","2004-02-16","2005-03-25",null,null,"2019-09-02",null,"2020-09-07"]
[null,"1998-04-10","1999-04-02","2000-05-29","2001-04-13","2002-03-29","2003-04-18","2004-04-09","2005-05-30",null,null,"2019-11-28",null,"2020-11-26"]
[null,"1998-05-25","1999-05-31","2000-07-04","2001-05-28","2002-05-27","2003-05-26","2004-05-31","2005-07-04",null,null,"2019-12-25",null,"2020-12-25"]
[null,"1998-07-03","1999-07-05","2000-09-04","2001-07-04","2002-07-04","2003-07-04","2004-06-11","2005-09-05",null,null,"2020-01-01",null,"2021-01-01"]
[null,"1998-09-07","1999-09-06","2000-11-23","2001-09-03","2002-09-02","2003-09-01","2004-07-05","2005-11-24",null,null,"2020-01-20",null,"2021-01-18"]
[null,"1998-11-26","1999-11-25","2000-12-25","2001-09-11","2002-11-28","2003-11-27","2004-09-06","2005-12-26",null,null,"2020-02-17",null,"2021-02-15"]
[null,"1998-12-25","1999-12-24",null,"2001-09-12","2002-12-25","2003-12-25","2004-11-25",null,null,null,"2020-04-10",null,"2021-04-02"]
[null,null,null,null,"2001-09-13",null,null,"2004-12-24",null,null,null,"2020-05-25",null,"2021-05-31"]
[null,null,null,null,"2001-09-14",null,null,null,null,null,null,"2020-07-04",null,"2021-07-05"]
[null,null,null,null,"2001-11-22",null,null,null,null,null,null,"2020-09-07",null,"2021-09-06"]
[null,null,null,null,"2001-12-25",null,null,null,null,null,null,"2020-11-26",null,"2021-11-25"]
[null,null,null,null,null,null,null,null,null,null,null,"2020-12-25",null,"2021-12-24"]
[]
[null,1990,1991,1992,1993,1994,1995,1996,1997]
[null,null,null,null,"1993-01-01","2194-02-01","1995-01-02","1996-01-01","1997-01-01"]
[null,null,null,null,"1993-02-15","1994-04-01","1995-02-20","1996-02-19","1997-02-17"]
[null,null,null,null,"1993-04-09","1994-04-27","1995-04-14","1996-04-05","1997-03-28"]
[null,null,null,null,"1993-05-31","1994-05-30","1995-05-29","1996-05-27","1997-05-26"]
[null,null,null,null,"1993-07-05","1994-07-04","1995-07-04","1996-07-04","1997-07-04"]
[null,null,null,null,"1993-09-06","1994-09-05","1995-09-04","1996-09-02","1997-09-01"]
[null,null,null,null,"1993-11-25","1994-11-24","1995-11-23","1996-11-28","1997-11-27"]
[null,null,null,null,"1993-12-24","1994-12-26","1995-12-25","1996-12-25","1997-12-25"]

{"sheet":"Start of 4th Quarter","index":7,"n_rows":20,"n_cols":4,"rows_kept":20,"cut":false,"hidden":false,"merged":[]}
[]
[null,"Start of 4th Quarter"]
[null,"1993-10-04",null,"2011-10-05"]
[null,"1994-10-07",null,"2012-10-04"]
[null,"1995-10-06",null,"2013-10-08"]
[null,"1996-10-04"]
[null,"1997-10-06"]
[null,"1998-10-05",null,"2016-10-05"]
[null,"1999-10-08",null,"2017-10-06"]
[null,"2000-10-09",null,"2018-10-05"]
[null,"2001-10-05",null,"2019-10-07"]
[null,"2002-10-04",null,"2020-10-05"]
[null,"2003-10-06"]
[null,"2004-10-06"]
[null,"2005-10-10"]
[null,"2006-10-09"]
[null,"2007-10-09"]
[null,"2007-10-08"]
[null,"2009-10-02"]
[null,"2010-10-04"]